{"text_format":"1","workbook":"xlsx","n_sheets":21,"sheets":["Introduction","Project Information","Certificate & Label Data Review","1a. Rater Design Checklist","1b. Rater Field Checklist","2. Unit Testing Results","3a. Common Area Ventilation","3b. Central Exhaust Duct Test","4. Appliances","5. Envelope Compliance Options","5a. Envelope R-Values","5b. Envelope U-Factors","5c. Total UA Compliance","6. Fenestration","7. Heated Plenum or Garage","8. DHW Schedule","9. Heating and Cooling Schedule","10. Lighting","11. Ventilation Schedule","Reference Tables","Dropdowns"],"not_rendered":{"charts":0,"images":5,"macros":1,"external_links":0,"defined_names":16,"comments":0,"pivot_tables":0},"unopened":[],"bounds":{"document_bytes":16777216,"sheet_cells":100000,"rows_first":2000,"rows_last":500,"rows_between":2000,"halvings":0,"cell_chars":16384,"cell_head_chars":4096},"cells_cut":0,"cells_raw":0,"read":"whole","date_system":"1900"}

{"sheet":"Introduction","index":0,"n_rows":38,"n_cols":4,"rows_kept":38,"cut":false,"hidden":false,"merged":[[34,1,34,2],[3,1,3,3],[24,1,24,2],[25,1,25,2],[1,2,1,3]]}
[]
[null,"Introduction: ","This entire spreadsheet is optional for ERI path projects, but it may be useful for project teams looking for alternate tracking options. It is submitted to the MRO initially to document compliance with requirements at Design, and then again after construction is complete. All information provided at Proposed Design enables the MRO to comment on whether the item is designed for compliance. Where information is not provided or is not adequately described at Proposed Design, MRO may at their discretion approve the submittal or request a re-submission. Items required to be completed at Design, are indicated below in the Tab Instructions and/or on each tab.\n\nWhile the Rater attests that each requirement is met by checking a box and providing photo documentation, these tabs allow the MRO to verify that the checklist requirements have been met, where photos may not be effective/efficient. Worksheets may be unprotected without a password, but it is not recommended.\n\nAs needed, EPA will update and release new versions of this Multifamily Workbook.\n\nHave suggestions or need help? Send questions and comments to the ENERGY STAR Homes & Apartments team at energystarhomes@energystar.gov "]
[]
[null,"Table of Contents"]
[null,"Tab Number","Tab Name","Tab Instructions"]
[null,null,"Project Information","Enter general project information in this tab. This information will autopopulate tabs throughout the workbook."]
[null,"1a","Rater Design Checklist","Use buttons at the top to enter project details. Applicable checklist items will display. Use the Show Footnote(s)/Hide Footnote(s) buttons to display applicable footnotes as needed. View is optimized for 100% Zoom. Must have Rater Verified column completed at Proposed Design submittal. This tab is not reviewed during the As-Built submittal."]
[null,"1b","Rater Field Checklist","Use buttons at the top to enter project details. Applicable checklist items will display. Use the Show Footnote(s)/Hide Footnote(s) buttons to display applicable footnotes as needed. View is optimized for 100% Zoom. This tab is only reviewed during the As-Built submittal."]
[null,2,"Unit Testing Results","Enter data/test results into yellow and orange cells. See instructions on each tab for further details. The Unit Types table is required to be completed at Proposed Design Submittal."]
[null,"3a","Common Area Ventilation","Enter design values into yellow cells, for the Proposed Design submittal, and tested values for the As-Built Submittal. See instructions on each tab for further details."]
[null,"3b","Central Exhaust Duct Test","Enter data into yellow/orange cells, for the Proposed Design submittal, and tested values for the As-Built Submittal. See instructions on each tab for further details."]
[null,4,"Appliances","Enter data into yellow and orange cells. See instructions on each tab for further details."]
[null,5,"Envelope Compliance Options","Use this tab to indicate how envelope compliance will be calculated (R, U, or Total UA)."]
[null,"5a","Envelope R-Values","Enter data into yellow and orange cells. See instructions on each tab for further details."]
[null,"5b","Envelope U-Factors","Enter data into yellow and orange cells. See instructions on each tab for further details."]
[null,"5c","Total UA Compliance","Enter data into yellow and orange cells. See instructions on each tab for further details."]
[null,6,"Fenestration","Enter data into yellow and orange cells. See instructions on each tab for further details."]
[null,7,"Heated Plenum or Garage","Enter data into yellow and orange cells. See instructions on each tab for further details."]
[null,8,"DHW Schedule","Enter data into yellow and orange cells. See instructions on each tab for further details."]
[null,9,"Heating and Cooling Schedule","Enter data into yellow and orange cells. See instructions on each tab for further details."]
[null,10,"Lighting","Enter data into yellow and orange cells. See instructions on each tab for further details."]
[null,11,"Ventilation Schedule","Enter data into yellow and orange cells. See instructions on each tab for further details."]
[null,null,"Reference Tables","Use to refer to Footnote tables and workbook lookup tables."]
[]
[null,"Cell Colors"]
[null,"Enter Project Information"]
[null,null,"Proposed Design Submittal (PDS) - Enter Data"]
[null,null,"Proposed Design Submittal (PDS) - Dropdown Selection"]
[null,null,"As-Built Submittal (ABS) - Enter Data"]
[null,null,"As-Built Submittal (ABS) - Dropdown Selection"]
[null,null,"Optional - Enter data"]
[null,null,"Optional - Dropdown Selection"]
[null,null,"Enter Sampling Plan Details and Description"]
[]
[null,"Automated Cells - Do Not Update"]
[null,null,"Equation - Do not update"]
[null,"PASS","Requirement Passed"]
[null,"FAIL","Requirement Failed"]

{"sheet":"Project Information","index":1,"n_rows":33,"n_cols":7,"rows_kept":33,"cut":false,"hidden":false,"merged":[[8,5,8,6],[8,2,8,3],[25,3,25,7],[28,3,28,7],[20,2,20,7],[21,2,21,7],[10,2,10,3],[14,2,14,3],[16,2,16,3],[26,3,26,7],[25,1,25,2],[26,1,26,2],[16,5,16,7],[10,5,10,6],[31,3,31,7],[32,1,32,2],[32,3,32,7],[34,1,34,14],[29,3,29,7],[3,1,3,7],[28,1,28,2],[29,1,29,2],[31,1,31,2],[1,2,1,7],[13,1,13,7],[19,1,19,7],[24,1,24,7],[4,2,4,3],[5,2,5,3],[7,2,7,3],[9,2,9,3],[4,6,4,7],[7,5,7,6],[9,5,9,6],[14,5,14,7]]}
[]
[null,"Introduction: ","Insert general project information in this tab. This information will autopopulate tabs throughout the workbook.\n\nMROs can copy the summary table at the bottom of this page to into their reporting spreadsheet to submit projects to EPA."]
[]
[null,"Project Details"]
[null,"Project Name: ",null,null,null,"Permit Date: "]
[null,"Project Address: ",null,null,"City: ",null,"State: "]
[]
[null,"Pathway: ",null,null,"Version: \n(Prescriptive and ERI Only)"]
[null,"Stories:",null,null,"Climate Zone:"]
[null,"Project Square Feet:",null,null,"Number of Units: "]
[null,"Market Sector: ",null,null,"Number of IAP Units: "]
[]
[]
[null,"Builder / Developer Details"]
[null,"Builder / Developer 1\nCompany Name: ",null,null,"Builder / Developer 1\nEmployee: "]
[]
[null,"Builder / Developer 2\nCompany Name: ",null,null,"Builder / Developer 2\nEmployee: "]
[]
[]
[null,"Rater Details"]
[null,"Rater Company Name: "]
[null,"Rater Employee: "]
[]
[]
[null,"Other Professional Details"]
[null,"ASHRAE Modeler Company Name: "]
[null,"ASHRAE Modeler Employee: "]
[]
[null,"Functional Testing Agent Company Name: "]
[null,"Functional Testing (FT) Agent Employee: "]
[]
[null,"Licensed Professional Company Name: \n(Optional)                                        .   "]
[null,"Licensed Professional Employee: \n(Optional)                                        .   "]

{"sheet":"Certificate & Label Data Review","index":2,"n_rows":105,"n_cols":31,"rows_kept":105,"cut":false,"hidden":true,"merged":[[6,24,7,24],[6,14,7,14],[6,15,7,15],[6,13,7,13],[6,17,7,17],[6,16,7,16],[6,18,7,18],[6,23,7,23],[6,22,7,22],[6,19,7,19],[6,21,7,21],[6,20,7,20],[6,30,7,30],[6,27,7,27],[6,25,7,25],[6,26,7,26],[6,28,7,28],[6,29,7,29],[1,6,1,21],[6,12,7,12],[6,1,6,4],[6,6,7,6],[6,7,7,7],[6,8,7,8],[6,9,7,9],[6,10,7,10],[6,11,7,11]]}
[]
[null,null,null,null,null,null,"EPA Reporting Tracker Details - Copy values in columns G:U\nNote: This table is to be used by MROs for EPA Reporting"]
[null,null,null,null,null,null,"Builder / \nDev 1 ","Builder / \nDeveloper 2","Rater ","ASHRAE Modeler","FT Agent ","Project Name (optional)","Address","City","State","# units ","Sq Footage","MF Type","Version","MFNC Path ","Market Sector","# IAP units"]
[null,null,null,null,null,null,{"$f":"IF('Project Information'!$C$15=\"\",\"\",'Project Information'!$C$15)","v":""},{"$f":"IF('Project Information'!$C$17=\"\",\"\",'Project Information'!$C$17)","v":""},{"$f":"IF('Project Information'!$C$21=\"\",\"\",'Project Information'!$C$21)","v":""},{"$f":"IF('Project Information'!$D$26=\"\",\"\",'Project Information'!$D$26)","v":""},{"$f":"IF('Project Information'!$D$29=\"\",\"\",'Project Information'!$D$29)","v":""},{"$f":"IF('Project Information'!$C$5=\"\",\"\",'Project Information'!$C$5)","v":""},{"$f":"IF('Project Information'!$C$6=\"\",\"\",'Project Information'!$C$6)","v":""},{"$f":"IF('Project Information'!$F$6=\"\",\"\",'Project Information'!$F$6)","v":""},{"$f":"IF('Project Information'!$H$6=\"\",\"\",'Project Information'!$H$6)","v":""},{"$f":"IF('Project Information'!$F$10=\"\",\"\",'Project Information'!$F$10)","v":""},{"$f":"IF('Project Information'!$C$10=\"\",\"\",'Project Information'!$C$10)","v":""},{"$f":"IF('Project Information'!$C$10=\"\",\"\",\nIF(OR('Project Information'!$C$10=1,'Project Information'!$C$10=2,'Project Information'!$C$10=3),\"Multifamily Low Rise\",\nIF(OR('Project Information'!$C$10=4,'Project Information'!$C$10>4),\"Multifamily High Rise\",\"\")))","v":""},{"$f":"IF('Project Information'!$F$8=\"\",\"\",'Project Information'!$F$8)","v":""},{"$f":"IF('Project Information'!$C$8=\"\",\"\",'Project Information'!$C$8)","v":""},{"$f":"IF('Project Information'!$C$11=\"\",\"\",'Project Information'!$C$11)","v":""},{"$f":"IF('Project Information'!$F$10=\"\",\"\",'Project Information'!$F$10)","v":""}]
[]
[]
[null,"UNIT DETAILS",null,null,null,null,"Infiltration Rate (ACH50)","Ceiling Insulation (R-Value)","Wall Insulation  (R-Value)","Floor Insulation  (R-Value)","Slab Insulation (R-Value)","Window U-Value","Window SHGC","Total Duct Leakage (CFM25 per 100 sq ft)","Duct Leakage to the Outdoors  (CFM25 per 100 sq ft)","Primary Heating System Type","Primary Heating Fuel","Primary Heating Efficiency","Primary Heating Efficiency Unit","Primary Cooling System Type","Primary Cooling Fuel","Primary Cooling Efficiency","Primary Cooling Efficiency Unit","Primary Hot Water System Type","Primary Hot Water Fuel","Primary Hot Water Efficiency (EF)","% ENERGY STAR Qualified Lighting","# ES Refrigerators","# ES Ceiling Fans","# ES Dishwashers","# ES Exhaust Fans"]
[null,"UNIT","UNIT TYPE","SQUARE FOOTAGE","ENCLOSURE AREA"]
[null,{"$f":"IF('2. Unit Testing Results'!$B19=\"\",\"\",'2. Unit Testing Results'!$B19)","v":""},{"$f":"IF('2. Unit Testing Results'!$C19=\"\",\"\",'2. Unit Testing Results'!$C19)","v":""},{"$f":"IF('2. Unit Testing Results'!$D19=\"\",\"\",'2. Unit Testing Results'!$D19)","v":""},{"$f":"IF('2. Unit Testing Results'!$E19=\"\",\"\",'2. Unit Testing Results'!$E19)","v":""},null,{"$f":"IF($B9=\"\",\"\",\n(('2. Unit Testing Results'!$W19)*60)\n/((VLOOKUP($C9,'2. Unit Testing Results'!$B$5:$R$12,4))*(VLOOKUP($C9,'2. Unit Testing Results'!$B$5:$R$12,6)))\n)","v":""},{"$f":"IF($B9=\"\",\"\",\nVLOOKUP($C9,'2. Unit Testing Results'!$B$5:$BC$12,19))","v":""},{"$f":"IF($B9=\"\",\"\",\nVLOOKUP($C9,'2. Unit Testing Results'!$B$5:$BC$12,20))","v":""},{"$f":"IF($B9=\"\",\"\",\nVLOOKUP($C9,'2. Unit Testing Results'!$B$5:$BC$12,22))","v":""},{"$f":"IF($B9=\"\",\"\",\nVLOOKUP($C9,'2. Unit Testing Results'!$B$5:$BC$12,24))","v":""},{"$f":"IF($B9=\"\",\"\",\nVLOOKUP($C9,'2. Unit Testing Results'!$B$5:$BC$12,26))","v":""},{"$f":"IF($B9=\"\",\"\",\nVLOOKUP($C9,'2. Unit Testing Results'!$B$5:$BC$12,28))","v":""},{"$f":"IF($B9=\"\",\"\",'2. Unit Testing Results'!$P19)","v":""},{"$f":"IF($B9=\"\",\"\",'2. Unit Testing Results'!$U19)","v":""},{"$f":"IF($B9=\"\",\"\",\nVLOOKUP($C9,'2. Unit Testing Results'!$B$5:$BC$12,30))","v":""},{"$f":"IF($B9=\"\",\"\",\nVLOOKUP($C9,'2. Unit Testing Results'!$B$5:$BC$12,32))","v":""},{"$f":"IF($B9=\"\",\"\",\nVLOOKUP($C9,'2. Unit Testing Results'!$B$5:$BC$12,34))","v":""},{"$f":"IF($B9=\"\",\"\",\nVLOOKUP($C9,'2. Unit Testing Results'!$B$5:$BC$12,36))","v":""},{"$f":"IF($B9=\"\",\"\",\nVLOOKUP($C9,'2. Unit Testing Results'!$B$5:$BC$12,37))","v":""},{"$f":"IF($B9=\"\",\"\",\nVLOOKUP($C9,'2. Unit Testing Results'!$B$5:$BC$12,38))","v":""},{"$f":"IF($B9=\"\",\"\",\nVLOOKUP($C9,'2. Unit Testing Results'!$B$5:$BC$12,40))","v":""},{"$f":"IF($B9=\"\",\"\",\nVLOOKUP($C9,'2. Unit Testing Results'!$B$5:$BC$12,42))","v":""},{"$f":"IF($B9=\"\",\"\",\nVLOOKUP($C9,'2. Unit Testing Results'!$B$5:$BC$12,44))","v":""},{"$f":"IF($B9=\"\",\"\",\nVLOOKUP($C9,'2. Unit Testing Results'!$B$5:$BC$12,46))","v":""},{"$f":"IF($B9=\"\",\"\",\nVLOOKUP($C9,'2. Unit Testing Results'!$B$5:$BC$12,48))","v":""},{"$f":"IF($B9=\"\",\"\",\nVLOOKUP($C9,'2. Unit Testing Results'!$B$5:$BC$12,50))","v":""},{"$f":"IF($B9=\"\",\"\",\nVLOOKUP($C9,'2. Unit Testing Results'!$B$5:$BC$12,51))","v":""},{"$f":"IF($B9=\"\",\"\",\nVLOOKUP($C9,'2. Unit Testing Results'!$B$5:$BC$12,52))","v":""},{"$f":"IF($B9=\"\",\"\",\nVLOOKUP($C9,'2. Unit Testing Results'!$B$5:$BC$12,53))","v":""},{"$f":"IF($B9=\"\",\"\",\nVLOOKUP($C9,'2. Unit Testing Results'!$B$5:$BC$12,54))","v":""}]
[null,{"$f":"IF('2. Unit Testing Results'!$B20=\"\",\"\",'2. Unit Testing Results'!$B20)","v":""},{"$f":"IF('2. Unit Testing Results'!$C20=\"\",\"\",'2. Unit Testing Results'!$C20)","v":""},{"$f":"IF('2. Unit Testing Results'!$D20=\"\",\"\",'2. Unit Testing Results'!$D20)","v":""},{"$f":"IF('2. Unit Testing Results'!$E20=\"\",\"\",'2. Unit Testing Results'!$E20)","v":""},null,{"$f":"IF($B10=\"\",\"\",\n(('2. Unit Testing Results'!$W20)*60)\n/((VLOOKUP($C10,'2. Unit Testing Results'!$B$5:$R$12,4))*(VLOOKUP($C10,'2. Unit Testing Results'!$B$5:$R$12,6)))\n)","v":""},{"$f":"IF($B10=\"\",\"\",\nVLOOKUP($C10,'2. Unit Testing Results'!$B$5:$BC$12,19))","v":""},{"$f":"IF($B10=\"\",\"\",\nVLOOKUP($C10,'2. Unit Testing Results'!$B$5:$BC$12,20))","v":""},{"$f":"IF($B10=\"\",\"\",\nVLOOKUP($C10,'2. Unit Testing Results'!$B$5:$BC$12,22))","v":""},{"$f":"IF($B10=\"\",\"\",\nVLOOKUP($C10,'2. Unit Testing Results'!$B$5:$BC$12,24))","v":""},{"$f":"IF($B10=\"\",\"\",\nVLOOKUP($C10,'2. Unit Testing Results'!$B$5:$BC$12,26))","v":""},{"$f":"IF($B10=\"\",\"\",\nVLOOKUP($C10,'2. Unit Testing Results'!$B$5:$BC$12,28))","v":""},{"$f":"IF($B10=\"\",\"\",'2. Unit Testing Results'!$P20)","v":""},{"$f":"IF($B10=\"\",\"\",'2. Unit Testing Results'!$U20)","v":""},{"$f":"IF($B10=\"\",\"\",\nVLOOKUP($C10,'2. Unit Testing Results'!$B$5:$BC$12,30))","v":""},{"$f":"IF($B10=\"\",\"\",\nVLOOKUP($C10,'2. Unit Testing Results'!$B$5:$BC$12,32))","v":""},{"$f":"IF($B10=\"\",\"\",\nVLOOKUP($C10,'2. Unit Testing Results'!$B$5:$BC$12,34))","v":""},{"$f":"IF($B10=\"\",\"\",\nVLOOKUP($C10,'2. Unit Testing Results'!$B$5:$BC$12,36))","v":""},{"$f":"IF($B10=\"\",\"\",\nVLOOKUP($C10,'2. Unit Testing Results'!$B$5:$BC$12,37))","v":""},{"$f":"IF($B10=\"\",\"\",\nVLOOKUP($C10,'2. Unit Testing Results'!$B$5:$BC$12,38))","v":""},{"$f":"IF($B10=\"\",\"\",\nVLOOKUP($C10,'2. Unit Testing Results'!$B$5:$BC$12,40))","v":""},{"$f":"IF($B10=\"\",\"\",\nVLOOKUP($C10,'2. Unit Testing Results'!$B$5:$BC$12,42))","v":""},{"$f":"IF($B10=\"\",\"\",\nVLOOKUP($C10,'2. Unit Testing Results'!$B$5:$BC$12,44))","v":""},{"$f":"IF($B10=\"\",\"\",\nVLOOKUP($C10,'2. Unit Testing Results'!$B$5:$BC$12,46))","v":""},{"$f":"IF($B10=\"\",\"\",\nVLOOKUP($C10,'2. Unit Testing Results'!$B$5:$BC$12,48))","v":""},{"$f":"IF($B10=\"\",\"\",\nVLOOKUP($C10,'2. Unit Testing Results'!$B$5:$BC$12,50))","v":""},{"$f":"IF($B10=\"\",\"\",\nVLOOKUP($C10,'2. Unit Testing Results'!$B$5:$BC$12,51))","v":""},{"$f":"IF($B10=\"\",\"\",\nVLOOKUP($C10,'2. Unit Testing Results'!$B$5:$BC$12,52))","v":""},{"$f":"IF($B10=\"\",\"\",\nVLOOKUP($C10,'2. Unit Testing Results'!$B$5:$BC$12,53))","v":""},{"$f":"IF($B10=\"\",\"\",\nVLOOKUP($C10,'2. Unit Testing Results'!$B$5:$BC$12,54))","v":""}]
[null,{"$f":"IF('2. Unit Testing Results'!$B21=\"\",\"\",'2. Unit Testing Results'!$B21)","v":""},{"$f":"IF('2. Unit Testing Results'!$C21=\"\",\"\",'2. Unit Testing Results'!$C21)","v":""},{"$f":"IF('2. Unit Testing Results'!$D21=\"\",\"\",'2. Unit Testing Results'!$D21)","v":""},{"$f":"IF('2. Unit Testing Results'!$E21=\"\",\"\",'2. Unit Testing Results'!$E21)","v":""},null,{"$f":"IF($B11=\"\",\"\",\n(('2. Unit Testing Results'!$W21)*60)\n/((VLOOKUP($C11,'2. Unit Testing Results'!$B$5:$R$12,4))*(VLOOKUP($C11,'2. Unit Testing Results'!$B$5:$R$12,6)))\n)","v":""},{"$f":"IF($B11=\"\",\"\",\nVLOOKUP($C11,'2. Unit Testing Results'!$B$5:$BC$12,19))","v":""},{"$f":"IF($B11=\"\",\"\",\nVLOOKUP($C11,'2. Unit Testing Results'!$B$5:$BC$12,20))","v":""},{"$f":"IF($B11=\"\",\"\",\nVLOOKUP($C11,'2. Unit Testing Results'!$B$5:$BC$12,22))","v":""},{"$f":"IF($B11=\"\",\"\",\nVLOOKUP($C11,'2. Unit Testing Results'!$B$5:$BC$12,24))","v":""},{"$f":"IF($B11=\"\",\"\",\nVLOOKUP($C11,'2. Unit Testing Results'!$B$5:$BC$12,26))","v":""},{"$f":"IF($B11=\"\",\"\",\nVLOOKUP($C11,'2. Unit Testing Results'!$B$5:$BC$12,28))","v":""},{"$f":"IF($B11=\"\",\"\",'2. Unit Testing Results'!$P21)","v":""},{"$f":"IF($B11=\"\",\"\",'2. Unit Testing Results'!$U21)","v":""},{"$f":"IF($B11=\"\",\"\",\nVLOOKUP($C11,'2. Unit Testing Results'!$B$5:$BC$12,30))","v":""},{"$f":"IF($B11=\"\",\"\",\nVLOOKUP($C11,'2. Unit Testing Results'!$B$5:$BC$12,32))","v":""},{"$f":"IF($B11=\"\",\"\",\nVLOOKUP($C11,'2. Unit Testing Results'!$B$5:$BC$12,34))","v":""},{"$f":"IF($B11=\"\",\"\",\nVLOOKUP($C11,'2. Unit Testing Results'!$B$5:$BC$12,36))","v":""},{"$f":"IF($B11=\"\",\"\",\nVLOOKUP($C11,'2. Unit Testing Results'!$B$5:$BC$12,38))","v":""},{"$f":"IF($B11=\"\",\"\",\nVLOOKUP($C11,'2. Unit Testing Results'!$B$5:$BC$12,39))","v":""},{"$f":"IF($B11=\"\",\"\",\nVLOOKUP($C11,'2. Unit Testing Results'!$B$5:$BC$12,40))","v":""},{"$f":"IF($B11=\"\",\"\",\nVLOOKUP($C11,'2. Unit Testing Results'!$B$5:$BC$12,42))","v":""},{"$f":"IF($B11=\"\",\"\",\nVLOOKUP($C11,'2. Unit Testing Results'!$B$5:$BC$12,44))","v":""},{"$f":"IF($B11=\"\",\"\",\nVLOOKUP($C11,'2. Unit Testing Results'!$B$5:$BC$12,46))","v":""},{"$f":"IF($B11=\"\",\"\",\nVLOOKUP($C11,'2. Unit Testing Results'!$B$5:$BC$12,48))","v":""},{"$f":"IF($B11=\"\",\"\",\nVLOOKUP($C11,'2. Unit Testing Results'!$B$5:$BC$12,50))","v":""},{"$f":"IF($B11=\"\",\"\",\nVLOOKUP($C11,'2. Unit Testing Results'!$B$5:$BC$12,51))","v":""},{"$f":"IF($B11=\"\",\"\",\nVLOOKUP($C11,'2. Unit Testing Results'!$B$5:$BC$12,52))","v":""},{"$f":"IF($B11=\"\",\"\",\nVLOOKUP($C11,'2. Unit Testing Results'!$B$5:$BC$12,53))","v":""},{"$f":"IF($B11=\"\",\"\",\nVLOOKUP($C11,'2. Unit Testing Results'!$B$5:$BC$12,54))","v":""}]
[null,{"$f":"IF('2. Unit Testing Results'!$B22=\"\",\"\",'2. Unit Testing Results'!$B22)","v":""},{"$f":"IF('2. Unit Testing Results'!$C22=\"\",\"\",'2. Unit Testing Results'!$C22)","v":""},{"$f":"IF('2. Unit Testing Results'!$D22=\"\",\"\",'2. Unit Testing Results'!$D22)","v":""},{"$f":"IF('2. Unit Testing Results'!$E22=\"\",\"\",'2. Unit Testing Results'!$E22)","v":""},null,{"$f":"IF($B12=\"\",\"\",\n(('2. Unit Testing Results'!$W22)*60)\n/((VLOOKUP($C12,'2. Unit Testing Results'!$B$5:$R$12,4))*(VLOOKUP($C12,'2. Unit Testing Results'!$B$5:$R$12,6)))\n)","v":""},{"$f":"IF($B12=\"\",\"\",\nVLOOKUP($C12,'2. Unit Testing Results'!$B$5:$BC$12,19))","v":""},{"$f":"IF($B12=\"\",\"\",\nVLOOKUP($C12,'2. Unit Testing Results'!$B$5:$BC$12,20))","v":""},{"$f":"IF($B12=\"\",\"\",\nVLOOKUP($C12,'2. Unit Testing Results'!$B$5:$BC$12,22))","v":""},{"$f":"IF($B12=\"\",\"\",\nVLOOKUP($C12,'2. Unit Testing Results'!$B$5:$BC$12,24))","v":""},{"$f":"IF($B12=\"\",\"\",\nVLOOKUP($C12,'2. Unit Testing Results'!$B$5:$BC$12,26))","v":""},{"$f":"IF($B12=\"\",\"\",\nVLOOKUP($C12,'2. Unit Testing Results'!$B$5:$BC$12,28))","v":""},{"$f":"IF($B12=\"\",\"\",'2. Unit Testing Results'!$P22)","v":""},{"$f":"IF($B12=\"\",\"\",'2. Unit Testing Results'!$U22)","v":""},{"$f":"IF($B12=\"\",\"\",\nVLOOKUP($C12,'2. Unit Testing Results'!$B$5:$BC$12,30))","v":""},{"$f":"IF($B12=\"\",\"\",\nVLOOKUP($C12,'2. Unit Testing Results'!$B$5:$BC$12,32))","v":""},{"$f":"IF($B12=\"\",\"\",\nVLOOKUP($C12,'2. Unit Testing Results'!$B$5:$BC$12,34))","v":""},{"$f":"IF($B12=\"\",\"\",\nVLOOKUP($C12,'2. Unit Testing Results'!$B$5:$BC$12,36))","v":""},{"$f":"IF($B12=\"\",\"\",\nVLOOKUP($C12,'2. Unit Testing Results'!$B$5:$BC$12,38))","v":""},{"$f":"IF($B12=\"\",\"\",\nVLOOKUP($C12,'2. Unit Testing Results'!$B$5:$BC$12,39))","v":""},{"$f":"IF($B12=\"\",\"\",\nVLOOKUP($C12,'2. Unit Testing Results'!$B$5:$BC$12,40))","v":""},{"$f":"IF($B12=\"\",\"\",\nVLOOKUP($C12,'2. Unit Testing Results'!$B$5:$BC$12,42))","v":""},{"$f":"IF($B12=\"\",\"\",\nVLOOKUP($C12,'2. Unit Testing Results'!$B$5:$BC$12,44))","v":""},{"$f":"IF($B12=\"\",\"\",\nVLOOKUP($C12,'2. Unit Testing Results'!$B$5:$BC$12,46))","v":""},{"$f":"IF($B12=\"\",\"\",\nVLOOKUP($C12,'2. Unit Testing Results'!$B$5:$BC$12,48))","v":""},{"$f":"IF($B12=\"\",\"\",\nVLOOKUP($C12,'2. Unit Testing Results'!$B$5:$BC$12,50))","v":""},{"$f":"IF($B12=\"\",\"\",\nVLOOKUP($C12,'2. Unit Testing Results'!$B$5:$BC$12,51))","v":""},{"$f":"IF($B12=\"\",\"\",\nVLOOKUP($C12,'2. Unit Testing Results'!$B$5:$BC$12,52))","v":""},{"$f":"IF($B12=\"\",\"\",\nVLOOKUP($C12,'2. Unit Testing Results'!$B$5:$BC$12,53))","v":""},{"$f":"IF($B12=\"\",\"\",\nVLOOKUP($C12,'2. Unit Testing Results'!$B$5:$BC$12,54))","v":""}]
[null,{"$f":"IF('2. Unit Testing Results'!$B23=\"\",\"\",'2. Unit Testing Results'!$B23)","v":""},{"$f":"IF('2. Unit Testing Results'!$C23=\"\",\"\",'2. Unit Testing Results'!$C23)","v":""},{"$f":"IF('2. Unit Testing Results'!$D23=\"\",\"\",'2. Unit Testing Results'!$D23)","v":""},{"$f":"IF('2. Unit Testing Results'!$E23=\"\",\"\",'2. Unit Testing Results'!$E23)","v":""},null,{"$f":"IF($B13=\"\",\"\",\n(('2. Unit Testing Results'!$W23)*60)\n/((VLOOKUP($C13,'2. Unit Testing Results'!$B$5:$R$12,4))*(VLOOKUP($C13,'2. Unit Testing Results'!$B$5:$R$12,6)))\n)","v":""},{"$f":"IF($B13=\"\",\"\",\nVLOOKUP($C13,'2. Unit Testing Results'!$B$5:$BC$12,19))","v":""},{"$f":"IF($B13=\"\",\"\",\nVLOOKUP($C13,'2. Unit Testing Results'!$B$5:$BC$12,20))","v":""},{"$f":"IF($B13=\"\",\"\",\nVLOOKUP($C13,'2. Unit Testing Results'!$B$5:$BC$12,22))","v":""},{"$f":"IF($B13=\"\",\"\",\nVLOOKUP($C13,'2. Unit Testing Results'!$B$5:$BC$12,24))","v":""},{"$f":"IF($B13=\"\",\"\",\nVLOOKUP($C13,'2. Unit Testing Results'!$B$5:$BC$12,26))","v":""},{"$f":"IF($B13=\"\",\"\",\nVLOOKUP($C13,'2. Unit Testing Results'!$B$5:$BC$12,28))","v":""},{"$f":"IF($B13=\"\",\"\",'2. Unit Testing Results'!$P23)","v":""},{"$f":"IF($B13=\"\",\"\",'2. Unit Testing Results'!$U23)","v":""},{"$f":"IF($B13=\"\",\"\",\nVLOOKUP($C13,'2. Unit Testing Results'!$B$5:$BC$12,30))","v":""},{"$f":"IF($B13=\"\",\"\",\nVLOOKUP($C13,'2. Unit Testing Results'!$B$5:$BC$12,32))","v":""},{"$f":"IF($B13=\"\",\"\",\nVLOOKUP($C13,'2. Unit Testing Results'!$B$5:$BC$12,34))","v":""},{"$f":"IF($B13=\"\",\"\",\nVLOOKUP($C13,'2. Unit Testing Results'!$B$5:$BC$12,36))","v":""},{"$f":"IF($B13=\"\",\"\",\nVLOOKUP($C13,'2. Unit Testing Results'!$B$5:$BC$12,38))","v":""},{"$f":"IF($B13=\"\",\"\",\nVLOOKUP($C13,'2. Unit Testing Results'!$B$5:$BC$12,39))","v":""},{"$f":"IF($B13=\"\",\"\",\nVLOOKUP($C13,'2. Unit Testing Results'!$B$5:$BC$12,40))","v":""},{"$f":"IF($B13=\"\",\"\",\nVLOOKUP($C13,'2. Unit Testing Results'!$B$5:$BC$12,42))","v":""},{"$f":"IF($B13=\"\",\"\",\nVLOOKUP($C13,'2. Unit Testing Results'!$B$5:$BC$12,44))","v":""},{"$f":"IF($B13=\"\",\"\",\nVLOOKUP($C13,'2. Unit Testing Results'!$B$5:$BC$12,46))","v":""},{"$f":"IF($B13=\"\",\"\",\nVLOOKUP($C13,'2. Unit Testing Results'!$B$5:$BC$12,48))","v":""},{"$f":"IF($B13=\"\",\"\",\nVLOOKUP($C13,'2. Unit Testing Results'!$B$5:$BC$12,50))","v":""},{"$f":"IF($B13=\"\",\"\",\nVLOOKUP($C13,'2. Unit Testing Results'!$B$5:$BC$12,51))","v":""},{"$f":"IF($B13=\"\",\"\",\nVLOOKUP($C13,'2. Unit Testing Results'!$B$5:$BC$12,52))","v":""},{"$f":"IF($B13=\"\",\"\",\nVLOOKUP($C13,'2. Unit Testing Results'!$B$5:$BC$12,53))","v":""},{"$f":"IF($B13=\"\",\"\",\nVLOOKUP($C13,'2. Unit Testing Results'!$B$5:$BC$12,54))","v":""}]
[null,{"$f":"IF('2. Unit Testing Results'!$B24=\"\",\"\",'2. Unit Testing Results'!$B24)","v":""},{"$f":"IF('2. Unit Testing Results'!$C24=\"\",\"\",'2. Unit Testing Results'!$C24)","v":""},{"$f":"IF('2. Unit Testing Results'!$D24=\"\",\"\",'2. Unit Testing Results'!$D24)","v":""},{"$f":"IF('2. Unit Testing Results'!$E24=\"\",\"\",'2. Unit Testing Results'!$E24)","v":""},null,{"$f":"IF($B14=\"\",\"\",\n(('2. Unit Testing Results'!$W24)*60)\n/((VLOOKUP($C14,'2. Unit Testing Results'!$B$5:$R$12,4))*(VLOOKUP($C14,'2. Unit Testing Results'!$B$5:$R$12,6)))\n)","v":""},{"$f":"IF($B14=\"\",\"\",\nVLOOKUP($C14,'2. Unit Testing Results'!$B$5:$BC$12,19))","v":""},{"$f":"IF($B14=\"\",\"\",\nVLOOKUP($C14,'2. Unit Testing Results'!$B$5:$BC$12,20))","v":""},{"$f":"IF($B14=\"\",\"\",\nVLOOKUP($C14,'2. Unit Testing Results'!$B$5:$BC$12,22))","v":""},{"$f":"IF($B14=\"\",\"\",\nVLOOKUP($C14,'2. Unit Testing Results'!$B$5:$BC$12,24))","v":""},{"$f":"IF($B14=\"\",\"\",\nVLOOKUP($C14,'2. Unit Testing Results'!$B$5:$BC$12,26))","v":""},{"$f":"IF($B14=\"\",\"\",\nVLOOKUP($C14,'2. Unit Testing Results'!$B$5:$BC$12,28))","v":""},{"$f":"IF($B14=\"\",\"\",'2. Unit Testing Results'!$P24)","v":""},{"$f":"IF($B14=\"\",\"\",'2. Unit Testing Results'!$U24)","v":""},{"$f":"IF($B14=\"\",\"\",\nVLOOKUP($C14,'2. Unit Testing Results'!$B$5:$BC$12,30))","v":""},{"$f":"IF($B14=\"\",\"\",\nVLOOKUP($C14,'2. Unit Testing Results'!$B$5:$BC$12,32))","v":""},{"$f":"IF($B14=\"\",\"\",\nVLOOKUP($C14,'2. Unit Testing Results'!$B$5:$BC$12,34))","v":""},{"$f":"IF($B14=\"\",\"\",\nVLOOKUP($C14,'2. Unit Testing Results'!$B$5:$BC$12,36))","v":""},{"$f":"IF($B14=\"\",\"\",\nVLOOKUP($C14,'2. Unit Testing Results'!$B$5:$BC$12,38))","v":""},{"$f":"IF($B14=\"\",\"\",\nVLOOKUP($C14,'2. Unit Testing Results'!$B$5:$BC$12,39))","v":""},{"$f":"IF($B14=\"\",\"\",\nVLOOKUP($C14,'2. Unit Testing Results'!$B$5:$BC$12,40))","v":""},{"$f":"IF($B14=\"\",\"\",\nVLOOKUP($C14,'2. Unit Testing Results'!$B$5:$BC$12,42))","v":""},{"$f":"IF($B14=\"\",\"\",\nVLOOKUP($C14,'2. Unit Testing Results'!$B$5:$BC$12,44))","v":""},{"$f":"IF($B14=\"\",\"\",\nVLOOKUP($C14,'2. Unit Testing Results'!$B$5:$BC$12,46))","v":""},{"$f":"IF($B14=\"\",\"\",\nVLOOKUP($C14,'2. Unit Testing Results'!$B$5:$BC$12,48))","v":""},{"$f":"IF($B14=\"\",\"\",\nVLOOKUP($C14,'2. Unit Testing Results'!$B$5:$BC$12,50))","v":""},{"$f":"IF($B14=\"\",\"\",\nVLOOKUP($C14,'2. Unit Testing Results'!$B$5:$BC$12,51))","v":""},{"$f":"IF($B14=\"\",\"\",\nVLOOKUP($C14,'2. Unit Testing Results'!$B$5:$BC$12,52))","v":""},{"$f":"IF($B14=\"\",\"\",\nVLOOKUP($C14,'2. Unit Testing Results'!$B$5:$BC$12,53))","v":""},{"$f":"IF($B14=\"\",\"\",\nVLOOKUP($C14,'2. Unit Testing Results'!$B$5:$BC$12,54))","v":""}]
[null,{"$f":"IF('2. Unit Testing Results'!$B25=\"\",\"\",'2. Unit Testing Results'!$B25)","v":""},{"$f":"IF('2. Unit Testing Results'!$C25=\"\",\"\",'2. Unit Testing Results'!$C25)","v":""},{"$f":"IF('2. Unit Testing Results'!$D25=\"\",\"\",'2. Unit Testing Results'!$D25)","v":""},{"$f":"IF('2. Unit Testing Results'!$E25=\"\",\"\",'2. Unit Testing Results'!$E25)","v":""},null,{"$f":"IF($B15=\"\",\"\",\n(('2. Unit Testing Results'!$W25)*60)\n/((VLOOKUP($C15,'2. Unit Testing Results'!$B$5:$R$12,4))*(VLOOKUP($C15,'2. Unit Testing Results'!$B$5:$R$12,6)))\n)","v":""},{"$f":"IF($B15=\"\",\"\",\nVLOOKUP($C15,'2. Unit Testing Results'!$B$5:$BC$12,19))","v":""},{"$f":"IF($B15=\"\",\"\",\nVLOOKUP($C15,'2. Unit Testing Results'!$B$5:$BC$12,20))","v":""},{"$f":"IF($B15=\"\",\"\",\nVLOOKUP($C15,'2. Unit Testing Results'!$B$5:$BC$12,22))","v":""},{"$f":"IF($B15=\"\",\"\",\nVLOOKUP($C15,'2. Unit Testing Results'!$B$5:$BC$12,24))","v":""},{"$f":"IF($B15=\"\",\"\",\nVLOOKUP($C15,'2. Unit Testing Results'!$B$5:$BC$12,26))","v":""},{"$f":"IF($B15=\"\",\"\",\nVLOOKUP($C15,'2. Unit Testing Results'!$B$5:$BC$12,28))","v":""},{"$f":"IF($B15=\"\",\"\",'2. Unit Testing Results'!$P25)","v":""},{"$f":"IF($B15=\"\",\"\",'2. Unit Testing Results'!$U25)","v":""},{"$f":"IF($B15=\"\",\"\",\nVLOOKUP($C15,'2. Unit Testing Results'!$B$5:$BC$12,30))","v":""},{"$f":"IF($B15=\"\",\"\",\nVLOOKUP($C15,'2. Unit Testing Results'!$B$5:$BC$12,32))","v":""},{"$f":"IF($B15=\"\",\"\",\nVLOOKUP($C15,'2. Unit Testing Results'!$B$5:$BC$12,34))","v":""},{"$f":"IF($B15=\"\",\"\",\nVLOOKUP($C15,'2. Unit Testing Results'!$B$5:$BC$12,36))","v":""},{"$f":"IF($B15=\"\",\"\",\nVLOOKUP($C15,'2. Unit Testing Results'!$B$5:$BC$12,38))","v":""},{"$f":"IF($B15=\"\",\"\",\nVLOOKUP($C15,'2. Unit Testing Results'!$B$5:$BC$12,39))","v":""},{"$f":"IF($B15=\"\",\"\",\nVLOOKUP($C15,'2. Unit Testing Results'!$B$5:$BC$12,40))","v":""},{"$f":"IF($B15=\"\",\"\",\nVLOOKUP($C15,'2. Unit Testing Results'!$B$5:$BC$12,42))","v":""},{"$f":"IF($B15=\"\",\"\",\nVLOOKUP($C15,'2. Unit Testing Results'!$B$5:$BC$12,44))","v":""},{"$f":"IF($B15=\"\",\"\",\nVLOOKUP($C15,'2. Unit Testing Results'!$B$5:$BC$12,46))","v":""},{"$f":"IF($B15=\"\",\"\",\nVLOOKUP($C15,'2. Unit Testing Results'!$B$5:$BC$12,48))","v":""},{"$f":"IF($B15=\"\",\"\",\nVLOOKUP($C15,'2. Unit Testing Results'!$B$5:$BC$12,50))","v":""},{"$f":"IF($B15=\"\",\"\",\nVLOOKUP($C15,'2. Unit Testing Results'!$B$5:$BC$12,51))","v":""},{"$f":"IF($B15=\"\",\"\",\nVLOOKUP($C15,'2. Unit Testing Results'!$B$5:$BC$12,52))","v":""},{"$f":"IF($B15=\"\",\"\",\nVLOOKUP($C15,'2. Unit Testing Results'!$B$5:$BC$12,53))","v":""},{"$f":"IF($B15=\"\",\"\",\nVLOOKUP($C15,'2. Unit Testing Results'!$B$5:$BC$12,54))","v":""}]
[null,{"$f":"IF('2. Unit Testing Results'!$B26=\"\",\"\",'2. Unit Testing Results'!$B26)","v":""},{"$f":"IF('2. Unit Testing Results'!$C26=\"\",\"\",'2. Unit Testing Results'!$C26)","v":""},{"$f":"IF('2. Unit Testing Results'!$D26=\"\",\"\",'2. Unit Testing Results'!$D26)","v":""},{"$f":"IF('2. Unit Testing Results'!$E26=\"\",\"\",'2. Unit Testing Results'!$E26)","v":""},null,{"$f":"IF($B16=\"\",\"\",\n(('2. Unit Testing Results'!$W26)*60)\n/((VLOOKUP($C16,'2. Unit Testing Results'!$B$5:$R$12,4))*(VLOOKUP($C16,'2. Unit Testing Results'!$B$5:$R$12,6)))\n)","v":""},{"$f":"IF($B16=\"\",\"\",\nVLOOKUP($C16,'2. Unit Testing Results'!$B$5:$BC$12,19))","v":""},{"$f":"IF($B16=\"\",\"\",\nVLOOKUP($C16,'2. Unit Testing Results'!$B$5:$BC$12,20))","v":""},{"$f":"IF($B16=\"\",\"\",\nVLOOKUP($C16,'2. Unit Testing Results'!$B$5:$BC$12,22))","v":""},{"$f":"IF($B16=\"\",\"\",\nVLOOKUP($C16,'2. Unit Testing Results'!$B$5:$BC$12,24))","v":""},{"$f":"IF($B16=\"\",\"\",\nVLOOKUP($C16,'2. Unit Testing Results'!$B$5:$BC$12,26))","v":""},{"$f":"IF($B16=\"\",\"\",\nVLOOKUP($C16,'2. Unit Testing Results'!$B$5:$BC$12,28))","v":""},{"$f":"IF($B16=\"\",\"\",'2. Unit Testing Results'!$P26)","v":""},{"$f":"IF($B16=\"\",\"\",'2. Unit Testing Results'!$U26)","v":""},{"$f":"IF($B16=\"\",\"\",\nVLOOKUP($C16,'2. Unit Testing Results'!$B$5:$BC$12,30))","v":""},{"$f":"IF($B16=\"\",\"\",\nVLOOKUP($C16,'2. Unit Testing Results'!$B$5:$BC$12,32))","v":""},{"$f":"IF($B16=\"\",\"\",\nVLOOKUP($C16,'2. Unit Testing Results'!$B$5:$BC$12,34))","v":""},{"$f":"IF($B16=\"\",\"\",\nVLOOKUP($C16,'2. Unit Testing Results'!$B$5:$BC$12,36))","v":""},{"$f":"IF($B16=\"\",\"\",\nVLOOKUP($C16,'2. Unit Testing Results'!$B$5:$BC$12,38))","v":""},{"$f":"IF($B16=\"\",\"\",\nVLOOKUP($C16,'2. Unit Testing Results'!$B$5:$BC$12,39))","v":""},{"$f":"IF($B16=\"\",\"\",\nVLOOKUP($C16,'2. Unit Testing Results'!$B$5:$BC$12,40))","v":""},{"$f":"IF($B16=\"\",\"\",\nVLOOKUP($C16,'2. Unit Testing Results'!$B$5:$BC$12,42))","v":""},{"$f":"IF($B16=\"\",\"\",\nVLOOKUP($C16,'2. Unit Testing Results'!$B$5:$BC$12,44))","v":""},{"$f":"IF($B16=\"\",\"\",\nVLOOKUP($C16,'2. Unit Testing Results'!$B$5:$BC$12,46))","v":""},{"$f":"IF($B16=\"\",\"\",\nVLOOKUP($C16,'2. Unit Testing Results'!$B$5:$BC$12,48))","v":""},{"$f":"IF($B16=\"\",\"\",\nVLOOKUP($C16,'2. Unit Testing Results'!$B$5:$BC$12,50))","v":""},{"$f":"IF($B16=\"\",\"\",\nVLOOKUP($C16,'2. Unit Testing Results'!$B$5:$BC$12,51))","v":""},{"$f":"IF($B16=\"\",\"\",\nVLOOKUP($C16,'2. Unit Testing Results'!$B$5:$BC$12,52))","v":""},{"$f":"IF($B16=\"\",\"\",\nVLOOKUP($C16,'2. Unit Testing Results'!$B$5:$BC$12,53))","v":""},{"$f":"IF($B16=\"\",\"\",\nVLOOKUP($C16,'2. Unit Testing Results'!$B$5:$BC$12,54))","v":""}]
[null,{"$f":"IF('2. Unit Testing Results'!$B27=\"\",\"\",'2. Unit Testing Results'!$B27)","v":""},{"$f":"IF('2. Unit Testing Results'!$C27=\"\",\"\",'2. Unit Testing Results'!$C27)","v":""},{"$f":"IF('2. Unit Testing Results'!$D27=\"\",\"\",'2. Unit Testing Results'!$D27)","v":""},{"$f":"IF('2. Unit Testing Results'!$E27=\"\",\"\",'2. Unit Testing Results'!$E27)","v":""},null,{"$f":"IF($B17=\"\",\"\",\n(('2. Unit Testing Results'!$W27)*60)\n/((VLOOKUP($C17,'2. Unit Testing Results'!$B$5:$R$12,4))*(VLOOKUP($C17,'2. Unit Testing Results'!$B$5:$R$12,6)))\n)","v":""},{"$f":"IF($B17=\"\",\"\",\nVLOOKUP($C17,'2. Unit Testing Results'!$B$5:$BC$12,19))","v":""},{"$f":"IF($B17=\"\",\"\",\nVLOOKUP($C17,'2. Unit Testing Results'!$B$5:$BC$12,20))","v":""},{"$f":"IF($B17=\"\",\"\",\nVLOOKUP($C17,'2. Unit Testing Results'!$B$5:$BC$12,22))","v":""},{"$f":"IF($B17=\"\",\"\",\nVLOOKUP($C17,'2. Unit Testing Results'!$B$5:$BC$12,24))","v":""},{"$f":"IF($B17=\"\",\"\",\nVLOOKUP($C17,'2. Unit Testing Results'!$B$5:$BC$12,26))","v":""},{"$f":"IF($B17=\"\",\"\",\nVLOOKUP($C17,'2. Unit Testing Results'!$B$5:$BC$12,28))","v":""},{"$f":"IF($B17=\"\",\"\",'2. Unit Testing Results'!$P27)","v":""},{"$f":"IF($B17=\"\",\"\",'2. Unit Testing Results'!$U27)","v":""},{"$f":"IF($B17=\"\",\"\",\nVLOOKUP($C17,'2. Unit Testing Results'!$B$5:$BC$12,30))","v":""},{"$f":"IF($B17=\"\",\"\",\nVLOOKUP($C17,'2. Unit Testing Results'!$B$5:$BC$12,32))","v":""},{"$f":"IF($B17=\"\",\"\",\nVLOOKUP($C17,'2. Unit Testing Results'!$B$5:$BC$12,34))","v":""},{"$f":"IF($B17=\"\",\"\",\nVLOOKUP($C17,'2. Unit Testing Results'!$B$5:$BC$12,36))","v":""},{"$f":"IF($B17=\"\",\"\",\nVLOOKUP($C17,'2. Unit Testing Results'!$B$5:$BC$12,38))","v":""},{"$f":"IF($B17=\"\",\"\",\nVLOOKUP($C17,'2. Unit Testing Results'!$B$5:$BC$12,39))","v":""},{"$f":"IF($B17=\"\",\"\",\nVLOOKUP($C17,'2. Unit Testing Results'!$B$5:$BC$12,40))","v":""},{"$f":"IF($B17=\"\",\"\",\nVLOOKUP($C17,'2. Unit Testing Results'!$B$5:$BC$12,42))","v":""},{"$f":"IF($B17=\"\",\"\",\nVLOOKUP($C17,'2. Unit Testing Results'!$B$5:$BC$12,44))","v":""},{"$f":"IF($B17=\"\",\"\",\nVLOOKUP($C17,'2. Unit Testing Results'!$B$5:$BC$12,46))","v":""},{"$f":"IF($B17=\"\",\"\",\nVLOOKUP($C17,'2. Unit Testing Results'!$B$5:$BC$12,48))","v":""},{"$f":"IF($B17=\"\",\"\",\nVLOOKUP($C17,'2. Unit Testing Results'!$B$5:$BC$12,50))","v":""},{"$f":"IF($B17=\"\",\"\",\nVLOOKUP($C17,'2. Unit Testing Results'!$B$5:$BC$12,51))","v":""},{"$f":"IF($B17=\"\",\"\",\nVLOOKUP($C17,'2. Unit Testing Results'!$B$5:$BC$12,52))","v":""},{"$f":"IF($B17=\"\",\"\",\nVLOOKUP($C17,'2. Unit Testing Results'!$B$5:$BC$12,53))","v":""},{"$f":"IF($B17=\"\",\"\",\nVLOOKUP($C17,'2. Unit Testing Results'!$B$5:$BC$12,54))","v":""}]
[null,{"$f":"IF('2. Unit Testing Results'!$B28=\"\",\"\",'2. Unit Testing Results'!$B28)","v":""},{"$f":"IF('2. Unit Testing Results'!$C28=\"\",\"\",'2. Unit Testing Results'!$C28)","v":""},{"$f":"IF('2. Unit Testing Results'!$D28=\"\",\"\",'2. Unit Testing Results'!$D28)","v":""},{"$f":"IF('2. Unit Testing Results'!$E28=\"\",\"\",'2. Unit Testing Results'!$E28)","v":""},null,{"$f":"IF($B18=\"\",\"\",\n(('2. Unit Testing Results'!$W28)*60)\n/((VLOOKUP($C18,'2. Unit Testing Results'!$B$5:$R$12,4))*(VLOOKUP($C18,'2. Unit Testing Results'!$B$5:$R$12,6)))\n)","v":""},{"$f":"IF($B18=\"\",\"\",\nVLOOKUP($C18,'2. Unit Testing Results'!$B$5:$BC$12,19))","v":""},{"$f":"IF($B18=\"\",\"\",\nVLOOKUP($C18,'2. Unit Testing Results'!$B$5:$BC$12,20))","v":""},{"$f":"IF($B18=\"\",\"\",\nVLOOKUP($C18,'2. Unit Testing Results'!$B$5:$BC$12,22))","v":""},{"$f":"IF($B18=\"\",\"\",\nVLOOKUP($C18,'2. Unit Testing Results'!$B$5:$BC$12,24))","v":""},{"$f":"IF($B18=\"\",\"\",\nVLOOKUP($C18,'2. Unit Testing Results'!$B$5:$BC$12,26))","v":""},{"$f":"IF($B18=\"\",\"\",\nVLOOKUP($C18,'2. Unit Testing Results'!$B$5:$BC$12,28))","v":""},{"$f":"IF($B18=\"\",\"\",'2. Unit Testing Results'!$P28)","v":""},{"$f":"IF($B18=\"\",\"\",'2. Unit Testing Results'!$U28)","v":""},{"$f":"IF($B18=\"\",\"\",\nVLOOKUP($C18,'2. Unit Testing Results'!$B$5:$BC$12,30))","v":""},{"$f":"IF($B18=\"\",\"\",\nVLOOKUP($C18,'2. Unit Testing Results'!$B$5:$BC$12,32))","v":""},{"$f":"IF($B18=\"\",\"\",\nVLOOKUP($C18,'2. Unit Testing Results'!$B$5:$BC$12,34))","v":""},{"$f":"IF($B18=\"\",\"\",\nVLOOKUP($C18,'2. Unit Testing Results'!$B$5:$BC$12,36))","v":""},{"$f":"IF($B18=\"\",\"\",\nVLOOKUP($C18,'2. Unit Testing Results'!$B$5:$BC$12,38))","v":""},{"$f":"IF($B18=\"\",\"\",\nVLOOKUP($C18,'2. Unit Testing Results'!$B$5:$BC$12,39))","v":""},{"$f":"IF($B18=\"\",\"\",\nVLOOKUP($C18,'2. Unit Testing Results'!$B$5:$BC$12,40))","v":""},{"$f":"IF($B18=\"\",\"\",\nVLOOKUP($C18,'2. Unit Testing Results'!$B$5:$BC$12,42))","v":""},{"$f":"IF($B18=\"\",\"\",\nVLOOKUP($C18,'2. Unit Testing Results'!$B$5:$BC$12,44))","v":""},{"$f":"IF($B18=\"\",\"\",\nVLOOKUP($C18,'2. Unit Testing Results'!$B$5:$BC$12,46))","v":""},{"$f":"IF($B18=\"\",\"\",\nVLOOKUP($C18,'2. Unit Testing Results'!$B$5:$BC$12,48))","v":""},{"$f":"IF($B18=\"\",\"\",\nVLOOKUP($C18,'2. Unit Testing Results'!$B$5:$BC$12,50))","v":""},{"$f":"IF($B18=\"\",\"\",\nVLOOKUP($C18,'2. Unit Testing Results'!$B$5:$BC$12,51))","v":""},{"$f":"IF($B18=\"\",\"\",\nVLOOKUP($C18,'2. Unit Testing Results'!$B$5:$BC$12,52))","v":""},{"$f":"IF($B18=\"\",\"\",\nVLOOKUP($C18,'2. Unit Testing Results'!$B$5:$BC$12,53))","v":""},{"$f":"IF($B18=\"\",\"\",\nVLOOKUP($C18,'2. Unit Testing Results'!$B$5:$BC$12,54))","v":""}]
[null,{"$f":"IF('2. Unit Testing Results'!$B29=\"\",\"\",'2. Unit Testing Results'!$B29)","v":""},{"$f":"IF('2. Unit Testing Results'!$C29=\"\",\"\",'2. Unit Testing Results'!$C29)","v":""},{"$f":"IF('2. Unit Testing Results'!$D29=\"\",\"\",'2. Unit Testing Results'!$D29)","v":""},{"$f":"IF('2. Unit Testing Results'!$E29=\"\",\"\",'2. Unit Testing Results'!$E29)","v":""},null,{"$f":"IF($B19=\"\",\"\",\n(('2. Unit Testing Results'!$W29)*60)\n/((VLOOKUP($C19,'2. Unit Testing Results'!$B$5:$R$12,4))*(VLOOKUP($C19,'2. Unit Testing Results'!$B$5:$R$12,6)))\n)","v":""},{"$f":"IF($B19=\"\",\"\",\nVLOOKUP($C19,'2. Unit Testing Results'!$B$5:$BC$12,19))","v":""},{"$f":"IF($B19=\"\",\"\",\nVLOOKUP($C19,'2. Unit Testing Results'!$B$5:$BC$12,20))","v":""},{"$f":"IF($B19=\"\",\"\",\nVLOOKUP($C19,'2. Unit Testing Results'!$B$5:$BC$12,22))","v":""},{"$f":"IF($B19=\"\",\"\",\nVLOOKUP($C19,'2. Unit Testing Results'!$B$5:$BC$12,24))","v":""},{"$f":"IF($B19=\"\",\"\",\nVLOOKUP($C19,'2. Unit Testing Results'!$B$5:$BC$12,26))","v":""},{"$f":"IF($B19=\"\",\"\",\nVLOOKUP($C19,'2. Unit Testing Results'!$B$5:$BC$12,28))","v":""},{"$f":"IF($B19=\"\",\"\",'2. Unit Testing Results'!$P29)","v":""},{"$f":"IF($B19=\"\",\"\",'2. Unit Testing Results'!$U29)","v":""},{"$f":"IF($B19=\"\",\"\",\nVLOOKUP($C19,'2. Unit Testing Results'!$B$5:$BC$12,30))","v":""},{"$f":"IF($B19=\"\",\"\",\nVLOOKUP($C19,'2. Unit Testing Results'!$B$5:$BC$12,32))","v":""},{"$f":"IF($B19=\"\",\"\",\nVLOOKUP($C19,'2. Unit Testing Results'!$B$5:$BC$12,34))","v":""},{"$f":"IF($B19=\"\",\"\",\nVLOOKUP($C19,'2. Unit Testing Results'!$B$5:$BC$12,36))","v":""},{"$f":"IF($B19=\"\",\"\",\nVLOOKUP($C19,'2. Unit Testing Results'!$B$5:$BC$12,38))","v":""},{"$f":"IF($B19=\"\",\"\",\nVLOOKUP($C19,'2. Unit Testing Results'!$B$5:$BC$12,39))","v":""},{"$f":"IF($B19=\"\",\"\",\nVLOOKUP($C19,'2. Unit Testing Results'!$B$5:$BC$12,40))","v":""},{"$f":"IF($B19=\"\",\"\",\nVLOOKUP($C19,'2. Unit Testing Results'!$B$5:$BC$12,42))","v":""},{"$f":"IF($B19=\"\",\"\",\nVLOOKUP($C19,'2. Unit Testing Results'!$B$5:$BC$12,44))","v":""},{"$f":"IF($B19=\"\",\"\",\nVLOOKUP($C19,'2. Unit Testing Results'!$B$5:$BC$12,46))","v":""},{"$f":"IF($B19=\"\",\"\",\nVLOOKUP($C19,'2. Unit Testing Results'!$B$5:$BC$12,48))","v":""},{"$f":"IF($B19=\"\",\"\",\nVLOOKUP($C19,'2. Unit Testing Results'!$B$5:$BC$12,50))","v":""},{"$f":"IF($B19=\"\",\"\",\nVLOOKUP($C19,'2. Unit Testing Results'!$B$5:$BC$12,51))","v":""},{"$f":"IF($B19=\"\",\"\",\nVLOOKUP($C19,'2. Unit Testing Results'!$B$5:$BC$12,52))","v":""},{"$f":"IF($B19=\"\",\"\",\nVLOOKUP($C19,'2. Unit Testing Results'!$B$5:$BC$12,53))","v":""},{"$f":"IF($B19=\"\",\"\",\nVLOOKUP($C19,'2. Unit Testing Results'!$B$5:$BC$12,54))","v":""}]
[null,{"$f":"IF('2. Unit Testing Results'!$B30=\"\",\"\",'2. Unit Testing Results'!$B30)","v":""},{"$f":"IF('2. Unit Testing Results'!$C30=\"\",\"\",'2. Unit Testing Results'!$C30)","v":""},{"$f":"IF('2. Unit Testing Results'!$D30=\"\",\"\",'2. Unit Testing Results'!$D30)","v":""},{"$f":"IF('2. Unit Testing Results'!$E30=\"\",\"\",'2. Unit Testing Results'!$E30)","v":""},null,{"$f":"IF($B20=\"\",\"\",\n(('2. Unit Testing Results'!$W30)*60)\n/((VLOOKUP($C20,'2. Unit Testing Results'!$B$5:$R$12,4))*(VLOOKUP($C20,'2. Unit Testing Results'!$B$5:$R$12,6)))\n)","v":""},{"$f":"IF($B20=\"\",\"\",\nVLOOKUP($C20,'2. Unit Testing Results'!$B$5:$BC$12,19))","v":""},{"$f":"IF($B20=\"\",\"\",\nVLOOKUP($C20,'2. Unit Testing Results'!$B$5:$BC$12,20))","v":""},{"$f":"IF($B20=\"\",\"\",\nVLOOKUP($C20,'2. Unit Testing Results'!$B$5:$BC$12,22))","v":""},{"$f":"IF($B20=\"\",\"\",\nVLOOKUP($C20,'2. Unit Testing Results'!$B$5:$BC$12,24))","v":""},{"$f":"IF($B20=\"\",\"\",\nVLOOKUP($C20,'2. Unit Testing Results'!$B$5:$BC$12,26))","v":""},{"$f":"IF($B20=\"\",\"\",\nVLOOKUP($C20,'2. Unit Testing Results'!$B$5:$BC$12,28))","v":""},{"$f":"IF($B20=\"\",\"\",'2. Unit Testing Results'!$P30)","v":""},{"$f":"IF($B20=\"\",\"\",'2. Unit Testing Results'!$U30)","v":""},{"$f":"IF($B20=\"\",\"\",\nVLOOKUP($C20,'2. Unit Testing Results'!$B$5:$BC$12,30))","v":""},{"$f":"IF($B20=\"\",\"\",\nVLOOKUP($C20,'2. Unit Testing Results'!$B$5:$BC$12,32))","v":""},{"$f":"IF($B20=\"\",\"\",\nVLOOKUP($C20,'2. Unit Testing Results'!$B$5:$BC$12,34))","v":""},{"$f":"IF($B20=\"\",\"\",\nVLOOKUP($C20,'2. Unit Testing Results'!$B$5:$BC$12,36))","v":""},{"$f":"IF($B20=\"\",\"\",\nVLOOKUP($C20,'2. Unit Testing Results'!$B$5:$BC$12,38))","v":""},{"$f":"IF($B20=\"\",\"\",\nVLOOKUP($C20,'2. Unit Testing Results'!$B$5:$BC$12,39))","v":""},{"$f":"IF($B20=\"\",\"\",\nVLOOKUP($C20,'2. Unit Testing Results'!$B$5:$BC$12,40))","v":""},{"$f":"IF($B20=\"\",\"\",\nVLOOKUP($C20,'2. Unit Testing Results'!$B$5:$BC$12,42))","v":""},{"$f":"IF($B20=\"\",\"\",\nVLOOKUP($C20,'2. Unit Testing Results'!$B$5:$BC$12,44))","v":""},{"$f":"IF($B20=\"\",\"\",\nVLOOKUP($C20,'2. Unit Testing Results'!$B$5:$BC$12,46))","v":""},{"$f":"IF($B20=\"\",\"\",\nVLOOKUP($C20,'2. Unit Testing Results'!$B$5:$BC$12,48))","v":""},{"$f":"IF($B20=\"\",\"\",\nVLOOKUP($C20,'2. Unit Testing Results'!$B$5:$BC$12,50))","v":""},{"$f":"IF($B20=\"\",\"\",\nVLOOKUP($C20,'2. Unit Testing Results'!$B$5:$BC$12,51))","v":""},{"$f":"IF($B20=\"\",\"\",\nVLOOKUP($C20,'2. Unit Testing Results'!$B$5:$BC$12,52))","v":""},{"$f":"IF($B20=\"\",\"\",\nVLOOKUP($C20,'2. Unit Testing Results'!$B$5:$BC$12,53))","v":""},{"$f":"IF($B20=\"\",\"\",\nVLOOKUP($C20,'2. Unit Testing Results'!$B$5:$BC$12,54))","v":""}]
[null,{"$f":"IF('2. Unit Testing Results'!$B31=\"\",\"\",'2. Unit Testing Results'!$B31)","v":""},{"$f":"IF('2. Unit Testing Results'!$C31=\"\",\"\",'2. Unit Testing Results'!$C31)","v":""},{"$f":"IF('2. Unit Testing Results'!$D31=\"\",\"\",'2. Unit Testing Results'!$D31)","v":""},{"$f":"IF('2. Unit Testing Results'!$E31=\"\",\"\",'2. Unit Testing Results'!$E31)","v":""},null,{"$f":"IF($B21=\"\",\"\",\n(('2. Unit Testing Results'!$W31)*60)\n/((VLOOKUP($C21,'2. Unit Testing Results'!$B$5:$R$12,4))*(VLOOKUP($C21,'2. Unit Testing Results'!$B$5:$R$12,6)))\n)","v":""},{"$f":"IF($B21=\"\",\"\",\nVLOOKUP($C21,'2. Unit Testing Results'!$B$5:$BC$12,19))","v":""},{"$f":"IF($B21=\"\",\"\",\nVLOOKUP($C21,'2. Unit Testing Results'!$B$5:$BC$12,20))","v":""},{"$f":"IF($B21=\"\",\"\",\nVLOOKUP($C21,'2. Unit Testing Results'!$B$5:$BC$12,22))","v":""},{"$f":"IF($B21=\"\",\"\",\nVLOOKUP($C21,'2. Unit Testing Results'!$B$5:$BC$12,24))","v":""},{"$f":"IF($B21=\"\",\"\",\nVLOOKUP($C21,'2. Unit Testing Results'!$B$5:$BC$12,26))","v":""},{"$f":"IF($B21=\"\",\"\",\nVLOOKUP($C21,'2. Unit Testing Results'!$B$5:$BC$12,28))","v":""},{"$f":"IF($B21=\"\",\"\",'2. Unit Testing Results'!$P31)","v":""},{"$f":"IF($B21=\"\",\"\",'2. Unit Testing Results'!$U31)","v":""},{"$f":"IF($B21=\"\",\"\",\nVLOOKUP($C21,'2. Unit Testing Results'!$B$5:$BC$12,30))","v":""},{"$f":"IF($B21=\"\",\"\",\nVLOOKUP($C21,'2. Unit Testing Results'!$B$5:$BC$12,32))","v":""},{"$f":"IF($B21=\"\",\"\",\nVLOOKUP($C21,'2. Unit Testing Results'!$B$5:$BC$12,34))","v":""},{"$f":"IF($B21=\"\",\"\",\nVLOOKUP($C21,'2. Unit Testing Results'!$B$5:$BC$12,36))","v":""},{"$f":"IF($B21=\"\",\"\",\nVLOOKUP($C21,'2. Unit Testing Results'!$B$5:$BC$12,38))","v":""},{"$f":"IF($B21=\"\",\"\",\nVLOOKUP($C21,'2. Unit Testing Results'!$B$5:$BC$12,39))","v":""},{"$f":"IF($B21=\"\",\"\",\nVLOOKUP($C21,'2. Unit Testing Results'!$B$5:$BC$12,40))","v":""},{"$f":"IF($B21=\"\",\"\",\nVLOOKUP($C21,'2. Unit Testing Results'!$B$5:$BC$12,42))","v":""},{"$f":"IF($B21=\"\",\"\",\nVLOOKUP($C21,'2. Unit Testing Results'!$B$5:$BC$12,44))","v":""},{"$f":"IF($B21=\"\",\"\",\nVLOOKUP($C21,'2. Unit Testing Results'!$B$5:$BC$12,46))","v":""},{"$f":"IF($B21=\"\",\"\",\nVLOOKUP($C21,'2. Unit Testing Results'!$B$5:$BC$12,48))","v":""},{"$f":"IF($B21=\"\",\"\",\nVLOOKUP($C21,'2. Unit Testing Results'!$B$5:$BC$12,50))","v":""},{"$f":"IF($B21=\"\",\"\",\nVLOOKUP($C21,'2. Unit Testing Results'!$B$5:$BC$12,51))","v":""},{"$f":"IF($B21=\"\",\"\",\nVLOOKUP($C21,'2. Unit Testing Results'!$B$5:$BC$12,52))","v":""},{"$f":"IF($B21=\"\",\"\",\nVLOOKUP($C21,'2. Unit Testing Results'!$B$5:$BC$12,53))","v":""},{"$f":"IF($B21=\"\",\"\",\nVLOOKUP($C21,'2. Unit Testing Results'!$B$5:$BC$12,54))","v":""}]
[null,{"$f":"IF('2. Unit Testing Results'!$B32=\"\",\"\",'2. Unit Testing Results'!$B32)","v":""},{"$f":"IF('2. Unit Testing Results'!$C32=\"\",\"\",'2. Unit Testing Results'!$C32)","v":""},{"$f":"IF('2. Unit Testing Results'!$D32=\"\",\"\",'2. Unit Testing Results'!$D32)","v":""},{"$f":"IF('2. Unit Testing Results'!$E32=\"\",\"\",'2. Unit Testing Results'!$E32)","v":""},null,{"$f":"IF($B22=\"\",\"\",\n(('2. Unit Testing Results'!$W32)*60)\n/((VLOOKUP($C22,'2. Unit Testing Results'!$B$5:$R$12,4))*(VLOOKUP($C22,'2. Unit Testing Results'!$B$5:$R$12,6)))\n)","v":""},{"$f":"IF($B22=\"\",\"\",\nVLOOKUP($C22,'2. Unit Testing Results'!$B$5:$BC$12,19))","v":""},{"$f":"IF($B22=\"\",\"\",\nVLOOKUP($C22,'2. Unit Testing Results'!$B$5:$BC$12,20))","v":""},{"$f":"IF($B22=\"\",\"\",\nVLOOKUP($C22,'2. Unit Testing Results'!$B$5:$BC$12,22))","v":""},{"$f":"IF($B22=\"\",\"\",\nVLOOKUP($C22,'2. Unit Testing Results'!$B$5:$BC$12,24))","v":""},{"$f":"IF($B22=\"\",\"\",\nVLOOKUP($C22,'2. Unit Testing Results'!$B$5:$BC$12,26))","v":""},{"$f":"IF($B22=\"\",\"\",\nVLOOKUP($C22,'2. Unit Testing Results'!$B$5:$BC$12,28))","v":""},{"$f":"IF($B22=\"\",\"\",'2. Unit Testing Results'!$P32)","v":""},{"$f":"IF($B22=\"\",\"\",'2. Unit Testing Results'!$U32)","v":""},{"$f":"IF($B22=\"\",\"\",\nVLOOKUP($C22,'2. Unit Testing Results'!$B$5:$BC$12,30))","v":""},{"$f":"IF($B22=\"\",\"\",\nVLOOKUP($C22,'2. Unit Testing Results'!$B$5:$BC$12,32))","v":""},{"$f":"IF($B22=\"\",\"\",\nVLOOKUP($C22,'2. Unit Testing Results'!$B$5:$BC$12,34))","v":""},{"$f":"IF($B22=\"\",\"\",\nVLOOKUP($C22,'2. Unit Testing Results'!$B$5:$BC$12,36))","v":""},{"$f":"IF($B22=\"\",\"\",\nVLOOKUP($C22,'2. Unit Testing Results'!$B$5:$BC$12,38))","v":""},{"$f":"IF($B22=\"\",\"\",\nVLOOKUP($C22,'2. Unit Testing Results'!$B$5:$BC$12,39))","v":""},{"$f":"IF($B22=\"\",\"\",\nVLOOKUP($C22,'2. Unit Testing Results'!$B$5:$BC$12,40))","v":""},{"$f":"IF($B22=\"\",\"\",\nVLOOKUP($C22,'2. Unit Testing Results'!$B$5:$BC$12,42))","v":""},{"$f":"IF($B22=\"\",\"\",\nVLOOKUP($C22,'2. Unit Testing Results'!$B$5:$BC$12,44))","v":""},{"$f":"IF($B22=\"\",\"\",\nVLOOKUP($C22,'2. Unit Testing Results'!$B$5:$BC$12,46))","v":""},{"$f":"IF($B22=\"\",\"\",\nVLOOKUP($C22,'2. Unit Testing Results'!$B$5:$BC$12,48))","v":""},{"$f":"IF($B22=\"\",\"\",\nVLOOKUP($C22,'2. Unit Testing Results'!$B$5:$BC$12,50))","v":""},{"$f":"IF($B22=\"\",\"\",\nVLOOKUP($C22,'2. Unit Testing Results'!$B$5:$BC$12,51))","v":""},{"$f":"IF($B22=\"\",\"\",\nVLOOKUP($C22,'2. Unit Testing Results'!$B$5:$BC$12,52))","v":""},{"$f":"IF($B22=\"\",\"\",\nVLOOKUP($C22,'2. Unit Testing Results'!$B$5:$BC$12,53))","v":""},{"$f":"IF($B22=\"\",\"\",\nVLOOKUP($C22,'2. Unit Testing Results'!$B$5:$BC$12,54))","v":""}]
[null,{"$f":"IF('2. Unit Testing Results'!$B33=\"\",\"\",'2. Unit Testing Results'!$B33)","v":""},{"$f":"IF('2. Unit Testing Results'!$C33=\"\",\"\",'2. Unit Testing Results'!$C33)","v":""},{"$f":"IF('2. Unit Testing Results'!$D33=\"\",\"\",'2. Unit Testing Results'!$D33)","v":""},{"$f":"IF('2. Unit Testing Results'!$E33=\"\",\"\",'2. Unit Testing Results'!$E33)","v":""},null,{"$f":"IF($B23=\"\",\"\",\n(('2. Unit Testing Results'!$W33)*60)\n/((VLOOKUP($C23,'2. Unit Testing Results'!$B$5:$R$12,4))*(VLOOKUP($C23,'2. Unit Testing Results'!$B$5:$R$12,6)))\n)","v":""},{"$f":"IF($B23=\"\",\"\",\nVLOOKUP($C23,'2. Unit Testing Results'!$B$5:$BC$12,19))","v":""},{"$f":"IF($B23=\"\",\"\",\nVLOOKUP($C23,'2. Unit Testing Results'!$B$5:$BC$12,20))","v":""},{"$f":"IF($B23=\"\",\"\",\nVLOOKUP($C23,'2. Unit Testing Results'!$B$5:$BC$12,22))","v":""},{"$f":"IF($B23=\"\",\"\",\nVLOOKUP($C23,'2. Unit Testing Results'!$B$5:$BC$12,24))","v":""},{"$f":"IF($B23=\"\",\"\",\nVLOOKUP($C23,'2. Unit Testing Results'!$B$5:$BC$12,26))","v":""},{"$f":"IF($B23=\"\",\"\",\nVLOOKUP($C23,'2. Unit Testing Results'!$B$5:$BC$12,28))","v":""},{"$f":"IF($B23=\"\",\"\",'2. Unit Testing Results'!$P33)","v":""},{"$f":"IF($B23=\"\",\"\",'2. Unit Testing Results'!$U33)","v":""},{"$f":"IF($B23=\"\",\"\",\nVLOOKUP($C23,'2. Unit Testing Results'!$B$5:$BC$12,30))","v":""},{"$f":"IF($B23=\"\",\"\",\nVLOOKUP($C23,'2. Unit Testing Results'!$B$5:$BC$12,32))","v":""},{"$f":"IF($B23=\"\",\"\",\nVLOOKUP($C23,'2. Unit Testing Results'!$B$5:$BC$12,34))","v":""},{"$f":"IF($B23=\"\",\"\",\nVLOOKUP($C23,'2. Unit Testing Results'!$B$5:$BC$12,36))","v":""},{"$f":"IF($B23=\"\",\"\",\nVLOOKUP($C23,'2. Unit Testing Results'!$B$5:$BC$12,38))","v":""},{"$f":"IF($B23=\"\",\"\",\nVLOOKUP($C23,'2. Unit Testing Results'!$B$5:$BC$12,39))","v":""},{"$f":"IF($B23=\"\",\"\",\nVLOOKUP($C23,'2. Unit Testing Results'!$B$5:$BC$12,40))","v":""},{"$f":"IF($B23=\"\",\"\",\nVLOOKUP($C23,'2. Unit Testing Results'!$B$5:$BC$12,42))","v":""},{"$f":"IF($B23=\"\",\"\",\nVLOOKUP($C23,'2. Unit Testing Results'!$B$5:$BC$12,44))","v":""},{"$f":"IF($B23=\"\",\"\",\nVLOOKUP($C23,'2. Unit Testing Results'!$B$5:$BC$12,46))","v":""},{"$f":"IF($B23=\"\",\"\",\nVLOOKUP($C23,'2. Unit Testing Results'!$B$5:$BC$12,48))","v":""},{"$f":"IF($B23=\"\",\"\",\nVLOOKUP($C23,'2. Unit Testing Results'!$B$5:$BC$12,50))","v":""},{"$f":"IF($B23=\"\",\"\",\nVLOOKUP($C23,'2. Unit Testing Results'!$B$5:$BC$12,51))","v":""},{"$f":"IF($B23=\"\",\"\",\nVLOOKUP($C23,'2. Unit Testing Results'!$B$5:$BC$12,52))","v":""},{"$f":"IF($B23=\"\",\"\",\nVLOOKUP($C23,'2. Unit Testing Results'!$B$5:$BC$12,53))","v":""},{"$f":"IF($B23=\"\",\"\",\nVLOOKUP($C23,'2. Unit Testing Results'!$B$5:$BC$12,54))","v":""}]
[null,{"$f":"IF('2. Unit Testing Results'!$B34=\"\",\"\",'2. Unit Testing Results'!$B34)","v":""},{"$f":"IF('2. Unit Testing Results'!$C34=\"\",\"\",'2. Unit Testing Results'!$C34)","v":""},{"$f":"IF('2. Unit Testing Results'!$D34=\"\",\"\",'2. Unit Testing Results'!$D34)","v":""},{"$f":"IF('2. Unit Testing Results'!$E34=\"\",\"\",'2. Unit Testing Results'!$E34)","v":""},null,{"$f":"IF($B24=\"\",\"\",\n(('2. Unit Testing Results'!$W34)*60)\n/((VLOOKUP($C24,'2. Unit Testing Results'!$B$5:$R$12,4))*(VLOOKUP($C24,'2. Unit Testing Results'!$B$5:$R$12,6)))\n)","v":""},{"$f":"IF($B24=\"\",\"\",\nVLOOKUP($C24,'2. Unit Testing Results'!$B$5:$BC$12,19))","v":""},{"$f":"IF($B24=\"\",\"\",\nVLOOKUP($C24,'2. Unit Testing Results'!$B$5:$BC$12,20))","v":""},{"$f":"IF($B24=\"\",\"\",\nVLOOKUP($C24,'2. Unit Testing Results'!$B$5:$BC$12,22))","v":""},{"$f":"IF($B24=\"\",\"\",\nVLOOKUP($C24,'2. Unit Testing Results'!$B$5:$BC$12,24))","v":""},{"$f":"IF($B24=\"\",\"\",\nVLOOKUP($C24,'2. Unit Testing Results'!$B$5:$BC$12,26))","v":""},{"$f":"IF($B24=\"\",\"\",\nVLOOKUP($C24,'2. Unit Testing Results'!$B$5:$BC$12,28))","v":""},{"$f":"IF($B24=\"\",\"\",'2. Unit Testing Results'!$P34)","v":""},{"$f":"IF($B24=\"\",\"\",'2. Unit Testing Results'!$U34)","v":""},{"$f":"IF($B24=\"\",\"\",\nVLOOKUP($C24,'2. Unit Testing Results'!$B$5:$BC$12,30))","v":""},{"$f":"IF($B24=\"\",\"\",\nVLOOKUP($C24,'2. Unit Testing Results'!$B$5:$BC$12,32))","v":""},{"$f":"IF($B24=\"\",\"\",\nVLOOKUP($C24,'2. Unit Testing Results'!$B$5:$BC$12,34))","v":""},{"$f":"IF($B24=\"\",\"\",\nVLOOKUP($C24,'2. Unit Testing Results'!$B$5:$BC$12,36))","v":""},{"$f":"IF($B24=\"\",\"\",\nVLOOKUP($C24,'2. Unit Testing Results'!$B$5:$BC$12,38))","v":""},{"$f":"IF($B24=\"\",\"\",\nVLOOKUP($C24,'2. Unit Testing Results'!$B$5:$BC$12,39))","v":""},{"$f":"IF($B24=\"\",\"\",\nVLOOKUP($C24,'2. Unit Testing Results'!$B$5:$BC$12,40))","v":""},{"$f":"IF($B24=\"\",\"\",\nVLOOKUP($C24,'2. Unit Testing Results'!$B$5:$BC$12,42))","v":""},{"$f":"IF($B24=\"\",\"\",\nVLOOKUP($C24,'2. Unit Testing Results'!$B$5:$BC$12,44))","v":""},{"$f":"IF($B24=\"\",\"\",\nVLOOKUP($C24,'2. Unit Testing Results'!$B$5:$BC$12,46))","v":""},{"$f":"IF($B24=\"\",\"\",\nVLOOKUP($C24,'2. Unit Testing Results'!$B$5:$BC$12,48))","v":""},{"$f":"IF($B24=\"\",\"\",\nVLOOKUP($C24,'2. Unit Testing Results'!$B$5:$BC$12,50))","v":""},{"$f":"IF($B24=\"\",\"\",\nVLOOKUP($C24,'2. Unit Testing Results'!$B$5:$BC$12,51))","v":""},{"$f":"IF($B24=\"\",\"\",\nVLOOKUP($C24,'2. Unit Testing Results'!$B$5:$BC$12,52))","v":""},{"$f":"IF($B24=\"\",\"\",\nVLOOKUP($C24,'2. Unit Testing Results'!$B$5:$BC$12,53))","v":""},{"$f":"IF($B24=\"\",\"\",\nVLOOKUP($C24,'2. Unit Testing Results'!$B$5:$BC$12,54))","v":""}]
[null,{"$f":"IF('2. Unit Testing Results'!$B35=\"\",\"\",'2. Unit Testing Results'!$B35)","v":""},{"$f":"IF('2. Unit Testing Results'!$C35=\"\",\"\",'2. Unit Testing Results'!$C35)","v":""},{"$f":"IF('2. Unit Testing Results'!$D35=\"\",\"\",'2. Unit Testing Results'!$D35)","v":""},{"$f":"IF('2. Unit Testing Results'!$E35=\"\",\"\",'2. Unit Testing Results'!$E35)","v":""},null,{"$f":"IF($B25=\"\",\"\",\n(('2. Unit Testing Results'!$W35)*60)\n/((VLOOKUP($C25,'2. Unit Testing Results'!$B$5:$R$12,4))*(VLOOKUP($C25,'2. Unit Testing Results'!$B$5:$R$12,6)))\n)","v":""},{"$f":"IF($B25=\"\",\"\",\nVLOOKUP($C25,'2. Unit Testing Results'!$B$5:$BC$12,19))","v":""},{"$f":"IF($B25=\"\",\"\",\nVLOOKUP($C25,'2. Unit Testing Results'!$B$5:$BC$12,20))","v":""},{"$f":"IF($B25=\"\",\"\",\nVLOOKUP($C25,'2. Unit Testing Results'!$B$5:$BC$12,22))","v":""},{"$f":"IF($B25=\"\",\"\",\nVLOOKUP($C25,'2. Unit Testing Results'!$B$5:$BC$12,24))","v":""},{"$f":"IF($B25=\"\",\"\",\nVLOOKUP($C25,'2. Unit Testing Results'!$B$5:$BC$12,26))","v":""},{"$f":"IF($B25=\"\",\"\",\nVLOOKUP($C25,'2. Unit Testing Results'!$B$5:$BC$12,28))","v":""},{"$f":"IF($B25=\"\",\"\",'2. Unit Testing Results'!$P35)","v":""},{"$f":"IF($B25=\"\",\"\",'2. Unit Testing Results'!$U35)","v":""},{"$f":"IF($B25=\"\",\"\",\nVLOOKUP($C25,'2. Unit Testing Results'!$B$5:$BC$12,30))","v":""},{"$f":"IF($B25=\"\",\"\",\nVLOOKUP($C25,'2. Unit Testing Results'!$B$5:$BC$12,32))","v":""},{"$f":"IF($B25=\"\",\"\",\nVLOOKUP($C25,'2. Unit Testing Results'!$B$5:$BC$12,34))","v":""},{"$f":"IF($B25=\"\",\"\",\nVLOOKUP($C25,'2. Unit Testing Results'!$B$5:$BC$12,36))","v":""},{"$f":"IF($B25=\"\",\"\",\nVLOOKUP($C25,'2. Unit Testing Results'!$B$5:$BC$12,38))","v":""},{"$f":"IF($B25=\"\",\"\",\nVLOOKUP($C25,'2. Unit Testing Results'!$B$5:$BC$12,39))","v":""},{"$f":"IF($B25=\"\",\"\",\nVLOOKUP($C25,'2. Unit Testing Results'!$B$5:$BC$12,40))","v":""},{"$f":"IF($B25=\"\",\"\",\nVLOOKUP($C25,'2. Unit Testing Results'!$B$5:$BC$12,42))","v":""},{"$f":"IF($B25=\"\",\"\",\nVLOOKUP($C25,'2. Unit Testing Results'!$B$5:$BC$12,44))","v":""},{"$f":"IF($B25=\"\",\"\",\nVLOOKUP($C25,'2. Unit Testing Results'!$B$5:$BC$12,46))","v":""},{"$f":"IF($B25=\"\",\"\",\nVLOOKUP($C25,'2. Unit Testing Results'!$B$5:$BC$12,48))","v":""},{"$f":"IF($B25=\"\",\"\",\nVLOOKUP($C25,'2. Unit Testing Results'!$B$5:$BC$12,50))","v":""},{"$f":"IF($B25=\"\",\"\",\nVLOOKUP($C25,'2. Unit Testing Results'!$B$5:$BC$12,51))","v":""},{"$f":"IF($B25=\"\",\"\",\nVLOOKUP($C25,'2. Unit Testing Results'!$B$5:$BC$12,52))","v":""},{"$f":"IF($B25=\"\",\"\",\nVLOOKUP($C25,'2. Unit Testing Results'!$B$5:$BC$12,53))","v":""},{"$f":"IF($B25=\"\",\"\",\nVLOOKUP($C25,'2. Unit Testing Results'!$B$5:$BC$12,54))","v":""}]
[null,{"$f":"IF('2. Unit Testing Results'!$B36=\"\",\"\",'2. Unit Testing Results'!$B36)","v":""},{"$f":"IF('2. Unit Testing Results'!$C36=\"\",\"\",'2. Unit Testing Results'!$C36)","v":""},{"$f":"IF('2. Unit Testing Results'!$D36=\"\",\"\",'2. Unit Testing Results'!$D36)","v":""},{"$f":"IF('2. Unit Testing Results'!$E36=\"\",\"\",'2. Unit Testing Results'!$E36)","v":""},null,{"$f":"IF($B26=\"\",\"\",\n(('2. Unit Testing Results'!$W36)*60)\n/((VLOOKUP($C26,'2. Unit Testing Results'!$B$5:$R$12,4))*(VLOOKUP($C26,'2. Unit Testing Results'!$B$5:$R$12,6)))\n)","v":""},{"$f":"IF($B26=\"\",\"\",\nVLOOKUP($C26,'2. Unit Testing Results'!$B$5:$BC$12,19))","v":""},{"$f":"IF($B26=\"\",\"\",\nVLOOKUP($C26,'2. Unit Testing Results'!$B$5:$BC$12,20))","v":""},{"$f":"IF($B26=\"\",\"\",\nVLOOKUP($C26,'2. Unit Testing Results'!$B$5:$BC$12,22))","v":""},{"$f":"IF($B26=\"\",\"\",\nVLOOKUP($C26,'2. Unit Testing Results'!$B$5:$BC$12,24))","v":""},{"$f":"IF($B26=\"\",\"\",\nVLOOKUP($C26,'2. Unit Testing Results'!$B$5:$BC$12,26))","v":""},{"$f":"IF($B26=\"\",\"\",\nVLOOKUP($C26,'2. Unit Testing Results'!$B$5:$BC$12,28))","v":""},{"$f":"IF($B26=\"\",\"\",'2. Unit Testing Results'!$P36)","v":""},{"$f":"IF($B26=\"\",\"\",'2. Unit Testing Results'!$U36)","v":""},{"$f":"IF($B26=\"\",\"\",\nVLOOKUP($C26,'2. Unit Testing Results'!$B$5:$BC$12,30))","v":""},{"$f":"IF($B26=\"\",\"\",\nVLOOKUP($C26,'2. Unit Testing Results'!$B$5:$BC$12,32))","v":""},{"$f":"IF($B26=\"\",\"\",\nVLOOKUP($C26,'2. Unit Testing Results'!$B$5:$BC$12,34))","v":""},{"$f":"IF($B26=\"\",\"\",\nVLOOKUP($C26,'2. Unit Testing Results'!$B$5:$BC$12,36))","v":""},{"$f":"IF($B26=\"\",\"\",\nVLOOKUP($C26,'2. Unit Testing Results'!$B$5:$BC$12,38))","v":""},{"$f":"IF($B26=\"\",\"\",\nVLOOKUP($C26,'2. Unit Testing Results'!$B$5:$BC$12,39))","v":""},{"$f":"IF($B26=\"\",\"\",\nVLOOKUP($C26,'2. Unit Testing Results'!$B$5:$BC$12,40))","v":""},{"$f":"IF($B26=\"\",\"\",\nVLOOKUP($C26,'2. Unit Testing Results'!$B$5:$BC$12,42))","v":""},{"$f":"IF($B26=\"\",\"\",\nVLOOKUP($C26,'2. Unit Testing Results'!$B$5:$BC$12,44))","v":""},{"$f":"IF($B26=\"\",\"\",\nVLOOKUP($C26,'2. Unit Testing Results'!$B$5:$BC$12,46))","v":""},{"$f":"IF($B26=\"\",\"\",\nVLOOKUP($C26,'2. Unit Testing Results'!$B$5:$BC$12,48))","v":""},{"$f":"IF($B26=\"\",\"\",\nVLOOKUP($C26,'2. Unit Testing Results'!$B$5:$BC$12,50))","v":""},{"$f":"IF($B26=\"\",\"\",\nVLOOKUP($C26,'2. Unit Testing Results'!$B$5:$BC$12,51))","v":""},{"$f":"IF($B26=\"\",\"\",\nVLOOKUP($C26,'2. Unit Testing Results'!$B$5:$BC$12,52))","v":""},{"$f":"IF($B26=\"\",\"\",\nVLOOKUP($C26,'2. Unit Testing Results'!$B$5:$BC$12,53))","v":""},{"$f":"IF($B26=\"\",\"\",\nVLOOKUP($C26,'2. Unit Testing Results'!$B$5:$BC$12,54))","v":""}]
[null,{"$f":"IF('2. Unit Testing Results'!$B37=\"\",\"\",'2. Unit Testing Results'!$B37)","v":""},{"$f":"IF('2. Unit Testing Results'!$C37=\"\",\"\",'2. Unit Testing Results'!$C37)","v":""},{"$f":"IF('2. Unit Testing Results'!$D37=\"\",\"\",'2. Unit Testing Results'!$D37)","v":""},{"$f":"IF('2. Unit Testing Results'!$E37=\"\",\"\",'2. Unit Testing Results'!$E37)","v":""},null,{"$f":"IF($B27=\"\",\"\",\n(('2. Unit Testing Results'!$W37)*60)\n/((VLOOKUP($C27,'2. Unit Testing Results'!$B$5:$R$12,4))*(VLOOKUP($C27,'2. Unit Testing Results'!$B$5:$R$12,6)))\n)","v":""},{"$f":"IF($B27=\"\",\"\",\nVLOOKUP($C27,'2. Unit Testing Results'!$B$5:$BC$12,19))","v":""},{"$f":"IF($B27=\"\",\"\",\nVLOOKUP($C27,'2. Unit Testing Results'!$B$5:$BC$12,20))","v":""},{"$f":"IF($B27=\"\",\"\",\nVLOOKUP($C27,'2. Unit Testing Results'!$B$5:$BC$12,22))","v":""},{"$f":"IF($B27=\"\",\"\",\nVLOOKUP($C27,'2. Unit Testing Results'!$B$5:$BC$12,24))","v":""},{"$f":"IF($B27=\"\",\"\",\nVLOOKUP($C27,'2. Unit Testing Results'!$B$5:$BC$12,26))","v":""},{"$f":"IF($B27=\"\",\"\",\nVLOOKUP($C27,'2. Unit Testing Results'!$B$5:$BC$12,28))","v":""},{"$f":"IF($B27=\"\",\"\",'2. Unit Testing Results'!$P37)","v":""},{"$f":"IF($B27=\"\",\"\",'2. Unit Testing Results'!$U37)","v":""},{"$f":"IF($B27=\"\",\"\",\nVLOOKUP($C27,'2. Unit Testing Results'!$B$5:$BC$12,30))","v":""},{"$f":"IF($B27=\"\",\"\",\nVLOOKUP($C27,'2. Unit Testing Results'!$B$5:$BC$12,32))","v":""},{"$f":"IF($B27=\"\",\"\",\nVLOOKUP($C27,'2. Unit Testing Results'!$B$5:$BC$12,34))","v":""},{"$f":"IF($B27=\"\",\"\",\nVLOOKUP($C27,'2. Unit Testing Results'!$B$5:$BC$12,36))","v":""},{"$f":"IF($B27=\"\",\"\",\nVLOOKUP($C27,'2. Unit Testing Results'!$B$5:$BC$12,38))","v":""},{"$f":"IF($B27=\"\",\"\",\nVLOOKUP($C27,'2. Unit Testing Results'!$B$5:$BC$12,39))","v":""},{"$f":"IF($B27=\"\",\"\",\nVLOOKUP($C27,'2. Unit Testing Results'!$B$5:$BC$12,40))","v":""},{"$f":"IF($B27=\"\",\"\",\nVLOOKUP($C27,'2. Unit Testing Results'!$B$5:$BC$12,42))","v":""},{"$f":"IF($B27=\"\",\"\",\nVLOOKUP($C27,'2. Unit Testing Results'!$B$5:$BC$12,44))","v":""},{"$f":"IF($B27=\"\",\"\",\nVLOOKUP($C27,'2. Unit Testing Results'!$B$5:$BC$12,46))","v":""},{"$f":"IF($B27=\"\",\"\",\nVLOOKUP($C27,'2. Unit Testing Results'!$B$5:$BC$12,48))","v":""},{"$f":"IF($B27=\"\",\"\",\nVLOOKUP($C27,'2. Unit Testing Results'!$B$5:$BC$12,50))","v":""},{"$f":"IF($B27=\"\",\"\",\nVLOOKUP($C27,'2. Unit Testing Results'!$B$5:$BC$12,51))","v":""},{"$f":"IF($B27=\"\",\"\",\nVLOOKUP($C27,'2. Unit Testing Results'!$B$5:$BC$12,52))","v":""},{"$f":"IF($B27=\"\",\"\",\nVLOOKUP($C27,'2. Unit Testing Results'!$B$5:$BC$12,53))","v":""},{"$f":"IF($B27=\"\",\"\",\nVLOOKUP($C27,'2. Unit Testing Results'!$B$5:$BC$12,54))","v":""}]
[null,{"$f":"IF('2. Unit Testing Results'!$B38=\"\",\"\",'2. Unit Testing Results'!$B38)","v":""},{"$f":"IF('2. Unit Testing Results'!$C38=\"\",\"\",'2. Unit Testing Results'!$C38)","v":""},{"$f":"IF('2. Unit Testing Results'!$D38=\"\",\"\",'2. Unit Testing Results'!$D38)","v":""},{"$f":"IF('2. Unit Testing Results'!$E38=\"\",\"\",'2. Unit Testing Results'!$E38)","v":""},null,{"$f":"IF($B28=\"\",\"\",\n(('2. Unit Testing Results'!$W38)*60)\n/((VLOOKUP($C28,'2. Unit Testing Results'!$B$5:$R$12,4))*(VLOOKUP($C28,'2. Unit Testing Results'!$B$5:$R$12,6)))\n)","v":""},{"$f":"IF($B28=\"\",\"\",\nVLOOKUP($C28,'2. Unit Testing Results'!$B$5:$BC$12,19))","v":""},{"$f":"IF($B28=\"\",\"\",\nVLOOKUP($C28,'2. Unit Testing Results'!$B$5:$BC$12,20))","v":""},{"$f":"IF($B28=\"\",\"\",\nVLOOKUP($C28,'2. Unit Testing Results'!$B$5:$BC$12,22))","v":""},{"$f":"IF($B28=\"\",\"\",\nVLOOKUP($C28,'2. Unit Testing Results'!$B$5:$BC$12,24))","v":""},{"$f":"IF($B28=\"\",\"\",\nVLOOKUP($C28,'2. Unit Testing Results'!$B$5:$BC$12,26))","v":""},{"$f":"IF($B28=\"\",\"\",\nVLOOKUP($C28,'2. Unit Testing Results'!$B$5:$BC$12,28))","v":""},{"$f":"IF($B28=\"\",\"\",'2. Unit Testing Results'!$P38)","v":""},{"$f":"IF($B28=\"\",\"\",'2. Unit Testing Results'!$U38)","v":""},{"$f":"IF($B28=\"\",\"\",\nVLOOKUP($C28,'2. Unit Testing Results'!$B$5:$BC$12,30))","v":""},{"$f":"IF($B28=\"\",\"\",\nVLOOKUP($C28,'2. Unit Testing Results'!$B$5:$BC$12,32))","v":""},{"$f":"IF($B28=\"\",\"\",\nVLOOKUP($C28,'2. Unit Testing Results'!$B$5:$BC$12,34))","v":""},{"$f":"IF($B28=\"\",\"\",\nVLOOKUP($C28,'2. Unit Testing Results'!$B$5:$BC$12,36))","v":""},{"$f":"IF($B28=\"\",\"\",\nVLOOKUP($C28,'2. Unit Testing Results'!$B$5:$BC$12,38))","v":""},{"$f":"IF($B28=\"\",\"\",\nVLOOKUP($C28,'2. Unit Testing Results'!$B$5:$BC$12,39))","v":""},{"$f":"IF($B28=\"\",\"\",\nVLOOKUP($C28,'2. Unit Testing Results'!$B$5:$BC$12,40))","v":""},{"$f":"IF($B28=\"\",\"\",\nVLOOKUP($C28,'2. Unit Testing Results'!$B$5:$BC$12,42))","v":""},{"$f":"IF($B28=\"\",\"\",\nVLOOKUP($C28,'2. Unit Testing Results'!$B$5:$BC$12,44))","v":""},{"$f":"IF($B28=\"\",\"\",\nVLOOKUP($C28,'2. Unit Testing Results'!$B$5:$BC$12,46))","v":""},{"$f":"IF($B28=\"\",\"\",\nVLOOKUP($C28,'2. Unit Testing Results'!$B$5:$BC$12,48))","v":""},{"$f":"IF($B28=\"\",\"\",\nVLOOKUP($C28,'2. Unit Testing Results'!$B$5:$BC$12,50))","v":""},{"$f":"IF($B28=\"\",\"\",\nVLOOKUP($C28,'2. Unit Testing Results'!$B$5:$BC$12,51))","v":""},{"$f":"IF($B28=\"\",\"\",\nVLOOKUP($C28,'2. Unit Testing Results'!$B$5:$BC$12,52))","v":""},{"$f":"IF($B28=\"\",\"\",\nVLOOKUP($C28,'2. Unit Testing Results'!$B$5:$BC$12,53))","v":""},{"$f":"IF($B28=\"\",\"\",\nVLOOKUP($C28,'2. Unit Testing Results'!$B$5:$BC$12,54))","v":""}]
[null,{"$f":"IF('2. Unit Testing Results'!$B39=\"\",\"\",'2. Unit Testing Results'!$B39)","v":""},{"$f":"IF('2. Unit Testing Results'!$C39=\"\",\"\",'2. Unit Testing Results'!$C39)","v":""},{"$f":"IF('2. Unit Testing Results'!$D39=\"\",\"\",'2. Unit Testing Results'!$D39)","v":""},{"$f":"IF('2. Unit Testing Results'!$E39=\"\",\"\",'2. Unit Testing Results'!$E39)","v":""},null,{"$f":"IF($B29=\"\",\"\",\n(('2. Unit Testing Results'!$W39)*60)\n/((VLOOKUP($C29,'2. Unit Testing Results'!$B$5:$R$12,4))*(VLOOKUP($C29,'2. Unit Testing Results'!$B$5:$R$12,6)))\n)","v":""},{"$f":"IF($B29=\"\",\"\",\nVLOOKUP($C29,'2. Unit Testing Results'!$B$5:$BC$12,19))","v":""},{"$f":"IF($B29=\"\",\"\",\nVLOOKUP($C29,'2. Unit Testing Results'!$B$5:$BC$12,20))","v":""},{"$f":"IF($B29=\"\",\"\",\nVLOOKUP($C29,'2. Unit Testing Results'!$B$5:$BC$12,22))","v":""},{"$f":"IF($B29=\"\",\"\",\nVLOOKUP($C29,'2. Unit Testing Results'!$B$5:$BC$12,24))","v":""},{"$f":"IF($B29=\"\",\"\",\nVLOOKUP($C29,'2. Unit Testing Results'!$B$5:$BC$12,26))","v":""},{"$f":"IF($B29=\"\",\"\",\nVLOOKUP($C29,'2. Unit Testing Results'!$B$5:$BC$12,28))","v":""},{"$f":"IF($B29=\"\",\"\",'2. Unit Testing Results'!$P39)","v":""},{"$f":"IF($B29=\"\",\"\",'2. Unit Testing Results'!$U39)","v":""},{"$f":"IF($B29=\"\",\"\",\nVLOOKUP($C29,'2. Unit Testing Results'!$B$5:$BC$12,30))","v":""},{"$f":"IF($B29=\"\",\"\",\nVLOOKUP($C29,'2. Unit Testing Results'!$B$5:$BC$12,32))","v":""},{"$f":"IF($B29=\"\",\"\",\nVLOOKUP($C29,'2. Unit Testing Results'!$B$5:$BC$12,34))","v":""},{"$f":"IF($B29=\"\",\"\",\nVLOOKUP($C29,'2. Unit Testing Results'!$B$5:$BC$12,36))","v":""},{"$f":"IF($B29=\"\",\"\",\nVLOOKUP($C29,'2. Unit Testing Results'!$B$5:$BC$12,38))","v":""},{"$f":"IF($B29=\"\",\"\",\nVLOOKUP($C29,'2. Unit Testing Results'!$B$5:$BC$12,39))","v":""},{"$f":"IF($B29=\"\",\"\",\nVLOOKUP($C29,'2. Unit Testing Results'!$B$5:$BC$12,40))","v":""},{"$f":"IF($B29=\"\",\"\",\nVLOOKUP($C29,'2. Unit Testing Results'!$B$5:$BC$12,42))","v":""},{"$f":"IF($B29=\"\",\"\",\nVLOOKUP($C29,'2. Unit Testing Results'!$B$5:$BC$12,44))","v":""},{"$f":"IF($B29=\"\",\"\",\nVLOOKUP($C29,'2. Unit Testing Results'!$B$5:$BC$12,46))","v":""},{"$f":"IF($B29=\"\",\"\",\nVLOOKUP($C29,'2. Unit Testing Results'!$B$5:$BC$12,48))","v":""},{"$f":"IF($B29=\"\",\"\",\nVLOOKUP($C29,'2. Unit Testing Results'!$B$5:$BC$12,50))","v":""},{"$f":"IF($B29=\"\",\"\",\nVLOOKUP($C29,'2. Unit Testing Results'!$B$5:$BC$12,51))","v":""},{"$f":"IF($B29=\"\",\"\",\nVLOOKUP($C29,'2. Unit Testing Results'!$B$5:$BC$12,52))","v":""},{"$f":"IF($B29=\"\",\"\",\nVLOOKUP($C29,'2. Unit Testing Results'!$B$5:$BC$12,53))","v":""},{"$f":"IF($B29=\"\",\"\",\nVLOOKUP($C29,'2. Unit Testing Results'!$B$5:$BC$12,54))","v":""}]
[null,{"$f":"IF('2. Unit Testing Results'!$B40=\"\",\"\",'2. Unit Testing Results'!$B40)","v":""},{"$f":"IF('2. Unit Testing Results'!$C40=\"\",\"\",'2. Unit Testing Results'!$C40)","v":""},{"$f":"IF('2. Unit Testing Results'!$D40=\"\",\"\",'2. Unit Testing Results'!$D40)","v":""},{"$f":"IF('2. Unit Testing Results'!$E40=\"\",\"\",'2. Unit Testing Results'!$E40)","v":""},null,{"$f":"IF($B30=\"\",\"\",\n(('2. Unit Testing Results'!$W40)*60)\n/((VLOOKUP($C30,'2. Unit Testing Results'!$B$5:$R$12,4))*(VLOOKUP($C30,'2. Unit Testing Results'!$B$5:$R$12,6)))\n)","v":""},{"$f":"IF($B30=\"\",\"\",\nVLOOKUP($C30,'2. Unit Testing Results'!$B$5:$BC$12,19))","v":""},{"$f":"IF($B30=\"\",\"\",\nVLOOKUP($C30,'2. Unit Testing Results'!$B$5:$BC$12,20))","v":""},{"$f":"IF($B30=\"\",\"\",\nVLOOKUP($C30,'2. Unit Testing Results'!$B$5:$BC$12,22))","v":""},{"$f":"IF($B30=\"\",\"\",\nVLOOKUP($C30,'2. Unit Testing Results'!$B$5:$BC$12,24))","v":""},{"$f":"IF($B30=\"\",\"\",\nVLOOKUP($C30,'2. Unit Testing Results'!$B$5:$BC$12,26))","v":""},{"$f":"IF($B30=\"\",\"\",\nVLOOKUP($C30,'2. Unit Testing Results'!$B$5:$BC$12,28))","v":""},{"$f":"IF($B30=\"\",\"\",'2. Unit Testing Results'!$P40)","v":""},{"$f":"IF($B30=\"\",\"\",'2. Unit Testing Results'!$U40)","v":""},{"$f":"IF($B30=\"\",\"\",\nVLOOKUP($C30,'2. Unit Testing Results'!$B$5:$BC$12,30))","v":""},{"$f":"IF($B30=\"\",\"\",\nVLOOKUP($C30,'2. Unit Testing Results'!$B$5:$BC$12,32))","v":""},{"$f":"IF($B30=\"\",\"\",\nVLOOKUP($C30,'2. Unit Testing Results'!$B$5:$BC$12,34))","v":""},{"$f":"IF($B30=\"\",\"\",\nVLOOKUP($C30,'2. Unit Testing Results'!$B$5:$BC$12,36))","v":""},{"$f":"IF($B30=\"\",\"\",\nVLOOKUP($C30,'2. Unit Testing Results'!$B$5:$BC$12,38))","v":""},{"$f":"IF($B30=\"\",\"\",\nVLOOKUP($C30,'2. Unit Testing Results'!$B$5:$BC$12,39))","v":""},{"$f":"IF($B30=\"\",\"\",\nVLOOKUP($C30,'2. Unit Testing Results'!$B$5:$BC$12,40))","v":""},{"$f":"IF($B30=\"\",\"\",\nVLOOKUP($C30,'2. Unit Testing Results'!$B$5:$BC$12,42))","v":""},{"$f":"IF($B30=\"\",\"\",\nVLOOKUP($C30,'2. Unit Testing Results'!$B$5:$BC$12,44))","v":""},{"$f":"IF($B30=\"\",\"\",\nVLOOKUP($C30,'2. Unit Testing Results'!$B$5:$BC$12,46))","v":""},{"$f":"IF($B30=\"\",\"\",\nVLOOKUP($C30,'2. Unit Testing Results'!$B$5:$BC$12,48))","v":""},{"$f":"IF($B30=\"\",\"\",\nVLOOKUP($C30,'2. Unit Testing Results'!$B$5:$BC$12,50))","v":""},{"$f":"IF($B30=\"\",\"\",\nVLOOKUP($C30,'2. Unit Testing Results'!$B$5:$BC$12,51))","v":""},{"$f":"IF($B30=\"\",\"\",\nVLOOKUP($C30,'2. Unit Testing Results'!$B$5:$BC$12,52))","v":""},{"$f":"IF($B30=\"\",\"\",\nVLOOKUP($C30,'2. Unit Testing Results'!$B$5:$BC$12,53))","v":""},{"$f":"IF($B30=\"\",\"\",\nVLOOKUP($C30,'2. Unit Testing Results'!$B$5:$BC$12,54))","v":""}]
[null,{"$f":"IF('2. Unit Testing Results'!$B41=\"\",\"\",'2. Unit Testing Results'!$B41)","v":""},{"$f":"IF('2. Unit Testing Results'!$C41=\"\",\"\",'2. Unit Testing Results'!$C41)","v":""},{"$f":"IF('2. Unit Testing Results'!$D41=\"\",\"\",'2. Unit Testing Results'!$D41)","v":""},{"$f":"IF('2. Unit Testing Results'!$E41=\"\",\"\",'2. Unit Testing Results'!$E41)","v":""},null,{"$f":"IF($B31=\"\",\"\",\n(('2. Unit Testing Results'!$W41)*60)\n/((VLOOKUP($C31,'2. Unit Testing Results'!$B$5:$R$12,4))*(VLOOKUP($C31,'2. Unit Testing Results'!$B$5:$R$12,6)))\n)","v":""},{"$f":"IF($B31=\"\",\"\",\nVLOOKUP($C31,'2. Unit Testing Results'!$B$5:$BC$12,19))","v":""},{"$f":"IF($B31=\"\",\"\",\nVLOOKUP($C31,'2. Unit Testing Results'!$B$5:$BC$12,20))","v":""},{"$f":"IF($B31=\"\",\"\",\nVLOOKUP($C31,'2. Unit Testing Results'!$B$5:$BC$12,22))","v":""},{"$f":"IF($B31=\"\",\"\",\nVLOOKUP($C31,'2. Unit Testing Results'!$B$5:$BC$12,24))","v":""},{"$f":"IF($B31=\"\",\"\",\nVLOOKUP($C31,'2. Unit Testing Results'!$B$5:$BC$12,26))","v":""},{"$f":"IF($B31=\"\",\"\",\nVLOOKUP($C31,'2. Unit Testing Results'!$B$5:$BC$12,28))","v":""},{"$f":"IF($B31=\"\",\"\",'2. Unit Testing Results'!$P41)","v":""},{"$f":"IF($B31=\"\",\"\",'2. Unit Testing Results'!$U41)","v":""},{"$f":"IF($B31=\"\",\"\",\nVLOOKUP($C31,'2. Unit Testing Results'!$B$5:$BC$12,30))","v":""},{"$f":"IF($B31=\"\",\"\",\nVLOOKUP($C31,'2. Unit Testing Results'!$B$5:$BC$12,32))","v":""},{"$f":"IF($B31=\"\",\"\",\nVLOOKUP($C31,'2. Unit Testing Results'!$B$5:$BC$12,34))","v":""},{"$f":"IF($B31=\"\",\"\",\nVLOOKUP($C31,'2. Unit Testing Results'!$B$5:$BC$12,36))","v":""},{"$f":"IF($B31=\"\",\"\",\nVLOOKUP($C31,'2. Unit Testing Results'!$B$5:$BC$12,38))","v":""},{"$f":"IF($B31=\"\",\"\",\nVLOOKUP($C31,'2. Unit Testing Results'!$B$5:$BC$12,39))","v":""},{"$f":"IF($B31=\"\",\"\",\nVLOOKUP($C31,'2. Unit Testing Results'!$B$5:$BC$12,40))","v":""},{"$f":"IF($B31=\"\",\"\",\nVLOOKUP($C31,'2. Unit Testing Results'!$B$5:$BC$12,42))","v":""},{"$f":"IF($B31=\"\",\"\",\nVLOOKUP($C31,'2. Unit Testing Results'!$B$5:$BC$12,44))","v":""},{"$f":"IF($B31=\"\",\"\",\nVLOOKUP($C31,'2. Unit Testing Results'!$B$5:$BC$12,46))","v":""},{"$f":"IF($B31=\"\",\"\",\nVLOOKUP($C31,'2. Unit Testing Results'!$B$5:$BC$12,48))","v":""},{"$f":"IF($B31=\"\",\"\",\nVLOOKUP($C31,'2. Unit Testing Results'!$B$5:$BC$12,50))","v":""},{"$f":"IF($B31=\"\",\"\",\nVLOOKUP($C31,'2. Unit Testing Results'!$B$5:$BC$12,51))","v":""},{"$f":"IF($B31=\"\",\"\",\nVLOOKUP($C31,'2. Unit Testing Results'!$B$5:$BC$12,52))","v":""},{"$f":"IF($B31=\"\",\"\",\nVLOOKUP($C31,'2. Unit Testing Results'!$B$5:$BC$12,53))","v":""},{"$f":"IF($B31=\"\",\"\",\nVLOOKUP($C31,'2. Unit Testing Results'!$B$5:$BC$12,54))","v":""}]
[null,{"$f":"IF('2. Unit Testing Results'!$B42=\"\",\"\",'2. Unit Testing Results'!$B42)","v":""},{"$f":"IF('2. Unit Testing Results'!$C42=\"\",\"\",'2. Unit Testing Results'!$C42)","v":""},{"$f":"IF('2. Unit Testing Results'!$D42=\"\",\"\",'2. Unit Testing Results'!$D42)","v":""},{"$f":"IF('2. Unit Testing Results'!$E42=\"\",\"\",'2. Unit Testing Results'!$E42)","v":""},null,{"$f":"IF($B32=\"\",\"\",\n(('2. Unit Testing Results'!$W42)*60)\n/((VLOOKUP($C32,'2. Unit Testing Results'!$B$5:$R$12,4))*(VLOOKUP($C32,'2. Unit Testing Results'!$B$5:$R$12,6)))\n)","v":""},{"$f":"IF($B32=\"\",\"\",\nVLOOKUP($C32,'2. Unit Testing Results'!$B$5:$BC$12,19))","v":""},{"$f":"IF($B32=\"\",\"\",\nVLOOKUP($C32,'2. Unit Testing Results'!$B$5:$BC$12,20))","v":""},{"$f":"IF($B32=\"\",\"\",\nVLOOKUP($C32,'2. Unit Testing Results'!$B$5:$BC$12,22))","v":""},{"$f":"IF($B32=\"\",\"\",\nVLOOKUP($C32,'2. Unit Testing Results'!$B$5:$BC$12,24))","v":""},{"$f":"IF($B32=\"\",\"\",\nVLOOKUP($C32,'2. Unit Testing Results'!$B$5:$BC$12,26))","v":""},{"$f":"IF($B32=\"\",\"\",\nVLOOKUP($C32,'2. Unit Testing Results'!$B$5:$BC$12,28))","v":""},{"$f":"IF($B32=\"\",\"\",'2. Unit Testing Results'!$P42)","v":""},{"$f":"IF($B32=\"\",\"\",'2. Unit Testing Results'!$U42)","v":""},{"$f":"IF($B32=\"\",\"\",\nVLOOKUP($C32,'2. Unit Testing Results'!$B$5:$BC$12,30))","v":""},{"$f":"IF($B32=\"\",\"\",\nVLOOKUP($C32,'2. Unit Testing Results'!$B$5:$BC$12,32))","v":""},{"$f":"IF($B32=\"\",\"\",\nVLOOKUP($C32,'2. Unit Testing Results'!$B$5:$BC$12,34))","v":""},{"$f":"IF($B32=\"\",\"\",\nVLOOKUP($C32,'2. Unit Testing Results'!$B$5:$BC$12,36))","v":""},{"$f":"IF($B32=\"\",\"\",\nVLOOKUP($C32,'2. Unit Testing Results'!$B$5:$BC$12,38))","v":""},{"$f":"IF($B32=\"\",\"\",\nVLOOKUP($C32,'2. Unit Testing Results'!$B$5:$BC$12,39))","v":""},{"$f":"IF($B32=\"\",\"\",\nVLOOKUP($C32,'2. Unit Testing Results'!$B$5:$BC$12,40))","v":""},{"$f":"IF($B32=\"\",\"\",\nVLOOKUP($C32,'2. Unit Testing Results'!$B$5:$BC$12,42))","v":""},{"$f":"IF($B32=\"\",\"\",\nVLOOKUP($C32,'2. Unit Testing Results'!$B$5:$BC$12,44))","v":""},{"$f":"IF($B32=\"\",\"\",\nVLOOKUP($C32,'2. Unit Testing Results'!$B$5:$BC$12,46))","v":""},{"$f":"IF($B32=\"\",\"\",\nVLOOKUP($C32,'2. Unit Testing Results'!$B$5:$BC$12,48))","v":""},{"$f":"IF($B32=\"\",\"\",\nVLOOKUP($C32,'2. Unit Testing Results'!$B$5:$BC$12,50))","v":""},{"$f":"IF($B32=\"\",\"\",\nVLOOKUP($C32,'2. Unit Testing Results'!$B$5:$BC$12,51))","v":""},{"$f":"IF($B32=\"\",\"\",\nVLOOKUP($C32,'2. Unit Testing Results'!$B$5:$BC$12,52))","v":""},{"$f":"IF($B32=\"\",\"\",\nVLOOKUP($C32,'2. Unit Testing Results'!$B$5:$BC$12,53))","v":""},{"$f":"IF($B32=\"\",\"\",\nVLOOKUP($C32,'2. Unit Testing Results'!$B$5:$BC$12,54))","v":""}]
[null,{"$f":"IF('2. Unit Testing Results'!$B43=\"\",\"\",'2. Unit Testing Results'!$B43)","v":""},{"$f":"IF('2. Unit Testing Results'!$C43=\"\",\"\",'2. Unit Testing Results'!$C43)","v":""},{"$f":"IF('2. Unit Testing Results'!$D43=\"\",\"\",'2. Unit Testing Results'!$D43)","v":""},{"$f":"IF('2. Unit Testing Results'!$E43=\"\",\"\",'2. Unit Testing Results'!$E43)","v":""},null,{"$f":"IF($B33=\"\",\"\",\n(('2. Unit Testing Results'!$W43)*60)\n/((VLOOKUP($C33,'2. Unit Testing Results'!$B$5:$R$12,4))*(VLOOKUP($C33,'2. Unit Testing Results'!$B$5:$R$12,6)))\n)","v":""},{"$f":"IF($B33=\"\",\"\",\nVLOOKUP($C33,'2. Unit Testing Results'!$B$5:$BC$12,19))","v":""},{"$f":"IF($B33=\"\",\"\",\nVLOOKUP($C33,'2. Unit Testing Results'!$B$5:$BC$12,20))","v":""},{"$f":"IF($B33=\"\",\"\",\nVLOOKUP($C33,'2. Unit Testing Results'!$B$5:$BC$12,22))","v":""},{"$f":"IF($B33=\"\",\"\",\nVLOOKUP($C33,'2. Unit Testing Results'!$B$5:$BC$12,24))","v":""},{"$f":"IF($B33=\"\",\"\",\nVLOOKUP($C33,'2. Unit Testing Results'!$B$5:$BC$12,26))","v":""},{"$f":"IF($B33=\"\",\"\",\nVLOOKUP($C33,'2. Unit Testing Results'!$B$5:$BC$12,28))","v":""},{"$f":"IF($B33=\"\",\"\",'2. Unit Testing Results'!$P43)","v":""},{"$f":"IF($B33=\"\",\"\",'2. Unit Testing Results'!$U43)","v":""},{"$f":"IF($B33=\"\",\"\",\nVLOOKUP($C33,'2. Unit Testing Results'!$B$5:$BC$12,30))","v":""},{"$f":"IF($B33=\"\",\"\",\nVLOOKUP($C33,'2. Unit Testing Results'!$B$5:$BC$12,32))","v":""},{"$f":"IF($B33=\"\",\"\",\nVLOOKUP($C33,'2. Unit Testing Results'!$B$5:$BC$12,34))","v":""},{"$f":"IF($B33=\"\",\"\",\nVLOOKUP($C33,'2. Unit Testing Results'!$B$5:$BC$12,36))","v":""},{"$f":"IF($B33=\"\",\"\",\nVLOOKUP($C33,'2. Unit Testing Results'!$B$5:$BC$12,38))","v":""},{"$f":"IF($B33=\"\",\"\",\nVLOOKUP($C33,'2. Unit Testing Results'!$B$5:$BC$12,39))","v":""},{"$f":"IF($B33=\"\",\"\",\nVLOOKUP($C33,'2. Unit Testing Results'!$B$5:$BC$12,40))","v":""},{"$f":"IF($B33=\"\",\"\",\nVLOOKUP($C33,'2. Unit Testing Results'!$B$5:$BC$12,42))","v":""},{"$f":"IF($B33=\"\",\"\",\nVLOOKUP($C33,'2. Unit Testing Results'!$B$5:$BC$12,44))","v":""},{"$f":"IF($B33=\"\",\"\",\nVLOOKUP($C33,'2. Unit Testing Results'!$B$5:$BC$12,46))","v":""},{"$f":"IF($B33=\"\",\"\",\nVLOOKUP($C33,'2. Unit Testing Results'!$B$5:$BC$12,48))","v":""},{"$f":"IF($B33=\"\",\"\",\nVLOOKUP($C33,'2. Unit Testing Results'!$B$5:$BC$12,50))","v":""},{"$f":"IF($B33=\"\",\"\",\nVLOOKUP($C33,'2. Unit Testing Results'!$B$5:$BC$12,51))","v":""},{"$f":"IF($B33=\"\",\"\",\nVLOOKUP($C33,'2. Unit Testing Results'!$B$5:$BC$12,52))","v":""},{"$f":"IF($B33=\"\",\"\",\nVLOOKUP($C33,'2. Unit Testing Results'!$B$5:$BC$12,53))","v":""},{"$f":"IF($B33=\"\",\"\",\nVLOOKUP($C33,'2. Unit Testing Results'!$B$5:$BC$12,54))","v":""}]
[null,{"$f":"IF('2. Unit Testing Results'!$B44=\"\",\"\",'2. Unit Testing Results'!$B44)","v":""},{"$f":"IF('2. Unit Testing Results'!$C44=\"\",\"\",'2. Unit Testing Results'!$C44)","v":""},{"$f":"IF('2. Unit Testing Results'!$D44=\"\",\"\",'2. Unit Testing Results'!$D44)","v":""},{"$f":"IF('2. Unit Testing Results'!$E44=\"\",\"\",'2. Unit Testing Results'!$E44)","v":""},null,{"$f":"IF($B34=\"\",\"\",\n(('2. Unit Testing Results'!$W44)*60)\n/((VLOOKUP($C34,'2. Unit Testing Results'!$B$5:$R$12,4))*(VLOOKUP($C34,'2. Unit Testing Results'!$B$5:$R$12,6)))\n)","v":""},{"$f":"IF($B34=\"\",\"\",\nVLOOKUP($C34,'2. Unit Testing Results'!$B$5:$BC$12,19))","v":""},{"$f":"IF($B34=\"\",\"\",\nVLOOKUP($C34,'2. Unit Testing Results'!$B$5:$BC$12,20))","v":""},{"$f":"IF($B34=\"\",\"\",\nVLOOKUP($C34,'2. Unit Testing Results'!$B$5:$BC$12,22))","v":""},{"$f":"IF($B34=\"\",\"\",\nVLOOKUP($C34,'2. Unit Testing Results'!$B$5:$BC$12,24))","v":""},{"$f":"IF($B34=\"\",\"\",\nVLOOKUP($C34,'2. Unit Testing Results'!$B$5:$BC$12,26))","v":""},{"$f":"IF($B34=\"\",\"\",\nVLOOKUP($C34,'2. Unit Testing Results'!$B$5:$BC$12,28))","v":""},{"$f":"IF($B34=\"\",\"\",'2. Unit Testing Results'!$P44)","v":""},{"$f":"IF($B34=\"\",\"\",'2. Unit Testing Results'!$U44)","v":""},{"$f":"IF($B34=\"\",\"\",\nVLOOKUP($C34,'2. Unit Testing Results'!$B$5:$BC$12,30))","v":""},{"$f":"IF($B34=\"\",\"\",\nVLOOKUP($C34,'2. Unit Testing Results'!$B$5:$BC$12,32))","v":""},{"$f":"IF($B34=\"\",\"\",\nVLOOKUP($C34,'2. Unit Testing Results'!$B$5:$BC$12,34))","v":""},{"$f":"IF($B34=\"\",\"\",\nVLOOKUP($C34,'2. Unit Testing Results'!$B$5:$BC$12,36))","v":""},{"$f":"IF($B34=\"\",\"\",\nVLOOKUP($C34,'2. Unit Testing Results'!$B$5:$BC$12,38))","v":""},{"$f":"IF($B34=\"\",\"\",\nVLOOKUP($C34,'2. Unit Testing Results'!$B$5:$BC$12,39))","v":""},{"$f":"IF($B34=\"\",\"\",\nVLOOKUP($C34,'2. Unit Testing Results'!$B$5:$BC$12,40))","v":""},{"$f":"IF($B34=\"\",\"\",\nVLOOKUP($C34,'2. Unit Testing Results'!$B$5:$BC$12,42))","v":""},{"$f":"IF($B34=\"\",\"\",\nVLOOKUP($C34,'2. Unit Testing Results'!$B$5:$BC$12,44))","v":""},{"$f":"IF($B34=\"\",\"\",\nVLOOKUP($C34,'2. Unit Testing Results'!$B$5:$BC$12,46))","v":""},{"$f":"IF($B34=\"\",\"\",\nVLOOKUP($C34,'2. Unit Testing Results'!$B$5:$BC$12,48))","v":""},{"$f":"IF($B34=\"\",\"\",\nVLOOKUP($C34,'2. Unit Testing Results'!$B$5:$BC$12,50))","v":""},{"$f":"IF($B34=\"\",\"\",\nVLOOKUP($C34,'2. Unit Testing Results'!$B$5:$BC$12,51))","v":""},{"$f":"IF($B34=\"\",\"\",\nVLOOKUP($C34,'2. Unit Testing Results'!$B$5:$BC$12,52))","v":""},{"$f":"IF($B34=\"\",\"\",\nVLOOKUP($C34,'2. Unit Testing Results'!$B$5:$BC$12,53))","v":""},{"$f":"IF($B34=\"\",\"\",\nVLOOKUP($C34,'2. Unit Testing Results'!$B$5:$BC$12,54))","v":""}]
[null,{"$f":"IF('2. Unit Testing Results'!$B45=\"\",\"\",'2. Unit Testing Results'!$B45)","v":""},{"$f":"IF('2. Unit Testing Results'!$C45=\"\",\"\",'2. Unit Testing Results'!$C45)","v":""},{"$f":"IF('2. Unit Testing Results'!$D45=\"\",\"\",'2. Unit Testing Results'!$D45)","v":""},{"$f":"IF('2. Unit Testing Results'!$E45=\"\",\"\",'2. Unit Testing Results'!$E45)","v":""},null,{"$f":"IF($B35=\"\",\"\",\n(('2. Unit Testing Results'!$W45)*60)\n/((VLOOKUP($C35,'2. Unit Testing Results'!$B$5:$R$12,4))*(VLOOKUP($C35,'2. Unit Testing Results'!$B$5:$R$12,6)))\n)","v":""},{"$f":"IF($B35=\"\",\"\",\nVLOOKUP($C35,'2. Unit Testing Results'!$B$5:$BC$12,19))","v":""},{"$f":"IF($B35=\"\",\"\",\nVLOOKUP($C35,'2. Unit Testing Results'!$B$5:$BC$12,20))","v":""},{"$f":"IF($B35=\"\",\"\",\nVLOOKUP($C35,'2. Unit Testing Results'!$B$5:$BC$12,22))","v":""},{"$f":"IF($B35=\"\",\"\",\nVLOOKUP($C35,'2. Unit Testing Results'!$B$5:$BC$12,24))","v":""},{"$f":"IF($B35=\"\",\"\",\nVLOOKUP($C35,'2. Unit Testing Results'!$B$5:$BC$12,26))","v":""},{"$f":"IF($B35=\"\",\"\",\nVLOOKUP($C35,'2. Unit Testing Results'!$B$5:$BC$12,28))","v":""},{"$f":"IF($B35=\"\",\"\",'2. Unit Testing Results'!$P45)","v":""},{"$f":"IF($B35=\"\",\"\",'2. Unit Testing Results'!$U45)","v":""},{"$f":"IF($B35=\"\",\"\",\nVLOOKUP($C35,'2. Unit Testing Results'!$B$5:$BC$12,30))","v":""},{"$f":"IF($B35=\"\",\"\",\nVLOOKUP($C35,'2. Unit Testing Results'!$B$5:$BC$12,32))","v":""},{"$f":"IF($B35=\"\",\"\",\nVLOOKUP($C35,'2. Unit Testing Results'!$B$5:$BC$12,34))","v":""},{"$f":"IF($B35=\"\",\"\",\nVLOOKUP($C35,'2. Unit Testing Results'!$B$5:$BC$12,36))","v":""},{"$f":"IF($B35=\"\",\"\",\nVLOOKUP($C35,'2. Unit Testing Results'!$B$5:$BC$12,38))","v":""},{"$f":"IF($B35=\"\",\"\",\nVLOOKUP($C35,'2. Unit Testing Results'!$B$5:$BC$12,39))","v":""},{"$f":"IF($B35=\"\",\"\",\nVLOOKUP($C35,'2. Unit Testing Results'!$B$5:$BC$12,40))","v":""},{"$f":"IF($B35=\"\",\"\",\nVLOOKUP($C35,'2. Unit Testing Results'!$B$5:$BC$12,42))","v":""},{"$f":"IF($B35=\"\",\"\",\nVLOOKUP($C35,'2. Unit Testing Results'!$B$5:$BC$12,44))","v":""},{"$f":"IF($B35=\"\",\"\",\nVLOOKUP($C35,'2. Unit Testing Results'!$B$5:$BC$12,46))","v":""},{"$f":"IF($B35=\"\",\"\",\nVLOOKUP($C35,'2. Unit Testing Results'!$B$5:$BC$12,48))","v":""},{"$f":"IF($B35=\"\",\"\",\nVLOOKUP($C35,'2. Unit Testing Results'!$B$5:$BC$12,50))","v":""},{"$f":"IF($B35=\"\",\"\",\nVLOOKUP($C35,'2. Unit Testing Results'!$B$5:$BC$12,51))","v":""},{"$f":"IF($B35=\"\",\"\",\nVLOOKUP($C35,'2. Unit Testing Results'!$B$5:$BC$12,52))","v":""},{"$f":"IF($B35=\"\",\"\",\nVLOOKUP($C35,'2. Unit Testing Results'!$B$5:$BC$12,53))","v":""},{"$f":"IF($B35=\"\",\"\",\nVLOOKUP($C35,'2. Unit Testing Results'!$B$5:$BC$12,54))","v":""}]
[null,{"$f":"IF('2. Unit Testing Results'!$B46=\"\",\"\",'2. Unit Testing Results'!$B46)","v":""},{"$f":"IF('2. Unit Testing Results'!$C46=\"\",\"\",'2. Unit Testing Results'!$C46)","v":""},{"$f":"IF('2. Unit Testing Results'!$D46=\"\",\"\",'2. Unit Testing Results'!$D46)","v":""},{"$f":"IF('2. Unit Testing Results'!$E46=\"\",\"\",'2. Unit Testing Results'!$E46)","v":""},null,{"$f":"IF($B36=\"\",\"\",\n(('2. Unit Testing Results'!$W46)*60)\n/((VLOOKUP($C36,'2. Unit Testing Results'!$B$5:$R$12,4))*(VLOOKUP($C36,'2. Unit Testing Results'!$B$5:$R$12,6)))\n)","v":""},{"$f":"IF($B36=\"\",\"\",\nVLOOKUP($C36,'2. Unit Testing Results'!$B$5:$BC$12,19))","v":""},{"$f":"IF($B36=\"\",\"\",\nVLOOKUP($C36,'2. Unit Testing Results'!$B$5:$BC$12,20))","v":""},{"$f":"IF($B36=\"\",\"\",\nVLOOKUP($C36,'2. Unit Testing Results'!$B$5:$BC$12,22))","v":""},{"$f":"IF($B36=\"\",\"\",\nVLOOKUP($C36,'2. Unit Testing Results'!$B$5:$BC$12,24))","v":""},{"$f":"IF($B36=\"\",\"\",\nVLOOKUP($C36,'2. Unit Testing Results'!$B$5:$BC$12,26))","v":""},{"$f":"IF($B36=\"\",\"\",\nVLOOKUP($C36,'2. Unit Testing Results'!$B$5:$BC$12,28))","v":""},{"$f":"IF($B36=\"\",\"\",'2. Unit Testing Results'!$P46)","v":""},{"$f":"IF($B36=\"\",\"\",'2. Unit Testing Results'!$U46)","v":""},{"$f":"IF($B36=\"\",\"\",\nVLOOKUP($C36,'2. Unit Testing Results'!$B$5:$BC$12,30))","v":""},{"$f":"IF($B36=\"\",\"\",\nVLOOKUP($C36,'2. Unit Testing Results'!$B$5:$BC$12,32))","v":""},{"$f":"IF($B36=\"\",\"\",\nVLOOKUP($C36,'2. Unit Testing Results'!$B$5:$BC$12,34))","v":""},{"$f":"IF($B36=\"\",\"\",\nVLOOKUP($C36,'2. Unit Testing Results'!$B$5:$BC$12,36))","v":""},{"$f":"IF($B36=\"\",\"\",\nVLOOKUP($C36,'2. Unit Testing Results'!$B$5:$BC$12,38))","v":""},{"$f":"IF($B36=\"\",\"\",\nVLOOKUP($C36,'2. Unit Testing Results'!$B$5:$BC$12,39))","v":""},{"$f":"IF($B36=\"\",\"\",\nVLOOKUP($C36,'2. Unit Testing Results'!$B$5:$BC$12,40))","v":""},{"$f":"IF($B36=\"\",\"\",\nVLOOKUP($C36,'2. Unit Testing Results'!$B$5:$BC$12,42))","v":""},{"$f":"IF($B36=\"\",\"\",\nVLOOKUP($C36,'2. Unit Testing Results'!$B$5:$BC$12,44))","v":""},{"$f":"IF($B36=\"\",\"\",\nVLOOKUP($C36,'2. Unit Testing Results'!$B$5:$BC$12,46))","v":""},{"$f":"IF($B36=\"\",\"\",\nVLOOKUP($C36,'2. Unit Testing Results'!$B$5:$BC$12,48))","v":""},{"$f":"IF($B36=\"\",\"\",\nVLOOKUP($C36,'2. Unit Testing Results'!$B$5:$BC$12,50))","v":""},{"$f":"IF($B36=\"\",\"\",\nVLOOKUP($C36,'2. Unit Testing Results'!$B$5:$BC$12,51))","v":""},{"$f":"IF($B36=\"\",\"\",\nVLOOKUP($C36,'2. Unit Testing Results'!$B$5:$BC$12,52))","v":""},{"$f":"IF($B36=\"\",\"\",\nVLOOKUP($C36,'2. Unit Testing Results'!$B$5:$BC$12,53))","v":""},{"$f":"IF($B36=\"\",\"\",\nVLOOKUP($C36,'2. Unit Testing Results'!$B$5:$BC$12,54))","v":""}]
[null,{"$f":"IF('2. Unit Testing Results'!$B47=\"\",\"\",'2. Unit Testing Results'!$B47)","v":""},{"$f":"IF('2. Unit Testing Results'!$C47=\"\",\"\",'2. Unit Testing Results'!$C47)","v":""},{"$f":"IF('2. Unit Testing Results'!$D47=\"\",\"\",'2. Unit Testing Results'!$D47)","v":""},{"$f":"IF('2. Unit Testing Results'!$E47=\"\",\"\",'2. Unit Testing Results'!$E47)","v":""},null,{"$f":"IF($B37=\"\",\"\",\n(('2. Unit Testing Results'!$W47)*60)\n/((VLOOKUP($C37,'2. Unit Testing Results'!$B$5:$R$12,4))*(VLOOKUP($C37,'2. Unit Testing Results'!$B$5:$R$12,6)))\n)","v":""},{"$f":"IF($B37=\"\",\"\",\nVLOOKUP($C37,'2. Unit Testing Results'!$B$5:$BC$12,19))","v":""},{"$f":"IF($B37=\"\",\"\",\nVLOOKUP($C37,'2. Unit Testing Results'!$B$5:$BC$12,20))","v":""},{"$f":"IF($B37=\"\",\"\",\nVLOOKUP($C37,'2. Unit Testing Results'!$B$5:$BC$12,22))","v":""},{"$f":"IF($B37=\"\",\"\",\nVLOOKUP($C37,'2. Unit Testing Results'!$B$5:$BC$12,24))","v":""},{"$f":"IF($B37=\"\",\"\",\nVLOOKUP($C37,'2. Unit Testing Results'!$B$5:$BC$12,26))","v":""},{"$f":"IF($B37=\"\",\"\",\nVLOOKUP($C37,'2. Unit Testing Results'!$B$5:$BC$12,28))","v":""},{"$f":"IF($B37=\"\",\"\",'2. Unit Testing Results'!$P47)","v":""},{"$f":"IF($B37=\"\",\"\",'2. Unit Testing Results'!$U47)","v":""},{"$f":"IF($B37=\"\",\"\",\nVLOOKUP($C37,'2. Unit Testing Results'!$B$5:$BC$12,30))","v":""},{"$f":"IF($B37=\"\",\"\",\nVLOOKUP($C37,'2. Unit Testing Results'!$B$5:$BC$12,32))","v":""},{"$f":"IF($B37=\"\",\"\",\nVLOOKUP($C37,'2. Unit Testing Results'!$B$5:$BC$12,34))","v":""},{"$f":"IF($B37=\"\",\"\",\nVLOOKUP($C37,'2. Unit Testing Results'!$B$5:$BC$12,36))","v":""},{"$f":"IF($B37=\"\",\"\",\nVLOOKUP($C37,'2. Unit Testing Results'!$B$5:$BC$12,38))","v":""},{"$f":"IF($B37=\"\",\"\",\nVLOOKUP($C37,'2. Unit Testing Results'!$B$5:$BC$12,39))","v":""},{"$f":"IF($B37=\"\",\"\",\nVLOOKUP($C37,'2. Unit Testing Results'!$B$5:$BC$12,40))","v":""},{"$f":"IF($B37=\"\",\"\",\nVLOOKUP($C37,'2. Unit Testing Results'!$B$5:$BC$12,42))","v":""},{"$f":"IF($B37=\"\",\"\",\nVLOOKUP($C37,'2. Unit Testing Results'!$B$5:$BC$12,44))","v":""},{"$f":"IF($B37=\"\",\"\",\nVLOOKUP($C37,'2. Unit Testing Results'!$B$5:$BC$12,46))","v":""},{"$f":"IF($B37=\"\",\"\",\nVLOOKUP($C37,'2. Unit Testing Results'!$B$5:$BC$12,48))","v":""},{"$f":"IF($B37=\"\",\"\",\nVLOOKUP($C37,'2. Unit Testing Results'!$B$5:$BC$12,50))","v":""},{"$f":"IF($B37=\"\",\"\",\nVLOOKUP($C37,'2. Unit Testing Results'!$B$5:$BC$12,51))","v":""},{"$f":"IF($B37=\"\",\"\",\nVLOOKUP($C37,'2. Unit Testing Results'!$B$5:$BC$12,52))","v":""},{"$f":"IF($B37=\"\",\"\",\nVLOOKUP($C37,'2. Unit Testing Results'!$B$5:$BC$12,53))","v":""},{"$f":"IF($B37=\"\",\"\",\nVLOOKUP($C37,'2. Unit Testing Results'!$B$5:$BC$12,54))","v":""}]
[null,{"$f":"IF('2. Unit Testing Results'!$B48=\"\",\"\",'2. Unit Testing Results'!$B48)","v":""},{"$f":"IF('2. Unit Testing Results'!$C48=\"\",\"\",'2. Unit Testing Results'!$C48)","v":""},{"$f":"IF('2. Unit Testing Results'!$D48=\"\",\"\",'2. Unit Testing Results'!$D48)","v":""},{"$f":"IF('2. Unit Testing Results'!$E48=\"\",\"\",'2. Unit Testing Results'!$E48)","v":""},null,{"$f":"IF($B38=\"\",\"\",\n(('2. Unit Testing Results'!$W48)*60)\n/((VLOOKUP($C38,'2. Unit Testing Results'!$B$5:$R$12,4))*(VLOOKUP($C38,'2. Unit Testing Results'!$B$5:$R$12,6)))\n)","v":""},{"$f":"IF($B38=\"\",\"\",\nVLOOKUP($C38,'2. Unit Testing Results'!$B$5:$BC$12,19))","v":""},{"$f":"IF($B38=\"\",\"\",\nVLOOKUP($C38,'2. Unit Testing Results'!$B$5:$BC$12,20))","v":""},{"$f":"IF($B38=\"\",\"\",\nVLOOKUP($C38,'2. Unit Testing Results'!$B$5:$BC$12,22))","v":""},{"$f":"IF($B38=\"\",\"\",\nVLOOKUP($C38,'2. Unit Testing Results'!$B$5:$BC$12,24))","v":""},{"$f":"IF($B38=\"\",\"\",\nVLOOKUP($C38,'2. Unit Testing Results'!$B$5:$BC$12,26))","v":""},{"$f":"IF($B38=\"\",\"\",\nVLOOKUP($C38,'2. Unit Testing Results'!$B$5:$BC$12,28))","v":""},{"$f":"IF($B38=\"\",\"\",'2. Unit Testing Results'!$P48)","v":""},{"$f":"IF($B38=\"\",\"\",'2. Unit Testing Results'!$U48)","v":""},{"$f":"IF($B38=\"\",\"\",\nVLOOKUP($C38,'2. Unit Testing Results'!$B$5:$BC$12,30))","v":""},{"$f":"IF($B38=\"\",\"\",\nVLOOKUP($C38,'2. Unit Testing Results'!$B$5:$BC$12,32))","v":""},{"$f":"IF($B38=\"\",\"\",\nVLOOKUP($C38,'2. Unit Testing Results'!$B$5:$BC$12,34))","v":""},{"$f":"IF($B38=\"\",\"\",\nVLOOKUP($C38,'2. Unit Testing Results'!$B$5:$BC$12,36))","v":""},{"$f":"IF($B38=\"\",\"\",\nVLOOKUP($C38,'2. Unit Testing Results'!$B$5:$BC$12,38))","v":""},{"$f":"IF($B38=\"\",\"\",\nVLOOKUP($C38,'2. Unit Testing Results'!$B$5:$BC$12,39))","v":""},{"$f":"IF($B38=\"\",\"\",\nVLOOKUP($C38,'2. Unit Testing Results'!$B$5:$BC$12,40))","v":""},{"$f":"IF($B38=\"\",\"\",\nVLOOKUP($C38,'2. Unit Testing Results'!$B$5:$BC$12,42))","v":""},{"$f":"IF($B38=\"\",\"\",\nVLOOKUP($C38,'2. Unit Testing Results'!$B$5:$BC$12,44))","v":""},{"$f":"IF($B38=\"\",\"\",\nVLOOKUP($C38,'2. Unit Testing Results'!$B$5:$BC$12,46))","v":""},{"$f":"IF($B38=\"\",\"\",\nVLOOKUP($C38,'2. Unit Testing Results'!$B$5:$BC$12,48))","v":""},{"$f":"IF($B38=\"\",\"\",\nVLOOKUP($C38,'2. Unit Testing Results'!$B$5:$BC$12,50))","v":""},{"$f":"IF($B38=\"\",\"\",\nVLOOKUP($C38,'2. Unit Testing Results'!$B$5:$BC$12,51))","v":""},{"$f":"IF($B38=\"\",\"\",\nVLOOKUP($C38,'2. Unit Testing Results'!$B$5:$BC$12,52))","v":""},{"$f":"IF($B38=\"\",\"\",\nVLOOKUP($C38,'2. Unit Testing Results'!$B$5:$BC$12,53))","v":""},{"$f":"IF($B38=\"\",\"\",\nVLOOKUP($C38,'2. Unit Testing Results'!$B$5:$BC$12,54))","v":""}]
[null,{"$f":"IF('2. Unit Testing Results'!$B49=\"\",\"\",'2. Unit Testing Results'!$B49)","v":""},{"$f":"IF('2. Unit Testing Results'!$C49=\"\",\"\",'2. Unit Testing Results'!$C49)","v":""},{"$f":"IF('2. Unit Testing Results'!$D49=\"\",\"\",'2. Unit Testing Results'!$D49)","v":""},{"$f":"IF('2. Unit Testing Results'!$E49=\"\",\"\",'2. Unit Testing Results'!$E49)","v":""},null,{"$f":"IF($B39=\"\",\"\",\n(('2. Unit Testing Results'!$W49)*60)\n/((VLOOKUP($C39,'2. Unit Testing Results'!$B$5:$R$12,4))*(VLOOKUP($C39,'2. Unit Testing Results'!$B$5:$R$12,6)))\n)","v":""},{"$f":"IF($B39=\"\",\"\",\nVLOOKUP($C39,'2. Unit Testing Results'!$B$5:$BC$12,19))","v":""},{"$f":"IF($B39=\"\",\"\",\nVLOOKUP($C39,'2. Unit Testing Results'!$B$5:$BC$12,20))","v":""},{"$f":"IF($B39=\"\",\"\",\nVLOOKUP($C39,'2. Unit Testing Results'!$B$5:$BC$12,22))","v":""},{"$f":"IF($B39=\"\",\"\",\nVLOOKUP($C39,'2. Unit Testing Results'!$B$5:$BC$12,24))","v":""},{"$f":"IF($B39=\"\",\"\",\nVLOOKUP($C39,'2. Unit Testing Results'!$B$5:$BC$12,26))","v":""},{"$f":"IF($B39=\"\",\"\",\nVLOOKUP($C39,'2. Unit Testing Results'!$B$5:$BC$12,28))","v":""},{"$f":"IF($B39=\"\",\"\",'2. Unit Testing Results'!$P49)","v":""},{"$f":"IF($B39=\"\",\"\",'2. Unit Testing Results'!$U49)","v":""},{"$f":"IF($B39=\"\",\"\",\nVLOOKUP($C39,'2. Unit Testing Results'!$B$5:$BC$12,30))","v":""},{"$f":"IF($B39=\"\",\"\",\nVLOOKUP($C39,'2. Unit Testing Results'!$B$5:$BC$12,32))","v":""},{"$f":"IF($B39=\"\",\"\",\nVLOOKUP($C39,'2. Unit Testing Results'!$B$5:$BC$12,34))","v":""},{"$f":"IF($B39=\"\",\"\",\nVLOOKUP($C39,'2. Unit Testing Results'!$B$5:$BC$12,36))","v":""},{"$f":"IF($B39=\"\",\"\",\nVLOOKUP($C39,'2. Unit Testing Results'!$B$5:$BC$12,38))","v":""},{"$f":"IF($B39=\"\",\"\",\nVLOOKUP($C39,'2. Unit Testing Results'!$B$5:$BC$12,39))","v":""},{"$f":"IF($B39=\"\",\"\",\nVLOOKUP($C39,'2. Unit Testing Results'!$B$5:$BC$12,40))","v":""},{"$f":"IF($B39=\"\",\"\",\nVLOOKUP($C39,'2. Unit Testing Results'!$B$5:$BC$12,42))","v":""},{"$f":"IF($B39=\"\",\"\",\nVLOOKUP($C39,'2. Unit Testing Results'!$B$5:$BC$12,44))","v":""},{"$f":"IF($B39=\"\",\"\",\nVLOOKUP($C39,'2. Unit Testing Results'!$B$5:$BC$12,46))","v":""},{"$f":"IF($B39=\"\",\"\",\nVLOOKUP($C39,'2. Unit Testing Results'!$B$5:$BC$12,48))","v":""},{"$f":"IF($B39=\"\",\"\",\nVLOOKUP($C39,'2. Unit Testing Results'!$B$5:$BC$12,50))","v":""},{"$f":"IF($B39=\"\",\"\",\nVLOOKUP($C39,'2. Unit Testing Results'!$B$5:$BC$12,51))","v":""},{"$f":"IF($B39=\"\",\"\",\nVLOOKUP($C39,'2. Unit Testing Results'!$B$5:$BC$12,52))","v":""},{"$f":"IF($B39=\"\",\"\",\nVLOOKUP($C39,'2. Unit Testing Results'!$B$5:$BC$12,53))","v":""},{"$f":"IF($B39=\"\",\"\",\nVLOOKUP($C39,'2. Unit Testing Results'!$B$5:$BC$12,54))","v":""}]
[null,{"$f":"IF('2. Unit Testing Results'!$B50=\"\",\"\",'2. Unit Testing Results'!$B50)","v":""},{"$f":"IF('2. Unit Testing Results'!$C50=\"\",\"\",'2. Unit Testing Results'!$C50)","v":""},{"$f":"IF('2. Unit Testing Results'!$D50=\"\",\"\",'2. Unit Testing Results'!$D50)","v":""},{"$f":"IF('2. Unit Testing Results'!$E50=\"\",\"\",'2. Unit Testing Results'!$E50)","v":""},null,{"$f":"IF($B40=\"\",\"\",\n(('2. Unit Testing Results'!$W50)*60)\n/((VLOOKUP($C40,'2. Unit Testing Results'!$B$5:$R$12,4))*(VLOOKUP($C40,'2. Unit Testing Results'!$B$5:$R$12,6)))\n)","v":""},{"$f":"IF($B40=\"\",\"\",\nVLOOKUP($C40,'2. Unit Testing Results'!$B$5:$BC$12,19))","v":""},{"$f":"IF($B40=\"\",\"\",\nVLOOKUP($C40,'2. Unit Testing Results'!$B$5:$BC$12,20))","v":""},{"$f":"IF($B40=\"\",\"\",\nVLOOKUP($C40,'2. Unit Testing Results'!$B$5:$BC$12,22))","v":""},{"$f":"IF($B40=\"\",\"\",\nVLOOKUP($C40,'2. Unit Testing Results'!$B$5:$BC$12,24))","v":""},{"$f":"IF($B40=\"\",\"\",\nVLOOKUP($C40,'2. Unit Testing Results'!$B$5:$BC$12,26))","v":""},{"$f":"IF($B40=\"\",\"\",\nVLOOKUP($C40,'2. Unit Testing Results'!$B$5:$BC$12,28))","v":""},{"$f":"IF($B40=\"\",\"\",'2. Unit Testing Results'!$P50)","v":""},{"$f":"IF($B40=\"\",\"\",'2. Unit Testing Results'!$U50)","v":""},{"$f":"IF($B40=\"\",\"\",\nVLOOKUP($C40,'2. Unit Testing Results'!$B$5:$BC$12,30))","v":""},{"$f":"IF($B40=\"\",\"\",\nVLOOKUP($C40,'2. Unit Testing Results'!$B$5:$BC$12,32))","v":""},{"$f":"IF($B40=\"\",\"\",\nVLOOKUP($C40,'2. Unit Testing Results'!$B$5:$BC$12,34))","v":""},{"$f":"IF($B40=\"\",\"\",\nVLOOKUP($C40,'2. Unit Testing Results'!$B$5:$BC$12,36))","v":""},{"$f":"IF($B40=\"\",\"\",\nVLOOKUP($C40,'2. Unit Testing Results'!$B$5:$BC$12,38))","v":""},{"$f":"IF($B40=\"\",\"\",\nVLOOKUP($C40,'2. Unit Testing Results'!$B$5:$BC$12,39))","v":""},{"$f":"IF($B40=\"\",\"\",\nVLOOKUP($C40,'2. Unit Testing Results'!$B$5:$BC$12,40))","v":""},{"$f":"IF($B40=\"\",\"\",\nVLOOKUP($C40,'2. Unit Testing Results'!$B$5:$BC$12,42))","v":""},{"$f":"IF($B40=\"\",\"\",\nVLOOKUP($C40,'2. Unit Testing Results'!$B$5:$BC$12,44))","v":""},{"$f":"IF($B40=\"\",\"\",\nVLOOKUP($C40,'2. Unit Testing Results'!$B$5:$BC$12,46))","v":""},{"$f":"IF($B40=\"\",\"\",\nVLOOKUP($C40,'2. Unit Testing Results'!$B$5:$BC$12,48))","v":""},{"$f":"IF($B40=\"\",\"\",\nVLOOKUP($C40,'2. Unit Testing Results'!$B$5:$BC$12,50))","v":""},{"$f":"IF($B40=\"\",\"\",\nVLOOKUP($C40,'2. Unit Testing Results'!$B$5:$BC$12,51))","v":""},{"$f":"IF($B40=\"\",\"\",\nVLOOKUP($C40,'2. Unit Testing Results'!$B$5:$BC$12,52))","v":""},{"$f":"IF($B40=\"\",\"\",\nVLOOKUP($C40,'2. Unit Testing Results'!$B$5:$BC$12,53))","v":""},{"$f":"IF($B40=\"\",\"\",\nVLOOKUP($C40,'2. Unit Testing Results'!$B$5:$BC$12,54))","v":""}]
[null,{"$f":"IF('2. Unit Testing Results'!$B51=\"\",\"\",'2. Unit Testing Results'!$B51)","v":""},{"$f":"IF('2. Unit Testing Results'!$C51=\"\",\"\",'2. Unit Testing Results'!$C51)","v":""},{"$f":"IF('2. Unit Testing Results'!$D51=\"\",\"\",'2. Unit Testing Results'!$D51)","v":""},{"$f":"IF('2. Unit Testing Results'!$E51=\"\",\"\",'2. Unit Testing Results'!$E51)","v":""},null,{"$f":"IF($B41=\"\",\"\",\n(('2. Unit Testing Results'!$W51)*60)\n/((VLOOKUP($C41,'2. Unit Testing Results'!$B$5:$R$12,4))*(VLOOKUP($C41,'2. Unit Testing Results'!$B$5:$R$12,6)))\n)","v":""},{"$f":"IF($B41=\"\",\"\",\nVLOOKUP($C41,'2. Unit Testing Results'!$B$5:$BC$12,19))","v":""},{"$f":"IF($B41=\"\",\"\",\nVLOOKUP($C41,'2. Unit Testing Results'!$B$5:$BC$12,20))","v":""},{"$f":"IF($B41=\"\",\"\",\nVLOOKUP($C41,'2. Unit Testing Results'!$B$5:$BC$12,22))","v":""},{"$f":"IF($B41=\"\",\"\",\nVLOOKUP($C41,'2. Unit Testing Results'!$B$5:$BC$12,24))","v":""},{"$f":"IF($B41=\"\",\"\",\nVLOOKUP($C41,'2. Unit Testing Results'!$B$5:$BC$12,26))","v":""},{"$f":"IF($B41=\"\",\"\",\nVLOOKUP($C41,'2. Unit Testing Results'!$B$5:$BC$12,28))","v":""},{"$f":"IF($B41=\"\",\"\",'2. Unit Testing Results'!$P51)","v":""},{"$f":"IF($B41=\"\",\"\",'2. Unit Testing Results'!$U51)","v":""},{"$f":"IF($B41=\"\",\"\",\nVLOOKUP($C41,'2. Unit Testing Results'!$B$5:$BC$12,30))","v":""},{"$f":"IF($B41=\"\",\"\",\nVLOOKUP($C41,'2. Unit Testing Results'!$B$5:$BC$12,32))","v":""},{"$f":"IF($B41=\"\",\"\",\nVLOOKUP($C41,'2. Unit Testing Results'!$B$5:$BC$12,34))","v":""},{"$f":"IF($B41=\"\",\"\",\nVLOOKUP($C41,'2. Unit Testing Results'!$B$5:$BC$12,36))","v":""},{"$f":"IF($B41=\"\",\"\",\nVLOOKUP($C41,'2. Unit Testing Results'!$B$5:$BC$12,38))","v":""},{"$f":"IF($B41=\"\",\"\",\nVLOOKUP($C41,'2. Unit Testing Results'!$B$5:$BC$12,39))","v":""},{"$f":"IF($B41=\"\",\"\",\nVLOOKUP($C41,'2. Unit Testing Results'!$B$5:$BC$12,40))","v":""},{"$f":"IF($B41=\"\",\"\",\nVLOOKUP($C41,'2. Unit Testing Results'!$B$5:$BC$12,42))","v":""},{"$f":"IF($B41=\"\",\"\",\nVLOOKUP($C41,'2. Unit Testing Results'!$B$5:$BC$12,44))","v":""},{"$f":"IF($B41=\"\",\"\",\nVLOOKUP($C41,'2. Unit Testing Results'!$B$5:$BC$12,46))","v":""},{"$f":"IF($B41=\"\",\"\",\nVLOOKUP($C41,'2. Unit Testing Results'!$B$5:$BC$12,48))","v":""},{"$f":"IF($B41=\"\",\"\",\nVLOOKUP($C41,'2. Unit Testing Results'!$B$5:$BC$12,50))","v":""},{"$f":"IF($B41=\"\",\"\",\nVLOOKUP($C41,'2. Unit Testing Results'!$B$5:$BC$12,51))","v":""},{"$f":"IF($B41=\"\",\"\",\nVLOOKUP($C41,'2. Unit Testing Results'!$B$5:$BC$12,52))","v":""},{"$f":"IF($B41=\"\",\"\",\nVLOOKUP($C41,'2. Unit Testing Results'!$B$5:$BC$12,53))","v":""},{"$f":"IF($B41=\"\",\"\",\nVLOOKUP($C41,'2. Unit Testing Results'!$B$5:$BC$12,54))","v":""}]
[null,{"$f":"IF('2. Unit Testing Results'!$B52=\"\",\"\",'2. Unit Testing Results'!$B52)","v":""},{"$f":"IF('2. Unit Testing Results'!$C52=\"\",\"\",'2. Unit Testing Results'!$C52)","v":""},{"$f":"IF('2. Unit Testing Results'!$D52=\"\",\"\",'2. Unit Testing Results'!$D52)","v":""},{"$f":"IF('2. Unit Testing Results'!$E52=\"\",\"\",'2. Unit Testing Results'!$E52)","v":""},null,{"$f":"IF($B42=\"\",\"\",\n(('2. Unit Testing Results'!$W52)*60)\n/((VLOOKUP($C42,'2. Unit Testing Results'!$B$5:$R$12,4))*(VLOOKUP($C42,'2. Unit Testing Results'!$B$5:$R$12,6)))\n)","v":""},{"$f":"IF($B42=\"\",\"\",\nVLOOKUP($C42,'2. Unit Testing Results'!$B$5:$BC$12,19))","v":""},{"$f":"IF($B42=\"\",\"\",\nVLOOKUP($C42,'2. Unit Testing Results'!$B$5:$BC$12,20))","v":""},{"$f":"IF($B42=\"\",\"\",\nVLOOKUP($C42,'2. Unit Testing Results'!$B$5:$BC$12,22))","v":""},{"$f":"IF($B42=\"\",\"\",\nVLOOKUP($C42,'2. Unit Testing Results'!$B$5:$BC$12,24))","v":""},{"$f":"IF($B42=\"\",\"\",\nVLOOKUP($C42,'2. Unit Testing Results'!$B$5:$BC$12,26))","v":""},{"$f":"IF($B42=\"\",\"\",\nVLOOKUP($C42,'2. Unit Testing Results'!$B$5:$BC$12,28))","v":""},{"$f":"IF($B42=\"\",\"\",'2. Unit Testing Results'!$P52)","v":""},{"$f":"IF($B42=\"\",\"\",'2. Unit Testing Results'!$U52)","v":""},{"$f":"IF($B42=\"\",\"\",\nVLOOKUP($C42,'2. Unit Testing Results'!$B$5:$BC$12,30))","v":""},{"$f":"IF($B42=\"\",\"\",\nVLOOKUP($C42,'2. Unit Testing Results'!$B$5:$BC$12,32))","v":""},{"$f":"IF($B42=\"\",\"\",\nVLOOKUP($C42,'2. Unit Testing Results'!$B$5:$BC$12,34))","v":""},{"$f":"IF($B42=\"\",\"\",\nVLOOKUP($C42,'2. Unit Testing Results'!$B$5:$BC$12,36))","v":""},{"$f":"IF($B42=\"\",\"\",\nVLOOKUP($C42,'2. Unit Testing Results'!$B$5:$BC$12,38))","v":""},{"$f":"IF($B42=\"\",\"\",\nVLOOKUP($C42,'2. Unit Testing Results'!$B$5:$BC$12,39))","v":""},{"$f":"IF($B42=\"\",\"\",\nVLOOKUP($C42,'2. Unit Testing Results'!$B$5:$BC$12,40))","v":""},{"$f":"IF($B42=\"\",\"\",\nVLOOKUP($C42,'2. Unit Testing Results'!$B$5:$BC$12,42))","v":""},{"$f":"IF($B42=\"\",\"\",\nVLOOKUP($C42,'2. Unit Testing Results'!$B$5:$BC$12,44))","v":""},{"$f":"IF($B42=\"\",\"\",\nVLOOKUP($C42,'2. Unit Testing Results'!$B$5:$BC$12,46))","v":""},{"$f":"IF($B42=\"\",\"\",\nVLOOKUP($C42,'2. Unit Testing Results'!$B$5:$BC$12,48))","v":""},{"$f":"IF($B42=\"\",\"\",\nVLOOKUP($C42,'2. Unit Testing Results'!$B$5:$BC$12,50))","v":""},{"$f":"IF($B42=\"\",\"\",\nVLOOKUP($C42,'2. Unit Testing Results'!$B$5:$BC$12,51))","v":""},{"$f":"IF($B42=\"\",\"\",\nVLOOKUP($C42,'2. Unit Testing Results'!$B$5:$BC$12,52))","v":""},{"$f":"IF($B42=\"\",\"\",\nVLOOKUP($C42,'2. Unit Testing Results'!$B$5:$BC$12,53))","v":""},{"$f":"IF($B42=\"\",\"\",\nVLOOKUP($C42,'2. Unit Testing Results'!$B$5:$BC$12,54))","v":""}]
[null,{"$f":"IF('2. Unit Testing Results'!$B53=\"\",\"\",'2. Unit Testing Results'!$B53)","v":""},{"$f":"IF('2. Unit Testing Results'!$C53=\"\",\"\",'2. Unit Testing Results'!$C53)","v":""},{"$f":"IF('2. Unit Testing Results'!$D53=\"\",\"\",'2. Unit Testing Results'!$D53)","v":""},{"$f":"IF('2. Unit Testing Results'!$E53=\"\",\"\",'2. Unit Testing Results'!$E53)","v":""},null,{"$f":"IF($B43=\"\",\"\",\n(('2. Unit Testing Results'!$W53)*60)\n/((VLOOKUP($C43,'2. Unit Testing Results'!$B$5:$R$12,4))*(VLOOKUP($C43,'2. Unit Testing Results'!$B$5:$R$12,6)))\n)","v":""},{"$f":"IF($B43=\"\",\"\",\nVLOOKUP($C43,'2. Unit Testing Results'!$B$5:$BC$12,19))","v":""},{"$f":"IF($B43=\"\",\"\",\nVLOOKUP($C43,'2. Unit Testing Results'!$B$5:$BC$12,20))","v":""},{"$f":"IF($B43=\"\",\"\",\nVLOOKUP($C43,'2. Unit Testing Results'!$B$5:$BC$12,22))","v":""},{"$f":"IF($B43=\"\",\"\",\nVLOOKUP($C43,'2. Unit Testing Results'!$B$5:$BC$12,24))","v":""},{"$f":"IF($B43=\"\",\"\",\nVLOOKUP($C43,'2. Unit Testing Results'!$B$5:$BC$12,26))","v":""},{"$f":"IF($B43=\"\",\"\",\nVLOOKUP($C43,'2. Unit Testing Results'!$B$5:$BC$12,28))","v":""},{"$f":"IF($B43=\"\",\"\",'2. Unit Testing Results'!$P53)","v":""},{"$f":"IF($B43=\"\",\"\",'2. Unit Testing Results'!$U53)","v":""},{"$f":"IF($B43=\"\",\"\",\nVLOOKUP($C43,'2. Unit Testing Results'!$B$5:$BC$12,30))","v":""},{"$f":"IF($B43=\"\",\"\",\nVLOOKUP($C43,'2. Unit Testing Results'!$B$5:$BC$12,32))","v":""},{"$f":"IF($B43=\"\",\"\",\nVLOOKUP($C43,'2. Unit Testing Results'!$B$5:$BC$12,34))","v":""},{"$f":"IF($B43=\"\",\"\",\nVLOOKUP($C43,'2. Unit Testing Results'!$B$5:$BC$12,36))","v":""},{"$f":"IF($B43=\"\",\"\",\nVLOOKUP($C43,'2. Unit Testing Results'!$B$5:$BC$12,38))","v":""},{"$f":"IF($B43=\"\",\"\",\nVLOOKUP($C43,'2. Unit Testing Results'!$B$5:$BC$12,39))","v":""},{"$f":"IF($B43=\"\",\"\",\nVLOOKUP($C43,'2. Unit Testing Results'!$B$5:$BC$12,40))","v":""},{"$f":"IF($B43=\"\",\"\",\nVLOOKUP($C43,'2. Unit Testing Results'!$B$5:$BC$12,42))","v":""},{"$f":"IF($B43=\"\",\"\",\nVLOOKUP($C43,'2. Unit Testing Results'!$B$5:$BC$12,44))","v":""},{"$f":"IF($B43=\"\",\"\",\nVLOOKUP($C43,'2. Unit Testing Results'!$B$5:$BC$12,46))","v":""},{"$f":"IF($B43=\"\",\"\",\nVLOOKUP($C43,'2. Unit Testing Results'!$B$5:$BC$12,48))","v":""},{"$f":"IF($B43=\"\",\"\",\nVLOOKUP($C43,'2. Unit Testing Results'!$B$5:$BC$12,50))","v":""},{"$f":"IF($B43=\"\",\"\",\nVLOOKUP($C43,'2. Unit Testing Results'!$B$5:$BC$12,51))","v":""},{"$f":"IF($B43=\"\",\"\",\nVLOOKUP($C43,'2. Unit Testing Results'!$B$5:$BC$12,52))","v":""},{"$f":"IF($B43=\"\",\"\",\nVLOOKUP($C43,'2. Unit Testing Results'!$B$5:$BC$12,53))","v":""},{"$f":"IF($B43=\"\",\"\",\nVLOOKUP($C43,'2. Unit Testing Results'!$B$5:$BC$12,54))","v":""}]
[null,{"$f":"IF('2. Unit Testing Results'!$B54=\"\",\"\",'2. Unit Testing Results'!$B54)","v":""},{"$f":"IF('2. Unit Testing Results'!$C54=\"\",\"\",'2. Unit Testing Results'!$C54)","v":""},{"$f":"IF('2. Unit Testing Results'!$D54=\"\",\"\",'2. Unit Testing Results'!$D54)","v":""},{"$f":"IF('2. Unit Testing Results'!$E54=\"\",\"\",'2. Unit Testing Results'!$E54)","v":""},null,{"$f":"IF($B44=\"\",\"\",\n(('2. Unit Testing Results'!$W54)*60)\n/((VLOOKUP($C44,'2. Unit Testing Results'!$B$5:$R$12,4))*(VLOOKUP($C44,'2. Unit Testing Results'!$B$5:$R$12,6)))\n)","v":""},{"$f":"IF($B44=\"\",\"\",\nVLOOKUP($C44,'2. Unit Testing Results'!$B$5:$BC$12,19))","v":""},{"$f":"IF($B44=\"\",\"\",\nVLOOKUP($C44,'2. Unit Testing Results'!$B$5:$BC$12,20))","v":""},{"$f":"IF($B44=\"\",\"\",\nVLOOKUP($C44,'2. Unit Testing Results'!$B$5:$BC$12,22))","v":""},{"$f":"IF($B44=\"\",\"\",\nVLOOKUP($C44,'2. Unit Testing Results'!$B$5:$BC$12,24))","v":""},{"$f":"IF($B44=\"\",\"\",\nVLOOKUP($C44,'2. Unit Testing Results'!$B$5:$BC$12,26))","v":""},{"$f":"IF($B44=\"\",\"\",\nVLOOKUP($C44,'2. Unit Testing Results'!$B$5:$BC$12,28))","v":""},{"$f":"IF($B44=\"\",\"\",'2. Unit Testing Results'!$P54)","v":""},{"$f":"IF($B44=\"\",\"\",'2. Unit Testing Results'!$U54)","v":""},{"$f":"IF($B44=\"\",\"\",\nVLOOKUP($C44,'2. Unit Testing Results'!$B$5:$BC$12,30))","v":""},{"$f":"IF($B44=\"\",\"\",\nVLOOKUP($C44,'2. Unit Testing Results'!$B$5:$BC$12,32))","v":""},{"$f":"IF($B44=\"\",\"\",\nVLOOKUP($C44,'2. Unit Testing Results'!$B$5:$BC$12,34))","v":""},{"$f":"IF($B44=\"\",\"\",\nVLOOKUP($C44,'2. Unit Testing Results'!$B$5:$BC$12,36))","v":""},{"$f":"IF($B44=\"\",\"\",\nVLOOKUP($C44,'2. Unit Testing Results'!$B$5:$BC$12,38))","v":""},{"$f":"IF($B44=\"\",\"\",\nVLOOKUP($C44,'2. Unit Testing Results'!$B$5:$BC$12,39))","v":""},{"$f":"IF($B44=\"\",\"\",\nVLOOKUP($C44,'2. Unit Testing Results'!$B$5:$BC$12,40))","v":""},{"$f":"IF($B44=\"\",\"\",\nVLOOKUP($C44,'2. Unit Testing Results'!$B$5:$BC$12,42))","v":""},{"$f":"IF($B44=\"\",\"\",\nVLOOKUP($C44,'2. Unit Testing Results'!$B$5:$BC$12,44))","v":""},{"$f":"IF($B44=\"\",\"\",\nVLOOKUP($C44,'2. Unit Testing Results'!$B$5:$BC$12,46))","v":""},{"$f":"IF($B44=\"\",\"\",\nVLOOKUP($C44,'2. Unit Testing Results'!$B$5:$BC$12,48))","v":""},{"$f":"IF($B44=\"\",\"\",\nVLOOKUP($C44,'2. Unit Testing Results'!$B$5:$BC$12,50))","v":""},{"$f":"IF($B44=\"\",\"\",\nVLOOKUP($C44,'2. Unit Testing Results'!$B$5:$BC$12,51))","v":""},{"$f":"IF($B44=\"\",\"\",\nVLOOKUP($C44,'2. Unit Testing Results'!$B$5:$BC$12,52))","v":""},{"$f":"IF($B44=\"\",\"\",\nVLOOKUP($C44,'2. Unit Testing Results'!$B$5:$BC$12,53))","v":""},{"$f":"IF($B44=\"\",\"\",\nVLOOKUP($C44,'2. Unit Testing Results'!$B$5:$BC$12,54))","v":""}]
[null,{"$f":"IF('2. Unit Testing Results'!$B55=\"\",\"\",'2. Unit Testing Results'!$B55)","v":""},{"$f":"IF('2. Unit Testing Results'!$C55=\"\",\"\",'2. Unit Testing Results'!$C55)","v":""},{"$f":"IF('2. Unit Testing Results'!$D55=\"\",\"\",'2. Unit Testing Results'!$D55)","v":""},{"$f":"IF('2. Unit Testing Results'!$E55=\"\",\"\",'2. Unit Testing Results'!$E55)","v":""},null,{"$f":"IF($B45=\"\",\"\",\n(('2. Unit Testing Results'!$W55)*60)\n/((VLOOKUP($C45,'2. Unit Testing Results'!$B$5:$R$12,4))*(VLOOKUP($C45,'2. Unit Testing Results'!$B$5:$R$12,6)))\n)","v":""},{"$f":"IF($B45=\"\",\"\",\nVLOOKUP($C45,'2. Unit Testing Results'!$B$5:$BC$12,19))","v":""},{"$f":"IF($B45=\"\",\"\",\nVLOOKUP($C45,'2. Unit Testing Results'!$B$5:$BC$12,20))","v":""},{"$f":"IF($B45=\"\",\"\",\nVLOOKUP($C45,'2. Unit Testing Results'!$B$5:$BC$12,22))","v":""},{"$f":"IF($B45=\"\",\"\",\nVLOOKUP($C45,'2. Unit Testing Results'!$B$5:$BC$12,24))","v":""},{"$f":"IF($B45=\"\",\"\",\nVLOOKUP($C45,'2. Unit Testing Results'!$B$5:$BC$12,26))","v":""},{"$f":"IF($B45=\"\",\"\",\nVLOOKUP($C45,'2. Unit Testing Results'!$B$5:$BC$12,28))","v":""},{"$f":"IF($B45=\"\",\"\",'2. Unit Testing Results'!$P55)","v":""},{"$f":"IF($B45=\"\",\"\",'2. Unit Testing Results'!$U55)","v":""},{"$f":"IF($B45=\"\",\"\",\nVLOOKUP($C45,'2. Unit Testing Results'!$B$5:$BC$12,30))","v":""},{"$f":"IF($B45=\"\",\"\",\nVLOOKUP($C45,'2. Unit Testing Results'!$B$5:$BC$12,32))","v":""},{"$f":"IF($B45=\"\",\"\",\nVLOOKUP($C45,'2. Unit Testing Results'!$B$5:$BC$12,34))","v":""},{"$f":"IF($B45=\"\",\"\",\nVLOOKUP($C45,'2. Unit Testing Results'!$B$5:$BC$12,36))","v":""},{"$f":"IF($B45=\"\",\"\",\nVLOOKUP($C45,'2. Unit Testing Results'!$B$5:$BC$12,38))","v":""},{"$f":"IF($B45=\"\",\"\",\nVLOOKUP($C45,'2. Unit Testing Results'!$B$5:$BC$12,39))","v":""},{"$f":"IF($B45=\"\",\"\",\nVLOOKUP($C45,'2. Unit Testing Results'!$B$5:$BC$12,40))","v":""},{"$f":"IF($B45=\"\",\"\",\nVLOOKUP($C45,'2. Unit Testing Results'!$B$5:$BC$12,42))","v":""},{"$f":"IF($B45=\"\",\"\",\nVLOOKUP($C45,'2. Unit Testing Results'!$B$5:$BC$12,44))","v":""},{"$f":"IF($B45=\"\",\"\",\nVLOOKUP($C45,'2. Unit Testing Results'!$B$5:$BC$12,46))","v":""},{"$f":"IF($B45=\"\",\"\",\nVLOOKUP($C45,'2. Unit Testing Results'!$B$5:$BC$12,48))","v":""},{"$f":"IF($B45=\"\",\"\",\nVLOOKUP($C45,'2. Unit Testing Results'!$B$5:$BC$12,50))","v":""},{"$f":"IF($B45=\"\",\"\",\nVLOOKUP($C45,'2. Unit Testing Results'!$B$5:$BC$12,51))","v":""},{"$f":"IF($B45=\"\",\"\",\nVLOOKUP($C45,'2. Unit Testing Results'!$B$5:$BC$12,52))","v":""},{"$f":"IF($B45=\"\",\"\",\nVLOOKUP($C45,'2. Unit Testing Results'!$B$5:$BC$12,53))","v":""},{"$f":"IF($B45=\"\",\"\",\nVLOOKUP($C45,'2. Unit Testing Results'!$B$5:$BC$12,54))","v":""}]
[null,{"$f":"IF('2. Unit Testing Results'!$B56=\"\",\"\",'2. Unit Testing Results'!$B56)","v":""},{"$f":"IF('2. Unit Testing Results'!$C56=\"\",\"\",'2. Unit Testing Results'!$C56)","v":""},{"$f":"IF('2. Unit Testing Results'!$D56=\"\",\"\",'2. Unit Testing Results'!$D56)","v":""},{"$f":"IF('2. Unit Testing Results'!$E56=\"\",\"\",'2. Unit Testing Results'!$E56)","v":""},null,{"$f":"IF($B46=\"\",\"\",\n(('2. Unit Testing Results'!$W56)*60)\n/((VLOOKUP($C46,'2. Unit Testing Results'!$B$5:$R$12,4))*(VLOOKUP($C46,'2. Unit Testing Results'!$B$5:$R$12,6)))\n)","v":""},{"$f":"IF($B46=\"\",\"\",\nVLOOKUP($C46,'2. Unit Testing Results'!$B$5:$BC$12,19))","v":""},{"$f":"IF($B46=\"\",\"\",\nVLOOKUP($C46,'2. Unit Testing Results'!$B$5:$BC$12,20))","v":""},{"$f":"IF($B46=\"\",\"\",\nVLOOKUP($C46,'2. Unit Testing Results'!$B$5:$BC$12,22))","v":""},{"$f":"IF($B46=\"\",\"\",\nVLOOKUP($C46,'2. Unit Testing Results'!$B$5:$BC$12,24))","v":""},{"$f":"IF($B46=\"\",\"\",\nVLOOKUP($C46,'2. Unit Testing Results'!$B$5:$BC$12,26))","v":""},{"$f":"IF($B46=\"\",\"\",\nVLOOKUP($C46,'2. Unit Testing Results'!$B$5:$BC$12,28))","v":""},{"$f":"IF($B46=\"\",\"\",'2. Unit Testing Results'!$P56)","v":""},{"$f":"IF($B46=\"\",\"\",'2. Unit Testing Results'!$U56)","v":""},{"$f":"IF($B46=\"\",\"\",\nVLOOKUP($C46,'2. Unit Testing Results'!$B$5:$BC$12,30))","v":""},{"$f":"IF($B46=\"\",\"\",\nVLOOKUP($C46,'2. Unit Testing Results'!$B$5:$BC$12,32))","v":""},{"$f":"IF($B46=\"\",\"\",\nVLOOKUP($C46,'2. Unit Testing Results'!$B$5:$BC$12,34))","v":""},{"$f":"IF($B46=\"\",\"\",\nVLOOKUP($C46,'2. Unit Testing Results'!$B$5:$BC$12,36))","v":""},{"$f":"IF($B46=\"\",\"\",\nVLOOKUP($C46,'2. Unit Testing Results'!$B$5:$BC$12,38))","v":""},{"$f":"IF($B46=\"\",\"\",\nVLOOKUP($C46,'2. Unit Testing Results'!$B$5:$BC$12,39))","v":""},{"$f":"IF($B46=\"\",\"\",\nVLOOKUP($C46,'2. Unit Testing Results'!$B$5:$BC$12,40))","v":""},{"$f":"IF($B46=\"\",\"\",\nVLOOKUP($C46,'2. Unit Testing Results'!$B$5:$BC$12,42))","v":""},{"$f":"IF($B46=\"\",\"\",\nVLOOKUP($C46,'2. Unit Testing Results'!$B$5:$BC$12,44))","v":""},{"$f":"IF($B46=\"\",\"\",\nVLOOKUP($C46,'2. Unit Testing Results'!$B$5:$BC$12,46))","v":""},{"$f":"IF($B46=\"\",\"\",\nVLOOKUP($C46,'2. Unit Testing Results'!$B$5:$BC$12,48))","v":""},{"$f":"IF($B46=\"\",\"\",\nVLOOKUP($C46,'2. Unit Testing Results'!$B$5:$BC$12,50))","v":""},{"$f":"IF($B46=\"\",\"\",\nVLOOKUP($C46,'2. Unit Testing Results'!$B$5:$BC$12,51))","v":""},{"$f":"IF($B46=\"\",\"\",\nVLOOKUP($C46,'2. Unit Testing Results'!$B$5:$BC$12,52))","v":""},{"$f":"IF($B46=\"\",\"\",\nVLOOKUP($C46,'2. Unit Testing Results'!$B$5:$BC$12,53))","v":""},{"$f":"IF($B46=\"\",\"\",\nVLOOKUP($C46,'2. Unit Testing Results'!$B$5:$BC$12,54))","v":""}]
[null,{"$f":"IF('2. Unit Testing Results'!$B57=\"\",\"\",'2. Unit Testing Results'!$B57)","v":""},{"$f":"IF('2. Unit Testing Results'!$C57=\"\",\"\",'2. Unit Testing Results'!$C57)","v":""},{"$f":"IF('2. Unit Testing Results'!$D57=\"\",\"\",'2. Unit Testing Results'!$D57)","v":""},{"$f":"IF('2. Unit Testing Results'!$E57=\"\",\"\",'2. Unit Testing Results'!$E57)","v":""},null,{"$f":"IF($B47=\"\",\"\",\n(('2. Unit Testing Results'!$W57)*60)\n/((VLOOKUP($C47,'2. Unit Testing Results'!$B$5:$R$12,4))*(VLOOKUP($C47,'2. Unit Testing Results'!$B$5:$R$12,6)))\n)","v":""},{"$f":"IF($B47=\"\",\"\",\nVLOOKUP($C47,'2. Unit Testing Results'!$B$5:$BC$12,19))","v":""},{"$f":"IF($B47=\"\",\"\",\nVLOOKUP($C47,'2. Unit Testing Results'!$B$5:$BC$12,20))","v":""},{"$f":"IF($B47=\"\",\"\",\nVLOOKUP($C47,'2. Unit Testing Results'!$B$5:$BC$12,22))","v":""},{"$f":"IF($B47=\"\",\"\",\nVLOOKUP($C47,'2. Unit Testing Results'!$B$5:$BC$12,24))","v":""},{"$f":"IF($B47=\"\",\"\",\nVLOOKUP($C47,'2. Unit Testing Results'!$B$5:$BC$12,26))","v":""},{"$f":"IF($B47=\"\",\"\",\nVLOOKUP($C47,'2. Unit Testing Results'!$B$5:$BC$12,28))","v":""},{"$f":"IF($B47=\"\",\"\",'2. Unit Testing Results'!$P57)","v":""},{"$f":"IF($B47=\"\",\"\",'2. Unit Testing Results'!$U57)","v":""},{"$f":"IF($B47=\"\",\"\",\nVLOOKUP($C47,'2. Unit Testing Results'!$B$5:$BC$12,30))","v":""},{"$f":"IF($B47=\"\",\"\",\nVLOOKUP($C47,'2. Unit Testing Results'!$B$5:$BC$12,32))","v":""},{"$f":"IF($B47=\"\",\"\",\nVLOOKUP($C47,'2. Unit Testing Results'!$B$5:$BC$12,34))","v":""},{"$f":"IF($B47=\"\",\"\",\nVLOOKUP($C47,'2. Unit Testing Results'!$B$5:$BC$12,36))","v":""},{"$f":"IF($B47=\"\",\"\",\nVLOOKUP($C47,'2. Unit Testing Results'!$B$5:$BC$12,38))","v":""},{"$f":"IF($B47=\"\",\"\",\nVLOOKUP($C47,'2. Unit Testing Results'!$B$5:$BC$12,39))","v":""},{"$f":"IF($B47=\"\",\"\",\nVLOOKUP($C47,'2. Unit Testing Results'!$B$5:$BC$12,40))","v":""},{"$f":"IF($B47=\"\",\"\",\nVLOOKUP($C47,'2. Unit Testing Results'!$B$5:$BC$12,42))","v":""},{"$f":"IF($B47=\"\",\"\",\nVLOOKUP($C47,'2. Unit Testing Results'!$B$5:$BC$12,44))","v":""},{"$f":"IF($B47=\"\",\"\",\nVLOOKUP($C47,'2. Unit Testing Results'!$B$5:$BC$12,46))","v":""},{"$f":"IF($B47=\"\",\"\",\nVLOOKUP($C47,'2. Unit Testing Results'!$B$5:$BC$12,48))","v":""},{"$f":"IF($B47=\"\",\"\",\nVLOOKUP($C47,'2. Unit Testing Results'!$B$5:$BC$12,50))","v":""},{"$f":"IF($B47=\"\",\"\",\nVLOOKUP($C47,'2. Unit Testing Results'!$B$5:$BC$12,51))","v":""},{"$f":"IF($B47=\"\",\"\",\nVLOOKUP($C47,'2. Unit Testing Results'!$B$5:$BC$12,52))","v":""},{"$f":"IF($B47=\"\",\"\",\nVLOOKUP($C47,'2. Unit Testing Results'!$B$5:$BC$12,53))","v":""},{"$f":"IF($B47=\"\",\"\",\nVLOOKUP($C47,'2. Unit Testing Results'!$B$5:$BC$12,54))","v":""}]
[null,{"$f":"IF('2. Unit Testing Results'!$B58=\"\",\"\",'2. Unit Testing Results'!$B58)","v":""},{"$f":"IF('2. Unit Testing Results'!$C58=\"\",\"\",'2. Unit Testing Results'!$C58)","v":""},{"$f":"IF('2. Unit Testing Results'!$D58=\"\",\"\",'2. Unit Testing Results'!$D58)","v":""},{"$f":"IF('2. Unit Testing Results'!$E58=\"\",\"\",'2. Unit Testing Results'!$E58)","v":""},null,{"$f":"IF($B48=\"\",\"\",\n(('2. Unit Testing Results'!$W58)*60)\n/((VLOOKUP($C48,'2. Unit Testing Results'!$B$5:$R$12,4))*(VLOOKUP($C48,'2. Unit Testing Results'!$B$5:$R$12,6)))\n)","v":""},{"$f":"IF($B48=\"\",\"\",\nVLOOKUP($C48,'2. Unit Testing Results'!$B$5:$BC$12,19))","v":""},{"$f":"IF($B48=\"\",\"\",\nVLOOKUP($C48,'2. Unit Testing Results'!$B$5:$BC$12,20))","v":""},{"$f":"IF($B48=\"\",\"\",\nVLOOKUP($C48,'2. Unit Testing Results'!$B$5:$BC$12,22))","v":""},{"$f":"IF($B48=\"\",\"\",\nVLOOKUP($C48,'2. Unit Testing Results'!$B$5:$BC$12,24))","v":""},{"$f":"IF($B48=\"\",\"\",\nVLOOKUP($C48,'2. Unit Testing Results'!$B$5:$BC$12,26))","v":""},{"$f":"IF($B48=\"\",\"\",\nVLOOKUP($C48,'2. Unit Testing Results'!$B$5:$BC$12,28))","v":""},{"$f":"IF($B48=\"\",\"\",'2. Unit Testing Results'!$P58)","v":""},{"$f":"IF($B48=\"\",\"\",'2. Unit Testing Results'!$U58)","v":""},{"$f":"IF($B48=\"\",\"\",\nVLOOKUP($C48,'2. Unit Testing Results'!$B$5:$BC$12,30))","v":""},{"$f":"IF($B48=\"\",\"\",\nVLOOKUP($C48,'2. Unit Testing Results'!$B$5:$BC$12,32))","v":""},{"$f":"IF($B48=\"\",\"\",\nVLOOKUP($C48,'2. Unit Testing Results'!$B$5:$BC$12,34))","v":""},{"$f":"IF($B48=\"\",\"\",\nVLOOKUP($C48,'2. Unit Testing Results'!$B$5:$BC$12,36))","v":""},{"$f":"IF($B48=\"\",\"\",\nVLOOKUP($C48,'2. Unit Testing Results'!$B$5:$BC$12,38))","v":""},{"$f":"IF($B48=\"\",\"\",\nVLOOKUP($C48,'2. Unit Testing Results'!$B$5:$BC$12,39))","v":""},{"$f":"IF($B48=\"\",\"\",\nVLOOKUP($C48,'2. Unit Testing Results'!$B$5:$BC$12,40))","v":""},{"$f":"IF($B48=\"\",\"\",\nVLOOKUP($C48,'2. Unit Testing Results'!$B$5:$BC$12,42))","v":""},{"$f":"IF($B48=\"\",\"\",\nVLOOKUP($C48,'2. Unit Testing Results'!$B$5:$BC$12,44))","v":""},{"$f":"IF($B48=\"\",\"\",\nVLOOKUP($C48,'2. Unit Testing Results'!$B$5:$BC$12,46))","v":""},{"$f":"IF($B48=\"\",\"\",\nVLOOKUP($C48,'2. Unit Testing Results'!$B$5:$BC$12,48))","v":""},{"$f":"IF($B48=\"\",\"\",\nVLOOKUP($C48,'2. Unit Testing Results'!$B$5:$BC$12,50))","v":""},{"$f":"IF($B48=\"\",\"\",\nVLOOKUP($C48,'2. Unit Testing Results'!$B$5:$BC$12,51))","v":""},{"$f":"IF($B48=\"\",\"\",\nVLOOKUP($C48,'2. Unit Testing Results'!$B$5:$BC$12,52))","v":""},{"$f":"IF($B48=\"\",\"\",\nVLOOKUP($C48,'2. Unit Testing Results'!$B$5:$BC$12,53))","v":""},{"$f":"IF($B48=\"\",\"\",\nVLOOKUP($C48,'2. Unit Testing Results'!$B$5:$BC$12,54))","v":""}]
[null,{"$f":"IF('2. Unit Testing Results'!$B59=\"\",\"\",'2. Unit Testing Results'!$B59)","v":""},{"$f":"IF('2. Unit Testing Results'!$C59=\"\",\"\",'2. Unit Testing Results'!$C59)","v":""},{"$f":"IF('2. Unit Testing Results'!$D59=\"\",\"\",'2. Unit Testing Results'!$D59)","v":""},{"$f":"IF('2. Unit Testing Results'!$E59=\"\",\"\",'2. Unit Testing Results'!$E59)","v":""},null,{"$f":"IF($B49=\"\",\"\",\n(('2. Unit Testing Results'!$W59)*60)\n/((VLOOKUP($C49,'2. Unit Testing Results'!$B$5:$R$12,4))*(VLOOKUP($C49,'2. Unit Testing Results'!$B$5:$R$12,6)))\n)","v":""},{"$f":"IF($B49=\"\",\"\",\nVLOOKUP($C49,'2. Unit Testing Results'!$B$5:$BC$12,19))","v":""},{"$f":"IF($B49=\"\",\"\",\nVLOOKUP($C49,'2. Unit Testing Results'!$B$5:$BC$12,20))","v":""},{"$f":"IF($B49=\"\",\"\",\nVLOOKUP($C49,'2. Unit Testing Results'!$B$5:$BC$12,22))","v":""},{"$f":"IF($B49=\"\",\"\",\nVLOOKUP($C49,'2. Unit Testing Results'!$B$5:$BC$12,24))","v":""},{"$f":"IF($B49=\"\",\"\",\nVLOOKUP($C49,'2. Unit Testing Results'!$B$5:$BC$12,26))","v":""},{"$f":"IF($B49=\"\",\"\",\nVLOOKUP($C49,'2. Unit Testing Results'!$B$5:$BC$12,28))","v":""},{"$f":"IF($B49=\"\",\"\",'2. Unit Testing Results'!$P59)","v":""},{"$f":"IF($B49=\"\",\"\",'2. Unit Testing Results'!$U59)","v":""},{"$f":"IF($B49=\"\",\"\",\nVLOOKUP($C49,'2. Unit Testing Results'!$B$5:$BC$12,30))","v":""},{"$f":"IF($B49=\"\",\"\",\nVLOOKUP($C49,'2. Unit Testing Results'!$B$5:$BC$12,32))","v":""},{"$f":"IF($B49=\"\",\"\",\nVLOOKUP($C49,'2. Unit Testing Results'!$B$5:$BC$12,34))","v":""},{"$f":"IF($B49=\"\",\"\",\nVLOOKUP($C49,'2. Unit Testing Results'!$B$5:$BC$12,36))","v":""},{"$f":"IF($B49=\"\",\"\",\nVLOOKUP($C49,'2. Unit Testing Results'!$B$5:$BC$12,38))","v":""},{"$f":"IF($B49=\"\",\"\",\nVLOOKUP($C49,'2. Unit Testing Results'!$B$5:$BC$12,39))","v":""},{"$f":"IF($B49=\"\",\"\",\nVLOOKUP($C49,'2. Unit Testing Results'!$B$5:$BC$12,40))","v":""},{"$f":"IF($B49=\"\",\"\",\nVLOOKUP($C49,'2. Unit Testing Results'!$B$5:$BC$12,42))","v":""},{"$f":"IF($B49=\"\",\"\",\nVLOOKUP($C49,'2. Unit Testing Results'!$B$5:$BC$12,44))","v":""},{"$f":"IF($B49=\"\",\"\",\nVLOOKUP($C49,'2. Unit Testing Results'!$B$5:$BC$12,46))","v":""},{"$f":"IF($B49=\"\",\"\",\nVLOOKUP($C49,'2. Unit Testing Results'!$B$5:$BC$12,48))","v":""},{"$f":"IF($B49=\"\",\"\",\nVLOOKUP($C49,'2. Unit Testing Results'!$B$5:$BC$12,50))","v":""},{"$f":"IF($B49=\"\",\"\",\nVLOOKUP($C49,'2. Unit Testing Results'!$B$5:$BC$12,51))","v":""},{"$f":"IF($B49=\"\",\"\",\nVLOOKUP($C49,'2. Unit Testing Results'!$B$5:$BC$12,52))","v":""},{"$f":"IF($B49=\"\",\"\",\nVLOOKUP($C49,'2. Unit Testing Results'!$B$5:$BC$12,53))","v":""},{"$f":"IF($B49=\"\",\"\",\nVLOOKUP($C49,'2. Unit Testing Results'!$B$5:$BC$12,54))","v":""}]
[null,{"$f":"IF('2. Unit Testing Results'!$B60=\"\",\"\",'2. Unit Testing Results'!$B60)","v":""},{"$f":"IF('2. Unit Testing Results'!$C60=\"\",\"\",'2. Unit Testing Results'!$C60)","v":""},{"$f":"IF('2. Unit Testing Results'!$D60=\"\",\"\",'2. Unit Testing Results'!$D60)","v":""},{"$f":"IF('2. Unit Testing Results'!$E60=\"\",\"\",'2. Unit Testing Results'!$E60)","v":""},null,{"$f":"IF($B50=\"\",\"\",\n(('2. Unit Testing Results'!$W60)*60)\n/((VLOOKUP($C50,'2. Unit Testing Results'!$B$5:$R$12,4))*(VLOOKUP($C50,'2. Unit Testing Results'!$B$5:$R$12,6)))\n)","v":""},{"$f":"IF($B50=\"\",\"\",\nVLOOKUP($C50,'2. Unit Testing Results'!$B$5:$BC$12,19))","v":""},{"$f":"IF($B50=\"\",\"\",\nVLOOKUP($C50,'2. Unit Testing Results'!$B$5:$BC$12,20))","v":""},{"$f":"IF($B50=\"\",\"\",\nVLOOKUP($C50,'2. Unit Testing Results'!$B$5:$BC$12,22))","v":""},{"$f":"IF($B50=\"\",\"\",\nVLOOKUP($C50,'2. Unit Testing Results'!$B$5:$BC$12,24))","v":""},{"$f":"IF($B50=\"\",\"\",\nVLOOKUP($C50,'2. Unit Testing Results'!$B$5:$BC$12,26))","v":""},{"$f":"IF($B50=\"\",\"\",\nVLOOKUP($C50,'2. Unit Testing Results'!$B$5:$BC$12,28))","v":""},{"$f":"IF($B50=\"\",\"\",'2. Unit Testing Results'!$P60)","v":""},{"$f":"IF($B50=\"\",\"\",'2. Unit Testing Results'!$U60)","v":""},{"$f":"IF($B50=\"\",\"\",\nVLOOKUP($C50,'2. Unit Testing Results'!$B$5:$BC$12,30))","v":""},{"$f":"IF($B50=\"\",\"\",\nVLOOKUP($C50,'2. Unit Testing Results'!$B$5:$BC$12,32))","v":""},{"$f":"IF($B50=\"\",\"\",\nVLOOKUP($C50,'2. Unit Testing Results'!$B$5:$BC$12,34))","v":""},{"$f":"IF($B50=\"\",\"\",\nVLOOKUP($C50,'2. Unit Testing Results'!$B$5:$BC$12,36))","v":""},{"$f":"IF($B50=\"\",\"\",\nVLOOKUP($C50,'2. Unit Testing Results'!$B$5:$BC$12,38))","v":""},{"$f":"IF($B50=\"\",\"\",\nVLOOKUP($C50,'2. Unit Testing Results'!$B$5:$BC$12,39))","v":""},{"$f":"IF($B50=\"\",\"\",\nVLOOKUP($C50,'2. Unit Testing Results'!$B$5:$BC$12,40))","v":""},{"$f":"IF($B50=\"\",\"\",\nVLOOKUP($C50,'2. Unit Testing Results'!$B$5:$BC$12,42))","v":""},{"$f":"IF($B50=\"\",\"\",\nVLOOKUP($C50,'2. Unit Testing Results'!$B$5:$BC$12,44))","v":""},{"$f":"IF($B50=\"\",\"\",\nVLOOKUP($C50,'2. Unit Testing Results'!$B$5:$BC$12,46))","v":""},{"$f":"IF($B50=\"\",\"\",\nVLOOKUP($C50,'2. Unit Testing Results'!$B$5:$BC$12,48))","v":""},{"$f":"IF($B50=\"\",\"\",\nVLOOKUP($C50,'2. Unit Testing Results'!$B$5:$BC$12,50))","v":""},{"$f":"IF($B50=\"\",\"\",\nVLOOKUP($C50,'2. Unit Testing Results'!$B$5:$BC$12,51))","v":""},{"$f":"IF($B50=\"\",\"\",\nVLOOKUP($C50,'2. Unit Testing Results'!$B$5:$BC$12,52))","v":""},{"$f":"IF($B50=\"\",\"\",\nVLOOKUP($C50,'2. Unit Testing Results'!$B$5:$BC$12,53))","v":""},{"$f":"IF($B50=\"\",\"\",\nVLOOKUP($C50,'2. Unit Testing Results'!$B$5:$BC$12,54))","v":""}]
[null,{"$f":"IF('2. Unit Testing Results'!$B61=\"\",\"\",'2. Unit Testing Results'!$B61)","v":""},{"$f":"IF('2. Unit Testing Results'!$C61=\"\",\"\",'2. Unit Testing Results'!$C61)","v":""},{"$f":"IF('2. Unit Testing Results'!$D61=\"\",\"\",'2. Unit Testing Results'!$D61)","v":""},{"$f":"IF('2. Unit Testing Results'!$E61=\"\",\"\",'2. Unit Testing Results'!$E61)","v":""},null,{"$f":"IF($B51=\"\",\"\",\n(('2. Unit Testing Results'!$W61)*60)\n/((VLOOKUP($C51,'2. Unit Testing Results'!$B$5:$R$12,4))*(VLOOKUP($C51,'2. Unit Testing Results'!$B$5:$R$12,6)))\n)","v":""},{"$f":"IF($B51=\"\",\"\",\nVLOOKUP($C51,'2. Unit Testing Results'!$B$5:$BC$12,19))","v":""},{"$f":"IF($B51=\"\",\"\",\nVLOOKUP($C51,'2. Unit Testing Results'!$B$5:$BC$12,20))","v":""},{"$f":"IF($B51=\"\",\"\",\nVLOOKUP($C51,'2. Unit Testing Results'!$B$5:$BC$12,22))","v":""},{"$f":"IF($B51=\"\",\"\",\nVLOOKUP($C51,'2. Unit Testing Results'!$B$5:$BC$12,24))","v":""},{"$f":"IF($B51=\"\",\"\",\nVLOOKUP($C51,'2. Unit Testing Results'!$B$5:$BC$12,26))","v":""},{"$f":"IF($B51=\"\",\"\",\nVLOOKUP($C51,'2. Unit Testing Results'!$B$5:$BC$12,28))","v":""},{"$f":"IF($B51=\"\",\"\",'2. Unit Testing Results'!$P61)","v":""},{"$f":"IF($B51=\"\",\"\",'2. Unit Testing Results'!$U61)","v":""},{"$f":"IF($B51=\"\",\"\",\nVLOOKUP($C51,'2. Unit Testing Results'!$B$5:$BC$12,30))","v":""},{"$f":"IF($B51=\"\",\"\",\nVLOOKUP($C51,'2. Unit Testing Results'!$B$5:$BC$12,32))","v":""},{"$f":"IF($B51=\"\",\"\",\nVLOOKUP($C51,'2. Unit Testing Results'!$B$5:$BC$12,34))","v":""},{"$f":"IF($B51=\"\",\"\",\nVLOOKUP($C51,'2. Unit Testing Results'!$B$5:$BC$12,36))","v":""},{"$f":"IF($B51=\"\",\"\",\nVLOOKUP($C51,'2. Unit Testing Results'!$B$5:$BC$12,38))","v":""},{"$f":"IF($B51=\"\",\"\",\nVLOOKUP($C51,'2. Unit Testing Results'!$B$5:$BC$12,39))","v":""},{"$f":"IF($B51=\"\",\"\",\nVLOOKUP($C51,'2. Unit Testing Results'!$B$5:$BC$12,40))","v":""},{"$f":"IF($B51=\"\",\"\",\nVLOOKUP($C51,'2. Unit Testing Results'!$B$5:$BC$12,42))","v":""},{"$f":"IF($B51=\"\",\"\",\nVLOOKUP($C51,'2. Unit Testing Results'!$B$5:$BC$12,44))","v":""},{"$f":"IF($B51=\"\",\"\",\nVLOOKUP($C51,'2. Unit Testing Results'!$B$5:$BC$12,46))","v":""},{"$f":"IF($B51=\"\",\"\",\nVLOOKUP($C51,'2. Unit Testing Results'!$B$5:$BC$12,48))","v":""},{"$f":"IF($B51=\"\",\"\",\nVLOOKUP($C51,'2. Unit Testing Results'!$B$5:$BC$12,50))","v":""},{"$f":"IF($B51=\"\",\"\",\nVLOOKUP($C51,'2. Unit Testing Results'!$B$5:$BC$12,51))","v":""},{"$f":"IF($B51=\"\",\"\",\nVLOOKUP($C51,'2. Unit Testing Results'!$B$5:$BC$12,52))","v":""},{"$f":"IF($B51=\"\",\"\",\nVLOOKUP($C51,'2. Unit Testing Results'!$B$5:$BC$12,53))","v":""},{"$f":"IF($B51=\"\",\"\",\nVLOOKUP($C51,'2. Unit Testing Results'!$B$5:$BC$12,54))","v":""}]
[null,{"$f":"IF('2. Unit Testing Results'!$B62=\"\",\"\",'2. Unit Testing Results'!$B62)","v":""},{"$f":"IF('2. Unit Testing Results'!$C62=\"\",\"\",'2. Unit Testing Results'!$C62)","v":""},{"$f":"IF('2. Unit Testing Results'!$D62=\"\",\"\",'2. Unit Testing Results'!$D62)","v":""},{"$f":"IF('2. Unit Testing Results'!$E62=\"\",\"\",'2. Unit Testing Results'!$E62)","v":""},null,{"$f":"IF($B52=\"\",\"\",\n(('2. Unit Testing Results'!$W62)*60)\n/((VLOOKUP($C52,'2. Unit Testing Results'!$B$5:$R$12,4))*(VLOOKUP($C52,'2. Unit Testing Results'!$B$5:$R$12,6)))\n)","v":""},{"$f":"IF($B52=\"\",\"\",\nVLOOKUP($C52,'2. Unit Testing Results'!$B$5:$BC$12,19))","v":""},{"$f":"IF($B52=\"\",\"\",\nVLOOKUP($C52,'2. Unit Testing Results'!$B$5:$BC$12,20))","v":""},{"$f":"IF($B52=\"\",\"\",\nVLOOKUP($C52,'2. Unit Testing Results'!$B$5:$BC$12,22))","v":""},{"$f":"IF($B52=\"\",\"\",\nVLOOKUP($C52,'2. Unit Testing Results'!$B$5:$BC$12,24))","v":""},{"$f":"IF($B52=\"\",\"\",\nVLOOKUP($C52,'2. Unit Testing Results'!$B$5:$BC$12,26))","v":""},{"$f":"IF($B52=\"\",\"\",\nVLOOKUP($C52,'2. Unit Testing Results'!$B$5:$BC$12,28))","v":""},{"$f":"IF($B52=\"\",\"\",'2. Unit Testing Results'!$P62)","v":""},{"$f":"IF($B52=\"\",\"\",'2. Unit Testing Results'!$U62)","v":""},{"$f":"IF($B52=\"\",\"\",\nVLOOKUP($C52,'2. Unit Testing Results'!$B$5:$BC$12,30))","v":""},{"$f":"IF($B52=\"\",\"\",\nVLOOKUP($C52,'2. Unit Testing Results'!$B$5:$BC$12,32))","v":""},{"$f":"IF($B52=\"\",\"\",\nVLOOKUP($C52,'2. Unit Testing Results'!$B$5:$BC$12,34))","v":""},{"$f":"IF($B52=\"\",\"\",\nVLOOKUP($C52,'2. Unit Testing Results'!$B$5:$BC$12,36))","v":""},{"$f":"IF($B52=\"\",\"\",\nVLOOKUP($C52,'2. Unit Testing Results'!$B$5:$BC$12,38))","v":""},{"$f":"IF($B52=\"\",\"\",\nVLOOKUP($C52,'2. Unit Testing Results'!$B$5:$BC$12,39))","v":""},{"$f":"IF($B52=\"\",\"\",\nVLOOKUP($C52,'2. Unit Testing Results'!$B$5:$BC$12,40))","v":""},{"$f":"IF($B52=\"\",\"\",\nVLOOKUP($C52,'2. Unit Testing Results'!$B$5:$BC$12,42))","v":""},{"$f":"IF($B52=\"\",\"\",\nVLOOKUP($C52,'2. Unit Testing Results'!$B$5:$BC$12,44))","v":""},{"$f":"IF($B52=\"\",\"\",\nVLOOKUP($C52,'2. Unit Testing Results'!$B$5:$BC$12,46))","v":""},{"$f":"IF($B52=\"\",\"\",\nVLOOKUP($C52,'2. Unit Testing Results'!$B$5:$BC$12,48))","v":""},{"$f":"IF($B52=\"\",\"\",\nVLOOKUP($C52,'2. Unit Testing Results'!$B$5:$BC$12,50))","v":""},{"$f":"IF($B52=\"\",\"\",\nVLOOKUP($C52,'2. Unit Testing Results'!$B$5:$BC$12,51))","v":""},{"$f":"IF($B52=\"\",\"\",\nVLOOKUP($C52,'2. Unit Testing Results'!$B$5:$BC$12,52))","v":""},{"$f":"IF($B52=\"\",\"\",\nVLOOKUP($C52,'2. Unit Testing Results'!$B$5:$BC$12,53))","v":""},{"$f":"IF($B52=\"\",\"\",\nVLOOKUP($C52,'2. Unit Testing Results'!$B$5:$BC$12,54))","v":""}]
[null,{"$f":"IF('2. Unit Testing Results'!$B63=\"\",\"\",'2. Unit Testing Results'!$B63)","v":""},{"$f":"IF('2. Unit Testing Results'!$C63=\"\",\"\",'2. Unit Testing Results'!$C63)","v":""},{"$f":"IF('2. Unit Testing Results'!$D63=\"\",\"\",'2. Unit Testing Results'!$D63)","v":""},{"$f":"IF('2. Unit Testing Results'!$E63=\"\",\"\",'2. Unit Testing Results'!$E63)","v":""},null,{"$f":"IF($B53=\"\",\"\",\n(('2. Unit Testing Results'!$W63)*60)\n/((VLOOKUP($C53,'2. Unit Testing Results'!$B$5:$R$12,4))*(VLOOKUP($C53,'2. Unit Testing Results'!$B$5:$R$12,6)))\n)","v":""},{"$f":"IF($B53=\"\",\"\",\nVLOOKUP($C53,'2. Unit Testing Results'!$B$5:$BC$12,19))","v":""},{"$f":"IF($B53=\"\",\"\",\nVLOOKUP($C53,'2. Unit Testing Results'!$B$5:$BC$12,20))","v":""},{"$f":"IF($B53=\"\",\"\",\nVLOOKUP($C53,'2. Unit Testing Results'!$B$5:$BC$12,22))","v":""},{"$f":"IF($B53=\"\",\"\",\nVLOOKUP($C53,'2. Unit Testing Results'!$B$5:$BC$12,24))","v":""},{"$f":"IF($B53=\"\",\"\",\nVLOOKUP($C53,'2. Unit Testing Results'!$B$5:$BC$12,26))","v":""},{"$f":"IF($B53=\"\",\"\",\nVLOOKUP($C53,'2. Unit Testing Results'!$B$5:$BC$12,28))","v":""},{"$f":"IF($B53=\"\",\"\",'2. Unit Testing Results'!$P63)","v":""},{"$f":"IF($B53=\"\",\"\",'2. Unit Testing Results'!$U63)","v":""},{"$f":"IF($B53=\"\",\"\",\nVLOOKUP($C53,'2. Unit Testing Results'!$B$5:$BC$12,30))","v":""},{"$f":"IF($B53=\"\",\"\",\nVLOOKUP($C53,'2. Unit Testing Results'!$B$5:$BC$12,32))","v":""},{"$f":"IF($B53=\"\",\"\",\nVLOOKUP($C53,'2. Unit Testing Results'!$B$5:$BC$12,34))","v":""},{"$f":"IF($B53=\"\",\"\",\nVLOOKUP($C53,'2. Unit Testing Results'!$B$5:$BC$12,36))","v":""},{"$f":"IF($B53=\"\",\"\",\nVLOOKUP($C53,'2. Unit Testing Results'!$B$5:$BC$12,38))","v":""},{"$f":"IF($B53=\"\",\"\",\nVLOOKUP($C53,'2. Unit Testing Results'!$B$5:$BC$12,39))","v":""},{"$f":"IF($B53=\"\",\"\",\nVLOOKUP($C53,'2. Unit Testing Results'!$B$5:$BC$12,40))","v":""},{"$f":"IF($B53=\"\",\"\",\nVLOOKUP($C53,'2. Unit Testing Results'!$B$5:$BC$12,42))","v":""},{"$f":"IF($B53=\"\",\"\",\nVLOOKUP($C53,'2. Unit Testing Results'!$B$5:$BC$12,44))","v":""},{"$f":"IF($B53=\"\",\"\",\nVLOOKUP($C53,'2. Unit Testing Results'!$B$5:$BC$12,46))","v":""},{"$f":"IF($B53=\"\",\"\",\nVLOOKUP($C53,'2. Unit Testing Results'!$B$5:$BC$12,48))","v":""},{"$f":"IF($B53=\"\",\"\",\nVLOOKUP($C53,'2. Unit Testing Results'!$B$5:$BC$12,50))","v":""},{"$f":"IF($B53=\"\",\"\",\nVLOOKUP($C53,'2. Unit Testing Results'!$B$5:$BC$12,51))","v":""},{"$f":"IF($B53=\"\",\"\",\nVLOOKUP($C53,'2. Unit Testing Results'!$B$5:$BC$12,52))","v":""},{"$f":"IF($B53=\"\",\"\",\nVLOOKUP($C53,'2. Unit Testing Results'!$B$5:$BC$12,53))","v":""},{"$f":"IF($B53=\"\",\"\",\nVLOOKUP($C53,'2. Unit Testing Results'!$B$5:$BC$12,54))","v":""}]
[null,{"$f":"IF('2. Unit Testing Results'!$B64=\"\",\"\",'2. Unit Testing Results'!$B64)","v":""},{"$f":"IF('2. Unit Testing Results'!$C64=\"\",\"\",'2. Unit Testing Results'!$C64)","v":""},{"$f":"IF('2. Unit Testing Results'!$D64=\"\",\"\",'2. Unit Testing Results'!$D64)","v":""},{"$f":"IF('2. Unit Testing Results'!$E64=\"\",\"\",'2. Unit Testing Results'!$E64)","v":""},null,{"$f":"IF($B54=\"\",\"\",\n(('2. Unit Testing Results'!$W64)*60)\n/((VLOOKUP($C54,'2. Unit Testing Results'!$B$5:$R$12,4))*(VLOOKUP($C54,'2. Unit Testing Results'!$B$5:$R$12,6)))\n)","v":""},{"$f":"IF($B54=\"\",\"\",\nVLOOKUP($C54,'2. Unit Testing Results'!$B$5:$BC$12,19))","v":""},{"$f":"IF($B54=\"\",\"\",\nVLOOKUP($C54,'2. Unit Testing Results'!$B$5:$BC$12,20))","v":""},{"$f":"IF($B54=\"\",\"\",\nVLOOKUP($C54,'2. Unit Testing Results'!$B$5:$BC$12,22))","v":""},{"$f":"IF($B54=\"\",\"\",\nVLOOKUP($C54,'2. Unit Testing Results'!$B$5:$BC$12,24))","v":""},{"$f":"IF($B54=\"\",\"\",\nVLOOKUP($C54,'2. Unit Testing Results'!$B$5:$BC$12,26))","v":""},{"$f":"IF($B54=\"\",\"\",\nVLOOKUP($C54,'2. Unit Testing Results'!$B$5:$BC$12,28))","v":""},{"$f":"IF($B54=\"\",\"\",'2. Unit Testing Results'!$P64)","v":""},{"$f":"IF($B54=\"\",\"\",'2. Unit Testing Results'!$U64)","v":""},{"$f":"IF($B54=\"\",\"\",\nVLOOKUP($C54,'2. Unit Testing Results'!$B$5:$BC$12,30))","v":""},{"$f":"IF($B54=\"\",\"\",\nVLOOKUP($C54,'2. Unit Testing Results'!$B$5:$BC$12,32))","v":""},{"$f":"IF($B54=\"\",\"\",\nVLOOKUP($C54,'2. Unit Testing Results'!$B$5:$BC$12,34))","v":""},{"$f":"IF($B54=\"\",\"\",\nVLOOKUP($C54,'2. Unit Testing Results'!$B$5:$BC$12,36))","v":""},{"$f":"IF($B54=\"\",\"\",\nVLOOKUP($C54,'2. Unit Testing Results'!$B$5:$BC$12,38))","v":""},{"$f":"IF($B54=\"\",\"\",\nVLOOKUP($C54,'2. Unit Testing Results'!$B$5:$BC$12,39))","v":""},{"$f":"IF($B54=\"\",\"\",\nVLOOKUP($C54,'2. Unit Testing Results'!$B$5:$BC$12,40))","v":""},{"$f":"IF($B54=\"\",\"\",\nVLOOKUP($C54,'2. Unit Testing Results'!$B$5:$BC$12,42))","v":""},{"$f":"IF($B54=\"\",\"\",\nVLOOKUP($C54,'2. Unit Testing Results'!$B$5:$BC$12,44))","v":""},{"$f":"IF($B54=\"\",\"\",\nVLOOKUP($C54,'2. Unit Testing Results'!$B$5:$BC$12,46))","v":""},{"$f":"IF($B54=\"\",\"\",\nVLOOKUP($C54,'2. Unit Testing Results'!$B$5:$BC$12,48))","v":""},{"$f":"IF($B54=\"\",\"\",\nVLOOKUP($C54,'2. Unit Testing Results'!$B$5:$BC$12,50))","v":""},{"$f":"IF($B54=\"\",\"\",\nVLOOKUP($C54,'2. Unit Testing Results'!$B$5:$BC$12,51))","v":""},{"$f":"IF($B54=\"\",\"\",\nVLOOKUP($C54,'2. Unit Testing Results'!$B$5:$BC$12,52))","v":""},{"$f":"IF($B54=\"\",\"\",\nVLOOKUP($C54,'2. Unit Testing Results'!$B$5:$BC$12,53))","v":""},{"$f":"IF($B54=\"\",\"\",\nVLOOKUP($C54,'2. Unit Testing Results'!$B$5:$BC$12,54))","v":""}]
[null,{"$f":"IF('2. Unit Testing Results'!$B65=\"\",\"\",'2. Unit Testing Results'!$B65)","v":""},{"$f":"IF('2. Unit Testing Results'!$C65=\"\",\"\",'2. Unit Testing Results'!$C65)","v":""},{"$f":"IF('2. Unit Testing Results'!$D65=\"\",\"\",'2. Unit Testing Results'!$D65)","v":""},{"$f":"IF('2. Unit Testing Results'!$E65=\"\",\"\",'2. Unit Testing Results'!$E65)","v":""},null,{"$f":"IF($B55=\"\",\"\",\n(('2. Unit Testing Results'!$W65)*60)\n/((VLOOKUP($C55,'2. Unit Testing Results'!$B$5:$R$12,4))*(VLOOKUP($C55,'2. Unit Testing Results'!$B$5:$R$12,6)))\n)","v":""},{"$f":"IF($B55=\"\",\"\",\nVLOOKUP($C55,'2. Unit Testing Results'!$B$5:$BC$12,19))","v":""},{"$f":"IF($B55=\"\",\"\",\nVLOOKUP($C55,'2. Unit Testing Results'!$B$5:$BC$12,20))","v":""},{"$f":"IF($B55=\"\",\"\",\nVLOOKUP($C55,'2. Unit Testing Results'!$B$5:$BC$12,22))","v":""},{"$f":"IF($B55=\"\",\"\",\nVLOOKUP($C55,'2. Unit Testing Results'!$B$5:$BC$12,24))","v":""},{"$f":"IF($B55=\"\",\"\",\nVLOOKUP($C55,'2. Unit Testing Results'!$B$5:$BC$12,26))","v":""},{"$f":"IF($B55=\"\",\"\",\nVLOOKUP($C55,'2. Unit Testing Results'!$B$5:$BC$12,28))","v":""},{"$f":"IF($B55=\"\",\"\",'2. Unit Testing Results'!$P65)","v":""},{"$f":"IF($B55=\"\",\"\",'2. Unit Testing Results'!$U65)","v":""},{"$f":"IF($B55=\"\",\"\",\nVLOOKUP($C55,'2. Unit Testing Results'!$B$5:$BC$12,30))","v":""},{"$f":"IF($B55=\"\",\"\",\nVLOOKUP($C55,'2. Unit Testing Results'!$B$5:$BC$12,32))","v":""},{"$f":"IF($B55=\"\",\"\",\nVLOOKUP($C55,'2. Unit Testing Results'!$B$5:$BC$12,34))","v":""},{"$f":"IF($B55=\"\",\"\",\nVLOOKUP($C55,'2. Unit Testing Results'!$B$5:$BC$12,36))","v":""},{"$f":"IF($B55=\"\",\"\",\nVLOOKUP($C55,'2. Unit Testing Results'!$B$5:$BC$12,38))","v":""},{"$f":"IF($B55=\"\",\"\",\nVLOOKUP($C55,'2. Unit Testing Results'!$B$5:$BC$12,39))","v":""},{"$f":"IF($B55=\"\",\"\",\nVLOOKUP($C55,'2. Unit Testing Results'!$B$5:$BC$12,40))","v":""},{"$f":"IF($B55=\"\",\"\",\nVLOOKUP($C55,'2. Unit Testing Results'!$B$5:$BC$12,42))","v":""},{"$f":"IF($B55=\"\",\"\",\nVLOOKUP($C55,'2. Unit Testing Results'!$B$5:$BC$12,44))","v":""},{"$f":"IF($B55=\"\",\"\",\nVLOOKUP($C55,'2. Unit Testing Results'!$B$5:$BC$12,46))","v":""},{"$f":"IF($B55=\"\",\"\",\nVLOOKUP($C55,'2. Unit Testing Results'!$B$5:$BC$12,48))","v":""},{"$f":"IF($B55=\"\",\"\",\nVLOOKUP($C55,'2. Unit Testing Results'!$B$5:$BC$12,50))","v":""},{"$f":"IF($B55=\"\",\"\",\nVLOOKUP($C55,'2. Unit Testing Results'!$B$5:$BC$12,51))","v":""},{"$f":"IF($B55=\"\",\"\",\nVLOOKUP($C55,'2. Unit Testing Results'!$B$5:$BC$12,52))","v":""},{"$f":"IF($B55=\"\",\"\",\nVLOOKUP($C55,'2. Unit Testing Results'!$B$5:$BC$12,53))","v":""},{"$f":"IF($B55=\"\",\"\",\nVLOOKUP($C55,'2. Unit Testing Results'!$B$5:$BC$12,54))","v":""}]
[null,{"$f":"IF('2. Unit Testing Results'!$B66=\"\",\"\",'2. Unit Testing Results'!$B66)","v":""},{"$f":"IF('2. Unit Testing Results'!$C66=\"\",\"\",'2. Unit Testing Results'!$C66)","v":""},{"$f":"IF('2. Unit Testing Results'!$D66=\"\",\"\",'2. Unit Testing Results'!$D66)","v":""},{"$f":"IF('2. Unit Testing Results'!$E66=\"\",\"\",'2. Unit Testing Results'!$E66)","v":""},null,{"$f":"IF($B56=\"\",\"\",\n(('2. Unit Testing Results'!$W66)*60)\n/((VLOOKUP($C56,'2. Unit Testing Results'!$B$5:$R$12,4))*(VLOOKUP($C56,'2. Unit Testing Results'!$B$5:$R$12,6)))\n)","v":""},{"$f":"IF($B56=\"\",\"\",\nVLOOKUP($C56,'2. Unit Testing Results'!$B$5:$BC$12,19))","v":""},{"$f":"IF($B56=\"\",\"\",\nVLOOKUP($C56,'2. Unit Testing Results'!$B$5:$BC$12,20))","v":""},{"$f":"IF($B56=\"\",\"\",\nVLOOKUP($C56,'2. Unit Testing Results'!$B$5:$BC$12,22))","v":""},{"$f":"IF($B56=\"\",\"\",\nVLOOKUP($C56,'2. Unit Testing Results'!$B$5:$BC$12,24))","v":""},{"$f":"IF($B56=\"\",\"\",\nVLOOKUP($C56,'2. Unit Testing Results'!$B$5:$BC$12,26))","v":""},{"$f":"IF($B56=\"\",\"\",\nVLOOKUP($C56,'2. Unit Testing Results'!$B$5:$BC$12,28))","v":""},{"$f":"IF($B56=\"\",\"\",'2. Unit Testing Results'!$P66)","v":""},{"$f":"IF($B56=\"\",\"\",'2. Unit Testing Results'!$U66)","v":""},{"$f":"IF($B56=\"\",\"\",\nVLOOKUP($C56,'2. Unit Testing Results'!$B$5:$BC$12,30))","v":""},{"$f":"IF($B56=\"\",\"\",\nVLOOKUP($C56,'2. Unit Testing Results'!$B$5:$BC$12,32))","v":""},{"$f":"IF($B56=\"\",\"\",\nVLOOKUP($C56,'2. Unit Testing Results'!$B$5:$BC$12,34))","v":""},{"$f":"IF($B56=\"\",\"\",\nVLOOKUP($C56,'2. Unit Testing Results'!$B$5:$BC$12,36))","v":""},{"$f":"IF($B56=\"\",\"\",\nVLOOKUP($C56,'2. Unit Testing Results'!$B$5:$BC$12,38))","v":""},{"$f":"IF($B56=\"\",\"\",\nVLOOKUP($C56,'2. Unit Testing Results'!$B$5:$BC$12,39))","v":""},{"$f":"IF($B56=\"\",\"\",\nVLOOKUP($C56,'2. Unit Testing Results'!$B$5:$BC$12,40))","v":""},{"$f":"IF($B56=\"\",\"\",\nVLOOKUP($C56,'2. Unit Testing Results'!$B$5:$BC$12,42))","v":""},{"$f":"IF($B56=\"\",\"\",\nVLOOKUP($C56,'2. Unit Testing Results'!$B$5:$BC$12,44))","v":""},{"$f":"IF($B56=\"\",\"\",\nVLOOKUP($C56,'2. Unit Testing Results'!$B$5:$BC$12,46))","v":""},{"$f":"IF($B56=\"\",\"\",\nVLOOKUP($C56,'2. Unit Testing Results'!$B$5:$BC$12,48))","v":""},{"$f":"IF($B56=\"\",\"\",\nVLOOKUP($C56,'2. Unit Testing Results'!$B$5:$BC$12,50))","v":""},{"$f":"IF($B56=\"\",\"\",\nVLOOKUP($C56,'2. Unit Testing Results'!$B$5:$BC$12,51))","v":""},{"$f":"IF($B56=\"\",\"\",\nVLOOKUP($C56,'2. Unit Testing Results'!$B$5:$BC$12,52))","v":""},{"$f":"IF($B56=\"\",\"\",\nVLOOKUP($C56,'2. Unit Testing Results'!$B$5:$BC$12,53))","v":""},{"$f":"IF($B56=\"\",\"\",\nVLOOKUP($C56,'2. Unit Testing Results'!$B$5:$BC$12,54))","v":""}]
[null,{"$f":"IF('2. Unit Testing Results'!$B67=\"\",\"\",'2. Unit Testing Results'!$B67)","v":""},{"$f":"IF('2. Unit Testing Results'!$C67=\"\",\"\",'2. Unit Testing Results'!$C67)","v":""},{"$f":"IF('2. Unit Testing Results'!$D67=\"\",\"\",'2. Unit Testing Results'!$D67)","v":""},{"$f":"IF('2. Unit Testing Results'!$E67=\"\",\"\",'2. Unit Testing Results'!$E67)","v":""},null,{"$f":"IF($B57=\"\",\"\",\n(('2. Unit Testing Results'!$W67)*60)\n/((VLOOKUP($C57,'2. Unit Testing Results'!$B$5:$R$12,4))*(VLOOKUP($C57,'2. Unit Testing Results'!$B$5:$R$12,6)))\n)","v":""},{"$f":"IF($B57=\"\",\"\",\nVLOOKUP($C57,'2. Unit Testing Results'!$B$5:$BC$12,19))","v":""},{"$f":"IF($B57=\"\",\"\",\nVLOOKUP($C57,'2. Unit Testing Results'!$B$5:$BC$12,20))","v":""},{"$f":"IF($B57=\"\",\"\",\nVLOOKUP($C57,'2. Unit Testing Results'!$B$5:$BC$12,22))","v":""},{"$f":"IF($B57=\"\",\"\",\nVLOOKUP($C57,'2. Unit Testing Results'!$B$5:$BC$12,24))","v":""},{"$f":"IF($B57=\"\",\"\",\nVLOOKUP($C57,'2. Unit Testing Results'!$B$5:$BC$12,26))","v":""},{"$f":"IF($B57=\"\",\"\",\nVLOOKUP($C57,'2. Unit Testing Results'!$B$5:$BC$12,28))","v":""},{"$f":"IF($B57=\"\",\"\",'2. Unit Testing Results'!$P67)","v":""},{"$f":"IF($B57=\"\",\"\",'2. Unit Testing Results'!$U67)","v":""},{"$f":"IF($B57=\"\",\"\",\nVLOOKUP($C57,'2. Unit Testing Results'!$B$5:$BC$12,30))","v":""},{"$f":"IF($B57=\"\",\"\",\nVLOOKUP($C57,'2. Unit Testing Results'!$B$5:$BC$12,32))","v":""},{"$f":"IF($B57=\"\",\"\",\nVLOOKUP($C57,'2. Unit Testing Results'!$B$5:$BC$12,34))","v":""},{"$f":"IF($B57=\"\",\"\",\nVLOOKUP($C57,'2. Unit Testing Results'!$B$5:$BC$12,36))","v":""},{"$f":"IF($B57=\"\",\"\",\nVLOOKUP($C57,'2. Unit Testing Results'!$B$5:$BC$12,38))","v":""},{"$f":"IF($B57=\"\",\"\",\nVLOOKUP($C57,'2. Unit Testing Results'!$B$5:$BC$12,39))","v":""},{"$f":"IF($B57=\"\",\"\",\nVLOOKUP($C57,'2. Unit Testing Results'!$B$5:$BC$12,40))","v":""},{"$f":"IF($B57=\"\",\"\",\nVLOOKUP($C57,'2. Unit Testing Results'!$B$5:$BC$12,42))","v":""},{"$f":"IF($B57=\"\",\"\",\nVLOOKUP($C57,'2. Unit Testing Results'!$B$5:$BC$12,44))","v":""},{"$f":"IF($B57=\"\",\"\",\nVLOOKUP($C57,'2. Unit Testing Results'!$B$5:$BC$12,46))","v":""},{"$f":"IF($B57=\"\",\"\",\nVLOOKUP($C57,'2. Unit Testing Results'!$B$5:$BC$12,48))","v":""},{"$f":"IF($B57=\"\",\"\",\nVLOOKUP($C57,'2. Unit Testing Results'!$B$5:$BC$12,50))","v":""},{"$f":"IF($B57=\"\",\"\",\nVLOOKUP($C57,'2. Unit Testing Results'!$B$5:$BC$12,51))","v":""},{"$f":"IF($B57=\"\",\"\",\nVLOOKUP($C57,'2. Unit Testing Results'!$B$5:$BC$12,52))","v":""},{"$f":"IF($B57=\"\",\"\",\nVLOOKUP($C57,'2. Unit Testing Results'!$B$5:$BC$12,53))","v":""},{"$f":"IF($B57=\"\",\"\",\nVLOOKUP($C57,'2. Unit Testing Results'!$B$5:$BC$12,54))","v":""}]
[null,{"$f":"IF('2. Unit Testing Results'!$B68=\"\",\"\",'2. Unit Testing Results'!$B68)","v":""},{"$f":"IF('2. Unit Testing Results'!$C68=\"\",\"\",'2. Unit Testing Results'!$C68)","v":""},{"$f":"IF('2. Unit Testing Results'!$D68=\"\",\"\",'2. Unit Testing Results'!$D68)","v":""},{"$f":"IF('2. Unit Testing Results'!$E68=\"\",\"\",'2. Unit Testing Results'!$E68)","v":""},null,{"$f":"IF($B58=\"\",\"\",\n(('2. Unit Testing Results'!$W68)*60)\n/((VLOOKUP($C58,'2. Unit Testing Results'!$B$5:$R$12,4))*(VLOOKUP($C58,'2. Unit Testing Results'!$B$5:$R$12,6)))\n)","v":""},{"$f":"IF($B58=\"\",\"\",\nVLOOKUP($C58,'2. Unit Testing Results'!$B$5:$BC$12,19))","v":""},{"$f":"IF($B58=\"\",\"\",\nVLOOKUP($C58,'2. Unit Testing Results'!$B$5:$BC$12,20))","v":""},{"$f":"IF($B58=\"\",\"\",\nVLOOKUP($C58,'2. Unit Testing Results'!$B$5:$BC$12,22))","v":""},{"$f":"IF($B58=\"\",\"\",\nVLOOKUP($C58,'2. Unit Testing Results'!$B$5:$BC$12,24))","v":""},{"$f":"IF($B58=\"\",\"\",\nVLOOKUP($C58,'2. Unit Testing Results'!$B$5:$BC$12,26))","v":""},{"$f":"IF($B58=\"\",\"\",\nVLOOKUP($C58,'2. Unit Testing Results'!$B$5:$BC$12,28))","v":""},{"$f":"IF($B58=\"\",\"\",'2. Unit Testing Results'!$P68)","v":""},{"$f":"IF($B58=\"\",\"\",'2. Unit Testing Results'!$U68)","v":""},{"$f":"IF($B58=\"\",\"\",\nVLOOKUP($C58,'2. Unit Testing Results'!$B$5:$BC$12,30))","v":""},{"$f":"IF($B58=\"\",\"\",\nVLOOKUP($C58,'2. Unit Testing Results'!$B$5:$BC$12,32))","v":""},{"$f":"IF($B58=\"\",\"\",\nVLOOKUP($C58,'2. Unit Testing Results'!$B$5:$BC$12,34))","v":""},{"$f":"IF($B58=\"\",\"\",\nVLOOKUP($C58,'2. Unit Testing Results'!$B$5:$BC$12,36))","v":""},{"$f":"IF($B58=\"\",\"\",\nVLOOKUP($C58,'2. Unit Testing Results'!$B$5:$BC$12,38))","v":""},{"$f":"IF($B58=\"\",\"\",\nVLOOKUP($C58,'2. Unit Testing Results'!$B$5:$BC$12,39))","v":""},{"$f":"IF($B58=\"\",\"\",\nVLOOKUP($C58,'2. Unit Testing Results'!$B$5:$BC$12,40))","v":""},{"$f":"IF($B58=\"\",\"\",\nVLOOKUP($C58,'2. Unit Testing Results'!$B$5:$BC$12,42))","v":""},{"$f":"IF($B58=\"\",\"\",\nVLOOKUP($C58,'2. Unit Testing Results'!$B$5:$BC$12,44))","v":""},{"$f":"IF($B58=\"\",\"\",\nVLOOKUP($C58,'2. Unit Testing Results'!$B$5:$BC$12,46))","v":""},{"$f":"IF($B58=\"\",\"\",\nVLOOKUP($C58,'2. Unit Testing Results'!$B$5:$BC$12,48))","v":""},{"$f":"IF($B58=\"\",\"\",\nVLOOKUP($C58,'2. Unit Testing Results'!$B$5:$BC$12,50))","v":""},{"$f":"IF($B58=\"\",\"\",\nVLOOKUP($C58,'2. Unit Testing Results'!$B$5:$BC$12,51))","v":""},{"$f":"IF($B58=\"\",\"\",\nVLOOKUP($C58,'2. Unit Testing Results'!$B$5:$BC$12,52))","v":""},{"$f":"IF($B58=\"\",\"\",\nVLOOKUP($C58,'2. Unit Testing Results'!$B$5:$BC$12,53))","v":""},{"$f":"IF($B58=\"\",\"\",\nVLOOKUP($C58,'2. Unit Testing Results'!$B$5:$BC$12,54))","v":""}]
[null,{"$f":"IF('2. Unit Testing Results'!$B69=\"\",\"\",'2. Unit Testing Results'!$B69)","v":""},{"$f":"IF('2. Unit Testing Results'!$C69=\"\",\"\",'2. Unit Testing Results'!$C69)","v":""},{"$f":"IF('2. Unit Testing Results'!$D69=\"\",\"\",'2. Unit Testing Results'!$D69)","v":""},{"$f":"IF('2. Unit Testing Results'!$E69=\"\",\"\",'2. Unit Testing Results'!$E69)","v":""},null,{"$f":"IF($B59=\"\",\"\",\n(('2. Unit Testing Results'!$W69)*60)\n/((VLOOKUP($C59,'2. Unit Testing Results'!$B$5:$R$12,4))*(VLOOKUP($C59,'2. Unit Testing Results'!$B$5:$R$12,6)))\n)","v":""},{"$f":"IF($B59=\"\",\"\",\nVLOOKUP($C59,'2. Unit Testing Results'!$B$5:$BC$12,19))","v":""},{"$f":"IF($B59=\"\",\"\",\nVLOOKUP($C59,'2. Unit Testing Results'!$B$5:$BC$12,20))","v":""},{"$f":"IF($B59=\"\",\"\",\nVLOOKUP($C59,'2. Unit Testing Results'!$B$5:$BC$12,22))","v":""},{"$f":"IF($B59=\"\",\"\",\nVLOOKUP($C59,'2. Unit Testing Results'!$B$5:$BC$12,24))","v":""},{"$f":"IF($B59=\"\",\"\",\nVLOOKUP($C59,'2. Unit Testing Results'!$B$5:$BC$12,26))","v":""},{"$f":"IF($B59=\"\",\"\",\nVLOOKUP($C59,'2. Unit Testing Results'!$B$5:$BC$12,28))","v":""},{"$f":"IF($B59=\"\",\"\",'2. Unit Testing Results'!$P69)","v":""},{"$f":"IF($B59=\"\",\"\",'2. Unit Testing Results'!$U69)","v":""},{"$f":"IF($B59=\"\",\"\",\nVLOOKUP($C59,'2. Unit Testing Results'!$B$5:$BC$12,30))","v":""},{"$f":"IF($B59=\"\",\"\",\nVLOOKUP($C59,'2. Unit Testing Results'!$B$5:$BC$12,32))","v":""},{"$f":"IF($B59=\"\",\"\",\nVLOOKUP($C59,'2. Unit Testing Results'!$B$5:$BC$12,34))","v":""},{"$f":"IF($B59=\"\",\"\",\nVLOOKUP($C59,'2. Unit Testing Results'!$B$5:$BC$12,36))","v":""},{"$f":"IF($B59=\"\",\"\",\nVLOOKUP($C59,'2. Unit Testing Results'!$B$5:$BC$12,38))","v":""},{"$f":"IF($B59=\"\",\"\",\nVLOOKUP($C59,'2. Unit Testing Results'!$B$5:$BC$12,39))","v":""},{"$f":"IF($B59=\"\",\"\",\nVLOOKUP($C59,'2. Unit Testing Results'!$B$5:$BC$12,40))","v":""},{"$f":"IF($B59=\"\",\"\",\nVLOOKUP($C59,'2. Unit Testing Results'!$B$5:$BC$12,42))","v":""},{"$f":"IF($B59=\"\",\"\",\nVLOOKUP($C59,'2. Unit Testing Results'!$B$5:$BC$12,44))","v":""},{"$f":"IF($B59=\"\",\"\",\nVLOOKUP($C59,'2. Unit Testing Results'!$B$5:$BC$12,46))","v":""},{"$f":"IF($B59=\"\",\"\",\nVLOOKUP($C59,'2. Unit Testing Results'!$B$5:$BC$12,48))","v":""},{"$f":"IF($B59=\"\",\"\",\nVLOOKUP($C59,'2. Unit Testing Results'!$B$5:$BC$12,50))","v":""},{"$f":"IF($B59=\"\",\"\",\nVLOOKUP($C59,'2. Unit Testing Results'!$B$5:$BC$12,51))","v":""},{"$f":"IF($B59=\"\",\"\",\nVLOOKUP($C59,'2. Unit Testing Results'!$B$5:$BC$12,52))","v":""},{"$f":"IF($B59=\"\",\"\",\nVLOOKUP($C59,'2. Unit Testing Results'!$B$5:$BC$12,53))","v":""},{"$f":"IF($B59=\"\",\"\",\nVLOOKUP($C59,'2. Unit Testing Results'!$B$5:$BC$12,54))","v":""}]
[null,{"$f":"IF('2. Unit Testing Results'!$B70=\"\",\"\",'2. Unit Testing Results'!$B70)","v":""},{"$f":"IF('2. Unit Testing Results'!$C70=\"\",\"\",'2. Unit Testing Results'!$C70)","v":""},{"$f":"IF('2. Unit Testing Results'!$D70=\"\",\"\",'2. Unit Testing Results'!$D70)","v":""},{"$f":"IF('2. Unit Testing Results'!$E70=\"\",\"\",'2. Unit Testing Results'!$E70)","v":""},null,{"$f":"IF($B60=\"\",\"\",\n(('2. Unit Testing Results'!$W70)*60)\n/((VLOOKUP($C60,'2. Unit Testing Results'!$B$5:$R$12,4))*(VLOOKUP($C60,'2. Unit Testing Results'!$B$5:$R$12,6)))\n)","v":""},{"$f":"IF($B60=\"\",\"\",\nVLOOKUP($C60,'2. Unit Testing Results'!$B$5:$BC$12,19))","v":""},{"$f":"IF($B60=\"\",\"\",\nVLOOKUP($C60,'2. Unit Testing Results'!$B$5:$BC$12,20))","v":""},{"$f":"IF($B60=\"\",\"\",\nVLOOKUP($C60,'2. Unit Testing Results'!$B$5:$BC$12,22))","v":""},{"$f":"IF($B60=\"\",\"\",\nVLOOKUP($C60,'2. Unit Testing Results'!$B$5:$BC$12,24))","v":""},{"$f":"IF($B60=\"\",\"\",\nVLOOKUP($C60,'2. Unit Testing Results'!$B$5:$BC$12,26))","v":""},{"$f":"IF($B60=\"\",\"\",\nVLOOKUP($C60,'2. Unit Testing Results'!$B$5:$BC$12,28))","v":""},{"$f":"IF($B60=\"\",\"\",'2. Unit Testing Results'!$P70)","v":""},{"$f":"IF($B60=\"\",\"\",'2. Unit Testing Results'!$U70)","v":""},{"$f":"IF($B60=\"\",\"\",\nVLOOKUP($C60,'2. Unit Testing Results'!$B$5:$BC$12,30))","v":""},{"$f":"IF($B60=\"\",\"\",\nVLOOKUP($C60,'2. Unit Testing Results'!$B$5:$BC$12,32))","v":""},{"$f":"IF($B60=\"\",\"\",\nVLOOKUP($C60,'2. Unit Testing Results'!$B$5:$BC$12,34))","v":""},{"$f":"IF($B60=\"\",\"\",\nVLOOKUP($C60,'2. Unit Testing Results'!$B$5:$BC$12,36))","v":""},{"$f":"IF($B60=\"\",\"\",\nVLOOKUP($C60,'2. Unit Testing Results'!$B$5:$BC$12,38))","v":""},{"$f":"IF($B60=\"\",\"\",\nVLOOKUP($C60,'2. Unit Testing Results'!$B$5:$BC$12,39))","v":""},{"$f":"IF($B60=\"\",\"\",\nVLOOKUP($C60,'2. Unit Testing Results'!$B$5:$BC$12,40))","v":""},{"$f":"IF($B60=\"\",\"\",\nVLOOKUP($C60,'2. Unit Testing Results'!$B$5:$BC$12,42))","v":""},{"$f":"IF($B60=\"\",\"\",\nVLOOKUP($C60,'2. Unit Testing Results'!$B$5:$BC$12,44))","v":""},{"$f":"IF($B60=\"\",\"\",\nVLOOKUP($C60,'2. Unit Testing Results'!$B$5:$BC$12,46))","v":""},{"$f":"IF($B60=\"\",\"\",\nVLOOKUP($C60,'2. Unit Testing Results'!$B$5:$BC$12,48))","v":""},{"$f":"IF($B60=\"\",\"\",\nVLOOKUP($C60,'2. Unit Testing Results'!$B$5:$BC$12,50))","v":""},{"$f":"IF($B60=\"\",\"\",\nVLOOKUP($C60,'2. Unit Testing Results'!$B$5:$BC$12,51))","v":""},{"$f":"IF($B60=\"\",\"\",\nVLOOKUP($C60,'2. Unit Testing Results'!$B$5:$BC$12,52))","v":""},{"$f":"IF($B60=\"\",\"\",\nVLOOKUP($C60,'2. Unit Testing Results'!$B$5:$BC$12,53))","v":""},{"$f":"IF($B60=\"\",\"\",\nVLOOKUP($C60,'2. Unit Testing Results'!$B$5:$BC$12,54))","v":""}]
[null,{"$f":"IF('2. Unit Testing Results'!$B71=\"\",\"\",'2. Unit Testing Results'!$B71)","v":""},{"$f":"IF('2. Unit Testing Results'!$C71=\"\",\"\",'2. Unit Testing Results'!$C71)","v":""},{"$f":"IF('2. Unit Testing Results'!$D71=\"\",\"\",'2. Unit Testing Results'!$D71)","v":""},{"$f":"IF('2. Unit Testing Results'!$E71=\"\",\"\",'2. Unit Testing Results'!$E71)","v":""},null,{"$f":"IF($B61=\"\",\"\",\n(('2. Unit Testing Results'!$W71)*60)\n/((VLOOKUP($C61,'2. Unit Testing Results'!$B$5:$R$12,4))*(VLOOKUP($C61,'2. Unit Testing Results'!$B$5:$R$12,6)))\n)","v":""},{"$f":"IF($B61=\"\",\"\",\nVLOOKUP($C61,'2. Unit Testing Results'!$B$5:$BC$12,19))","v":""},{"$f":"IF($B61=\"\",\"\",\nVLOOKUP($C61,'2. Unit Testing Results'!$B$5:$BC$12,20))","v":""},{"$f":"IF($B61=\"\",\"\",\nVLOOKUP($C61,'2. Unit Testing Results'!$B$5:$BC$12,22))","v":""},{"$f":"IF($B61=\"\",\"\",\nVLOOKUP($C61,'2. Unit Testing Results'!$B$5:$BC$12,24))","v":""},{"$f":"IF($B61=\"\",\"\",\nVLOOKUP($C61,'2. Unit Testing Results'!$B$5:$BC$12,26))","v":""},{"$f":"IF($B61=\"\",\"\",\nVLOOKUP($C61,'2. Unit Testing Results'!$B$5:$BC$12,28))","v":""},{"$f":"IF($B61=\"\",\"\",'2. Unit Testing Results'!$P71)","v":""},{"$f":"IF($B61=\"\",\"\",'2. Unit Testing Results'!$U71)","v":""},{"$f":"IF($B61=\"\",\"\",\nVLOOKUP($C61,'2. Unit Testing Results'!$B$5:$BC$12,30))","v":""},{"$f":"IF($B61=\"\",\"\",\nVLOOKUP($C61,'2. Unit Testing Results'!$B$5:$BC$12,32))","v":""},{"$f":"IF($B61=\"\",\"\",\nVLOOKUP($C61,'2. Unit Testing Results'!$B$5:$BC$12,34))","v":""},{"$f":"IF($B61=\"\",\"\",\nVLOOKUP($C61,'2. Unit Testing Results'!$B$5:$BC$12,36))","v":""},{"$f":"IF($B61=\"\",\"\",\nVLOOKUP($C61,'2. Unit Testing Results'!$B$5:$BC$12,38))","v":""},{"$f":"IF($B61=\"\",\"\",\nVLOOKUP($C61,'2. Unit Testing Results'!$B$5:$BC$12,39))","v":""},{"$f":"IF($B61=\"\",\"\",\nVLOOKUP($C61,'2. Unit Testing Results'!$B$5:$BC$12,40))","v":""},{"$f":"IF($B61=\"\",\"\",\nVLOOKUP($C61,'2. Unit Testing Results'!$B$5:$BC$12,42))","v":""},{"$f":"IF($B61=\"\",\"\",\nVLOOKUP($C61,'2. Unit Testing Results'!$B$5:$BC$12,44))","v":""},{"$f":"IF($B61=\"\",\"\",\nVLOOKUP($C61,'2. Unit Testing Results'!$B$5:$BC$12,46))","v":""},{"$f":"IF($B61=\"\",\"\",\nVLOOKUP($C61,'2. Unit Testing Results'!$B$5:$BC$12,48))","v":""},{"$f":"IF($B61=\"\",\"\",\nVLOOKUP($C61,'2. Unit Testing Results'!$B$5:$BC$12,50))","v":""},{"$f":"IF($B61=\"\",\"\",\nVLOOKUP($C61,'2. Unit Testing Results'!$B$5:$BC$12,51))","v":""},{"$f":"IF($B61=\"\",\"\",\nVLOOKUP($C61,'2. Unit Testing Results'!$B$5:$BC$12,52))","v":""},{"$f":"IF($B61=\"\",\"\",\nVLOOKUP($C61,'2. Unit Testing Results'!$B$5:$BC$12,53))","v":""},{"$f":"IF($B61=\"\",\"\",\nVLOOKUP($C61,'2. Unit Testing Results'!$B$5:$BC$12,54))","v":""}]
[null,{"$f":"IF('2. Unit Testing Results'!$B72=\"\",\"\",'2. Unit Testing Results'!$B72)","v":""},{"$f":"IF('2. Unit Testing Results'!$C72=\"\",\"\",'2. Unit Testing Results'!$C72)","v":""},{"$f":"IF('2. Unit Testing Results'!$D72=\"\",\"\",'2. Unit Testing Results'!$D72)","v":""},{"$f":"IF('2. Unit Testing Results'!$E72=\"\",\"\",'2. Unit Testing Results'!$E72)","v":""},null,{"$f":"IF($B62=\"\",\"\",\n(('2. Unit Testing Results'!$W72)*60)\n/((VLOOKUP($C62,'2. Unit Testing Results'!$B$5:$R$12,4))*(VLOOKUP($C62,'2. Unit Testing Results'!$B$5:$R$12,6)))\n)","v":""},{"$f":"IF($B62=\"\",\"\",\nVLOOKUP($C62,'2. Unit Testing Results'!$B$5:$BC$12,19))","v":""},{"$f":"IF($B62=\"\",\"\",\nVLOOKUP($C62,'2. Unit Testing Results'!$B$5:$BC$12,20))","v":""},{"$f":"IF($B62=\"\",\"\",\nVLOOKUP($C62,'2. Unit Testing Results'!$B$5:$BC$12,22))","v":""},{"$f":"IF($B62=\"\",\"\",\nVLOOKUP($C62,'2. Unit Testing Results'!$B$5:$BC$12,24))","v":""},{"$f":"IF($B62=\"\",\"\",\nVLOOKUP($C62,'2. Unit Testing Results'!$B$5:$BC$12,26))","v":""},{"$f":"IF($B62=\"\",\"\",\nVLOOKUP($C62,'2. Unit Testing Results'!$B$5:$BC$12,28))","v":""},{"$f":"IF($B62=\"\",\"\",'2. Unit Testing Results'!$P72)","v":""},{"$f":"IF($B62=\"\",\"\",'2. Unit Testing Results'!$U72)","v":""},{"$f":"IF($B62=\"\",\"\",\nVLOOKUP($C62,'2. Unit Testing Results'!$B$5:$BC$12,30))","v":""},{"$f":"IF($B62=\"\",\"\",\nVLOOKUP($C62,'2. Unit Testing Results'!$B$5:$BC$12,32))","v":""},{"$f":"IF($B62=\"\",\"\",\nVLOOKUP($C62,'2. Unit Testing Results'!$B$5:$BC$12,34))","v":""},{"$f":"IF($B62=\"\",\"\",\nVLOOKUP($C62,'2. Unit Testing Results'!$B$5:$BC$12,36))","v":""},{"$f":"IF($B62=\"\",\"\",\nVLOOKUP($C62,'2. Unit Testing Results'!$B$5:$BC$12,38))","v":""},{"$f":"IF($B62=\"\",\"\",\nVLOOKUP($C62,'2. Unit Testing Results'!$B$5:$BC$12,39))","v":""},{"$f":"IF($B62=\"\",\"\",\nVLOOKUP($C62,'2. Unit Testing Results'!$B$5:$BC$12,40))","v":""},{"$f":"IF($B62=\"\",\"\",\nVLOOKUP($C62,'2. Unit Testing Results'!$B$5:$BC$12,42))","v":""},{"$f":"IF($B62=\"\",\"\",\nVLOOKUP($C62,'2. Unit Testing Results'!$B$5:$BC$12,44))","v":""},{"$f":"IF($B62=\"\",\"\",\nVLOOKUP($C62,'2. Unit Testing Results'!$B$5:$BC$12,46))","v":""},{"$f":"IF($B62=\"\",\"\",\nVLOOKUP($C62,'2. Unit Testing Results'!$B$5:$BC$12,48))","v":""},{"$f":"IF($B62=\"\",\"\",\nVLOOKUP($C62,'2. Unit Testing Results'!$B$5:$BC$12,50))","v":""},{"$f":"IF($B62=\"\",\"\",\nVLOOKUP($C62,'2. Unit Testing Results'!$B$5:$BC$12,51))","v":""},{"$f":"IF($B62=\"\",\"\",\nVLOOKUP($C62,'2. Unit Testing Results'!$B$5:$BC$12,52))","v":""},{"$f":"IF($B62=\"\",\"\",\nVLOOKUP($C62,'2. Unit Testing Results'!$B$5:$BC$12,53))","v":""},{"$f":"IF($B62=\"\",\"\",\nVLOOKUP($C62,'2. Unit Testing Results'!$B$5:$BC$12,54))","v":""}]
[null,{"$f":"IF('2. Unit Testing Results'!$B73=\"\",\"\",'2. Unit Testing Results'!$B73)","v":""},{"$f":"IF('2. Unit Testing Results'!$C73=\"\",\"\",'2. Unit Testing Results'!$C73)","v":""},{"$f":"IF('2. Unit Testing Results'!$D73=\"\",\"\",'2. Unit Testing Results'!$D73)","v":""},{"$f":"IF('2. Unit Testing Results'!$E73=\"\",\"\",'2. Unit Testing Results'!$E73)","v":""},null,{"$f":"IF($B63=\"\",\"\",\n(('2. Unit Testing Results'!$W73)*60)\n/((VLOOKUP($C63,'2. Unit Testing Results'!$B$5:$R$12,4))*(VLOOKUP($C63,'2. Unit Testing Results'!$B$5:$R$12,6)))\n)","v":""},{"$f":"IF($B63=\"\",\"\",\nVLOOKUP($C63,'2. Unit Testing Results'!$B$5:$BC$12,19))","v":""},{"$f":"IF($B63=\"\",\"\",\nVLOOKUP($C63,'2. Unit Testing Results'!$B$5:$BC$12,20))","v":""},{"$f":"IF($B63=\"\",\"\",\nVLOOKUP($C63,'2. Unit Testing Results'!$B$5:$BC$12,22))","v":""},{"$f":"IF($B63=\"\",\"\",\nVLOOKUP($C63,'2. Unit Testing Results'!$B$5:$BC$12,24))","v":""},{"$f":"IF($B63=\"\",\"\",\nVLOOKUP($C63,'2. Unit Testing Results'!$B$5:$BC$12,26))","v":""},{"$f":"IF($B63=\"\",\"\",\nVLOOKUP($C63,'2. Unit Testing Results'!$B$5:$BC$12,28))","v":""},{"$f":"IF($B63=\"\",\"\",'2. Unit Testing Results'!$P73)","v":""},{"$f":"IF($B63=\"\",\"\",'2. Unit Testing Results'!$U73)","v":""},{"$f":"IF($B63=\"\",\"\",\nVLOOKUP($C63,'2. Unit Testing Results'!$B$5:$BC$12,30))","v":""},{"$f":"IF($B63=\"\",\"\",\nVLOOKUP($C63,'2. Unit Testing Results'!$B$5:$BC$12,32))","v":""},{"$f":"IF($B63=\"\",\"\",\nVLOOKUP($C63,'2. Unit Testing Results'!$B$5:$BC$12,34))","v":""},{"$f":"IF($B63=\"\",\"\",\nVLOOKUP($C63,'2. Unit Testing Results'!$B$5:$BC$12,36))","v":""},{"$f":"IF($B63=\"\",\"\",\nVLOOKUP($C63,'2. Unit Testing Results'!$B$5:$BC$12,38))","v":""},{"$f":"IF($B63=\"\",\"\",\nVLOOKUP($C63,'2. Unit Testing Results'!$B$5:$BC$12,39))","v":""},{"$f":"IF($B63=\"\",\"\",\nVLOOKUP($C63,'2. Unit Testing Results'!$B$5:$BC$12,40))","v":""},{"$f":"IF($B63=\"\",\"\",\nVLOOKUP($C63,'2. Unit Testing Results'!$B$5:$BC$12,42))","v":""},{"$f":"IF($B63=\"\",\"\",\nVLOOKUP($C63,'2. Unit Testing Results'!$B$5:$BC$12,44))","v":""},{"$f":"IF($B63=\"\",\"\",\nVLOOKUP($C63,'2. Unit Testing Results'!$B$5:$BC$12,46))","v":""},{"$f":"IF($B63=\"\",\"\",\nVLOOKUP($C63,'2. Unit Testing Results'!$B$5:$BC$12,48))","v":""},{"$f":"IF($B63=\"\",\"\",\nVLOOKUP($C63,'2. Unit Testing Results'!$B$5:$BC$12,50))","v":""},{"$f":"IF($B63=\"\",\"\",\nVLOOKUP($C63,'2. Unit Testing Results'!$B$5:$BC$12,51))","v":""},{"$f":"IF($B63=\"\",\"\",\nVLOOKUP($C63,'2. Unit Testing Results'!$B$5:$BC$12,52))","v":""},{"$f":"IF($B63=\"\",\"\",\nVLOOKUP($C63,'2. Unit Testing Results'!$B$5:$BC$12,53))","v":""},{"$f":"IF($B63=\"\",\"\",\nVLOOKUP($C63,'2. Unit Testing Results'!$B$5:$BC$12,54))","v":""}]
[null,{"$f":"IF('2. Unit Testing Results'!$B74=\"\",\"\",'2. Unit Testing Results'!$B74)","v":""},{"$f":"IF('2. Unit Testing Results'!$C74=\"\",\"\",'2. Unit Testing Results'!$C74)","v":""},{"$f":"IF('2. Unit Testing Results'!$D74=\"\",\"\",'2. Unit Testing Results'!$D74)","v":""},{"$f":"IF('2. Unit Testing Results'!$E74=\"\",\"\",'2. Unit Testing Results'!$E74)","v":""},null,{"$f":"IF($B64=\"\",\"\",\n(('2. Unit Testing Results'!$W74)*60)\n/((VLOOKUP($C64,'2. Unit Testing Results'!$B$5:$R$12,4))*(VLOOKUP($C64,'2. Unit Testing Results'!$B$5:$R$12,6)))\n)","v":""},{"$f":"IF($B64=\"\",\"\",\nVLOOKUP($C64,'2. Unit Testing Results'!$B$5:$BC$12,19))","v":""},{"$f":"IF($B64=\"\",\"\",\nVLOOKUP($C64,'2. Unit Testing Results'!$B$5:$BC$12,20))","v":""},{"$f":"IF($B64=\"\",\"\",\nVLOOKUP($C64,'2. Unit Testing Results'!$B$5:$BC$12,22))","v":""},{"$f":"IF($B64=\"\",\"\",\nVLOOKUP($C64,'2. Unit Testing Results'!$B$5:$BC$12,24))","v":""},{"$f":"IF($B64=\"\",\"\",\nVLOOKUP($C64,'2. Unit Testing Results'!$B$5:$BC$12,26))","v":""},{"$f":"IF($B64=\"\",\"\",\nVLOOKUP($C64,'2. Unit Testing Results'!$B$5:$BC$12,28))","v":""},{"$f":"IF($B64=\"\",\"\",'2. Unit Testing Results'!$P74)","v":""},{"$f":"IF($B64=\"\",\"\",'2. Unit Testing Results'!$U74)","v":""},{"$f":"IF($B64=\"\",\"\",\nVLOOKUP($C64,'2. Unit Testing Results'!$B$5:$BC$12,30))","v":""},{"$f":"IF($B64=\"\",\"\",\nVLOOKUP($C64,'2. Unit Testing Results'!$B$5:$BC$12,32))","v":""},{"$f":"IF($B64=\"\",\"\",\nVLOOKUP($C64,'2. Unit Testing Results'!$B$5:$BC$12,34))","v":""},{"$f":"IF($B64=\"\",\"\",\nVLOOKUP($C64,'2. Unit Testing Results'!$B$5:$BC$12,36))","v":""},{"$f":"IF($B64=\"\",\"\",\nVLOOKUP($C64,'2. Unit Testing Results'!$B$5:$BC$12,38))","v":""},{"$f":"IF($B64=\"\",\"\",\nVLOOKUP($C64,'2. Unit Testing Results'!$B$5:$BC$12,39))","v":""},{"$f":"IF($B64=\"\",\"\",\nVLOOKUP($C64,'2. Unit Testing Results'!$B$5:$BC$12,40))","v":""},{"$f":"IF($B64=\"\",\"\",\nVLOOKUP($C64,'2. Unit Testing Results'!$B$5:$BC$12,42))","v":""},{"$f":"IF($B64=\"\",\"\",\nVLOOKUP($C64,'2. Unit Testing Results'!$B$5:$BC$12,44))","v":""},{"$f":"IF($B64=\"\",\"\",\nVLOOKUP($C64,'2. Unit Testing Results'!$B$5:$BC$12,46))","v":""},{"$f":"IF($B64=\"\",\"\",\nVLOOKUP($C64,'2. Unit Testing Results'!$B$5:$BC$12,48))","v":""},{"$f":"IF($B64=\"\",\"\",\nVLOOKUP($C64,'2. Unit Testing Results'!$B$5:$BC$12,50))","v":""},{"$f":"IF($B64=\"\",\"\",\nVLOOKUP($C64,'2. Unit Testing Results'!$B$5:$BC$12,51))","v":""},{"$f":"IF($B64=\"\",\"\",\nVLOOKUP($C64,'2. Unit Testing Results'!$B$5:$BC$12,52))","v":""},{"$f":"IF($B64=\"\",\"\",\nVLOOKUP($C64,'2. Unit Testing Results'!$B$5:$BC$12,53))","v":""},{"$f":"IF($B64=\"\",\"\",\nVLOOKUP($C64,'2. Unit Testing Results'!$B$5:$BC$12,54))","v":""}]
[null,{"$f":"IF('2. Unit Testing Results'!$B75=\"\",\"\",'2. Unit Testing Results'!$B75)","v":""},{"$f":"IF('2. Unit Testing Results'!$C75=\"\",\"\",'2. Unit Testing Results'!$C75)","v":""},{"$f":"IF('2. Unit Testing Results'!$D75=\"\",\"\",'2. Unit Testing Results'!$D75)","v":""},{"$f":"IF('2. Unit Testing Results'!$E75=\"\",\"\",'2. Unit Testing Results'!$E75)","v":""},null,{"$f":"IF($B65=\"\",\"\",\n(('2. Unit Testing Results'!$W75)*60)\n/((VLOOKUP($C65,'2. Unit Testing Results'!$B$5:$R$12,4))*(VLOOKUP($C65,'2. Unit Testing Results'!$B$5:$R$12,6)))\n)","v":""},{"$f":"IF($B65=\"\",\"\",\nVLOOKUP($C65,'2. Unit Testing Results'!$B$5:$BC$12,19))","v":""},{"$f":"IF($B65=\"\",\"\",\nVLOOKUP($C65,'2. Unit Testing Results'!$B$5:$BC$12,20))","v":""},{"$f":"IF($B65=\"\",\"\",\nVLOOKUP($C65,'2. Unit Testing Results'!$B$5:$BC$12,22))","v":""},{"$f":"IF($B65=\"\",\"\",\nVLOOKUP($C65,'2. Unit Testing Results'!$B$5:$BC$12,24))","v":""},{"$f":"IF($B65=\"\",\"\",\nVLOOKUP($C65,'2. Unit Testing Results'!$B$5:$BC$12,26))","v":""},{"$f":"IF($B65=\"\",\"\",\nVLOOKUP($C65,'2. Unit Testing Results'!$B$5:$BC$12,28))","v":""},{"$f":"IF($B65=\"\",\"\",'2. Unit Testing Results'!$P75)","v":""},{"$f":"IF($B65=\"\",\"\",'2. Unit Testing Results'!$U75)","v":""},{"$f":"IF($B65=\"\",\"\",\nVLOOKUP($C65,'2. Unit Testing Results'!$B$5:$BC$12,30))","v":""},{"$f":"IF($B65=\"\",\"\",\nVLOOKUP($C65,'2. Unit Testing Results'!$B$5:$BC$12,32))","v":""},{"$f":"IF($B65=\"\",\"\",\nVLOOKUP($C65,'2. Unit Testing Results'!$B$5:$BC$12,34))","v":""},{"$f":"IF($B65=\"\",\"\",\nVLOOKUP($C65,'2. Unit Testing Results'!$B$5:$BC$12,36))","v":""},{"$f":"IF($B65=\"\",\"\",\nVLOOKUP($C65,'2. Unit Testing Results'!$B$5:$BC$12,38))","v":""},{"$f":"IF($B65=\"\",\"\",\nVLOOKUP($C65,'2. Unit Testing Results'!$B$5:$BC$12,39))","v":""},{"$f":"IF($B65=\"\",\"\",\nVLOOKUP($C65,'2. Unit Testing Results'!$B$5:$BC$12,40))","v":""},{"$f":"IF($B65=\"\",\"\",\nVLOOKUP($C65,'2. Unit Testing Results'!$B$5:$BC$12,42))","v":""},{"$f":"IF($B65=\"\",\"\",\nVLOOKUP($C65,'2. Unit Testing Results'!$B$5:$BC$12,44))","v":""},{"$f":"IF($B65=\"\",\"\",\nVLOOKUP($C65,'2. Unit Testing Results'!$B$5:$BC$12,46))","v":""},{"$f":"IF($B65=\"\",\"\",\nVLOOKUP($C65,'2. Unit Testing Results'!$B$5:$BC$12,48))","v":""},{"$f":"IF($B65=\"\",\"\",\nVLOOKUP($C65,'2. Unit Testing Results'!$B$5:$BC$12,50))","v":""},{"$f":"IF($B65=\"\",\"\",\nVLOOKUP($C65,'2. Unit Testing Results'!$B$5:$BC$12,51))","v":""},{"$f":"IF($B65=\"\",\"\",\nVLOOKUP($C65,'2. Unit Testing Results'!$B$5:$BC$12,52))","v":""},{"$f":"IF($B65=\"\",\"\",\nVLOOKUP($C65,'2. Unit Testing Results'!$B$5:$BC$12,53))","v":""},{"$f":"IF($B65=\"\",\"\",\nVLOOKUP($C65,'2. Unit Testing Results'!$B$5:$BC$12,54))","v":""}]
[null,{"$f":"IF('2. Unit Testing Results'!$B76=\"\",\"\",'2. Unit Testing Results'!$B76)","v":""},{"$f":"IF('2. Unit Testing Results'!$C76=\"\",\"\",'2. Unit Testing Results'!$C76)","v":""},{"$f":"IF('2. Unit Testing Results'!$D76=\"\",\"\",'2. Unit Testing Results'!$D76)","v":""},{"$f":"IF('2. Unit Testing Results'!$E76=\"\",\"\",'2. Unit Testing Results'!$E76)","v":""},null,{"$f":"IF($B66=\"\",\"\",\n(('2. Unit Testing Results'!$W76)*60)\n/((VLOOKUP($C66,'2. Unit Testing Results'!$B$5:$R$12,4))*(VLOOKUP($C66,'2. Unit Testing Results'!$B$5:$R$12,6)))\n)","v":""},{"$f":"IF($B66=\"\",\"\",\nVLOOKUP($C66,'2. Unit Testing Results'!$B$5:$BC$12,19))","v":""},{"$f":"IF($B66=\"\",\"\",\nVLOOKUP($C66,'2. Unit Testing Results'!$B$5:$BC$12,20))","v":""},{"$f":"IF($B66=\"\",\"\",\nVLOOKUP($C66,'2. Unit Testing Results'!$B$5:$BC$12,22))","v":""},{"$f":"IF($B66=\"\",\"\",\nVLOOKUP($C66,'2. Unit Testing Results'!$B$5:$BC$12,24))","v":""},{"$f":"IF($B66=\"\",\"\",\nVLOOKUP($C66,'2. Unit Testing Results'!$B$5:$BC$12,26))","v":""},{"$f":"IF($B66=\"\",\"\",\nVLOOKUP($C66,'2. Unit Testing Results'!$B$5:$BC$12,28))","v":""},{"$f":"IF($B66=\"\",\"\",'2. Unit Testing Results'!$P76)","v":""},{"$f":"IF($B66=\"\",\"\",'2. Unit Testing Results'!$U76)","v":""},{"$f":"IF($B66=\"\",\"\",\nVLOOKUP($C66,'2. Unit Testing Results'!$B$5:$BC$12,30))","v":""},{"$f":"IF($B66=\"\",\"\",\nVLOOKUP($C66,'2. Unit Testing Results'!$B$5:$BC$12,32))","v":""},{"$f":"IF($B66=\"\",\"\",\nVLOOKUP($C66,'2. Unit Testing Results'!$B$5:$BC$12,34))","v":""},{"$f":"IF($B66=\"\",\"\",\nVLOOKUP($C66,'2. Unit Testing Results'!$B$5:$BC$12,36))","v":""},{"$f":"IF($B66=\"\",\"\",\nVLOOKUP($C66,'2. Unit Testing Results'!$B$5:$BC$12,38))","v":""},{"$f":"IF($B66=\"\",\"\",\nVLOOKUP($C66,'2. Unit Testing Results'!$B$5:$BC$12,39))","v":""},{"$f":"IF($B66=\"\",\"\",\nVLOOKUP($C66,'2. Unit Testing Results'!$B$5:$BC$12,40))","v":""},{"$f":"IF($B66=\"\",\"\",\nVLOOKUP($C66,'2. Unit Testing Results'!$B$5:$BC$12,42))","v":""},{"$f":"IF($B66=\"\",\"\",\nVLOOKUP($C66,'2. Unit Testing Results'!$B$5:$BC$12,44))","v":""},{"$f":"IF($B66=\"\",\"\",\nVLOOKUP($C66,'2. Unit Testing Results'!$B$5:$BC$12,46))","v":""},{"$f":"IF($B66=\"\",\"\",\nVLOOKUP($C66,'2. Unit Testing Results'!$B$5:$BC$12,48))","v":""},{"$f":"IF($B66=\"\",\"\",\nVLOOKUP($C66,'2. Unit Testing Results'!$B$5:$BC$12,50))","v":""},{"$f":"IF($B66=\"\",\"\",\nVLOOKUP($C66,'2. Unit Testing Results'!$B$5:$BC$12,51))","v":""},{"$f":"IF($B66=\"\",\"\",\nVLOOKUP($C66,'2. Unit Testing Results'!$B$5:$BC$12,52))","v":""},{"$f":"IF($B66=\"\",\"\",\nVLOOKUP($C66,'2. Unit Testing Results'!$B$5:$BC$12,53))","v":""},{"$f":"IF($B66=\"\",\"\",\nVLOOKUP($C66,'2. Unit Testing Results'!$B$5:$BC$12,54))","v":""}]
[null,{"$f":"IF('2. Unit Testing Results'!$B77=\"\",\"\",'2. Unit Testing Results'!$B77)","v":""},{"$f":"IF('2. Unit Testing Results'!$C77=\"\",\"\",'2. Unit Testing Results'!$C77)","v":""},{"$f":"IF('2. Unit Testing Results'!$D77=\"\",\"\",'2. Unit Testing Results'!$D77)","v":""},{"$f":"IF('2. Unit Testing Results'!$E77=\"\",\"\",'2. Unit Testing Results'!$E77)","v":""},null,{"$f":"IF($B67=\"\",\"\",\n(('2. Unit Testing Results'!$W77)*60)\n/((VLOOKUP($C67,'2. Unit Testing Results'!$B$5:$R$12,4))*(VLOOKUP($C67,'2. Unit Testing Results'!$B$5:$R$12,6)))\n)","v":""},{"$f":"IF($B67=\"\",\"\",\nVLOOKUP($C67,'2. Unit Testing Results'!$B$5:$BC$12,19))","v":""},{"$f":"IF($B67=\"\",\"\",\nVLOOKUP($C67,'2. Unit Testing Results'!$B$5:$BC$12,20))","v":""},{"$f":"IF($B67=\"\",\"\",\nVLOOKUP($C67,'2. Unit Testing Results'!$B$5:$BC$12,22))","v":""},{"$f":"IF($B67=\"\",\"\",\nVLOOKUP($C67,'2. Unit Testing Results'!$B$5:$BC$12,24))","v":""},{"$f":"IF($B67=\"\",\"\",\nVLOOKUP($C67,'2. Unit Testing Results'!$B$5:$BC$12,26))","v":""},{"$f":"IF($B67=\"\",\"\",\nVLOOKUP($C67,'2. Unit Testing Results'!$B$5:$BC$12,28))","v":""},{"$f":"IF($B67=\"\",\"\",'2. Unit Testing Results'!$P77)","v":""},{"$f":"IF($B67=\"\",\"\",'2. Unit Testing Results'!$U77)","v":""},{"$f":"IF($B67=\"\",\"\",\nVLOOKUP($C67,'2. Unit Testing Results'!$B$5:$BC$12,30))","v":""},{"$f":"IF($B67=\"\",\"\",\nVLOOKUP($C67,'2. Unit Testing Results'!$B$5:$BC$12,32))","v":""},{"$f":"IF($B67=\"\",\"\",\nVLOOKUP($C67,'2. Unit Testing Results'!$B$5:$BC$12,34))","v":""},{"$f":"IF($B67=\"\",\"\",\nVLOOKUP($C67,'2. Unit Testing Results'!$B$5:$BC$12,36))","v":""},{"$f":"IF($B67=\"\",\"\",\nVLOOKUP($C67,'2. Unit Testing Results'!$B$5:$BC$12,38))","v":""},{"$f":"IF($B67=\"\",\"\",\nVLOOKUP($C67,'2. Unit Testing Results'!$B$5:$BC$12,39))","v":""},{"$f":"IF($B67=\"\",\"\",\nVLOOKUP($C67,'2. Unit Testing Results'!$B$5:$BC$12,40))","v":""},{"$f":"IF($B67=\"\",\"\",\nVLOOKUP($C67,'2. Unit Testing Results'!$B$5:$BC$12,42))","v":""},{"$f":"IF($B67=\"\",\"\",\nVLOOKUP($C67,'2. Unit Testing Results'!$B$5:$BC$12,44))","v":""},{"$f":"IF($B67=\"\",\"\",\nVLOOKUP($C67,'2. Unit Testing Results'!$B$5:$BC$12,46))","v":""},{"$f":"IF($B67=\"\",\"\",\nVLOOKUP($C67,'2. Unit Testing Results'!$B$5:$BC$12,48))","v":""},{"$f":"IF($B67=\"\",\"\",\nVLOOKUP($C67,'2. Unit Testing Results'!$B$5:$BC$12,50))","v":""},{"$f":"IF($B67=\"\",\"\",\nVLOOKUP($C67,'2. Unit Testing Results'!$B$5:$BC$12,51))","v":""},{"$f":"IF($B67=\"\",\"\",\nVLOOKUP($C67,'2. Unit Testing Results'!$B$5:$BC$12,52))","v":""},{"$f":"IF($B67=\"\",\"\",\nVLOOKUP($C67,'2. Unit Testing Results'!$B$5:$BC$12,53))","v":""},{"$f":"IF($B67=\"\",\"\",\nVLOOKUP($C67,'2. Unit Testing Results'!$B$5:$BC$12,54))","v":""}]
[null,{"$f":"IF('2. Unit Testing Results'!$B78=\"\",\"\",'2. Unit Testing Results'!$B78)","v":""},{"$f":"IF('2. Unit Testing Results'!$C78=\"\",\"\",'2. Unit Testing Results'!$C78)","v":""},{"$f":"IF('2. Unit Testing Results'!$D78=\"\",\"\",'2. Unit Testing Results'!$D78)","v":""},{"$f":"IF('2. Unit Testing Results'!$E78=\"\",\"\",'2. Unit Testing Results'!$E78)","v":""},null,{"$f":"IF($B68=\"\",\"\",\n(('2. Unit Testing Results'!$W78)*60)\n/((VLOOKUP($C68,'2. Unit Testing Results'!$B$5:$R$12,4))*(VLOOKUP($C68,'2. Unit Testing Results'!$B$5:$R$12,6)))\n)","v":""},{"$f":"IF($B68=\"\",\"\",\nVLOOKUP($C68,'2. Unit Testing Results'!$B$5:$BC$12,19))","v":""},{"$f":"IF($B68=\"\",\"\",\nVLOOKUP($C68,'2. Unit Testing Results'!$B$5:$BC$12,20))","v":""},{"$f":"IF($B68=\"\",\"\",\nVLOOKUP($C68,'2. Unit Testing Results'!$B$5:$BC$12,22))","v":""},{"$f":"IF($B68=\"\",\"\",\nVLOOKUP($C68,'2. Unit Testing Results'!$B$5:$BC$12,24))","v":""},{"$f":"IF($B68=\"\",\"\",\nVLOOKUP($C68,'2. Unit Testing Results'!$B$5:$BC$12,26))","v":""},{"$f":"IF($B68=\"\",\"\",\nVLOOKUP($C68,'2. Unit Testing Results'!$B$5:$BC$12,28))","v":""},{"$f":"IF($B68=\"\",\"\",'2. Unit Testing Results'!$P78)","v":""},{"$f":"IF($B68=\"\",\"\",'2. Unit Testing Results'!$U78)","v":""},{"$f":"IF($B68=\"\",\"\",\nVLOOKUP($C68,'2. Unit Testing Results'!$B$5:$BC$12,30))","v":""},{"$f":"IF($B68=\"\",\"\",\nVLOOKUP($C68,'2. Unit Testing Results'!$B$5:$BC$12,32))","v":""},{"$f":"IF($B68=\"\",\"\",\nVLOOKUP($C68,'2. Unit Testing Results'!$B$5:$BC$12,34))","v":""},{"$f":"IF($B68=\"\",\"\",\nVLOOKUP($C68,'2. Unit Testing Results'!$B$5:$BC$12,36))","v":""},{"$f":"IF($B68=\"\",\"\",\nVLOOKUP($C68,'2. Unit Testing Results'!$B$5:$BC$12,38))","v":""},{"$f":"IF($B68=\"\",\"\",\nVLOOKUP($C68,'2. Unit Testing Results'!$B$5:$BC$12,39))","v":""},{"$f":"IF($B68=\"\",\"\",\nVLOOKUP($C68,'2. Unit Testing Results'!$B$5:$BC$12,40))","v":""},{"$f":"IF($B68=\"\",\"\",\nVLOOKUP($C68,'2. Unit Testing Results'!$B$5:$BC$12,42))","v":""},{"$f":"IF($B68=\"\",\"\",\nVLOOKUP($C68,'2. Unit Testing Results'!$B$5:$BC$12,44))","v":""},{"$f":"IF($B68=\"\",\"\",\nVLOOKUP($C68,'2. Unit Testing Results'!$B$5:$BC$12,46))","v":""},{"$f":"IF($B68=\"\",\"\",\nVLOOKUP($C68,'2. Unit Testing Results'!$B$5:$BC$12,48))","v":""},{"$f":"IF($B68=\"\",\"\",\nVLOOKUP($C68,'2. Unit Testing Results'!$B$5:$BC$12,50))","v":""},{"$f":"IF($B68=\"\",\"\",\nVLOOKUP($C68,'2. Unit Testing Results'!$B$5:$BC$12,51))","v":""},{"$f":"IF($B68=\"\",\"\",\nVLOOKUP($C68,'2. Unit Testing Results'!$B$5:$BC$12,52))","v":""},{"$f":"IF($B68=\"\",\"\",\nVLOOKUP($C68,'2. Unit Testing Results'!$B$5:$BC$12,53))","v":""},{"$f":"IF($B68=\"\",\"\",\nVLOOKUP($C68,'2. Unit Testing Results'!$B$5:$BC$12,54))","v":""}]
[null,{"$f":"IF('2. Unit Testing Results'!$B79=\"\",\"\",'2. Unit Testing Results'!$B79)","v":""},{"$f":"IF('2. Unit Testing Results'!$C79=\"\",\"\",'2. Unit Testing Results'!$C79)","v":""},{"$f":"IF('2. Unit Testing Results'!$D79=\"\",\"\",'2. Unit Testing Results'!$D79)","v":""},{"$f":"IF('2. Unit Testing Results'!$E79=\"\",\"\",'2. Unit Testing Results'!$E79)","v":""},null,{"$f":"IF($B69=\"\",\"\",\n(('2. Unit Testing Results'!$W79)*60)\n/((VLOOKUP($C69,'2. Unit Testing Results'!$B$5:$R$12,4))*(VLOOKUP($C69,'2. Unit Testing Results'!$B$5:$R$12,6)))\n)","v":""},{"$f":"IF($B69=\"\",\"\",\nVLOOKUP($C69,'2. Unit Testing Results'!$B$5:$BC$12,19))","v":""},{"$f":"IF($B69=\"\",\"\",\nVLOOKUP($C69,'2. Unit Testing Results'!$B$5:$BC$12,20))","v":""},{"$f":"IF($B69=\"\",\"\",\nVLOOKUP($C69,'2. Unit Testing Results'!$B$5:$BC$12,22))","v":""},{"$f":"IF($B69=\"\",\"\",\nVLOOKUP($C69,'2. Unit Testing Results'!$B$5:$BC$12,24))","v":""},{"$f":"IF($B69=\"\",\"\",\nVLOOKUP($C69,'2. Unit Testing Results'!$B$5:$BC$12,26))","v":""},{"$f":"IF($B69=\"\",\"\",\nVLOOKUP($C69,'2. Unit Testing Results'!$B$5:$BC$12,28))","v":""},{"$f":"IF($B69=\"\",\"\",'2. Unit Testing Results'!$P79)","v":""},{"$f":"IF($B69=\"\",\"\",'2. Unit Testing Results'!$U79)","v":""},{"$f":"IF($B69=\"\",\"\",\nVLOOKUP($C69,'2. Unit Testing Results'!$B$5:$BC$12,30))","v":""},{"$f":"IF($B69=\"\",\"\",\nVLOOKUP($C69,'2. Unit Testing Results'!$B$5:$BC$12,32))","v":""},{"$f":"IF($B69=\"\",\"\",\nVLOOKUP($C69,'2. Unit Testing Results'!$B$5:$BC$12,34))","v":""},{"$f":"IF($B69=\"\",\"\",\nVLOOKUP($C69,'2. Unit Testing Results'!$B$5:$BC$12,36))","v":""},{"$f":"IF($B69=\"\",\"\",\nVLOOKUP($C69,'2. Unit Testing Results'!$B$5:$BC$12,38))","v":""},{"$f":"IF($B69=\"\",\"\",\nVLOOKUP($C69,'2. Unit Testing Results'!$B$5:$BC$12,39))","v":""},{"$f":"IF($B69=\"\",\"\",\nVLOOKUP($C69,'2. Unit Testing Results'!$B$5:$BC$12,40))","v":""},{"$f":"IF($B69=\"\",\"\",\nVLOOKUP($C69,'2. Unit Testing Results'!$B$5:$BC$12,42))","v":""},{"$f":"IF($B69=\"\",\"\",\nVLOOKUP($C69,'2. Unit Testing Results'!$B$5:$BC$12,44))","v":""},{"$f":"IF($B69=\"\",\"\",\nVLOOKUP($C69,'2. Unit Testing Results'!$B$5:$BC$12,46))","v":""},{"$f":"IF($B69=\"\",\"\",\nVLOOKUP($C69,'2. Unit Testing Results'!$B$5:$BC$12,48))","v":""},{"$f":"IF($B69=\"\",\"\",\nVLOOKUP($C69,'2. Unit Testing Results'!$B$5:$BC$12,50))","v":""},{"$f":"IF($B69=\"\",\"\",\nVLOOKUP($C69,'2. Unit Testing Results'!$B$5:$BC$12,51))","v":""},{"$f":"IF($B69=\"\",\"\",\nVLOOKUP($C69,'2. Unit Testing Results'!$B$5:$BC$12,52))","v":""},{"$f":"IF($B69=\"\",\"\",\nVLOOKUP($C69,'2. Unit Testing Results'!$B$5:$BC$12,53))","v":""},{"$f":"IF($B69=\"\",\"\",\nVLOOKUP($C69,'2. Unit Testing Results'!$B$5:$BC$12,54))","v":""}]
[null,{"$f":"IF('2. Unit Testing Results'!$B80=\"\",\"\",'2. Unit Testing Results'!$B80)","v":""},{"$f":"IF('2. Unit Testing Results'!$C80=\"\",\"\",'2. Unit Testing Results'!$C80)","v":""},{"$f":"IF('2. Unit Testing Results'!$D80=\"\",\"\",'2. Unit Testing Results'!$D80)","v":""},{"$f":"IF('2. Unit Testing Results'!$E80=\"\",\"\",'2. Unit Testing Results'!$E80)","v":""},null,{"$f":"IF($B70=\"\",\"\",\n(('2. Unit Testing Results'!$W80)*60)\n/((VLOOKUP($C70,'2. Unit Testing Results'!$B$5:$R$12,4))*(VLOOKUP($C70,'2. Unit Testing Results'!$B$5:$R$12,6)))\n)","v":""},{"$f":"IF($B70=\"\",\"\",\nVLOOKUP($C70,'2. Unit Testing Results'!$B$5:$BC$12,19))","v":""},{"$f":"IF($B70=\"\",\"\",\nVLOOKUP($C70,'2. Unit Testing Results'!$B$5:$BC$12,20))","v":""},{"$f":"IF($B70=\"\",\"\",\nVLOOKUP($C70,'2. Unit Testing Results'!$B$5:$BC$12,22))","v":""},{"$f":"IF($B70=\"\",\"\",\nVLOOKUP($C70,'2. Unit Testing Results'!$B$5:$BC$12,24))","v":""},{"$f":"IF($B70=\"\",\"\",\nVLOOKUP($C70,'2. Unit Testing Results'!$B$5:$BC$12,26))","v":""},{"$f":"IF($B70=\"\",\"\",\nVLOOKUP($C70,'2. Unit Testing Results'!$B$5:$BC$12,28))","v":""},{"$f":"IF($B70=\"\",\"\",'2. Unit Testing Results'!$P80)","v":""},{"$f":"IF($B70=\"\",\"\",'2. Unit Testing Results'!$U80)","v":""},{"$f":"IF($B70=\"\",\"\",\nVLOOKUP($C70,'2. Unit Testing Results'!$B$5:$BC$12,30))","v":""},{"$f":"IF($B70=\"\",\"\",\nVLOOKUP($C70,'2. Unit Testing Results'!$B$5:$BC$12,32))","v":""},{"$f":"IF($B70=\"\",\"\",\nVLOOKUP($C70,'2. Unit Testing Results'!$B$5:$BC$12,34))","v":""},{"$f":"IF($B70=\"\",\"\",\nVLOOKUP($C70,'2. Unit Testing Results'!$B$5:$BC$12,36))","v":""},{"$f":"IF($B70=\"\",\"\",\nVLOOKUP($C70,'2. Unit Testing Results'!$B$5:$BC$12,38))","v":""},{"$f":"IF($B70=\"\",\"\",\nVLOOKUP($C70,'2. Unit Testing Results'!$B$5:$BC$12,39))","v":""},{"$f":"IF($B70=\"\",\"\",\nVLOOKUP($C70,'2. Unit Testing Results'!$B$5:$BC$12,40))","v":""},{"$f":"IF($B70=\"\",\"\",\nVLOOKUP($C70,'2. Unit Testing Results'!$B$5:$BC$12,42))","v":""},{"$f":"IF($B70=\"\",\"\",\nVLOOKUP($C70,'2. Unit Testing Results'!$B$5:$BC$12,44))","v":""},{"$f":"IF($B70=\"\",\"\",\nVLOOKUP($C70,'2. Unit Testing Results'!$B$5:$BC$12,46))","v":""},{"$f":"IF($B70=\"\",\"\",\nVLOOKUP($C70,'2. Unit Testing Results'!$B$5:$BC$12,48))","v":""},{"$f":"IF($B70=\"\",\"\",\nVLOOKUP($C70,'2. Unit Testing Results'!$B$5:$BC$12,50))","v":""},{"$f":"IF($B70=\"\",\"\",\nVLOOKUP($C70,'2. Unit Testing Results'!$B$5:$BC$12,51))","v":""},{"$f":"IF($B70=\"\",\"\",\nVLOOKUP($C70,'2. Unit Testing Results'!$B$5:$BC$12,52))","v":""},{"$f":"IF($B70=\"\",\"\",\nVLOOKUP($C70,'2. Unit Testing Results'!$B$5:$BC$12,53))","v":""},{"$f":"IF($B70=\"\",\"\",\nVLOOKUP($C70,'2. Unit Testing Results'!$B$5:$BC$12,54))","v":""}]
[null,{"$f":"IF('2. Unit Testing Results'!$B81=\"\",\"\",'2. Unit Testing Results'!$B81)","v":""},{"$f":"IF('2. Unit Testing Results'!$C81=\"\",\"\",'2. Unit Testing Results'!$C81)","v":""},{"$f":"IF('2. Unit Testing Results'!$D81=\"\",\"\",'2. Unit Testing Results'!$D81)","v":""},{"$f":"IF('2. Unit Testing Results'!$E81=\"\",\"\",'2. Unit Testing Results'!$E81)","v":""},null,{"$f":"IF($B71=\"\",\"\",\n(('2. Unit Testing Results'!$W81)*60)\n/((VLOOKUP($C71,'2. Unit Testing Results'!$B$5:$R$12,4))*(VLOOKUP($C71,'2. Unit Testing Results'!$B$5:$R$12,6)))\n)","v":""},{"$f":"IF($B71=\"\",\"\",\nVLOOKUP($C71,'2. Unit Testing Results'!$B$5:$BC$12,19))","v":""},{"$f":"IF($B71=\"\",\"\",\nVLOOKUP($C71,'2. Unit Testing Results'!$B$5:$BC$12,20))","v":""},{"$f":"IF($B71=\"\",\"\",\nVLOOKUP($C71,'2. Unit Testing Results'!$B$5:$BC$12,22))","v":""},{"$f":"IF($B71=\"\",\"\",\nVLOOKUP($C71,'2. Unit Testing Results'!$B$5:$BC$12,24))","v":""},{"$f":"IF($B71=\"\",\"\",\nVLOOKUP($C71,'2. Unit Testing Results'!$B$5:$BC$12,26))","v":""},{"$f":"IF($B71=\"\",\"\",\nVLOOKUP($C71,'2. Unit Testing Results'!$B$5:$BC$12,28))","v":""},{"$f":"IF($B71=\"\",\"\",'2. Unit Testing Results'!$P81)","v":""},{"$f":"IF($B71=\"\",\"\",'2. Unit Testing Results'!$U81)","v":""},{"$f":"IF($B71=\"\",\"\",\nVLOOKUP($C71,'2. Unit Testing Results'!$B$5:$BC$12,30))","v":""},{"$f":"IF($B71=\"\",\"\",\nVLOOKUP($C71,'2. Unit Testing Results'!$B$5:$BC$12,32))","v":""},{"$f":"IF($B71=\"\",\"\",\nVLOOKUP($C71,'2. Unit Testing Results'!$B$5:$BC$12,34))","v":""},{"$f":"IF($B71=\"\",\"\",\nVLOOKUP($C71,'2. Unit Testing Results'!$B$5:$BC$12,36))","v":""},{"$f":"IF($B71=\"\",\"\",\nVLOOKUP($C71,'2. Unit Testing Results'!$B$5:$BC$12,38))","v":""},{"$f":"IF($B71=\"\",\"\",\nVLOOKUP($C71,'2. Unit Testing Results'!$B$5:$BC$12,39))","v":""},{"$f":"IF($B71=\"\",\"\",\nVLOOKUP($C71,'2. Unit Testing Results'!$B$5:$BC$12,40))","v":""},{"$f":"IF($B71=\"\",\"\",\nVLOOKUP($C71,'2. Unit Testing Results'!$B$5:$BC$12,42))","v":""},{"$f":"IF($B71=\"\",\"\",\nVLOOKUP($C71,'2. Unit Testing Results'!$B$5:$BC$12,44))","v":""},{"$f":"IF($B71=\"\",\"\",\nVLOOKUP($C71,'2. Unit Testing Results'!$B$5:$BC$12,46))","v":""},{"$f":"IF($B71=\"\",\"\",\nVLOOKUP($C71,'2. Unit Testing Results'!$B$5:$BC$12,48))","v":""},{"$f":"IF($B71=\"\",\"\",\nVLOOKUP($C71,'2. Unit Testing Results'!$B$5:$BC$12,50))","v":""},{"$f":"IF($B71=\"\",\"\",\nVLOOKUP($C71,'2. Unit Testing Results'!$B$5:$BC$12,51))","v":""},{"$f":"IF($B71=\"\",\"\",\nVLOOKUP($C71,'2. Unit Testing Results'!$B$5:$BC$12,52))","v":""},{"$f":"IF($B71=\"\",\"\",\nVLOOKUP($C71,'2. Unit Testing Results'!$B$5:$BC$12,53))","v":""},{"$f":"IF($B71=\"\",\"\",\nVLOOKUP($C71,'2. Unit Testing Results'!$B$5:$BC$12,54))","v":""}]
[null,{"$f":"IF('2. Unit Testing Results'!$B82=\"\",\"\",'2. Unit Testing Results'!$B82)","v":""},{"$f":"IF('2. Unit Testing Results'!$C82=\"\",\"\",'2. Unit Testing Results'!$C82)","v":""},{"$f":"IF('2. Unit Testing Results'!$D82=\"\",\"\",'2. Unit Testing Results'!$D82)","v":""},{"$f":"IF('2. Unit Testing Results'!$E82=\"\",\"\",'2. Unit Testing Results'!$E82)","v":""},null,{"$f":"IF($B72=\"\",\"\",\n(('2. Unit Testing Results'!$W82)*60)\n/((VLOOKUP($C72,'2. Unit Testing Results'!$B$5:$R$12,4))*(VLOOKUP($C72,'2. Unit Testing Results'!$B$5:$R$12,6)))\n)","v":""},{"$f":"IF($B72=\"\",\"\",\nVLOOKUP($C72,'2. Unit Testing Results'!$B$5:$BC$12,19))","v":""},{"$f":"IF($B72=\"\",\"\",\nVLOOKUP($C72,'2. Unit Testing Results'!$B$5:$BC$12,20))","v":""},{"$f":"IF($B72=\"\",\"\",\nVLOOKUP($C72,'2. Unit Testing Results'!$B$5:$BC$12,22))","v":""},{"$f":"IF($B72=\"\",\"\",\nVLOOKUP($C72,'2. Unit Testing Results'!$B$5:$BC$12,24))","v":""},{"$f":"IF($B72=\"\",\"\",\nVLOOKUP($C72,'2. Unit Testing Results'!$B$5:$BC$12,26))","v":""},{"$f":"IF($B72=\"\",\"\",\nVLOOKUP($C72,'2. Unit Testing Results'!$B$5:$BC$12,28))","v":""},{"$f":"IF($B72=\"\",\"\",'2. Unit Testing Results'!$P82)","v":""},{"$f":"IF($B72=\"\",\"\",'2. Unit Testing Results'!$U82)","v":""},{"$f":"IF($B72=\"\",\"\",\nVLOOKUP($C72,'2. Unit Testing Results'!$B$5:$BC$12,30))","v":""},{"$f":"IF($B72=\"\",\"\",\nVLOOKUP($C72,'2. Unit Testing Results'!$B$5:$BC$12,32))","v":""},{"$f":"IF($B72=\"\",\"\",\nVLOOKUP($C72,'2. Unit Testing Results'!$B$5:$BC$12,34))","v":""},{"$f":"IF($B72=\"\",\"\",\nVLOOKUP($C72,'2. Unit Testing Results'!$B$5:$BC$12,36))","v":""},{"$f":"IF($B72=\"\",\"\",\nVLOOKUP($C72,'2. Unit Testing Results'!$B$5:$BC$12,38))","v":""},{"$f":"IF($B72=\"\",\"\",\nVLOOKUP($C72,'2. Unit Testing Results'!$B$5:$BC$12,39))","v":""},{"$f":"IF($B72=\"\",\"\",\nVLOOKUP($C72,'2. Unit Testing Results'!$B$5:$BC$12,40))","v":""},{"$f":"IF($B72=\"\",\"\",\nVLOOKUP($C72,'2. Unit Testing Results'!$B$5:$BC$12,42))","v":""},{"$f":"IF($B72=\"\",\"\",\nVLOOKUP($C72,'2. Unit Testing Results'!$B$5:$BC$12,44))","v":""},{"$f":"IF($B72=\"\",\"\",\nVLOOKUP($C72,'2. Unit Testing Results'!$B$5:$BC$12,46))","v":""},{"$f":"IF($B72=\"\",\"\",\nVLOOKUP($C72,'2. Unit Testing Results'!$B$5:$BC$12,48))","v":""},{"$f":"IF($B72=\"\",\"\",\nVLOOKUP($C72,'2. Unit Testing Results'!$B$5:$BC$12,50))","v":""},{"$f":"IF($B72=\"\",\"\",\nVLOOKUP($C72,'2. Unit Testing Results'!$B$5:$BC$12,51))","v":""},{"$f":"IF($B72=\"\",\"\",\nVLOOKUP($C72,'2. Unit Testing Results'!$B$5:$BC$12,52))","v":""},{"$f":"IF($B72=\"\",\"\",\nVLOOKUP($C72,'2. Unit Testing Results'!$B$5:$BC$12,53))","v":""},{"$f":"IF($B72=\"\",\"\",\nVLOOKUP($C72,'2. Unit Testing Results'!$B$5:$BC$12,54))","v":""}]
[null,{"$f":"IF('2. Unit Testing Results'!$B83=\"\",\"\",'2. Unit Testing Results'!$B83)","v":""},{"$f":"IF('2. Unit Testing Results'!$C83=\"\",\"\",'2. Unit Testing Results'!$C83)","v":""},{"$f":"IF('2. Unit Testing Results'!$D83=\"\",\"\",'2. Unit Testing Results'!$D83)","v":""},{"$f":"IF('2. Unit Testing Results'!$E83=\"\",\"\",'2. Unit Testing Results'!$E83)","v":""},null,{"$f":"IF($B73=\"\",\"\",\n(('2. Unit Testing Results'!$W83)*60)\n/((VLOOKUP($C73,'2. Unit Testing Results'!$B$5:$R$12,4))*(VLOOKUP($C73,'2. Unit Testing Results'!$B$5:$R$12,6)))\n)","v":""},{"$f":"IF($B73=\"\",\"\",\nVLOOKUP($C73,'2. Unit Testing Results'!$B$5:$BC$12,19))","v":""},{"$f":"IF($B73=\"\",\"\",\nVLOOKUP($C73,'2. Unit Testing Results'!$B$5:$BC$12,20))","v":""},{"$f":"IF($B73=\"\",\"\",\nVLOOKUP($C73,'2. Unit Testing Results'!$B$5:$BC$12,22))","v":""},{"$f":"IF($B73=\"\",\"\",\nVLOOKUP($C73,'2. Unit Testing Results'!$B$5:$BC$12,24))","v":""},{"$f":"IF($B73=\"\",\"\",\nVLOOKUP($C73,'2. Unit Testing Results'!$B$5:$BC$12,26))","v":""},{"$f":"IF($B73=\"\",\"\",\nVLOOKUP($C73,'2. Unit Testing Results'!$B$5:$BC$12,28))","v":""},{"$f":"IF($B73=\"\",\"\",'2. Unit Testing Results'!$P83)","v":""},{"$f":"IF($B73=\"\",\"\",'2. Unit Testing Results'!$U83)","v":""},{"$f":"IF($B73=\"\",\"\",\nVLOOKUP($C73,'2. Unit Testing Results'!$B$5:$BC$12,30))","v":""},{"$f":"IF($B73=\"\",\"\",\nVLOOKUP($C73,'2. Unit Testing Results'!$B$5:$BC$12,32))","v":""},{"$f":"IF($B73=\"\",\"\",\nVLOOKUP($C73,'2. Unit Testing Results'!$B$5:$BC$12,34))","v":""},{"$f":"IF($B73=\"\",\"\",\nVLOOKUP($C73,'2. Unit Testing Results'!$B$5:$BC$12,36))","v":""},{"$f":"IF($B73=\"\",\"\",\nVLOOKUP($C73,'2. Unit Testing Results'!$B$5:$BC$12,38))","v":""},{"$f":"IF($B73=\"\",\"\",\nVLOOKUP($C73,'2. Unit Testing Results'!$B$5:$BC$12,39))","v":""},{"$f":"IF($B73=\"\",\"\",\nVLOOKUP($C73,'2. Unit Testing Results'!$B$5:$BC$12,40))","v":""},{"$f":"IF($B73=\"\",\"\",\nVLOOKUP($C73,'2. Unit Testing Results'!$B$5:$BC$12,42))","v":""},{"$f":"IF($B73=\"\",\"\",\nVLOOKUP($C73,'2. Unit Testing Results'!$B$5:$BC$12,44))","v":""},{"$f":"IF($B73=\"\",\"\",\nVLOOKUP($C73,'2. Unit Testing Results'!$B$5:$BC$12,46))","v":""},{"$f":"IF($B73=\"\",\"\",\nVLOOKUP($C73,'2. Unit Testing Results'!$B$5:$BC$12,48))","v":""},{"$f":"IF($B73=\"\",\"\",\nVLOOKUP($C73,'2. Unit Testing Results'!$B$5:$BC$12,50))","v":""},{"$f":"IF($B73=\"\",\"\",\nVLOOKUP($C73,'2. Unit Testing Results'!$B$5:$BC$12,51))","v":""},{"$f":"IF($B73=\"\",\"\",\nVLOOKUP($C73,'2. Unit Testing Results'!$B$5:$BC$12,52))","v":""},{"$f":"IF($B73=\"\",\"\",\nVLOOKUP($C73,'2. Unit Testing Results'!$B$5:$BC$12,53))","v":""},{"$f":"IF($B73=\"\",\"\",\nVLOOKUP($C73,'2. Unit Testing Results'!$B$5:$BC$12,54))","v":""}]
[null,{"$f":"IF('2. Unit Testing Results'!$B84=\"\",\"\",'2. Unit Testing Results'!$B84)","v":""},{"$f":"IF('2. Unit Testing Results'!$C84=\"\",\"\",'2. Unit Testing Results'!$C84)","v":""},{"$f":"IF('2. Unit Testing Results'!$D84=\"\",\"\",'2. Unit Testing Results'!$D84)","v":""},{"$f":"IF('2. Unit Testing Results'!$E84=\"\",\"\",'2. Unit Testing Results'!$E84)","v":""},null,{"$f":"IF($B74=\"\",\"\",\n(('2. Unit Testing Results'!$W84)*60)\n/((VLOOKUP($C74,'2. Unit Testing Results'!$B$5:$R$12,4))*(VLOOKUP($C74,'2. Unit Testing Results'!$B$5:$R$12,6)))\n)","v":""},{"$f":"IF($B74=\"\",\"\",\nVLOOKUP($C74,'2. Unit Testing Results'!$B$5:$BC$12,19))","v":""},{"$f":"IF($B74=\"\",\"\",\nVLOOKUP($C74,'2. Unit Testing Results'!$B$5:$BC$12,20))","v":""},{"$f":"IF($B74=\"\",\"\",\nVLOOKUP($C74,'2. Unit Testing Results'!$B$5:$BC$12,22))","v":""},{"$f":"IF($B74=\"\",\"\",\nVLOOKUP($C74,'2. Unit Testing Results'!$B$5:$BC$12,24))","v":""},{"$f":"IF($B74=\"\",\"\",\nVLOOKUP($C74,'2. Unit Testing Results'!$B$5:$BC$12,26))","v":""},{"$f":"IF($B74=\"\",\"\",\nVLOOKUP($C74,'2. Unit Testing Results'!$B$5:$BC$12,28))","v":""},{"$f":"IF($B74=\"\",\"\",'2. Unit Testing Results'!$P84)","v":""},{"$f":"IF($B74=\"\",\"\",'2. Unit Testing Results'!$U84)","v":""},{"$f":"IF($B74=\"\",\"\",\nVLOOKUP($C74,'2. Unit Testing Results'!$B$5:$BC$12,30))","v":""},{"$f":"IF($B74=\"\",\"\",\nVLOOKUP($C74,'2. Unit Testing Results'!$B$5:$BC$12,32))","v":""},{"$f":"IF($B74=\"\",\"\",\nVLOOKUP($C74,'2. Unit Testing Results'!$B$5:$BC$12,34))","v":""},{"$f":"IF($B74=\"\",\"\",\nVLOOKUP($C74,'2. Unit Testing Results'!$B$5:$BC$12,36))","v":""},{"$f":"IF($B74=\"\",\"\",\nVLOOKUP($C74,'2. Unit Testing Results'!$B$5:$BC$12,38))","v":""},{"$f":"IF($B74=\"\",\"\",\nVLOOKUP($C74,'2. Unit Testing Results'!$B$5:$BC$12,39))","v":""},{"$f":"IF($B74=\"\",\"\",\nVLOOKUP($C74,'2. Unit Testing Results'!$B$5:$BC$12,40))","v":""},{"$f":"IF($B74=\"\",\"\",\nVLOOKUP($C74,'2. Unit Testing Results'!$B$5:$BC$12,42))","v":""},{"$f":"IF($B74=\"\",\"\",\nVLOOKUP($C74,'2. Unit Testing Results'!$B$5:$BC$12,44))","v":""},{"$f":"IF($B74=\"\",\"\",\nVLOOKUP($C74,'2. Unit Testing Results'!$B$5:$BC$12,46))","v":""},{"$f":"IF($B74=\"\",\"\",\nVLOOKUP($C74,'2. Unit Testing Results'!$B$5:$BC$12,48))","v":""},{"$f":"IF($B74=\"\",\"\",\nVLOOKUP($C74,'2. Unit Testing Results'!$B$5:$BC$12,50))","v":""},{"$f":"IF($B74=\"\",\"\",\nVLOOKUP($C74,'2. Unit Testing Results'!$B$5:$BC$12,51))","v":""},{"$f":"IF($B74=\"\",\"\",\nVLOOKUP($C74,'2. Unit Testing Results'!$B$5:$BC$12,52))","v":""},{"$f":"IF($B74=\"\",\"\",\nVLOOKUP($C74,'2. Unit Testing Results'!$B$5:$BC$12,53))","v":""},{"$f":"IF($B74=\"\",\"\",\nVLOOKUP($C74,'2. Unit Testing Results'!$B$5:$BC$12,54))","v":""}]
[null,{"$f":"IF('2. Unit Testing Results'!$B85=\"\",\"\",'2. Unit Testing Results'!$B85)","v":""},{"$f":"IF('2. Unit Testing Results'!$C85=\"\",\"\",'2. Unit Testing Results'!$C85)","v":""},{"$f":"IF('2. Unit Testing Results'!$D85=\"\",\"\",'2. Unit Testing Results'!$D85)","v":""},{"$f":"IF('2. Unit Testing Results'!$E85=\"\",\"\",'2. Unit Testing Results'!$E85)","v":""},null,{"$f":"IF($B75=\"\",\"\",\n(('2. Unit Testing Results'!$W85)*60)\n/((VLOOKUP($C75,'2. Unit Testing Results'!$B$5:$R$12,4))*(VLOOKUP($C75,'2. Unit Testing Results'!$B$5:$R$12,6)))\n)","v":""},{"$f":"IF($B75=\"\",\"\",\nVLOOKUP($C75,'2. Unit Testing Results'!$B$5:$BC$12,19))","v":""},{"$f":"IF($B75=\"\",\"\",\nVLOOKUP($C75,'2. Unit Testing Results'!$B$5:$BC$12,20))","v":""},{"$f":"IF($B75=\"\",\"\",\nVLOOKUP($C75,'2. Unit Testing Results'!$B$5:$BC$12,22))","v":""},{"$f":"IF($B75=\"\",\"\",\nVLOOKUP($C75,'2. Unit Testing Results'!$B$5:$BC$12,24))","v":""},{"$f":"IF($B75=\"\",\"\",\nVLOOKUP($C75,'2. Unit Testing Results'!$B$5:$BC$12,26))","v":""},{"$f":"IF($B75=\"\",\"\",\nVLOOKUP($C75,'2. Unit Testing Results'!$B$5:$BC$12,28))","v":""},{"$f":"IF($B75=\"\",\"\",'2. Unit Testing Results'!$P85)","v":""},{"$f":"IF($B75=\"\",\"\",'2. Unit Testing Results'!$U85)","v":""},{"$f":"IF($B75=\"\",\"\",\nVLOOKUP($C75,'2. Unit Testing Results'!$B$5:$BC$12,30))","v":""},{"$f":"IF($B75=\"\",\"\",\nVLOOKUP($C75,'2. Unit Testing Results'!$B$5:$BC$12,32))","v":""},{"$f":"IF($B75=\"\",\"\",\nVLOOKUP($C75,'2. Unit Testing Results'!$B$5:$BC$12,34))","v":""},{"$f":"IF($B75=\"\",\"\",\nVLOOKUP($C75,'2. Unit Testing Results'!$B$5:$BC$12,36))","v":""},{"$f":"IF($B75=\"\",\"\",\nVLOOKUP($C75,'2. Unit Testing Results'!$B$5:$BC$12,38))","v":""},{"$f":"IF($B75=\"\",\"\",\nVLOOKUP($C75,'2. Unit Testing Results'!$B$5:$BC$12,39))","v":""},{"$f":"IF($B75=\"\",\"\",\nVLOOKUP($C75,'2. Unit Testing Results'!$B$5:$BC$12,40))","v":""},{"$f":"IF($B75=\"\",\"\",\nVLOOKUP($C75,'2. Unit Testing Results'!$B$5:$BC$12,42))","v":""},{"$f":"IF($B75=\"\",\"\",\nVLOOKUP($C75,'2. Unit Testing Results'!$B$5:$BC$12,44))","v":""},{"$f":"IF($B75=\"\",\"\",\nVLOOKUP($C75,'2. Unit Testing Results'!$B$5:$BC$12,46))","v":""},{"$f":"IF($B75=\"\",\"\",\nVLOOKUP($C75,'2. Unit Testing Results'!$B$5:$BC$12,48))","v":""},{"$f":"IF($B75=\"\",\"\",\nVLOOKUP($C75,'2. Unit Testing Results'!$B$5:$BC$12,50))","v":""},{"$f":"IF($B75=\"\",\"\",\nVLOOKUP($C75,'2. Unit Testing Results'!$B$5:$BC$12,51))","v":""},{"$f":"IF($B75=\"\",\"\",\nVLOOKUP($C75,'2. Unit Testing Results'!$B$5:$BC$12,52))","v":""},{"$f":"IF($B75=\"\",\"\",\nVLOOKUP($C75,'2. Unit Testing Results'!$B$5:$BC$12,53))","v":""},{"$f":"IF($B75=\"\",\"\",\nVLOOKUP($C75,'2. Unit Testing Results'!$B$5:$BC$12,54))","v":""}]
[null,{"$f":"IF('2. Unit Testing Results'!$B86=\"\",\"\",'2. Unit Testing Results'!$B86)","v":""},{"$f":"IF('2. Unit Testing Results'!$C86=\"\",\"\",'2. Unit Testing Results'!$C86)","v":""},{"$f":"IF('2. Unit Testing Results'!$D86=\"\",\"\",'2. Unit Testing Results'!$D86)","v":""},{"$f":"IF('2. Unit Testing Results'!$E86=\"\",\"\",'2. Unit Testing Results'!$E86)","v":""},null,{"$f":"IF($B76=\"\",\"\",\n(('2. Unit Testing Results'!$W86)*60)\n/((VLOOKUP($C76,'2. Unit Testing Results'!$B$5:$R$12,4))*(VLOOKUP($C76,'2. Unit Testing Results'!$B$5:$R$12,6)))\n)","v":""},{"$f":"IF($B76=\"\",\"\",\nVLOOKUP($C76,'2. Unit Testing Results'!$B$5:$BC$12,19))","v":""},{"$f":"IF($B76=\"\",\"\",\nVLOOKUP($C76,'2. Unit Testing Results'!$B$5:$BC$12,20))","v":""},{"$f":"IF($B76=\"\",\"\",\nVLOOKUP($C76,'2. Unit Testing Results'!$B$5:$BC$12,22))","v":""},{"$f":"IF($B76=\"\",\"\",\nVLOOKUP($C76,'2. Unit Testing Results'!$B$5:$BC$12,24))","v":""},{"$f":"IF($B76=\"\",\"\",\nVLOOKUP($C76,'2. Unit Testing Results'!$B$5:$BC$12,26))","v":""},{"$f":"IF($B76=\"\",\"\",\nVLOOKUP($C76,'2. Unit Testing Results'!$B$5:$BC$12,28))","v":""},{"$f":"IF($B76=\"\",\"\",'2. Unit Testing Results'!$P86)","v":""},{"$f":"IF($B76=\"\",\"\",'2. Unit Testing Results'!$U86)","v":""},{"$f":"IF($B76=\"\",\"\",\nVLOOKUP($C76,'2. Unit Testing Results'!$B$5:$BC$12,30))","v":""},{"$f":"IF($B76=\"\",\"\",\nVLOOKUP($C76,'2. Unit Testing Results'!$B$5:$BC$12,32))","v":""},{"$f":"IF($B76=\"\",\"\",\nVLOOKUP($C76,'2. Unit Testing Results'!$B$5:$BC$12,34))","v":""},{"$f":"IF($B76=\"\",\"\",\nVLOOKUP($C76,'2. Unit Testing Results'!$B$5:$BC$12,36))","v":""},{"$f":"IF($B76=\"\",\"\",\nVLOOKUP($C76,'2. Unit Testing Results'!$B$5:$BC$12,38))","v":""},{"$f":"IF($B76=\"\",\"\",\nVLOOKUP($C76,'2. Unit Testing Results'!$B$5:$BC$12,39))","v":""},{"$f":"IF($B76=\"\",\"\",\nVLOOKUP($C76,'2. Unit Testing Results'!$B$5:$BC$12,40))","v":""},{"$f":"IF($B76=\"\",\"\",\nVLOOKUP($C76,'2. Unit Testing Results'!$B$5:$BC$12,42))","v":""},{"$f":"IF($B76=\"\",\"\",\nVLOOKUP($C76,'2. Unit Testing Results'!$B$5:$BC$12,44))","v":""},{"$f":"IF($B76=\"\",\"\",\nVLOOKUP($C76,'2. Unit Testing Results'!$B$5:$BC$12,46))","v":""},{"$f":"IF($B76=\"\",\"\",\nVLOOKUP($C76,'2. Unit Testing Results'!$B$5:$BC$12,48))","v":""},{"$f":"IF($B76=\"\",\"\",\nVLOOKUP($C76,'2. Unit Testing Results'!$B$5:$BC$12,50))","v":""},{"$f":"IF($B76=\"\",\"\",\nVLOOKUP($C76,'2. Unit Testing Results'!$B$5:$BC$12,51))","v":""},{"$f":"IF($B76=\"\",\"\",\nVLOOKUP($C76,'2. Unit Testing Results'!$B$5:$BC$12,52))","v":""},{"$f":"IF($B76=\"\",\"\",\nVLOOKUP($C76,'2. Unit Testing Results'!$B$5:$BC$12,53))","v":""},{"$f":"IF($B76=\"\",\"\",\nVLOOKUP($C76,'2. Unit Testing Results'!$B$5:$BC$12,54))","v":""}]
[null,{"$f":"IF('2. Unit Testing Results'!$B87=\"\",\"\",'2. Unit Testing Results'!$B87)","v":""},{"$f":"IF('2. Unit Testing Results'!$C87=\"\",\"\",'2. Unit Testing Results'!$C87)","v":""},{"$f":"IF('2. Unit Testing Results'!$D87=\"\",\"\",'2. Unit Testing Results'!$D87)","v":""},{"$f":"IF('2. Unit Testing Results'!$E87=\"\",\"\",'2. Unit Testing Results'!$E87)","v":""},null,{"$f":"IF($B77=\"\",\"\",\n(('2. Unit Testing Results'!$W87)*60)\n/((VLOOKUP($C77,'2. Unit Testing Results'!$B$5:$R$12,4))*(VLOOKUP($C77,'2. Unit Testing Results'!$B$5:$R$12,6)))\n)","v":""},{"$f":"IF($B77=\"\",\"\",\nVLOOKUP($C77,'2. Unit Testing Results'!$B$5:$BC$12,19))","v":""},{"$f":"IF($B77=\"\",\"\",\nVLOOKUP($C77,'2. Unit Testing Results'!$B$5:$BC$12,20))","v":""},{"$f":"IF($B77=\"\",\"\",\nVLOOKUP($C77,'2. Unit Testing Results'!$B$5:$BC$12,22))","v":""},{"$f":"IF($B77=\"\",\"\",\nVLOOKUP($C77,'2. Unit Testing Results'!$B$5:$BC$12,24))","v":""},{"$f":"IF($B77=\"\",\"\",\nVLOOKUP($C77,'2. Unit Testing Results'!$B$5:$BC$12,26))","v":""},{"$f":"IF($B77=\"\",\"\",\nVLOOKUP($C77,'2. Unit Testing Results'!$B$5:$BC$12,28))","v":""},{"$f":"IF($B77=\"\",\"\",'2. Unit Testing Results'!$P87)","v":""},{"$f":"IF($B77=\"\",\"\",'2. Unit Testing Results'!$U87)","v":""},{"$f":"IF($B77=\"\",\"\",\nVLOOKUP($C77,'2. Unit Testing Results'!$B$5:$BC$12,30))","v":""},{"$f":"IF($B77=\"\",\"\",\nVLOOKUP($C77,'2. Unit Testing Results'!$B$5:$BC$12,32))","v":""},{"$f":"IF($B77=\"\",\"\",\nVLOOKUP($C77,'2. Unit Testing Results'!$B$5:$BC$12,34))","v":""},{"$f":"IF($B77=\"\",\"\",\nVLOOKUP($C77,'2. Unit Testing Results'!$B$5:$BC$12,36))","v":""},{"$f":"IF($B77=\"\",\"\",\nVLOOKUP($C77,'2. Unit Testing Results'!$B$5:$BC$12,38))","v":""},{"$f":"IF($B77=\"\",\"\",\nVLOOKUP($C77,'2. Unit Testing Results'!$B$5:$BC$12,39))","v":""},{"$f":"IF($B77=\"\",\"\",\nVLOOKUP($C77,'2. Unit Testing Results'!$B$5:$BC$12,40))","v":""},{"$f":"IF($B77=\"\",\"\",\nVLOOKUP($C77,'2. Unit Testing Results'!$B$5:$BC$12,42))","v":""},{"$f":"IF($B77=\"\",\"\",\nVLOOKUP($C77,'2. Unit Testing Results'!$B$5:$BC$12,44))","v":""},{"$f":"IF($B77=\"\",\"\",\nVLOOKUP($C77,'2. Unit Testing Results'!$B$5:$BC$12,46))","v":""},{"$f":"IF($B77=\"\",\"\",\nVLOOKUP($C77,'2. Unit Testing Results'!$B$5:$BC$12,48))","v":""},{"$f":"IF($B77=\"\",\"\",\nVLOOKUP($C77,'2. Unit Testing Results'!$B$5:$BC$12,50))","v":""},{"$f":"IF($B77=\"\",\"\",\nVLOOKUP($C77,'2. Unit Testing Results'!$B$5:$BC$12,51))","v":""},{"$f":"IF($B77=\"\",\"\",\nVLOOKUP($C77,'2. Unit Testing Results'!$B$5:$BC$12,52))","v":""},{"$f":"IF($B77=\"\",\"\",\nVLOOKUP($C77,'2. Unit Testing Results'!$B$5:$BC$12,53))","v":""},{"$f":"IF($B77=\"\",\"\",\nVLOOKUP($C77,'2. Unit Testing Results'!$B$5:$BC$12,54))","v":""}]
[null,{"$f":"IF('2. Unit Testing Results'!$B88=\"\",\"\",'2. Unit Testing Results'!$B88)","v":""},{"$f":"IF('2. Unit Testing Results'!$C88=\"\",\"\",'2. Unit Testing Results'!$C88)","v":""},{"$f":"IF('2. Unit Testing Results'!$D88=\"\",\"\",'2. Unit Testing Results'!$D88)","v":""},{"$f":"IF('2. Unit Testing Results'!$E88=\"\",\"\",'2. Unit Testing Results'!$E88)","v":""},null,{"$f":"IF($B78=\"\",\"\",\n(('2. Unit Testing Results'!$W88)*60)\n/((VLOOKUP($C78,'2. Unit Testing Results'!$B$5:$R$12,4))*(VLOOKUP($C78,'2. Unit Testing Results'!$B$5:$R$12,6)))\n)","v":""},{"$f":"IF($B78=\"\",\"\",\nVLOOKUP($C78,'2. Unit Testing Results'!$B$5:$BC$12,19))","v":""},{"$f":"IF($B78=\"\",\"\",\nVLOOKUP($C78,'2. Unit Testing Results'!$B$5:$BC$12,20))","v":""},{"$f":"IF($B78=\"\",\"\",\nVLOOKUP($C78,'2. Unit Testing Results'!$B$5:$BC$12,22))","v":""},{"$f":"IF($B78=\"\",\"\",\nVLOOKUP($C78,'2. Unit Testing Results'!$B$5:$BC$12,24))","v":""},{"$f":"IF($B78=\"\",\"\",\nVLOOKUP($C78,'2. Unit Testing Results'!$B$5:$BC$12,26))","v":""},{"$f":"IF($B78=\"\",\"\",\nVLOOKUP($C78,'2. Unit Testing Results'!$B$5:$BC$12,28))","v":""},{"$f":"IF($B78=\"\",\"\",'2. Unit Testing Results'!$P88)","v":""},{"$f":"IF($B78=\"\",\"\",'2. Unit Testing Results'!$U88)","v":""},{"$f":"IF($B78=\"\",\"\",\nVLOOKUP($C78,'2. Unit Testing Results'!$B$5:$BC$12,30))","v":""},{"$f":"IF($B78=\"\",\"\",\nVLOOKUP($C78,'2. Unit Testing Results'!$B$5:$BC$12,32))","v":""},{"$f":"IF($B78=\"\",\"\",\nVLOOKUP($C78,'2. Unit Testing Results'!$B$5:$BC$12,34))","v":""},{"$f":"IF($B78=\"\",\"\",\nVLOOKUP($C78,'2. Unit Testing Results'!$B$5:$BC$12,36))","v":""},{"$f":"IF($B78=\"\",\"\",\nVLOOKUP($C78,'2. Unit Testing Results'!$B$5:$BC$12,38))","v":""},{"$f":"IF($B78=\"\",\"\",\nVLOOKUP($C78,'2. Unit Testing Results'!$B$5:$BC$12,39))","v":""},{"$f":"IF($B78=\"\",\"\",\nVLOOKUP($C78,'2. Unit Testing Results'!$B$5:$BC$12,40))","v":""},{"$f":"IF($B78=\"\",\"\",\nVLOOKUP($C78,'2. Unit Testing Results'!$B$5:$BC$12,42))","v":""},{"$f":"IF($B78=\"\",\"\",\nVLOOKUP($C78,'2. Unit Testing Results'!$B$5:$BC$12,44))","v":""},{"$f":"IF($B78=\"\",\"\",\nVLOOKUP($C78,'2. Unit Testing Results'!$B$5:$BC$12,46))","v":""},{"$f":"IF($B78=\"\",\"\",\nVLOOKUP($C78,'2. Unit Testing Results'!$B$5:$BC$12,48))","v":""},{"$f":"IF($B78=\"\",\"\",\nVLOOKUP($C78,'2. Unit Testing Results'!$B$5:$BC$12,50))","v":""},{"$f":"IF($B78=\"\",\"\",\nVLOOKUP($C78,'2. Unit Testing Results'!$B$5:$BC$12,51))","v":""},{"$f":"IF($B78=\"\",\"\",\nVLOOKUP($C78,'2. Unit Testing Results'!$B$5:$BC$12,52))","v":""},{"$f":"IF($B78=\"\",\"\",\nVLOOKUP($C78,'2. Unit Testing Results'!$B$5:$BC$12,53))","v":""},{"$f":"IF($B78=\"\",\"\",\nVLOOKUP($C78,'2. Unit Testing Results'!$B$5:$BC$12,54))","v":""}]
[null,{"$f":"IF('2. Unit Testing Results'!$B89=\"\",\"\",'2. Unit Testing Results'!$B89)","v":""},{"$f":"IF('2. Unit Testing Results'!$C89=\"\",\"\",'2. Unit Testing Results'!$C89)","v":""},{"$f":"IF('2. Unit Testing Results'!$D89=\"\",\"\",'2. Unit Testing Results'!$D89)","v":""},{"$f":"IF('2. Unit Testing Results'!$E89=\"\",\"\",'2. Unit Testing Results'!$E89)","v":""},null,{"$f":"IF($B79=\"\",\"\",\n(('2. Unit Testing Results'!$W89)*60)\n/((VLOOKUP($C79,'2. Unit Testing Results'!$B$5:$R$12,4))*(VLOOKUP($C79,'2. Unit Testing Results'!$B$5:$R$12,6)))\n)","v":""},{"$f":"IF($B79=\"\",\"\",\nVLOOKUP($C79,'2. Unit Testing Results'!$B$5:$BC$12,19))","v":""},{"$f":"IF($B79=\"\",\"\",\nVLOOKUP($C79,'2. Unit Testing Results'!$B$5:$BC$12,20))","v":""},{"$f":"IF($B79=\"\",\"\",\nVLOOKUP($C79,'2. Unit Testing Results'!$B$5:$BC$12,22))","v":""},{"$f":"IF($B79=\"\",\"\",\nVLOOKUP($C79,'2. Unit Testing Results'!$B$5:$BC$12,24))","v":""},{"$f":"IF($B79=\"\",\"\",\nVLOOKUP($C79,'2. Unit Testing Results'!$B$5:$BC$12,26))","v":""},{"$f":"IF($B79=\"\",\"\",\nVLOOKUP($C79,'2. Unit Testing Results'!$B$5:$BC$12,28))","v":""},{"$f":"IF($B79=\"\",\"\",'2. Unit Testing Results'!$P89)","v":""},{"$f":"IF($B79=\"\",\"\",'2. Unit Testing Results'!$U89)","v":""},{"$f":"IF($B79=\"\",\"\",\nVLOOKUP($C79,'2. Unit Testing Results'!$B$5:$BC$12,30))","v":""},{"$f":"IF($B79=\"\",\"\",\nVLOOKUP($C79,'2. Unit Testing Results'!$B$5:$BC$12,32))","v":""},{"$f":"IF($B79=\"\",\"\",\nVLOOKUP($C79,'2. Unit Testing Results'!$B$5:$BC$12,34))","v":""},{"$f":"IF($B79=\"\",\"\",\nVLOOKUP($C79,'2. Unit Testing Results'!$B$5:$BC$12,36))","v":""},{"$f":"IF($B79=\"\",\"\",\nVLOOKUP($C79,'2. Unit Testing Results'!$B$5:$BC$12,38))","v":""},{"$f":"IF($B79=\"\",\"\",\nVLOOKUP($C79,'2. Unit Testing Results'!$B$5:$BC$12,39))","v":""},{"$f":"IF($B79=\"\",\"\",\nVLOOKUP($C79,'2. Unit Testing Results'!$B$5:$BC$12,40))","v":""},{"$f":"IF($B79=\"\",\"\",\nVLOOKUP($C79,'2. Unit Testing Results'!$B$5:$BC$12,42))","v":""},{"$f":"IF($B79=\"\",\"\",\nVLOOKUP($C79,'2. Unit Testing Results'!$B$5:$BC$12,44))","v":""},{"$f":"IF($B79=\"\",\"\",\nVLOOKUP($C79,'2. Unit Testing Results'!$B$5:$BC$12,46))","v":""},{"$f":"IF($B79=\"\",\"\",\nVLOOKUP($C79,'2. Unit Testing Results'!$B$5:$BC$12,48))","v":""},{"$f":"IF($B79=\"\",\"\",\nVLOOKUP($C79,'2. Unit Testing Results'!$B$5:$BC$12,50))","v":""},{"$f":"IF($B79=\"\",\"\",\nVLOOKUP($C79,'2. Unit Testing Results'!$B$5:$BC$12,51))","v":""},{"$f":"IF($B79=\"\",\"\",\nVLOOKUP($C79,'2. Unit Testing Results'!$B$5:$BC$12,52))","v":""},{"$f":"IF($B79=\"\",\"\",\nVLOOKUP($C79,'2. Unit Testing Results'!$B$5:$BC$12,53))","v":""},{"$f":"IF($B79=\"\",\"\",\nVLOOKUP($C79,'2. Unit Testing Results'!$B$5:$BC$12,54))","v":""}]
[null,{"$f":"IF('2. Unit Testing Results'!$B90=\"\",\"\",'2. Unit Testing Results'!$B90)","v":""},{"$f":"IF('2. Unit Testing Results'!$C90=\"\",\"\",'2. Unit Testing Results'!$C90)","v":""},{"$f":"IF('2. Unit Testing Results'!$D90=\"\",\"\",'2. Unit Testing Results'!$D90)","v":""},{"$f":"IF('2. Unit Testing Results'!$E90=\"\",\"\",'2. Unit Testing Results'!$E90)","v":""},null,{"$f":"IF($B80=\"\",\"\",\n(('2. Unit Testing Results'!$W90)*60)\n/((VLOOKUP($C80,'2. Unit Testing Results'!$B$5:$R$12,4))*(VLOOKUP($C80,'2. Unit Testing Results'!$B$5:$R$12,6)))\n)","v":""},{"$f":"IF($B80=\"\",\"\",\nVLOOKUP($C80,'2. Unit Testing Results'!$B$5:$BC$12,19))","v":""},{"$f":"IF($B80=\"\",\"\",\nVLOOKUP($C80,'2. Unit Testing Results'!$B$5:$BC$12,20))","v":""},{"$f":"IF($B80=\"\",\"\",\nVLOOKUP($C80,'2. Unit Testing Results'!$B$5:$BC$12,22))","v":""},{"$f":"IF($B80=\"\",\"\",\nVLOOKUP($C80,'2. Unit Testing Results'!$B$5:$BC$12,24))","v":""},{"$f":"IF($B80=\"\",\"\",\nVLOOKUP($C80,'2. Unit Testing Results'!$B$5:$BC$12,26))","v":""},{"$f":"IF($B80=\"\",\"\",\nVLOOKUP($C80,'2. Unit Testing Results'!$B$5:$BC$12,28))","v":""},{"$f":"IF($B80=\"\",\"\",'2. Unit Testing Results'!$P90)","v":""},{"$f":"IF($B80=\"\",\"\",'2. Unit Testing Results'!$U90)","v":""},{"$f":"IF($B80=\"\",\"\",\nVLOOKUP($C80,'2. Unit Testing Results'!$B$5:$BC$12,30))","v":""},{"$f":"IF($B80=\"\",\"\",\nVLOOKUP($C80,'2. Unit Testing Results'!$B$5:$BC$12,32))","v":""},{"$f":"IF($B80=\"\",\"\",\nVLOOKUP($C80,'2. Unit Testing Results'!$B$5:$BC$12,34))","v":""},{"$f":"IF($B80=\"\",\"\",\nVLOOKUP($C80,'2. Unit Testing Results'!$B$5:$BC$12,36))","v":""},{"$f":"IF($B80=\"\",\"\",\nVLOOKUP($C80,'2. Unit Testing Results'!$B$5:$BC$12,38))","v":""},{"$f":"IF($B80=\"\",\"\",\nVLOOKUP($C80,'2. Unit Testing Results'!$B$5:$BC$12,39))","v":""},{"$f":"IF($B80=\"\",\"\",\nVLOOKUP($C80,'2. Unit Testing Results'!$B$5:$BC$12,40))","v":""},{"$f":"IF($B80=\"\",\"\",\nVLOOKUP($C80,'2. Unit Testing Results'!$B$5:$BC$12,42))","v":""},{"$f":"IF($B80=\"\",\"\",\nVLOOKUP($C80,'2. Unit Testing Results'!$B$5:$BC$12,44))","v":""},{"$f":"IF($B80=\"\",\"\",\nVLOOKUP($C80,'2. Unit Testing Results'!$B$5:$BC$12,46))","v":""},{"$f":"IF($B80=\"\",\"\",\nVLOOKUP($C80,'2. Unit Testing Results'!$B$5:$BC$12,48))","v":""},{"$f":"IF($B80=\"\",\"\",\nVLOOKUP($C80,'2. Unit Testing Results'!$B$5:$BC$12,50))","v":""},{"$f":"IF($B80=\"\",\"\",\nVLOOKUP($C80,'2. Unit Testing Results'!$B$5:$BC$12,51))","v":""},{"$f":"IF($B80=\"\",\"\",\nVLOOKUP($C80,'2. Unit Testing Results'!$B$5:$BC$12,52))","v":""},{"$f":"IF($B80=\"\",\"\",\nVLOOKUP($C80,'2. Unit Testing Results'!$B$5:$BC$12,53))","v":""},{"$f":"IF($B80=\"\",\"\",\nVLOOKUP($C80,'2. Unit Testing Results'!$B$5:$BC$12,54))","v":""}]
[null,{"$f":"IF('2. Unit Testing Results'!$B91=\"\",\"\",'2. Unit Testing Results'!$B91)","v":""},{"$f":"IF('2. Unit Testing Results'!$C91=\"\",\"\",'2. Unit Testing Results'!$C91)","v":""},{"$f":"IF('2. Unit Testing Results'!$D91=\"\",\"\",'2. Unit Testing Results'!$D91)","v":""},{"$f":"IF('2. Unit Testing Results'!$E91=\"\",\"\",'2. Unit Testing Results'!$E91)","v":""},null,{"$f":"IF($B81=\"\",\"\",\n(('2. Unit Testing Results'!$W91)*60)\n/((VLOOKUP($C81,'2. Unit Testing Results'!$B$5:$R$12,4))*(VLOOKUP($C81,'2. Unit Testing Results'!$B$5:$R$12,6)))\n)","v":""},{"$f":"IF($B81=\"\",\"\",\nVLOOKUP($C81,'2. Unit Testing Results'!$B$5:$BC$12,19))","v":""},{"$f":"IF($B81=\"\",\"\",\nVLOOKUP($C81,'2. Unit Testing Results'!$B$5:$BC$12,20))","v":""},{"$f":"IF($B81=\"\",\"\",\nVLOOKUP($C81,'2. Unit Testing Results'!$B$5:$BC$12,22))","v":""},{"$f":"IF($B81=\"\",\"\",\nVLOOKUP($C81,'2. Unit Testing Results'!$B$5:$BC$12,24))","v":""},{"$f":"IF($B81=\"\",\"\",\nVLOOKUP($C81,'2. Unit Testing Results'!$B$5:$BC$12,26))","v":""},{"$f":"IF($B81=\"\",\"\",\nVLOOKUP($C81,'2. Unit Testing Results'!$B$5:$BC$12,28))","v":""},{"$f":"IF($B81=\"\",\"\",'2. Unit Testing Results'!$P91)","v":""},{"$f":"IF($B81=\"\",\"\",'2. Unit Testing Results'!$U91)","v":""},{"$f":"IF($B81=\"\",\"\",\nVLOOKUP($C81,'2. Unit Testing Results'!$B$5:$BC$12,30))","v":""},{"$f":"IF($B81=\"\",\"\",\nVLOOKUP($C81,'2. Unit Testing Results'!$B$5:$BC$12,32))","v":""},{"$f":"IF($B81=\"\",\"\",\nVLOOKUP($C81,'2. Unit Testing Results'!$B$5:$BC$12,34))","v":""},{"$f":"IF($B81=\"\",\"\",\nVLOOKUP($C81,'2. Unit Testing Results'!$B$5:$BC$12,36))","v":""},{"$f":"IF($B81=\"\",\"\",\nVLOOKUP($C81,'2. Unit Testing Results'!$B$5:$BC$12,38))","v":""},{"$f":"IF($B81=\"\",\"\",\nVLOOKUP($C81,'2. Unit Testing Results'!$B$5:$BC$12,39))","v":""},{"$f":"IF($B81=\"\",\"\",\nVLOOKUP($C81,'2. Unit Testing Results'!$B$5:$BC$12,40))","v":""},{"$f":"IF($B81=\"\",\"\",\nVLOOKUP($C81,'2. Unit Testing Results'!$B$5:$BC$12,42))","v":""},{"$f":"IF($B81=\"\",\"\",\nVLOOKUP($C81,'2. Unit Testing Results'!$B$5:$BC$12,44))","v":""},{"$f":"IF($B81=\"\",\"\",\nVLOOKUP($C81,'2. Unit Testing Results'!$B$5:$BC$12,46))","v":""},{"$f":"IF($B81=\"\",\"\",\nVLOOKUP($C81,'2. Unit Testing Results'!$B$5:$BC$12,48))","v":""},{"$f":"IF($B81=\"\",\"\",\nVLOOKUP($C81,'2. Unit Testing Results'!$B$5:$BC$12,50))","v":""},{"$f":"IF($B81=\"\",\"\",\nVLOOKUP($C81,'2. Unit Testing Results'!$B$5:$BC$12,51))","v":""},{"$f":"IF($B81=\"\",\"\",\nVLOOKUP($C81,'2. Unit Testing Results'!$B$5:$BC$12,52))","v":""},{"$f":"IF($B81=\"\",\"\",\nVLOOKUP($C81,'2. Unit Testing Results'!$B$5:$BC$12,53))","v":""},{"$f":"IF($B81=\"\",\"\",\nVLOOKUP($C81,'2. Unit Testing Results'!$B$5:$BC$12,54))","v":""}]
[null,{"$f":"IF('2. Unit Testing Results'!$B92=\"\",\"\",'2. Unit Testing Results'!$B92)","v":""},{"$f":"IF('2. Unit Testing Results'!$C92=\"\",\"\",'2. Unit Testing Results'!$C92)","v":""},{"$f":"IF('2. Unit Testing Results'!$D92=\"\",\"\",'2. Unit Testing Results'!$D92)","v":""},{"$f":"IF('2. Unit Testing Results'!$E92=\"\",\"\",'2. Unit Testing Results'!$E92)","v":""},null,{"$f":"IF($B82=\"\",\"\",\n(('2. Unit Testing Results'!$W92)*60)\n/((VLOOKUP($C82,'2. Unit Testing Results'!$B$5:$R$12,4))*(VLOOKUP($C82,'2. Unit Testing Results'!$B$5:$R$12,6)))\n)","v":""},{"$f":"IF($B82=\"\",\"\",\nVLOOKUP($C82,'2. Unit Testing Results'!$B$5:$BC$12,19))","v":""},{"$f":"IF($B82=\"\",\"\",\nVLOOKUP($C82,'2. Unit Testing Results'!$B$5:$BC$12,20))","v":""},{"$f":"IF($B82=\"\",\"\",\nVLOOKUP($C82,'2. Unit Testing Results'!$B$5:$BC$12,22))","v":""},{"$f":"IF($B82=\"\",\"\",\nVLOOKUP($C82,'2. Unit Testing Results'!$B$5:$BC$12,24))","v":""},{"$f":"IF($B82=\"\",\"\",\nVLOOKUP($C82,'2. Unit Testing Results'!$B$5:$BC$12,26))","v":""},{"$f":"IF($B82=\"\",\"\",\nVLOOKUP($C82,'2. Unit Testing Results'!$B$5:$BC$12,28))","v":""},{"$f":"IF($B82=\"\",\"\",'2. Unit Testing Results'!$P92)","v":""},{"$f":"IF($B82=\"\",\"\",'2. Unit Testing Results'!$U92)","v":""},{"$f":"IF($B82=\"\",\"\",\nVLOOKUP($C82,'2. Unit Testing Results'!$B$5:$BC$12,30))","v":""},{"$f":"IF($B82=\"\",\"\",\nVLOOKUP($C82,'2. Unit Testing Results'!$B$5:$BC$12,32))","v":""},{"$f":"IF($B82=\"\",\"\",\nVLOOKUP($C82,'2. Unit Testing Results'!$B$5:$BC$12,34))","v":""},{"$f":"IF($B82=\"\",\"\",\nVLOOKUP($C82,'2. Unit Testing Results'!$B$5:$BC$12,36))","v":""},{"$f":"IF($B82=\"\",\"\",\nVLOOKUP($C82,'2. Unit Testing Results'!$B$5:$BC$12,38))","v":""},{"$f":"IF($B82=\"\",\"\",\nVLOOKUP($C82,'2. Unit Testing Results'!$B$5:$BC$12,39))","v":""},{"$f":"IF($B82=\"\",\"\",\nVLOOKUP($C82,'2. Unit Testing Results'!$B$5:$BC$12,40))","v":""},{"$f":"IF($B82=\"\",\"\",\nVLOOKUP($C82,'2. Unit Testing Results'!$B$5:$BC$12,42))","v":""},{"$f":"IF($B82=\"\",\"\",\nVLOOKUP($C82,'2. Unit Testing Results'!$B$5:$BC$12,44))","v":""},{"$f":"IF($B82=\"\",\"\",\nVLOOKUP($C82,'2. Unit Testing Results'!$B$5:$BC$12,46))","v":""},{"$f":"IF($B82=\"\",\"\",\nVLOOKUP($C82,'2. Unit Testing Results'!$B$5:$BC$12,48))","v":""},{"$f":"IF($B82=\"\",\"\",\nVLOOKUP($C82,'2. Unit Testing Results'!$B$5:$BC$12,50))","v":""},{"$f":"IF($B82=\"\",\"\",\nVLOOKUP($C82,'2. Unit Testing Results'!$B$5:$BC$12,51))","v":""},{"$f":"IF($B82=\"\",\"\",\nVLOOKUP($C82,'2. Unit Testing Results'!$B$5:$BC$12,52))","v":""},{"$f":"IF($B82=\"\",\"\",\nVLOOKUP($C82,'2. Unit Testing Results'!$B$5:$BC$12,53))","v":""},{"$f":"IF($B82=\"\",\"\",\nVLOOKUP($C82,'2. Unit Testing Results'!$B$5:$BC$12,54))","v":""}]
[null,{"$f":"IF('2. Unit Testing Results'!$B93=\"\",\"\",'2. Unit Testing Results'!$B93)","v":""},{"$f":"IF('2. Unit Testing Results'!$C93=\"\",\"\",'2. Unit Testing Results'!$C93)","v":""},{"$f":"IF('2. Unit Testing Results'!$D93=\"\",\"\",'2. Unit Testing Results'!$D93)","v":""},{"$f":"IF('2. Unit Testing Results'!$E93=\"\",\"\",'2. Unit Testing Results'!$E93)","v":""},null,{"$f":"IF($B83=\"\",\"\",\n(('2. Unit Testing Results'!$W93)*60)\n/((VLOOKUP($C83,'2. Unit Testing Results'!$B$5:$R$12,4))*(VLOOKUP($C83,'2. Unit Testing Results'!$B$5:$R$12,6)))\n)","v":""},{"$f":"IF($B83=\"\",\"\",\nVLOOKUP($C83,'2. Unit Testing Results'!$B$5:$BC$12,19))","v":""},{"$f":"IF($B83=\"\",\"\",\nVLOOKUP($C83,'2. Unit Testing Results'!$B$5:$BC$12,20))","v":""},{"$f":"IF($B83=\"\",\"\",\nVLOOKUP($C83,'2. Unit Testing Results'!$B$5:$BC$12,22))","v":""},{"$f":"IF($B83=\"\",\"\",\nVLOOKUP($C83,'2. Unit Testing Results'!$B$5:$BC$12,24))","v":""},{"$f":"IF($B83=\"\",\"\",\nVLOOKUP($C83,'2. Unit Testing Results'!$B$5:$BC$12,26))","v":""},{"$f":"IF($B83=\"\",\"\",\nVLOOKUP($C83,'2. Unit Testing Results'!$B$5:$BC$12,28))","v":""},{"$f":"IF($B83=\"\",\"\",'2. Unit Testing Results'!$P93)","v":""},{"$f":"IF($B83=\"\",\"\",'2. Unit Testing Results'!$U93)","v":""},{"$f":"IF($B83=\"\",\"\",\nVLOOKUP($C83,'2. Unit Testing Results'!$B$5:$BC$12,30))","v":""},{"$f":"IF($B83=\"\",\"\",\nVLOOKUP($C83,'2. Unit Testing Results'!$B$5:$BC$12,32))","v":""},{"$f":"IF($B83=\"\",\"\",\nVLOOKUP($C83,'2. Unit Testing Results'!$B$5:$BC$12,34))","v":""},{"$f":"IF($B83=\"\",\"\",\nVLOOKUP($C83,'2. Unit Testing Results'!$B$5:$BC$12,36))","v":""},{"$f":"IF($B83=\"\",\"\",\nVLOOKUP($C83,'2. Unit Testing Results'!$B$5:$BC$12,38))","v":""},{"$f":"IF($B83=\"\",\"\",\nVLOOKUP($C83,'2. Unit Testing Results'!$B$5:$BC$12,39))","v":""},{"$f":"IF($B83=\"\",\"\",\nVLOOKUP($C83,'2. Unit Testing Results'!$B$5:$BC$12,40))","v":""},{"$f":"IF($B83=\"\",\"\",\nVLOOKUP($C83,'2. Unit Testing Results'!$B$5:$BC$12,42))","v":""},{"$f":"IF($B83=\"\",\"\",\nVLOOKUP($C83,'2. Unit Testing Results'!$B$5:$BC$12,44))","v":""},{"$f":"IF($B83=\"\",\"\",\nVLOOKUP($C83,'2. Unit Testing Results'!$B$5:$BC$12,46))","v":""},{"$f":"IF($B83=\"\",\"\",\nVLOOKUP($C83,'2. Unit Testing Results'!$B$5:$BC$12,48))","v":""},{"$f":"IF($B83=\"\",\"\",\nVLOOKUP($C83,'2. Unit Testing Results'!$B$5:$BC$12,50))","v":""},{"$f":"IF($B83=\"\",\"\",\nVLOOKUP($C83,'2. Unit Testing Results'!$B$5:$BC$12,51))","v":""},{"$f":"IF($B83=\"\",\"\",\nVLOOKUP($C83,'2. Unit Testing Results'!$B$5:$BC$12,52))","v":""},{"$f":"IF($B83=\"\",\"\",\nVLOOKUP($C83,'2. Unit Testing Results'!$B$5:$BC$12,53))","v":""},{"$f":"IF($B83=\"\",\"\",\nVLOOKUP($C83,'2. Unit Testing Results'!$B$5:$BC$12,54))","v":""}]
[null,{"$f":"IF('2. Unit Testing Results'!$B94=\"\",\"\",'2. Unit Testing Results'!$B94)","v":""},{"$f":"IF('2. Unit Testing Results'!$C94=\"\",\"\",'2. Unit Testing Results'!$C94)","v":""},{"$f":"IF('2. Unit Testing Results'!$D94=\"\",\"\",'2. Unit Testing Results'!$D94)","v":""},{"$f":"IF('2. Unit Testing Results'!$E94=\"\",\"\",'2. Unit Testing Results'!$E94)","v":""},null,{"$f":"IF($B84=\"\",\"\",\n(('2. Unit Testing Results'!$W94)*60)\n/((VLOOKUP($C84,'2. Unit Testing Results'!$B$5:$R$12,4))*(VLOOKUP($C84,'2. Unit Testing Results'!$B$5:$R$12,6)))\n)","v":""},{"$f":"IF($B84=\"\",\"\",\nVLOOKUP($C84,'2. Unit Testing Results'!$B$5:$BC$12,19))","v":""},{"$f":"IF($B84=\"\",\"\",\nVLOOKUP($C84,'2. Unit Testing Results'!$B$5:$BC$12,20))","v":""},{"$f":"IF($B84=\"\",\"\",\nVLOOKUP($C84,'2. Unit Testing Results'!$B$5:$BC$12,22))","v":""},{"$f":"IF($B84=\"\",\"\",\nVLOOKUP($C84,'2. Unit Testing Results'!$B$5:$BC$12,24))","v":""},{"$f":"IF($B84=\"\",\"\",\nVLOOKUP($C84,'2. Unit Testing Results'!$B$5:$BC$12,26))","v":""},{"$f":"IF($B84=\"\",\"\",\nVLOOKUP($C84,'2. Unit Testing Results'!$B$5:$BC$12,28))","v":""},{"$f":"IF($B84=\"\",\"\",'2. Unit Testing Results'!$P94)","v":""},{"$f":"IF($B84=\"\",\"\",'2. Unit Testing Results'!$U94)","v":""},{"$f":"IF($B84=\"\",\"\",\nVLOOKUP($C84,'2. Unit Testing Results'!$B$5:$BC$12,30))","v":""},{"$f":"IF($B84=\"\",\"\",\nVLOOKUP($C84,'2. Unit Testing Results'!$B$5:$BC$12,32))","v":""},{"$f":"IF($B84=\"\",\"\",\nVLOOKUP($C84,'2. Unit Testing Results'!$B$5:$BC$12,34))","v":""},{"$f":"IF($B84=\"\",\"\",\nVLOOKUP($C84,'2. Unit Testing Results'!$B$5:$BC$12,36))","v":""},{"$f":"IF($B84=\"\",\"\",\nVLOOKUP($C84,'2. Unit Testing Results'!$B$5:$BC$12,38))","v":""},{"$f":"IF($B84=\"\",\"\",\nVLOOKUP($C84,'2. Unit Testing Results'!$B$5:$BC$12,39))","v":""},{"$f":"IF($B84=\"\",\"\",\nVLOOKUP($C84,'2. Unit Testing Results'!$B$5:$BC$12,40))","v":""},{"$f":"IF($B84=\"\",\"\",\nVLOOKUP($C84,'2. Unit Testing Results'!$B$5:$BC$12,42))","v":""},{"$f":"IF($B84=\"\",\"\",\nVLOOKUP($C84,'2. Unit Testing Results'!$B$5:$BC$12,44))","v":""},{"$f":"IF($B84=\"\",\"\",\nVLOOKUP($C84,'2. Unit Testing Results'!$B$5:$BC$12,46))","v":""},{"$f":"IF($B84=\"\",\"\",\nVLOOKUP($C84,'2. Unit Testing Results'!$B$5:$BC$12,48))","v":""},{"$f":"IF($B84=\"\",\"\",\nVLOOKUP($C84,'2. Unit Testing Results'!$B$5:$BC$12,50))","v":""},{"$f":"IF($B84=\"\",\"\",\nVLOOKUP($C84,'2. Unit Testing Results'!$B$5:$BC$12,51))","v":""},{"$f":"IF($B84=\"\",\"\",\nVLOOKUP($C84,'2. Unit Testing Results'!$B$5:$BC$12,52))","v":""},{"$f":"IF($B84=\"\",\"\",\nVLOOKUP($C84,'2. Unit Testing Results'!$B$5:$BC$12,53))","v":""},{"$f":"IF($B84=\"\",\"\",\nVLOOKUP($C84,'2. Unit Testing Results'!$B$5:$BC$12,54))","v":""}]
[null,{"$f":"IF('2. Unit Testing Results'!$B95=\"\",\"\",'2. Unit Testing Results'!$B95)","v":""},{"$f":"IF('2. Unit Testing Results'!$C95=\"\",\"\",'2. Unit Testing Results'!$C95)","v":""},{"$f":"IF('2. Unit Testing Results'!$D95=\"\",\"\",'2. Unit Testing Results'!$D95)","v":""},{"$f":"IF('2. Unit Testing Results'!$E95=\"\",\"\",'2. Unit Testing Results'!$E95)","v":""},null,{"$f":"IF($B85=\"\",\"\",\n(('2. Unit Testing Results'!$W95)*60)\n/((VLOOKUP($C85,'2. Unit Testing Results'!$B$5:$R$12,4))*(VLOOKUP($C85,'2. Unit Testing Results'!$B$5:$R$12,6)))\n)","v":""},{"$f":"IF($B85=\"\",\"\",\nVLOOKUP($C85,'2. Unit Testing Results'!$B$5:$BC$12,19))","v":""},{"$f":"IF($B85=\"\",\"\",\nVLOOKUP($C85,'2. Unit Testing Results'!$B$5:$BC$12,20))","v":""},{"$f":"IF($B85=\"\",\"\",\nVLOOKUP($C85,'2. Unit Testing Results'!$B$5:$BC$12,22))","v":""},{"$f":"IF($B85=\"\",\"\",\nVLOOKUP($C85,'2. Unit Testing Results'!$B$5:$BC$12,24))","v":""},{"$f":"IF($B85=\"\",\"\",\nVLOOKUP($C85,'2. Unit Testing Results'!$B$5:$BC$12,26))","v":""},{"$f":"IF($B85=\"\",\"\",\nVLOOKUP($C85,'2. Unit Testing Results'!$B$5:$BC$12,28))","v":""},{"$f":"IF($B85=\"\",\"\",'2. Unit Testing Results'!$P95)","v":""},{"$f":"IF($B85=\"\",\"\",'2. Unit Testing Results'!$U95)","v":""},{"$f":"IF($B85=\"\",\"\",\nVLOOKUP($C85,'2. Unit Testing Results'!$B$5:$BC$12,30))","v":""},{"$f":"IF($B85=\"\",\"\",\nVLOOKUP($C85,'2. Unit Testing Results'!$B$5:$BC$12,32))","v":""},{"$f":"IF($B85=\"\",\"\",\nVLOOKUP($C85,'2. Unit Testing Results'!$B$5:$BC$12,34))","v":""},{"$f":"IF($B85=\"\",\"\",\nVLOOKUP($C85,'2. Unit Testing Results'!$B$5:$BC$12,36))","v":""},{"$f":"IF($B85=\"\",\"\",\nVLOOKUP($C85,'2. Unit Testing Results'!$B$5:$BC$12,38))","v":""},{"$f":"IF($B85=\"\",\"\",\nVLOOKUP($C85,'2. Unit Testing Results'!$B$5:$BC$12,39))","v":""},{"$f":"IF($B85=\"\",\"\",\nVLOOKUP($C85,'2. Unit Testing Results'!$B$5:$BC$12,40))","v":""},{"$f":"IF($B85=\"\",\"\",\nVLOOKUP($C85,'2. Unit Testing Results'!$B$5:$BC$12,42))","v":""},{"$f":"IF($B85=\"\",\"\",\nVLOOKUP($C85,'2. Unit Testing Results'!$B$5:$BC$12,44))","v":""},{"$f":"IF($B85=\"\",\"\",\nVLOOKUP($C85,'2. Unit Testing Results'!$B$5:$BC$12,46))","v":""},{"$f":"IF($B85=\"\",\"\",\nVLOOKUP($C85,'2. Unit Testing Results'!$B$5:$BC$12,48))","v":""},{"$f":"IF($B85=\"\",\"\",\nVLOOKUP($C85,'2. Unit Testing Results'!$B$5:$BC$12,50))","v":""},{"$f":"IF($B85=\"\",\"\",\nVLOOKUP($C85,'2. Unit Testing Results'!$B$5:$BC$12,51))","v":""},{"$f":"IF($B85=\"\",\"\",\nVLOOKUP($C85,'2. Unit Testing Results'!$B$5:$BC$12,52))","v":""},{"$f":"IF($B85=\"\",\"\",\nVLOOKUP($C85,'2. Unit Testing Results'!$B$5:$BC$12,53))","v":""},{"$f":"IF($B85=\"\",\"\",\nVLOOKUP($C85,'2. Unit Testing Results'!$B$5:$BC$12,54))","v":""}]
[null,{"$f":"IF('2. Unit Testing Results'!$B96=\"\",\"\",'2. Unit Testing Results'!$B96)","v":""},{"$f":"IF('2. Unit Testing Results'!$C96=\"\",\"\",'2. Unit Testing Results'!$C96)","v":""},{"$f":"IF('2. Unit Testing Results'!$D96=\"\",\"\",'2. Unit Testing Results'!$D96)","v":""},{"$f":"IF('2. Unit Testing Results'!$E96=\"\",\"\",'2. Unit Testing Results'!$E96)","v":""},null,{"$f":"IF($B86=\"\",\"\",\n(('2. Unit Testing Results'!$W96)*60)\n/((VLOOKUP($C86,'2. Unit Testing Results'!$B$5:$R$12,4))*(VLOOKUP($C86,'2. Unit Testing Results'!$B$5:$R$12,6)))\n)","v":""},{"$f":"IF($B86=\"\",\"\",\nVLOOKUP($C86,'2. Unit Testing Results'!$B$5:$BC$12,19))","v":""},{"$f":"IF($B86=\"\",\"\",\nVLOOKUP($C86,'2. Unit Testing Results'!$B$5:$BC$12,20))","v":""},{"$f":"IF($B86=\"\",\"\",\nVLOOKUP($C86,'2. Unit Testing Results'!$B$5:$BC$12,22))","v":""},{"$f":"IF($B86=\"\",\"\",\nVLOOKUP($C86,'2. Unit Testing Results'!$B$5:$BC$12,24))","v":""},{"$f":"IF($B86=\"\",\"\",\nVLOOKUP($C86,'2. Unit Testing Results'!$B$5:$BC$12,26))","v":""},{"$f":"IF($B86=\"\",\"\",\nVLOOKUP($C86,'2. Unit Testing Results'!$B$5:$BC$12,28))","v":""},{"$f":"IF($B86=\"\",\"\",'2. Unit Testing Results'!$P96)","v":""},{"$f":"IF($B86=\"\",\"\",'2. Unit Testing Results'!$U96)","v":""},{"$f":"IF($B86=\"\",\"\",\nVLOOKUP($C86,'2. Unit Testing Results'!$B$5:$BC$12,30))","v":""},{"$f":"IF($B86=\"\",\"\",\nVLOOKUP($C86,'2. Unit Testing Results'!$B$5:$BC$12,32))","v":""},{"$f":"IF($B86=\"\",\"\",\nVLOOKUP($C86,'2. Unit Testing Results'!$B$5:$BC$12,34))","v":""},{"$f":"IF($B86=\"\",\"\",\nVLOOKUP($C86,'2. Unit Testing Results'!$B$5:$BC$12,36))","v":""},{"$f":"IF($B86=\"\",\"\",\nVLOOKUP($C86,'2. Unit Testing Results'!$B$5:$BC$12,38))","v":""},{"$f":"IF($B86=\"\",\"\",\nVLOOKUP($C86,'2. Unit Testing Results'!$B$5:$BC$12,39))","v":""},{"$f":"IF($B86=\"\",\"\",\nVLOOKUP($C86,'2. Unit Testing Results'!$B$5:$BC$12,40))","v":""},{"$f":"IF($B86=\"\",\"\",\nVLOOKUP($C86,'2. Unit Testing Results'!$B$5:$BC$12,42))","v":""},{"$f":"IF($B86=\"\",\"\",\nVLOOKUP($C86,'2. Unit Testing Results'!$B$5:$BC$12,44))","v":""},{"$f":"IF($B86=\"\",\"\",\nVLOOKUP($C86,'2. Unit Testing Results'!$B$5:$BC$12,46))","v":""},{"$f":"IF($B86=\"\",\"\",\nVLOOKUP($C86,'2. Unit Testing Results'!$B$5:$BC$12,48))","v":""},{"$f":"IF($B86=\"\",\"\",\nVLOOKUP($C86,'2. Unit Testing Results'!$B$5:$BC$12,50))","v":""},{"$f":"IF($B86=\"\",\"\",\nVLOOKUP($C86,'2. Unit Testing Results'!$B$5:$BC$12,51))","v":""},{"$f":"IF($B86=\"\",\"\",\nVLOOKUP($C86,'2. Unit Testing Results'!$B$5:$BC$12,52))","v":""},{"$f":"IF($B86=\"\",\"\",\nVLOOKUP($C86,'2. Unit Testing Results'!$B$5:$BC$12,53))","v":""},{"$f":"IF($B86=\"\",\"\",\nVLOOKUP($C86,'2. Unit Testing Results'!$B$5:$BC$12,54))","v":""}]
[null,{"$f":"IF('2. Unit Testing Results'!$B97=\"\",\"\",'2. Unit Testing Results'!$B97)","v":""},{"$f":"IF('2. Unit Testing Results'!$C97=\"\",\"\",'2. Unit Testing Results'!$C97)","v":""},{"$f":"IF('2. Unit Testing Results'!$D97=\"\",\"\",'2. Unit Testing Results'!$D97)","v":""},{"$f":"IF('2. Unit Testing Results'!$E97=\"\",\"\",'2. Unit Testing Results'!$E97)","v":""},null,{"$f":"IF($B87=\"\",\"\",\n(('2. Unit Testing Results'!$W97)*60)\n/((VLOOKUP($C87,'2. Unit Testing Results'!$B$5:$R$12,4))*(VLOOKUP($C87,'2. Unit Testing Results'!$B$5:$R$12,6)))\n)","v":""},{"$f":"IF($B87=\"\",\"\",\nVLOOKUP($C87,'2. Unit Testing Results'!$B$5:$BC$12,19))","v":""},{"$f":"IF($B87=\"\",\"\",\nVLOOKUP($C87,'2. Unit Testing Results'!$B$5:$BC$12,20))","v":""},{"$f":"IF($B87=\"\",\"\",\nVLOOKUP($C87,'2. Unit Testing Results'!$B$5:$BC$12,22))","v":""},{"$f":"IF($B87=\"\",\"\",\nVLOOKUP($C87,'2. Unit Testing Results'!$B$5:$BC$12,24))","v":""},{"$f":"IF($B87=\"\",\"\",\nVLOOKUP($C87,'2. Unit Testing Results'!$B$5:$BC$12,26))","v":""},{"$f":"IF($B87=\"\",\"\",\nVLOOKUP($C87,'2. Unit Testing Results'!$B$5:$BC$12,28))","v":""},{"$f":"IF($B87=\"\",\"\",'2. Unit Testing Results'!$P97)","v":""},{"$f":"IF($B87=\"\",\"\",'2. Unit Testing Results'!$U97)","v":""},{"$f":"IF($B87=\"\",\"\",\nVLOOKUP($C87,'2. Unit Testing Results'!$B$5:$BC$12,30))","v":""},{"$f":"IF($B87=\"\",\"\",\nVLOOKUP($C87,'2. Unit Testing Results'!$B$5:$BC$12,32))","v":""},{"$f":"IF($B87=\"\",\"\",\nVLOOKUP($C87,'2. Unit Testing Results'!$B$5:$BC$12,34))","v":""},{"$f":"IF($B87=\"\",\"\",\nVLOOKUP($C87,'2. Unit Testing Results'!$B$5:$BC$12,36))","v":""},{"$f":"IF($B87=\"\",\"\",\nVLOOKUP($C87,'2. Unit Testing Results'!$B$5:$BC$12,38))","v":""},{"$f":"IF($B87=\"\",\"\",\nVLOOKUP($C87,'2. Unit Testing Results'!$B$5:$BC$12,39))","v":""},{"$f":"IF($B87=\"\",\"\",\nVLOOKUP($C87,'2. Unit Testing Results'!$B$5:$BC$12,40))","v":""},{"$f":"IF($B87=\"\",\"\",\nVLOOKUP($C87,'2. Unit Testing Results'!$B$5:$BC$12,42))","v":""},{"$f":"IF($B87=\"\",\"\",\nVLOOKUP($C87,'2. Unit Testing Results'!$B$5:$BC$12,44))","v":""},{"$f":"IF($B87=\"\",\"\",\nVLOOKUP($C87,'2. Unit Testing Results'!$B$5:$BC$12,46))","v":""},{"$f":"IF($B87=\"\",\"\",\nVLOOKUP($C87,'2. Unit Testing Results'!$B$5:$BC$12,48))","v":""},{"$f":"IF($B87=\"\",\"\",\nVLOOKUP($C87,'2. Unit Testing Results'!$B$5:$BC$12,50))","v":""},{"$f":"IF($B87=\"\",\"\",\nVLOOKUP($C87,'2. Unit Testing Results'!$B$5:$BC$12,51))","v":""},{"$f":"IF($B87=\"\",\"\",\nVLOOKUP($C87,'2. Unit Testing Results'!$B$5:$BC$12,52))","v":""},{"$f":"IF($B87=\"\",\"\",\nVLOOKUP($C87,'2. Unit Testing Results'!$B$5:$BC$12,53))","v":""},{"$f":"IF($B87=\"\",\"\",\nVLOOKUP($C87,'2. Unit Testing Results'!$B$5:$BC$12,54))","v":""}]
[null,{"$f":"IF('2. Unit Testing Results'!$B98=\"\",\"\",'2. Unit Testing Results'!$B98)","v":""},{"$f":"IF('2. Unit Testing Results'!$C98=\"\",\"\",'2. Unit Testing Results'!$C98)","v":""},{"$f":"IF('2. Unit Testing Results'!$D98=\"\",\"\",'2. Unit Testing Results'!$D98)","v":""},{"$f":"IF('2. Unit Testing Results'!$E98=\"\",\"\",'2. Unit Testing Results'!$E98)","v":""},null,{"$f":"IF($B88=\"\",\"\",\n(('2. Unit Testing Results'!$W98)*60)\n/((VLOOKUP($C88,'2. Unit Testing Results'!$B$5:$R$12,4))*(VLOOKUP($C88,'2. Unit Testing Results'!$B$5:$R$12,6)))\n)","v":""},{"$f":"IF($B88=\"\",\"\",\nVLOOKUP($C88,'2. Unit Testing Results'!$B$5:$BC$12,19))","v":""},{"$f":"IF($B88=\"\",\"\",\nVLOOKUP($C88,'2. Unit Testing Results'!$B$5:$BC$12,20))","v":""},{"$f":"IF($B88=\"\",\"\",\nVLOOKUP($C88,'2. Unit Testing Results'!$B$5:$BC$12,22))","v":""},{"$f":"IF($B88=\"\",\"\",\nVLOOKUP($C88,'2. Unit Testing Results'!$B$5:$BC$12,24))","v":""},{"$f":"IF($B88=\"\",\"\",\nVLOOKUP($C88,'2. Unit Testing Results'!$B$5:$BC$12,26))","v":""},{"$f":"IF($B88=\"\",\"\",\nVLOOKUP($C88,'2. Unit Testing Results'!$B$5:$BC$12,28))","v":""},{"$f":"IF($B88=\"\",\"\",'2. Unit Testing Results'!$P98)","v":""},{"$f":"IF($B88=\"\",\"\",'2. Unit Testing Results'!$U98)","v":""},{"$f":"IF($B88=\"\",\"\",\nVLOOKUP($C88,'2. Unit Testing Results'!$B$5:$BC$12,30))","v":""},{"$f":"IF($B88=\"\",\"\",\nVLOOKUP($C88,'2. Unit Testing Results'!$B$5:$BC$12,32))","v":""},{"$f":"IF($B88=\"\",\"\",\nVLOOKUP($C88,'2. Unit Testing Results'!$B$5:$BC$12,34))","v":""},{"$f":"IF($B88=\"\",\"\",\nVLOOKUP($C88,'2. Unit Testing Results'!$B$5:$BC$12,36))","v":""},{"$f":"IF($B88=\"\",\"\",\nVLOOKUP($C88,'2. Unit Testing Results'!$B$5:$BC$12,38))","v":""},{"$f":"IF($B88=\"\",\"\",\nVLOOKUP($C88,'2. Unit Testing Results'!$B$5:$BC$12,39))","v":""},{"$f":"IF($B88=\"\",\"\",\nVLOOKUP($C88,'2. Unit Testing Results'!$B$5:$BC$12,40))","v":""},{"$f":"IF($B88=\"\",\"\",\nVLOOKUP($C88,'2. Unit Testing Results'!$B$5:$BC$12,42))","v":""},{"$f":"IF($B88=\"\",\"\",\nVLOOKUP($C88,'2. Unit Testing Results'!$B$5:$BC$12,44))","v":""},{"$f":"IF($B88=\"\",\"\",\nVLOOKUP($C88,'2. Unit Testing Results'!$B$5:$BC$12,46))","v":""},{"$f":"IF($B88=\"\",\"\",\nVLOOKUP($C88,'2. Unit Testing Results'!$B$5:$BC$12,48))","v":""},{"$f":"IF($B88=\"\",\"\",\nVLOOKUP($C88,'2. Unit Testing Results'!$B$5:$BC$12,50))","v":""},{"$f":"IF($B88=\"\",\"\",\nVLOOKUP($C88,'2. Unit Testing Results'!$B$5:$BC$12,51))","v":""},{"$f":"IF($B88=\"\",\"\",\nVLOOKUP($C88,'2. Unit Testing Results'!$B$5:$BC$12,52))","v":""},{"$f":"IF($B88=\"\",\"\",\nVLOOKUP($C88,'2. Unit Testing Results'!$B$5:$BC$12,53))","v":""},{"$f":"IF($B88=\"\",\"\",\nVLOOKUP($C88,'2. Unit Testing Results'!$B$5:$BC$12,54))","v":""}]
[null,{"$f":"IF('2. Unit Testing Results'!$B99=\"\",\"\",'2. Unit Testing Results'!$B99)","v":""},{"$f":"IF('2. Unit Testing Results'!$C99=\"\",\"\",'2. Unit Testing Results'!$C99)","v":""},{"$f":"IF('2. Unit Testing Results'!$D99=\"\",\"\",'2. Unit Testing Results'!$D99)","v":""},{"$f":"IF('2. Unit Testing Results'!$E99=\"\",\"\",'2. Unit Testing Results'!$E99)","v":""},null,{"$f":"IF($B89=\"\",\"\",\n(('2. Unit Testing Results'!$W99)*60)\n/((VLOOKUP($C89,'2. Unit Testing Results'!$B$5:$R$12,4))*(VLOOKUP($C89,'2. Unit Testing Results'!$B$5:$R$12,6)))\n)","v":""},{"$f":"IF($B89=\"\",\"\",\nVLOOKUP($C89,'2. Unit Testing Results'!$B$5:$BC$12,19))","v":""},{"$f":"IF($B89=\"\",\"\",\nVLOOKUP($C89,'2. Unit Testing Results'!$B$5:$BC$12,20))","v":""},{"$f":"IF($B89=\"\",\"\",\nVLOOKUP($C89,'2. Unit Testing Results'!$B$5:$BC$12,22))","v":""},{"$f":"IF($B89=\"\",\"\",\nVLOOKUP($C89,'2. Unit Testing Results'!$B$5:$BC$12,24))","v":""},{"$f":"IF($B89=\"\",\"\",\nVLOOKUP($C89,'2. Unit Testing Results'!$B$5:$BC$12,26))","v":""},{"$f":"IF($B89=\"\",\"\",\nVLOOKUP($C89,'2. Unit Testing Results'!$B$5:$BC$12,28))","v":""},{"$f":"IF($B89=\"\",\"\",'2. Unit Testing Results'!$P99)","v":""},{"$f":"IF($B89=\"\",\"\",'2. Unit Testing Results'!$U99)","v":""},{"$f":"IF($B89=\"\",\"\",\nVLOOKUP($C89,'2. Unit Testing Results'!$B$5:$BC$12,30))","v":""},{"$f":"IF($B89=\"\",\"\",\nVLOOKUP($C89,'2. Unit Testing Results'!$B$5:$BC$12,32))","v":""},{"$f":"IF($B89=\"\",\"\",\nVLOOKUP($C89,'2. Unit Testing Results'!$B$5:$BC$12,34))","v":""},{"$f":"IF($B89=\"\",\"\",\nVLOOKUP($C89,'2. Unit Testing Results'!$B$5:$BC$12,36))","v":""},{"$f":"IF($B89=\"\",\"\",\nVLOOKUP($C89,'2. Unit Testing Results'!$B$5:$BC$12,38))","v":""},{"$f":"IF($B89=\"\",\"\",\nVLOOKUP($C89,'2. Unit Testing Results'!$B$5:$BC$12,39))","v":""},{"$f":"IF($B89=\"\",\"\",\nVLOOKUP($C89,'2. Unit Testing Results'!$B$5:$BC$12,40))","v":""},{"$f":"IF($B89=\"\",\"\",\nVLOOKUP($C89,'2. Unit Testing Results'!$B$5:$BC$12,42))","v":""},{"$f":"IF($B89=\"\",\"\",\nVLOOKUP($C89,'2. Unit Testing Results'!$B$5:$BC$12,44))","v":""},{"$f":"IF($B89=\"\",\"\",\nVLOOKUP($C89,'2. Unit Testing Results'!$B$5:$BC$12,46))","v":""},{"$f":"IF($B89=\"\",\"\",\nVLOOKUP($C89,'2. Unit Testing Results'!$B$5:$BC$12,48))","v":""},{"$f":"IF($B89=\"\",\"\",\nVLOOKUP($C89,'2. Unit Testing Results'!$B$5:$BC$12,50))","v":""},{"$f":"IF($B89=\"\",\"\",\nVLOOKUP($C89,'2. Unit Testing Results'!$B$5:$BC$12,51))","v":""},{"$f":"IF($B89=\"\",\"\",\nVLOOKUP($C89,'2. Unit Testing Results'!$B$5:$BC$12,52))","v":""},{"$f":"IF($B89=\"\",\"\",\nVLOOKUP($C89,'2. Unit Testing Results'!$B$5:$BC$12,53))","v":""},{"$f":"IF($B89=\"\",\"\",\nVLOOKUP($C89,'2. Unit Testing Results'!$B$5:$BC$12,54))","v":""}]
[null,{"$f":"IF('2. Unit Testing Results'!$B100=\"\",\"\",'2. Unit Testing Results'!$B100)","v":""},{"$f":"IF('2. Unit Testing Results'!$C100=\"\",\"\",'2. Unit Testing Results'!$C100)","v":""},{"$f":"IF('2. Unit Testing Results'!$D100=\"\",\"\",'2. Unit Testing Results'!$D100)","v":""},{"$f":"IF('2. Unit Testing Results'!$E100=\"\",\"\",'2. Unit Testing Results'!$E100)","v":""},null,{"$f":"IF($B90=\"\",\"\",\n(('2. Unit Testing Results'!$W100)*60)\n/((VLOOKUP($C90,'2. Unit Testing Results'!$B$5:$R$12,4))*(VLOOKUP($C90,'2. Unit Testing Results'!$B$5:$R$12,6)))\n)","v":""},{"$f":"IF($B90=\"\",\"\",\nVLOOKUP($C90,'2. Unit Testing Results'!$B$5:$BC$12,19))","v":""},{"$f":"IF($B90=\"\",\"\",\nVLOOKUP($C90,'2. Unit Testing Results'!$B$5:$BC$12,20))","v":""},{"$f":"IF($B90=\"\",\"\",\nVLOOKUP($C90,'2. Unit Testing Results'!$B$5:$BC$12,22))","v":""},{"$f":"IF($B90=\"\",\"\",\nVLOOKUP($C90,'2. Unit Testing Results'!$B$5:$BC$12,24))","v":""},{"$f":"IF($B90=\"\",\"\",\nVLOOKUP($C90,'2. Unit Testing Results'!$B$5:$BC$12,26))","v":""},{"$f":"IF($B90=\"\",\"\",\nVLOOKUP($C90,'2. Unit Testing Results'!$B$5:$BC$12,28))","v":""},{"$f":"IF($B90=\"\",\"\",'2. Unit Testing Results'!$P100)","v":""},{"$f":"IF($B90=\"\",\"\",'2. Unit Testing Results'!$U100)","v":""},{"$f":"IF($B90=\"\",\"\",\nVLOOKUP($C90,'2. Unit Testing Results'!$B$5:$BC$12,30))","v":""},{"$f":"IF($B90=\"\",\"\",\nVLOOKUP($C90,'2. Unit Testing Results'!$B$5:$BC$12,32))","v":""},{"$f":"IF($B90=\"\",\"\",\nVLOOKUP($C90,'2. Unit Testing Results'!$B$5:$BC$12,34))","v":""},{"$f":"IF($B90=\"\",\"\",\nVLOOKUP($C90,'2. Unit Testing Results'!$B$5:$BC$12,36))","v":""},{"$f":"IF($B90=\"\",\"\",\nVLOOKUP($C90,'2. Unit Testing Results'!$B$5:$BC$12,38))","v":""},{"$f":"IF($B90=\"\",\"\",\nVLOOKUP($C90,'2. Unit Testing Results'!$B$5:$BC$12,39))","v":""},{"$f":"IF($B90=\"\",\"\",\nVLOOKUP($C90,'2. Unit Testing Results'!$B$5:$BC$12,40))","v":""},{"$f":"IF($B90=\"\",\"\",\nVLOOKUP($C90,'2. Unit Testing Results'!$B$5:$BC$12,42))","v":""},{"$f":"IF($B90=\"\",\"\",\nVLOOKUP($C90,'2. Unit Testing Results'!$B$5:$BC$12,44))","v":""},{"$f":"IF($B90=\"\",\"\",\nVLOOKUP($C90,'2. Unit Testing Results'!$B$5:$BC$12,46))","v":""},{"$f":"IF($B90=\"\",\"\",\nVLOOKUP($C90,'2. Unit Testing Results'!$B$5:$BC$12,48))","v":""},{"$f":"IF($B90=\"\",\"\",\nVLOOKUP($C90,'2. Unit Testing Results'!$B$5:$BC$12,50))","v":""},{"$f":"IF($B90=\"\",\"\",\nVLOOKUP($C90,'2. Unit Testing Results'!$B$5:$BC$12,51))","v":""},{"$f":"IF($B90=\"\",\"\",\nVLOOKUP($C90,'2. Unit Testing Results'!$B$5:$BC$12,52))","v":""},{"$f":"IF($B90=\"\",\"\",\nVLOOKUP($C90,'2. Unit Testing Results'!$B$5:$BC$12,53))","v":""},{"$f":"IF($B90=\"\",\"\",\nVLOOKUP($C90,'2. Unit Testing Results'!$B$5:$BC$12,54))","v":""}]
[null,{"$f":"IF('2. Unit Testing Results'!$B101=\"\",\"\",'2. Unit Testing Results'!$B101)","v":""},{"$f":"IF('2. Unit Testing Results'!$C101=\"\",\"\",'2. Unit Testing Results'!$C101)","v":""},{"$f":"IF('2. Unit Testing Results'!$D101=\"\",\"\",'2. Unit Testing Results'!$D101)","v":""},{"$f":"IF('2. Unit Testing Results'!$E101=\"\",\"\",'2. Unit Testing Results'!$E101)","v":""},null,{"$f":"IF($B91=\"\",\"\",\n(('2. Unit Testing Results'!$W101)*60)\n/((VLOOKUP($C91,'2. Unit Testing Results'!$B$5:$R$12,4))*(VLOOKUP($C91,'2. Unit Testing Results'!$B$5:$R$12,6)))\n)","v":""},{"$f":"IF($B91=\"\",\"\",\nVLOOKUP($C91,'2. Unit Testing Results'!$B$5:$BC$12,19))","v":""},{"$f":"IF($B91=\"\",\"\",\nVLOOKUP($C91,'2. Unit Testing Results'!$B$5:$BC$12,20))","v":""},{"$f":"IF($B91=\"\",\"\",\nVLOOKUP($C91,'2. Unit Testing Results'!$B$5:$BC$12,22))","v":""},{"$f":"IF($B91=\"\",\"\",\nVLOOKUP($C91,'2. Unit Testing Results'!$B$5:$BC$12,24))","v":""},{"$f":"IF($B91=\"\",\"\",\nVLOOKUP($C91,'2. Unit Testing Results'!$B$5:$BC$12,26))","v":""},{"$f":"IF($B91=\"\",\"\",\nVLOOKUP($C91,'2. Unit Testing Results'!$B$5:$BC$12,28))","v":""},{"$f":"IF($B91=\"\",\"\",'2. Unit Testing Results'!$P101)","v":""},{"$f":"IF($B91=\"\",\"\",'2. Unit Testing Results'!$U101)","v":""},{"$f":"IF($B91=\"\",\"\",\nVLOOKUP($C91,'2. Unit Testing Results'!$B$5:$BC$12,30))","v":""},{"$f":"IF($B91=\"\",\"\",\nVLOOKUP($C91,'2. Unit Testing Results'!$B$5:$BC$12,32))","v":""},{"$f":"IF($B91=\"\",\"\",\nVLOOKUP($C91,'2. Unit Testing Results'!$B$5:$BC$12,34))","v":""},{"$f":"IF($B91=\"\",\"\",\nVLOOKUP($C91,'2. Unit Testing Results'!$B$5:$BC$12,36))","v":""},{"$f":"IF($B91=\"\",\"\",\nVLOOKUP($C91,'2. Unit Testing Results'!$B$5:$BC$12,38))","v":""},{"$f":"IF($B91=\"\",\"\",\nVLOOKUP($C91,'2. Unit Testing Results'!$B$5:$BC$12,39))","v":""},{"$f":"IF($B91=\"\",\"\",\nVLOOKUP($C91,'2. Unit Testing Results'!$B$5:$BC$12,40))","v":""},{"$f":"IF($B91=\"\",\"\",\nVLOOKUP($C91,'2. Unit Testing Results'!$B$5:$BC$12,42))","v":""},{"$f":"IF($B91=\"\",\"\",\nVLOOKUP($C91,'2. Unit Testing Results'!$B$5:$BC$12,44))","v":""},{"$f":"IF($B91=\"\",\"\",\nVLOOKUP($C91,'2. Unit Testing Results'!$B$5:$BC$12,46))","v":""},{"$f":"IF($B91=\"\",\"\",\nVLOOKUP($C91,'2. Unit Testing Results'!$B$5:$BC$12,48))","v":""},{"$f":"IF($B91=\"\",\"\",\nVLOOKUP($C91,'2. Unit Testing Results'!$B$5:$BC$12,50))","v":""},{"$f":"IF($B91=\"\",\"\",\nVLOOKUP($C91,'2. Unit Testing Results'!$B$5:$BC$12,51))","v":""},{"$f":"IF($B91=\"\",\"\",\nVLOOKUP($C91,'2. Unit Testing Results'!$B$5:$BC$12,52))","v":""},{"$f":"IF($B91=\"\",\"\",\nVLOOKUP($C91,'2. Unit Testing Results'!$B$5:$BC$12,53))","v":""},{"$f":"IF($B91=\"\",\"\",\nVLOOKUP($C91,'2. Unit Testing Results'!$B$5:$BC$12,54))","v":""}]
[null,{"$f":"IF('2. Unit Testing Results'!$B102=\"\",\"\",'2. Unit Testing Results'!$B102)","v":""},{"$f":"IF('2. Unit Testing Results'!$C102=\"\",\"\",'2. Unit Testing Results'!$C102)","v":""},{"$f":"IF('2. Unit Testing Results'!$D102=\"\",\"\",'2. Unit Testing Results'!$D102)","v":""},{"$f":"IF('2. Unit Testing Results'!$E102=\"\",\"\",'2. Unit Testing Results'!$E102)","v":""},null,{"$f":"IF($B92=\"\",\"\",\n(('2. Unit Testing Results'!$W102)*60)\n/((VLOOKUP($C92,'2. Unit Testing Results'!$B$5:$R$12,4))*(VLOOKUP($C92,'2. Unit Testing Results'!$B$5:$R$12,6)))\n)","v":""},{"$f":"IF($B92=\"\",\"\",\nVLOOKUP($C92,'2. Unit Testing Results'!$B$5:$BC$12,19))","v":""},{"$f":"IF($B92=\"\",\"\",\nVLOOKUP($C92,'2. Unit Testing Results'!$B$5:$BC$12,20))","v":""},{"$f":"IF($B92=\"\",\"\",\nVLOOKUP($C92,'2. Unit Testing Results'!$B$5:$BC$12,22))","v":""},{"$f":"IF($B92=\"\",\"\",\nVLOOKUP($C92,'2. Unit Testing Results'!$B$5:$BC$12,24))","v":""},{"$f":"IF($B92=\"\",\"\",\nVLOOKUP($C92,'2. Unit Testing Results'!$B$5:$BC$12,26))","v":""},{"$f":"IF($B92=\"\",\"\",\nVLOOKUP($C92,'2. Unit Testing Results'!$B$5:$BC$12,28))","v":""},{"$f":"IF($B92=\"\",\"\",'2. Unit Testing Results'!$P102)","v":""},{"$f":"IF($B92=\"\",\"\",'2. Unit Testing Results'!$U102)","v":""},{"$f":"IF($B92=\"\",\"\",\nVLOOKUP($C92,'2. Unit Testing Results'!$B$5:$BC$12,30))","v":""},{"$f":"IF($B92=\"\",\"\",\nVLOOKUP($C92,'2. Unit Testing Results'!$B$5:$BC$12,32))","v":""},{"$f":"IF($B92=\"\",\"\",\nVLOOKUP($C92,'2. Unit Testing Results'!$B$5:$BC$12,34))","v":""},{"$f":"IF($B92=\"\",\"\",\nVLOOKUP($C92,'2. Unit Testing Results'!$B$5:$BC$12,36))","v":""},{"$f":"IF($B92=\"\",\"\",\nVLOOKUP($C92,'2. Unit Testing Results'!$B$5:$BC$12,38))","v":""},{"$f":"IF($B92=\"\",\"\",\nVLOOKUP($C92,'2. Unit Testing Results'!$B$5:$BC$12,39))","v":""},{"$f":"IF($B92=\"\",\"\",\nVLOOKUP($C92,'2. Unit Testing Results'!$B$5:$BC$12,40))","v":""},{"$f":"IF($B92=\"\",\"\",\nVLOOKUP($C92,'2. Unit Testing Results'!$B$5:$BC$12,42))","v":""},{"$f":"IF($B92=\"\",\"\",\nVLOOKUP($C92,'2. Unit Testing Results'!$B$5:$BC$12,44))","v":""},{"$f":"IF($B92=\"\",\"\",\nVLOOKUP($C92,'2. Unit Testing Results'!$B$5:$BC$12,46))","v":""},{"$f":"IF($B92=\"\",\"\",\nVLOOKUP($C92,'2. Unit Testing Results'!$B$5:$BC$12,48))","v":""},{"$f":"IF($B92=\"\",\"\",\nVLOOKUP($C92,'2. Unit Testing Results'!$B$5:$BC$12,50))","v":""},{"$f":"IF($B92=\"\",\"\",\nVLOOKUP($C92,'2. Unit Testing Results'!$B$5:$BC$12,51))","v":""},{"$f":"IF($B92=\"\",\"\",\nVLOOKUP($C92,'2. Unit Testing Results'!$B$5:$BC$12,52))","v":""},{"$f":"IF($B92=\"\",\"\",\nVLOOKUP($C92,'2. Unit Testing Results'!$B$5:$BC$12,53))","v":""},{"$f":"IF($B92=\"\",\"\",\nVLOOKUP($C92,'2. Unit Testing Results'!$B$5:$BC$12,54))","v":""}]
[null,{"$f":"IF('2. Unit Testing Results'!$B103=\"\",\"\",'2. Unit Testing Results'!$B103)","v":""},{"$f":"IF('2. Unit Testing Results'!$C103=\"\",\"\",'2. Unit Testing Results'!$C103)","v":""},{"$f":"IF('2. Unit Testing Results'!$D103=\"\",\"\",'2. Unit Testing Results'!$D103)","v":""},{"$f":"IF('2. Unit Testing Results'!$E103=\"\",\"\",'2. Unit Testing Results'!$E103)","v":""},null,{"$f":"IF($B93=\"\",\"\",\n(('2. Unit Testing Results'!$W103)*60)\n/((VLOOKUP($C93,'2. Unit Testing Results'!$B$5:$R$12,4))*(VLOOKUP($C93,'2. Unit Testing Results'!$B$5:$R$12,6)))\n)","v":""},{"$f":"IF($B93=\"\",\"\",\nVLOOKUP($C93,'2. Unit Testing Results'!$B$5:$BC$12,19))","v":""},{"$f":"IF($B93=\"\",\"\",\nVLOOKUP($C93,'2. Unit Testing Results'!$B$5:$BC$12,20))","v":""},{"$f":"IF($B93=\"\",\"\",\nVLOOKUP($C93,'2. Unit Testing Results'!$B$5:$BC$12,22))","v":""},{"$f":"IF($B93=\"\",\"\",\nVLOOKUP($C93,'2. Unit Testing Results'!$B$5:$BC$12,24))","v":""},{"$f":"IF($B93=\"\",\"\",\nVLOOKUP($C93,'2. Unit Testing Results'!$B$5:$BC$12,26))","v":""},{"$f":"IF($B93=\"\",\"\",\nVLOOKUP($C93,'2. Unit Testing Results'!$B$5:$BC$12,28))","v":""},{"$f":"IF($B93=\"\",\"\",'2. Unit Testing Results'!$P103)","v":""},{"$f":"IF($B93=\"\",\"\",'2. Unit Testing Results'!$U103)","v":""},{"$f":"IF($B93=\"\",\"\",\nVLOOKUP($C93,'2. Unit Testing Results'!$B$5:$BC$12,30))","v":""},{"$f":"IF($B93=\"\",\"\",\nVLOOKUP($C93,'2. Unit Testing Results'!$B$5:$BC$12,32))","v":""},{"$f":"IF($B93=\"\",\"\",\nVLOOKUP($C93,'2. Unit Testing Results'!$B$5:$BC$12,34))","v":""},{"$f":"IF($B93=\"\",\"\",\nVLOOKUP($C93,'2. Unit Testing Results'!$B$5:$BC$12,36))","v":""},{"$f":"IF($B93=\"\",\"\",\nVLOOKUP($C93,'2. Unit Testing Results'!$B$5:$BC$12,38))","v":""},{"$f":"IF($B93=\"\",\"\",\nVLOOKUP($C93,'2. Unit Testing Results'!$B$5:$BC$12,39))","v":""},{"$f":"IF($B93=\"\",\"\",\nVLOOKUP($C93,'2. Unit Testing Results'!$B$5:$BC$12,40))","v":""},{"$f":"IF($B93=\"\",\"\",\nVLOOKUP($C93,'2. Unit Testing Results'!$B$5:$BC$12,42))","v":""},{"$f":"IF($B93=\"\",\"\",\nVLOOKUP($C93,'2. Unit Testing Results'!$B$5:$BC$12,44))","v":""},{"$f":"IF($B93=\"\",\"\",\nVLOOKUP($C93,'2. Unit Testing Results'!$B$5:$BC$12,46))","v":""},{"$f":"IF($B93=\"\",\"\",\nVLOOKUP($C93,'2. Unit Testing Results'!$B$5:$BC$12,48))","v":""},{"$f":"IF($B93=\"\",\"\",\nVLOOKUP($C93,'2. Unit Testing Results'!$B$5:$BC$12,50))","v":""},{"$f":"IF($B93=\"\",\"\",\nVLOOKUP($C93,'2. Unit Testing Results'!$B$5:$BC$12,51))","v":""},{"$f":"IF($B93=\"\",\"\",\nVLOOKUP($C93,'2. Unit Testing Results'!$B$5:$BC$12,52))","v":""},{"$f":"IF($B93=\"\",\"\",\nVLOOKUP($C93,'2. Unit Testing Results'!$B$5:$BC$12,53))","v":""},{"$f":"IF($B93=\"\",\"\",\nVLOOKUP($C93,'2. Unit Testing Results'!$B$5:$BC$12,54))","v":""}]
[null,{"$f":"IF('2. Unit Testing Results'!$B104=\"\",\"\",'2. Unit Testing Results'!$B104)","v":""},{"$f":"IF('2. Unit Testing Results'!$C104=\"\",\"\",'2. Unit Testing Results'!$C104)","v":""},{"$f":"IF('2. Unit Testing Results'!$D104=\"\",\"\",'2. Unit Testing Results'!$D104)","v":""},{"$f":"IF('2. Unit Testing Results'!$E104=\"\",\"\",'2. Unit Testing Results'!$E104)","v":""},null,{"$f":"IF($B94=\"\",\"\",\n(('2. Unit Testing Results'!$W104)*60)\n/((VLOOKUP($C94,'2. Unit Testing Results'!$B$5:$R$12,4))*(VLOOKUP($C94,'2. Unit Testing Results'!$B$5:$R$12,6)))\n)","v":""},{"$f":"IF($B94=\"\",\"\",\nVLOOKUP($C94,'2. Unit Testing Results'!$B$5:$BC$12,19))","v":""},{"$f":"IF($B94=\"\",\"\",\nVLOOKUP($C94,'2. Unit Testing Results'!$B$5:$BC$12,20))","v":""},{"$f":"IF($B94=\"\",\"\",\nVLOOKUP($C94,'2. Unit Testing Results'!$B$5:$BC$12,22))","v":""},{"$f":"IF($B94=\"\",\"\",\nVLOOKUP($C94,'2. Unit Testing Results'!$B$5:$BC$12,24))","v":""},{"$f":"IF($B94=\"\",\"\",\nVLOOKUP($C94,'2. Unit Testing Results'!$B$5:$BC$12,26))","v":""},{"$f":"IF($B94=\"\",\"\",\nVLOOKUP($C94,'2. Unit Testing Results'!$B$5:$BC$12,28))","v":""},{"$f":"IF($B94=\"\",\"\",'2. Unit Testing Results'!$P104)","v":""},{"$f":"IF($B94=\"\",\"\",'2. Unit Testing Results'!$U104)","v":""},{"$f":"IF($B94=\"\",\"\",\nVLOOKUP($C94,'2. Unit Testing Results'!$B$5:$BC$12,30))","v":""},{"$f":"IF($B94=\"\",\"\",\nVLOOKUP($C94,'2. Unit Testing Results'!$B$5:$BC$12,32))","v":""},{"$f":"IF($B94=\"\",\"\",\nVLOOKUP($C94,'2. Unit Testing Results'!$B$5:$BC$12,34))","v":""},{"$f":"IF($B94=\"\",\"\",\nVLOOKUP($C94,'2. Unit Testing Results'!$B$5:$BC$12,36))","v":""},{"$f":"IF($B94=\"\",\"\",\nVLOOKUP($C94,'2. Unit Testing Results'!$B$5:$BC$12,38))","v":""},{"$f":"IF($B94=\"\",\"\",\nVLOOKUP($C94,'2. Unit Testing Results'!$B$5:$BC$12,39))","v":""},{"$f":"IF($B94=\"\",\"\",\nVLOOKUP($C94,'2. Unit Testing Results'!$B$5:$BC$12,40))","v":""},{"$f":"IF($B94=\"\",\"\",\nVLOOKUP($C94,'2. Unit Testing Results'!$B$5:$BC$12,42))","v":""},{"$f":"IF($B94=\"\",\"\",\nVLOOKUP($C94,'2. Unit Testing Results'!$B$5:$BC$12,44))","v":""},{"$f":"IF($B94=\"\",\"\",\nVLOOKUP($C94,'2. Unit Testing Results'!$B$5:$BC$12,46))","v":""},{"$f":"IF($B94=\"\",\"\",\nVLOOKUP($C94,'2. Unit Testing Results'!$B$5:$BC$12,48))","v":""},{"$f":"IF($B94=\"\",\"\",\nVLOOKUP($C94,'2. Unit Testing Results'!$B$5:$BC$12,50))","v":""},{"$f":"IF($B94=\"\",\"\",\nVLOOKUP($C94,'2. Unit Testing Results'!$B$5:$BC$12,51))","v":""},{"$f":"IF($B94=\"\",\"\",\nVLOOKUP($C94,'2. Unit Testing Results'!$B$5:$BC$12,52))","v":""},{"$f":"IF($B94=\"\",\"\",\nVLOOKUP($C94,'2. Unit Testing Results'!$B$5:$BC$12,53))","v":""},{"$f":"IF($B94=\"\",\"\",\nVLOOKUP($C94,'2. Unit Testing Results'!$B$5:$BC$12,54))","v":""}]
[null,{"$f":"IF('2. Unit Testing Results'!$B105=\"\",\"\",'2. Unit Testing Results'!$B105)","v":""},{"$f":"IF('2. Unit Testing Results'!$C105=\"\",\"\",'2. Unit Testing Results'!$C105)","v":""},{"$f":"IF('2. Unit Testing Results'!$D105=\"\",\"\",'2. Unit Testing Results'!$D105)","v":""},{"$f":"IF('2. Unit Testing Results'!$E105=\"\",\"\",'2. Unit Testing Results'!$E105)","v":""},null,{"$f":"IF($B95=\"\",\"\",\n(('2. Unit Testing Results'!$W105)*60)\n/((VLOOKUP($C95,'2. Unit Testing Results'!$B$5:$R$12,4))*(VLOOKUP($C95,'2. Unit Testing Results'!$B$5:$R$12,6)))\n)","v":""},{"$f":"IF($B95=\"\",\"\",\nVLOOKUP($C95,'2. Unit Testing Results'!$B$5:$BC$12,19))","v":""},{"$f":"IF($B95=\"\",\"\",\nVLOOKUP($C95,'2. Unit Testing Results'!$B$5:$BC$12,20))","v":""},{"$f":"IF($B95=\"\",\"\",\nVLOOKUP($C95,'2. Unit Testing Results'!$B$5:$BC$12,22))","v":""},{"$f":"IF($B95=\"\",\"\",\nVLOOKUP($C95,'2. Unit Testing Results'!$B$5:$BC$12,24))","v":""},{"$f":"IF($B95=\"\",\"\",\nVLOOKUP($C95,'2. Unit Testing Results'!$B$5:$BC$12,26))","v":""},{"$f":"IF($B95=\"\",\"\",\nVLOOKUP($C95,'2. Unit Testing Results'!$B$5:$BC$12,28))","v":""},{"$f":"IF($B95=\"\",\"\",'2. Unit Testing Results'!$P105)","v":""},{"$f":"IF($B95=\"\",\"\",'2. Unit Testing Results'!$U105)","v":""},{"$f":"IF($B95=\"\",\"\",\nVLOOKUP($C95,'2. Unit Testing Results'!$B$5:$BC$12,30))","v":""},{"$f":"IF($B95=\"\",\"\",\nVLOOKUP($C95,'2. Unit Testing Results'!$B$5:$BC$12,32))","v":""},{"$f":"IF($B95=\"\",\"\",\nVLOOKUP($C95,'2. Unit Testing Results'!$B$5:$BC$12,34))","v":""},{"$f":"IF($B95=\"\",\"\",\nVLOOKUP($C95,'2. Unit Testing Results'!$B$5:$BC$12,36))","v":""},{"$f":"IF($B95=\"\",\"\",\nVLOOKUP($C95,'2. Unit Testing Results'!$B$5:$BC$12,38))","v":""},{"$f":"IF($B95=\"\",\"\",\nVLOOKUP($C95,'2. Unit Testing Results'!$B$5:$BC$12,39))","v":""},{"$f":"IF($B95=\"\",\"\",\nVLOOKUP($C95,'2. Unit Testing Results'!$B$5:$BC$12,40))","v":""},{"$f":"IF($B95=\"\",\"\",\nVLOOKUP($C95,'2. Unit Testing Results'!$B$5:$BC$12,42))","v":""},{"$f":"IF($B95=\"\",\"\",\nVLOOKUP($C95,'2. Unit Testing Results'!$B$5:$BC$12,44))","v":""},{"$f":"IF($B95=\"\",\"\",\nVLOOKUP($C95,'2. Unit Testing Results'!$B$5:$BC$12,46))","v":""},{"$f":"IF($B95=\"\",\"\",\nVLOOKUP($C95,'2. Unit Testing Results'!$B$5:$BC$12,48))","v":""},{"$f":"IF($B95=\"\",\"\",\nVLOOKUP($C95,'2. Unit Testing Results'!$B$5:$BC$12,50))","v":""},{"$f":"IF($B95=\"\",\"\",\nVLOOKUP($C95,'2. Unit Testing Results'!$B$5:$BC$12,51))","v":""},{"$f":"IF($B95=\"\",\"\",\nVLOOKUP($C95,'2. Unit Testing Results'!$B$5:$BC$12,52))","v":""},{"$f":"IF($B95=\"\",\"\",\nVLOOKUP($C95,'2. Unit Testing Results'!$B$5:$BC$12,53))","v":""},{"$f":"IF($B95=\"\",\"\",\nVLOOKUP($C95,'2. Unit Testing Results'!$B$5:$BC$12,54))","v":""}]
[null,{"$f":"IF('2. Unit Testing Results'!$B106=\"\",\"\",'2. Unit Testing Results'!$B106)","v":""},{"$f":"IF('2. Unit Testing Results'!$C106=\"\",\"\",'2. Unit Testing Results'!$C106)","v":""},{"$f":"IF('2. Unit Testing Results'!$D106=\"\",\"\",'2. Unit Testing Results'!$D106)","v":""},{"$f":"IF('2. Unit Testing Results'!$E106=\"\",\"\",'2. Unit Testing Results'!$E106)","v":""},null,{"$f":"IF($B96=\"\",\"\",\n(('2. Unit Testing Results'!$W106)*60)\n/((VLOOKUP($C96,'2. Unit Testing Results'!$B$5:$R$12,4))*(VLOOKUP($C96,'2. Unit Testing Results'!$B$5:$R$12,6)))\n)","v":""},{"$f":"IF($B96=\"\",\"\",\nVLOOKUP($C96,'2. Unit Testing Results'!$B$5:$BC$12,19))","v":""},{"$f":"IF($B96=\"\",\"\",\nVLOOKUP($C96,'2. Unit Testing Results'!$B$5:$BC$12,20))","v":""},{"$f":"IF($B96=\"\",\"\",\nVLOOKUP($C96,'2. Unit Testing Results'!$B$5:$BC$12,22))","v":""},{"$f":"IF($B96=\"\",\"\",\nVLOOKUP($C96,'2. Unit Testing Results'!$B$5:$BC$12,24))","v":""},{"$f":"IF($B96=\"\",\"\",\nVLOOKUP($C96,'2. Unit Testing Results'!$B$5:$BC$12,26))","v":""},{"$f":"IF($B96=\"\",\"\",\nVLOOKUP($C96,'2. Unit Testing Results'!$B$5:$BC$12,28))","v":""},{"$f":"IF($B96=\"\",\"\",'2. Unit Testing Results'!$P106)","v":""},{"$f":"IF($B96=\"\",\"\",'2. Unit Testing Results'!$U106)","v":""},{"$f":"IF($B96=\"\",\"\",\nVLOOKUP($C96,'2. Unit Testing Results'!$B$5:$BC$12,30))","v":""},{"$f":"IF($B96=\"\",\"\",\nVLOOKUP($C96,'2. Unit Testing Results'!$B$5:$BC$12,32))","v":""},{"$f":"IF($B96=\"\",\"\",\nVLOOKUP($C96,'2. Unit Testing Results'!$B$5:$BC$12,34))","v":""},{"$f":"IF($B96=\"\",\"\",\nVLOOKUP($C96,'2. Unit Testing Results'!$B$5:$BC$12,36))","v":""},{"$f":"IF($B96=\"\",\"\",\nVLOOKUP($C96,'2. Unit Testing Results'!$B$5:$BC$12,38))","v":""},{"$f":"IF($B96=\"\",\"\",\nVLOOKUP($C96,'2. Unit Testing Results'!$B$5:$BC$12,39))","v":""},{"$f":"IF($B96=\"\",\"\",\nVLOOKUP($C96,'2. Unit Testing Results'!$B$5:$BC$12,40))","v":""},{"$f":"IF($B96=\"\",\"\",\nVLOOKUP($C96,'2. Unit Testing Results'!$B$5:$BC$12,42))","v":""},{"$f":"IF($B96=\"\",\"\",\nVLOOKUP($C96,'2. Unit Testing Results'!$B$5:$BC$12,44))","v":""},{"$f":"IF($B96=\"\",\"\",\nVLOOKUP($C96,'2. Unit Testing Results'!$B$5:$BC$12,46))","v":""},{"$f":"IF($B96=\"\",\"\",\nVLOOKUP($C96,'2. Unit Testing Results'!$B$5:$BC$12,48))","v":""},{"$f":"IF($B96=\"\",\"\",\nVLOOKUP($C96,'2. Unit Testing Results'!$B$5:$BC$12,50))","v":""},{"$f":"IF($B96=\"\",\"\",\nVLOOKUP($C96,'2. Unit Testing Results'!$B$5:$BC$12,51))","v":""},{"$f":"IF($B96=\"\",\"\",\nVLOOKUP($C96,'2. Unit Testing Results'!$B$5:$BC$12,52))","v":""},{"$f":"IF($B96=\"\",\"\",\nVLOOKUP($C96,'2. Unit Testing Results'!$B$5:$BC$12,53))","v":""},{"$f":"IF($B96=\"\",\"\",\nVLOOKUP($C96,'2. Unit Testing Results'!$B$5:$BC$12,54))","v":""}]
[null,{"$f":"IF('2. Unit Testing Results'!$B107=\"\",\"\",'2. Unit Testing Results'!$B107)","v":""},{"$f":"IF('2. Unit Testing Results'!$C107=\"\",\"\",'2. Unit Testing Results'!$C107)","v":""},{"$f":"IF('2. Unit Testing Results'!$D107=\"\",\"\",'2. Unit Testing Results'!$D107)","v":""},{"$f":"IF('2. Unit Testing Results'!$E107=\"\",\"\",'2. Unit Testing Results'!$E107)","v":""},null,{"$f":"IF($B97=\"\",\"\",\n(('2. Unit Testing Results'!$W107)*60)\n/((VLOOKUP($C97,'2. Unit Testing Results'!$B$5:$R$12,4))*(VLOOKUP($C97,'2. Unit Testing Results'!$B$5:$R$12,6)))\n)","v":""},{"$f":"IF($B97=\"\",\"\",\nVLOOKUP($C97,'2. Unit Testing Results'!$B$5:$BC$12,19))","v":""},{"$f":"IF($B97=\"\",\"\",\nVLOOKUP($C97,'2. Unit Testing Results'!$B$5:$BC$12,20))","v":""},{"$f":"IF($B97=\"\",\"\",\nVLOOKUP($C97,'2. Unit Testing Results'!$B$5:$BC$12,22))","v":""},{"$f":"IF($B97=\"\",\"\",\nVLOOKUP($C97,'2. Unit Testing Results'!$B$5:$BC$12,24))","v":""},{"$f":"IF($B97=\"\",\"\",\nVLOOKUP($C97,'2. Unit Testing Results'!$B$5:$BC$12,26))","v":""},{"$f":"IF($B97=\"\",\"\",\nVLOOKUP($C97,'2. Unit Testing Results'!$B$5:$BC$12,28))","v":""},{"$f":"IF($B97=\"\",\"\",'2. Unit Testing Results'!$P107)","v":""},{"$f":"IF($B97=\"\",\"\",'2. Unit Testing Results'!$U107)","v":""},{"$f":"IF($B97=\"\",\"\",\nVLOOKUP($C97,'2. Unit Testing Results'!$B$5:$BC$12,30))","v":""},{"$f":"IF($B97=\"\",\"\",\nVLOOKUP($C97,'2. Unit Testing Results'!$B$5:$BC$12,32))","v":""},{"$f":"IF($B97=\"\",\"\",\nVLOOKUP($C97,'2. Unit Testing Results'!$B$5:$BC$12,34))","v":""},{"$f":"IF($B97=\"\",\"\",\nVLOOKUP($C97,'2. Unit Testing Results'!$B$5:$BC$12,36))","v":""},{"$f":"IF($B97=\"\",\"\",\nVLOOKUP($C97,'2. Unit Testing Results'!$B$5:$BC$12,38))","v":""},{"$f":"IF($B97=\"\",\"\",\nVLOOKUP($C97,'2. Unit Testing Results'!$B$5:$BC$12,39))","v":""},{"$f":"IF($B97=\"\",\"\",\nVLOOKUP($C97,'2. Unit Testing Results'!$B$5:$BC$12,40))","v":""},{"$f":"IF($B97=\"\",\"\",\nVLOOKUP($C97,'2. Unit Testing Results'!$B$5:$BC$12,42))","v":""},{"$f":"IF($B97=\"\",\"\",\nVLOOKUP($C97,'2. Unit Testing Results'!$B$5:$BC$12,44))","v":""},{"$f":"IF($B97=\"\",\"\",\nVLOOKUP($C97,'2. Unit Testing Results'!$B$5:$BC$12,46))","v":""},{"$f":"IF($B97=\"\",\"\",\nVLOOKUP($C97,'2. Unit Testing Results'!$B$5:$BC$12,48))","v":""},{"$f":"IF($B97=\"\",\"\",\nVLOOKUP($C97,'2. Unit Testing Results'!$B$5:$BC$12,50))","v":""},{"$f":"IF($B97=\"\",\"\",\nVLOOKUP($C97,'2. Unit Testing Results'!$B$5:$BC$12,51))","v":""},{"$f":"IF($B97=\"\",\"\",\nVLOOKUP($C97,'2. Unit Testing Results'!$B$5:$BC$12,52))","v":""},{"$f":"IF($B97=\"\",\"\",\nVLOOKUP($C97,'2. Unit Testing Results'!$B$5:$BC$12,53))","v":""},{"$f":"IF($B97=\"\",\"\",\nVLOOKUP($C97,'2. Unit Testing Results'!$B$5:$BC$12,54))","v":""}]
[null,{"$f":"IF('2. Unit Testing Results'!$B108=\"\",\"\",'2. Unit Testing Results'!$B108)","v":""},{"$f":"IF('2. Unit Testing Results'!$C108=\"\",\"\",'2. Unit Testing Results'!$C108)","v":""},{"$f":"IF('2. Unit Testing Results'!$D108=\"\",\"\",'2. Unit Testing Results'!$D108)","v":""},{"$f":"IF('2. Unit Testing Results'!$E108=\"\",\"\",'2. Unit Testing Results'!$E108)","v":""},null,{"$f":"IF($B98=\"\",\"\",\n(('2. Unit Testing Results'!$W108)*60)\n/((VLOOKUP($C98,'2. Unit Testing Results'!$B$5:$R$12,4))*(VLOOKUP($C98,'2. Unit Testing Results'!$B$5:$R$12,6)))\n)","v":""},{"$f":"IF($B98=\"\",\"\",\nVLOOKUP($C98,'2. Unit Testing Results'!$B$5:$BC$12,19))","v":""},{"$f":"IF($B98=\"\",\"\",\nVLOOKUP($C98,'2. Unit Testing Results'!$B$5:$BC$12,20))","v":""},{"$f":"IF($B98=\"\",\"\",\nVLOOKUP($C98,'2. Unit Testing Results'!$B$5:$BC$12,22))","v":""},{"$f":"IF($B98=\"\",\"\",\nVLOOKUP($C98,'2. Unit Testing Results'!$B$5:$BC$12,24))","v":""},{"$f":"IF($B98=\"\",\"\",\nVLOOKUP($C98,'2. Unit Testing Results'!$B$5:$BC$12,26))","v":""},{"$f":"IF($B98=\"\",\"\",\nVLOOKUP($C98,'2. Unit Testing Results'!$B$5:$BC$12,28))","v":""},{"$f":"IF($B98=\"\",\"\",'2. Unit Testing Results'!$P108)","v":""},{"$f":"IF($B98=\"\",\"\",'2. Unit Testing Results'!$U108)","v":""},{"$f":"IF($B98=\"\",\"\",\nVLOOKUP($C98,'2. Unit Testing Results'!$B$5:$BC$12,30))","v":""},{"$f":"IF($B98=\"\",\"\",\nVLOOKUP($C98,'2. Unit Testing Results'!$B$5:$BC$12,32))","v":""},{"$f":"IF($B98=\"\",\"\",\nVLOOKUP($C98,'2. Unit Testing Results'!$B$5:$BC$12,34))","v":""},{"$f":"IF($B98=\"\",\"\",\nVLOOKUP($C98,'2. Unit Testing Results'!$B$5:$BC$12,36))","v":""},{"$f":"IF($B98=\"\",\"\",\nVLOOKUP($C98,'2. Unit Testing Results'!$B$5:$BC$12,38))","v":""},{"$f":"IF($B98=\"\",\"\",\nVLOOKUP($C98,'2. Unit Testing Results'!$B$5:$BC$12,39))","v":""},{"$f":"IF($B98=\"\",\"\",\nVLOOKUP($C98,'2. Unit Testing Results'!$B$5:$BC$12,40))","v":""},{"$f":"IF($B98=\"\",\"\",\nVLOOKUP($C98,'2. Unit Testing Results'!$B$5:$BC$12,42))","v":""},{"$f":"IF($B98=\"\",\"\",\nVLOOKUP($C98,'2. Unit Testing Results'!$B$5:$BC$12,44))","v":""},{"$f":"IF($B98=\"\",\"\",\nVLOOKUP($C98,'2. Unit Testing Results'!$B$5:$BC$12,46))","v":""},{"$f":"IF($B98=\"\",\"\",\nVLOOKUP($C98,'2. Unit Testing Results'!$B$5:$BC$12,48))","v":""},{"$f":"IF($B98=\"\",\"\",\nVLOOKUP($C98,'2. Unit Testing Results'!$B$5:$BC$12,50))","v":""},{"$f":"IF($B98=\"\",\"\",\nVLOOKUP($C98,'2. Unit Testing Results'!$B$5:$BC$12,51))","v":""},{"$f":"IF($B98=\"\",\"\",\nVLOOKUP($C98,'2. Unit Testing Results'!$B$5:$BC$12,52))","v":""},{"$f":"IF($B98=\"\",\"\",\nVLOOKUP($C98,'2. Unit Testing Results'!$B$5:$BC$12,53))","v":""},{"$f":"IF($B98=\"\",\"\",\nVLOOKUP($C98,'2. Unit Testing Results'!$B$5:$BC$12,54))","v":""}]
[null,{"$f":"IF('2. Unit Testing Results'!$B109=\"\",\"\",'2. Unit Testing Results'!$B109)","v":""},{"$f":"IF('2. Unit Testing Results'!$C109=\"\",\"\",'2. Unit Testing Results'!$C109)","v":""},{"$f":"IF('2. Unit Testing Results'!$D109=\"\",\"\",'2. Unit Testing Results'!$D109)","v":""},{"$f":"IF('2. Unit Testing Results'!$E109=\"\",\"\",'2. Unit Testing Results'!$E109)","v":""},null,{"$f":"IF($B99=\"\",\"\",\n(('2. Unit Testing Results'!$W109)*60)\n/((VLOOKUP($C99,'2. Unit Testing Results'!$B$5:$R$12,4))*(VLOOKUP($C99,'2. Unit Testing Results'!$B$5:$R$12,6)))\n)","v":""},{"$f":"IF($B99=\"\",\"\",\nVLOOKUP($C99,'2. Unit Testing Results'!$B$5:$BC$12,19))","v":""},{"$f":"IF($B99=\"\",\"\",\nVLOOKUP($C99,'2. Unit Testing Results'!$B$5:$BC$12,20))","v":""},{"$f":"IF($B99=\"\",\"\",\nVLOOKUP($C99,'2. Unit Testing Results'!$B$5:$BC$12,22))","v":""},{"$f":"IF($B99=\"\",\"\",\nVLOOKUP($C99,'2. Unit Testing Results'!$B$5:$BC$12,24))","v":""},{"$f":"IF($B99=\"\",\"\",\nVLOOKUP($C99,'2. Unit Testing Results'!$B$5:$BC$12,26))","v":""},{"$f":"IF($B99=\"\",\"\",\nVLOOKUP($C99,'2. Unit Testing Results'!$B$5:$BC$12,28))","v":""},{"$f":"IF($B99=\"\",\"\",'2. Unit Testing Results'!$P109)","v":""},{"$f":"IF($B99=\"\",\"\",'2. Unit Testing Results'!$U109)","v":""},{"$f":"IF($B99=\"\",\"\",\nVLOOKUP($C99,'2. Unit Testing Results'!$B$5:$BC$12,30))","v":""},{"$f":"IF($B99=\"\",\"\",\nVLOOKUP($C99,'2. Unit Testing Results'!$B$5:$BC$12,32))","v":""},{"$f":"IF($B99=\"\",\"\",\nVLOOKUP($C99,'2. Unit Testing Results'!$B$5:$BC$12,34))","v":""},{"$f":"IF($B99=\"\",\"\",\nVLOOKUP($C99,'2. Unit Testing Results'!$B$5:$BC$12,36))","v":""},{"$f":"IF($B99=\"\",\"\",\nVLOOKUP($C99,'2. Unit Testing Results'!$B$5:$BC$12,38))","v":""},{"$f":"IF($B99=\"\",\"\",\nVLOOKUP($C99,'2. Unit Testing Results'!$B$5:$BC$12,39))","v":""},{"$f":"IF($B99=\"\",\"\",\nVLOOKUP($C99,'2. Unit Testing Results'!$B$5:$BC$12,40))","v":""},{"$f":"IF($B99=\"\",\"\",\nVLOOKUP($C99,'2. Unit Testing Results'!$B$5:$BC$12,42))","v":""},{"$f":"IF($B99=\"\",\"\",\nVLOOKUP($C99,'2. Unit Testing Results'!$B$5:$BC$12,44))","v":""},{"$f":"IF($B99=\"\",\"\",\nVLOOKUP($C99,'2. Unit Testing Results'!$B$5:$BC$12,46))","v":""},{"$f":"IF($B99=\"\",\"\",\nVLOOKUP($C99,'2. Unit Testing Results'!$B$5:$BC$12,48))","v":""},{"$f":"IF($B99=\"\",\"\",\nVLOOKUP($C99,'2. Unit Testing Results'!$B$5:$BC$12,50))","v":""},{"$f":"IF($B99=\"\",\"\",\nVLOOKUP($C99,'2. Unit Testing Results'!$B$5:$BC$12,51))","v":""},{"$f":"IF($B99=\"\",\"\",\nVLOOKUP($C99,'2. Unit Testing Results'!$B$5:$BC$12,52))","v":""},{"$f":"IF($B99=\"\",\"\",\nVLOOKUP($C99,'2. Unit Testing Results'!$B$5:$BC$12,53))","v":""},{"$f":"IF($B99=\"\",\"\",\nVLOOKUP($C99,'2. Unit Testing Results'!$B$5:$BC$12,54))","v":""}]
[null,{"$f":"IF('2. Unit Testing Results'!$B110=\"\",\"\",'2. Unit Testing Results'!$B110)","v":""},{"$f":"IF('2. Unit Testing Results'!$C110=\"\",\"\",'2. Unit Testing Results'!$C110)","v":""},{"$f":"IF('2. Unit Testing Results'!$D110=\"\",\"\",'2. Unit Testing Results'!$D110)","v":""},{"$f":"IF('2. Unit Testing Results'!$E110=\"\",\"\",'2. Unit Testing Results'!$E110)","v":""},null,{"$f":"IF($B100=\"\",\"\",\n(('2. Unit Testing Results'!$W110)*60)\n/((VLOOKUP($C100,'2. Unit Testing Results'!$B$5:$R$12,4))*(VLOOKUP($C100,'2. Unit Testing Results'!$B$5:$R$12,6)))\n)","v":""},{"$f":"IF($B100=\"\",\"\",\nVLOOKUP($C100,'2. Unit Testing Results'!$B$5:$BC$12,19))","v":""},{"$f":"IF($B100=\"\",\"\",\nVLOOKUP($C100,'2. Unit Testing Results'!$B$5:$BC$12,20))","v":""},{"$f":"IF($B100=\"\",\"\",\nVLOOKUP($C100,'2. Unit Testing Results'!$B$5:$BC$12,22))","v":""},{"$f":"IF($B100=\"\",\"\",\nVLOOKUP($C100,'2. Unit Testing Results'!$B$5:$BC$12,24))","v":""},{"$f":"IF($B100=\"\",\"\",\nVLOOKUP($C100,'2. Unit Testing Results'!$B$5:$BC$12,26))","v":""},{"$f":"IF($B100=\"\",\"\",\nVLOOKUP($C100,'2. Unit Testing Results'!$B$5:$BC$12,28))","v":""},{"$f":"IF($B100=\"\",\"\",'2. Unit Testing Results'!$P110)","v":""},{"$f":"IF($B100=\"\",\"\",'2. Unit Testing Results'!$U110)","v":""},{"$f":"IF($B100=\"\",\"\",\nVLOOKUP($C100,'2. Unit Testing Results'!$B$5:$BC$12,30))","v":""},{"$f":"IF($B100=\"\",\"\",\nVLOOKUP($C100,'2. Unit Testing Results'!$B$5:$BC$12,32))","v":""},{"$f":"IF($B100=\"\",\"\",\nVLOOKUP($C100,'2. Unit Testing Results'!$B$5:$BC$12,34))","v":""},{"$f":"IF($B100=\"\",\"\",\nVLOOKUP($C100,'2. Unit Testing Results'!$B$5:$BC$12,36))","v":""},{"$f":"IF($B100=\"\",\"\",\nVLOOKUP($C100,'2. Unit Testing Results'!$B$5:$BC$12,38))","v":""},{"$f":"IF($B100=\"\",\"\",\nVLOOKUP($C100,'2. Unit Testing Results'!$B$5:$BC$12,39))","v":""},{"$f":"IF($B100=\"\",\"\",\nVLOOKUP($C100,'2. Unit Testing Results'!$B$5:$BC$12,40))","v":""},{"$f":"IF($B100=\"\",\"\",\nVLOOKUP($C100,'2. Unit Testing Results'!$B$5:$BC$12,42))","v":""},{"$f":"IF($B100=\"\",\"\",\nVLOOKUP($C100,'2. Unit Testing Results'!$B$5:$BC$12,44))","v":""},{"$f":"IF($B100=\"\",\"\",\nVLOOKUP($C100,'2. Unit Testing Results'!$B$5:$BC$12,46))","v":""},{"$f":"IF($B100=\"\",\"\",\nVLOOKUP($C100,'2. Unit Testing Results'!$B$5:$BC$12,48))","v":""},{"$f":"IF($B100=\"\",\"\",\nVLOOKUP($C100,'2. Unit Testing Results'!$B$5:$BC$12,50))","v":""},{"$f":"IF($B100=\"\",\"\",\nVLOOKUP($C100,'2. Unit Testing Results'!$B$5:$BC$12,51))","v":""},{"$f":"IF($B100=\"\",\"\",\nVLOOKUP($C100,'2. Unit Testing Results'!$B$5:$BC$12,52))","v":""},{"$f":"IF($B100=\"\",\"\",\nVLOOKUP($C100,'2. Unit Testing Results'!$B$5:$BC$12,53))","v":""},{"$f":"IF($B100=\"\",\"\",\nVLOOKUP($C100,'2. Unit Testing Results'!$B$5:$BC$12,54))","v":""}]
[null,{"$f":"IF('2. Unit Testing Results'!$B111=\"\",\"\",'2. Unit Testing Results'!$B111)","v":""},{"$f":"IF('2. Unit Testing Results'!$C111=\"\",\"\",'2. Unit Testing Results'!$C111)","v":""},{"$f":"IF('2. Unit Testing Results'!$D111=\"\",\"\",'2. Unit Testing Results'!$D111)","v":""},{"$f":"IF('2. Unit Testing Results'!$E111=\"\",\"\",'2. Unit Testing Results'!$E111)","v":""},null,{"$f":"IF($B101=\"\",\"\",\n(('2. Unit Testing Results'!$W111)*60)\n/((VLOOKUP($C101,'2. Unit Testing Results'!$B$5:$R$12,4))*(VLOOKUP($C101,'2. Unit Testing Results'!$B$5:$R$12,6)))\n)","v":""},{"$f":"IF($B101=\"\",\"\",\nVLOOKUP($C101,'2. Unit Testing Results'!$B$5:$BC$12,19))","v":""},{"$f":"IF($B101=\"\",\"\",\nVLOOKUP($C101,'2. Unit Testing Results'!$B$5:$BC$12,20))","v":""},{"$f":"IF($B101=\"\",\"\",\nVLOOKUP($C101,'2. Unit Testing Results'!$B$5:$BC$12,22))","v":""},{"$f":"IF($B101=\"\",\"\",\nVLOOKUP($C101,'2. Unit Testing Results'!$B$5:$BC$12,24))","v":""},{"$f":"IF($B101=\"\",\"\",\nVLOOKUP($C101,'2. Unit Testing Results'!$B$5:$BC$12,26))","v":""},{"$f":"IF($B101=\"\",\"\",\nVLOOKUP($C101,'2. Unit Testing Results'!$B$5:$BC$12,28))","v":""},{"$f":"IF($B101=\"\",\"\",'2. Unit Testing Results'!$P111)","v":""},{"$f":"IF($B101=\"\",\"\",'2. Unit Testing Results'!$U111)","v":""},{"$f":"IF($B101=\"\",\"\",\nVLOOKUP($C101,'2. Unit Testing Results'!$B$5:$BC$12,30))","v":""},{"$f":"IF($B101=\"\",\"\",\nVLOOKUP($C101,'2. Unit Testing Results'!$B$5:$BC$12,32))","v":""},{"$f":"IF($B101=\"\",\"\",\nVLOOKUP($C101,'2. Unit Testing Results'!$B$5:$BC$12,34))","v":""},{"$f":"IF($B101=\"\",\"\",\nVLOOKUP($C101,'2. Unit Testing Results'!$B$5:$BC$12,36))","v":""},{"$f":"IF($B101=\"\",\"\",\nVLOOKUP($C101,'2. Unit Testing Results'!$B$5:$BC$12,38))","v":""},{"$f":"IF($B101=\"\",\"\",\nVLOOKUP($C101,'2. Unit Testing Results'!$B$5:$BC$12,39))","v":""},{"$f":"IF($B101=\"\",\"\",\nVLOOKUP($C101,'2. Unit Testing Results'!$B$5:$BC$12,40))","v":""},{"$f":"IF($B101=\"\",\"\",\nVLOOKUP($C101,'2. Unit Testing Results'!$B$5:$BC$12,42))","v":""},{"$f":"IF($B101=\"\",\"\",\nVLOOKUP($C101,'2. Unit Testing Results'!$B$5:$BC$12,44))","v":""},{"$f":"IF($B101=\"\",\"\",\nVLOOKUP($C101,'2. Unit Testing Results'!$B$5:$BC$12,46))","v":""},{"$f":"IF($B101=\"\",\"\",\nVLOOKUP($C101,'2. Unit Testing Results'!$B$5:$BC$12,48))","v":""},{"$f":"IF($B101=\"\",\"\",\nVLOOKUP($C101,'2. Unit Testing Results'!$B$5:$BC$12,50))","v":""},{"$f":"IF($B101=\"\",\"\",\nVLOOKUP($C101,'2. Unit Testing Results'!$B$5:$BC$12,51))","v":""},{"$f":"IF($B101=\"\",\"\",\nVLOOKUP($C101,'2. Unit Testing Results'!$B$5:$BC$12,52))","v":""},{"$f":"IF($B101=\"\",\"\",\nVLOOKUP($C101,'2. Unit Testing Results'!$B$5:$BC$12,53))","v":""},{"$f":"IF($B101=\"\",\"\",\nVLOOKUP($C101,'2. Unit Testing Results'!$B$5:$BC$12,54))","v":""}]
[null,{"$f":"IF('2. Unit Testing Results'!$B112=\"\",\"\",'2. Unit Testing Results'!$B112)","v":""},{"$f":"IF('2. Unit Testing Results'!$C112=\"\",\"\",'2. Unit Testing Results'!$C112)","v":""},{"$f":"IF('2. Unit Testing Results'!$D112=\"\",\"\",'2. Unit Testing Results'!$D112)","v":""},{"$f":"IF('2. Unit Testing Results'!$E112=\"\",\"\",'2. Unit Testing Results'!$E112)","v":""},null,{"$f":"IF($B102=\"\",\"\",\n(('2. Unit Testing Results'!$W112)*60)\n/((VLOOKUP($C102,'2. Unit Testing Results'!$B$5:$R$12,4))*(VLOOKUP($C102,'2. Unit Testing Results'!$B$5:$R$12,6)))\n)","v":""},{"$f":"IF($B102=\"\",\"\",\nVLOOKUP($C102,'2. Unit Testing Results'!$B$5:$BC$12,19))","v":""},{"$f":"IF($B102=\"\",\"\",\nVLOOKUP($C102,'2. Unit Testing Results'!$B$5:$BC$12,20))","v":""},{"$f":"IF($B102=\"\",\"\",\nVLOOKUP($C102,'2. Unit Testing Results'!$B$5:$BC$12,22))","v":""},{"$f":"IF($B102=\"\",\"\",\nVLOOKUP($C102,'2. Unit Testing Results'!$B$5:$BC$12,24))","v":""},{"$f":"IF($B102=\"\",\"\",\nVLOOKUP($C102,'2. Unit Testing Results'!$B$5:$BC$12,26))","v":""},{"$f":"IF($B102=\"\",\"\",\nVLOOKUP($C102,'2. Unit Testing Results'!$B$5:$BC$12,28))","v":""},{"$f":"IF($B102=\"\",\"\",'2. Unit Testing Results'!$P112)","v":""},{"$f":"IF($B102=\"\",\"\",'2. Unit Testing Results'!$U112)","v":""},{"$f":"IF($B102=\"\",\"\",\nVLOOKUP($C102,'2. Unit Testing Results'!$B$5:$BC$12,30))","v":""},{"$f":"IF($B102=\"\",\"\",\nVLOOKUP($C102,'2. Unit Testing Results'!$B$5:$BC$12,32))","v":""},{"$f":"IF($B102=\"\",\"\",\nVLOOKUP($C102,'2. Unit Testing Results'!$B$5:$BC$12,34))","v":""},{"$f":"IF($B102=\"\",\"\",\nVLOOKUP($C102,'2. Unit Testing Results'!$B$5:$BC$12,36))","v":""},{"$f":"IF($B102=\"\",\"\",\nVLOOKUP($C102,'2. Unit Testing Results'!$B$5:$BC$12,38))","v":""},{"$f":"IF($B102=\"\",\"\",\nVLOOKUP($C102,'2. Unit Testing Results'!$B$5:$BC$12,39))","v":""},{"$f":"IF($B102=\"\",\"\",\nVLOOKUP($C102,'2. Unit Testing Results'!$B$5:$BC$12,40))","v":""},{"$f":"IF($B102=\"\",\"\",\nVLOOKUP($C102,'2. Unit Testing Results'!$B$5:$BC$12,42))","v":""},{"$f":"IF($B102=\"\",\"\",\nVLOOKUP($C102,'2. Unit Testing Results'!$B$5:$BC$12,44))","v":""},{"$f":"IF($B102=\"\",\"\",\nVLOOKUP($C102,'2. Unit Testing Results'!$B$5:$BC$12,46))","v":""},{"$f":"IF($B102=\"\",\"\",\nVLOOKUP($C102,'2. Unit Testing Results'!$B$5:$BC$12,48))","v":""},{"$f":"IF($B102=\"\",\"\",\nVLOOKUP($C102,'2. Unit Testing Results'!$B$5:$BC$12,50))","v":""},{"$f":"IF($B102=\"\",\"\",\nVLOOKUP($C102,'2. Unit Testing Results'!$B$5:$BC$12,51))","v":""},{"$f":"IF($B102=\"\",\"\",\nVLOOKUP($C102,'2. Unit Testing Results'!$B$5:$BC$12,52))","v":""},{"$f":"IF($B102=\"\",\"\",\nVLOOKUP($C102,'2. Unit Testing Results'!$B$5:$BC$12,53))","v":""},{"$f":"IF($B102=\"\",\"\",\nVLOOKUP($C102,'2. Unit Testing Results'!$B$5:$BC$12,54))","v":""}]
[null,{"$f":"IF('2. Unit Testing Results'!$B113=\"\",\"\",'2. Unit Testing Results'!$B113)","v":""},{"$f":"IF('2. Unit Testing Results'!$C113=\"\",\"\",'2. Unit Testing Results'!$C113)","v":""},{"$f":"IF('2. Unit Testing Results'!$D113=\"\",\"\",'2. Unit Testing Results'!$D113)","v":""},{"$f":"IF('2. Unit Testing Results'!$E113=\"\",\"\",'2. Unit Testing Results'!$E113)","v":""},null,{"$f":"IF($B103=\"\",\"\",\n(('2. Unit Testing Results'!$W113)*60)\n/((VLOOKUP($C103,'2. Unit Testing Results'!$B$5:$R$12,4))*(VLOOKUP($C103,'2. Unit Testing Results'!$B$5:$R$12,6)))\n)","v":""},{"$f":"IF($B103=\"\",\"\",\nVLOOKUP($C103,'2. Unit Testing Results'!$B$5:$BC$12,19))","v":""},{"$f":"IF($B103=\"\",\"\",\nVLOOKUP($C103,'2. Unit Testing Results'!$B$5:$BC$12,20))","v":""},{"$f":"IF($B103=\"\",\"\",\nVLOOKUP($C103,'2. Unit Testing Results'!$B$5:$BC$12,22))","v":""},{"$f":"IF($B103=\"\",\"\",\nVLOOKUP($C103,'2. Unit Testing Results'!$B$5:$BC$12,24))","v":""},{"$f":"IF($B103=\"\",\"\",\nVLOOKUP($C103,'2. Unit Testing Results'!$B$5:$BC$12,26))","v":""},{"$f":"IF($B103=\"\",\"\",\nVLOOKUP($C103,'2. Unit Testing Results'!$B$5:$BC$12,28))","v":""},{"$f":"IF($B103=\"\",\"\",'2. Unit Testing Results'!$P113)","v":""},{"$f":"IF($B103=\"\",\"\",'2. Unit Testing Results'!$U113)","v":""},{"$f":"IF($B103=\"\",\"\",\nVLOOKUP($C103,'2. Unit Testing Results'!$B$5:$BC$12,30))","v":""},{"$f":"IF($B103=\"\",\"\",\nVLOOKUP($C103,'2. Unit Testing Results'!$B$5:$BC$12,32))","v":""},{"$f":"IF($B103=\"\",\"\",\nVLOOKUP($C103,'2. Unit Testing Results'!$B$5:$BC$12,34))","v":""},{"$f":"IF($B103=\"\",\"\",\nVLOOKUP($C103,'2. Unit Testing Results'!$B$5:$BC$12,36))","v":""},{"$f":"IF($B103=\"\",\"\",\nVLOOKUP($C103,'2. Unit Testing Results'!$B$5:$BC$12,38))","v":""},{"$f":"IF($B103=\"\",\"\",\nVLOOKUP($C103,'2. Unit Testing Results'!$B$5:$BC$12,39))","v":""},{"$f":"IF($B103=\"\",\"\",\nVLOOKUP($C103,'2. Unit Testing Results'!$B$5:$BC$12,40))","v":""},{"$f":"IF($B103=\"\",\"\",\nVLOOKUP($C103,'2. Unit Testing Results'!$B$5:$BC$12,42))","v":""},{"$f":"IF($B103=\"\",\"\",\nVLOOKUP($C103,'2. Unit Testing Results'!$B$5:$BC$12,44))","v":""},{"$f":"IF($B103=\"\",\"\",\nVLOOKUP($C103,'2. Unit Testing Results'!$B$5:$BC$12,46))","v":""},{"$f":"IF($B103=\"\",\"\",\nVLOOKUP($C103,'2. Unit Testing Results'!$B$5:$BC$12,48))","v":""},{"$f":"IF($B103=\"\",\"\",\nVLOOKUP($C103,'2. Unit Testing Results'!$B$5:$BC$12,50))","v":""},{"$f":"IF($B103=\"\",\"\",\nVLOOKUP($C103,'2. Unit Testing Results'!$B$5:$BC$12,51))","v":""},{"$f":"IF($B103=\"\",\"\",\nVLOOKUP($C103,'2. Unit Testing Results'!$B$5:$BC$12,52))","v":""},{"$f":"IF($B103=\"\",\"\",\nVLOOKUP($C103,'2. Unit Testing Results'!$B$5:$BC$12,53))","v":""},{"$f":"IF($B103=\"\",\"\",\nVLOOKUP($C103,'2. Unit Testing Results'!$B$5:$BC$12,54))","v":""}]
[null,{"$f":"IF('2. Unit Testing Results'!$B114=\"\",\"\",'2. Unit Testing Results'!$B114)","v":""},{"$f":"IF('2. Unit Testing Results'!$C114=\"\",\"\",'2. Unit Testing Results'!$C114)","v":""},{"$f":"IF('2. Unit Testing Results'!$D114=\"\",\"\",'2. Unit Testing Results'!$D114)","v":""},{"$f":"IF('2. Unit Testing Results'!$E114=\"\",\"\",'2. Unit Testing Results'!$E114)","v":""},null,{"$f":"IF($B104=\"\",\"\",\n(('2. Unit Testing Results'!$W114)*60)\n/((VLOOKUP($C104,'2. Unit Testing Results'!$B$5:$R$12,4))*(VLOOKUP($C104,'2. Unit Testing Results'!$B$5:$R$12,6)))\n)","v":""},{"$f":"IF($B104=\"\",\"\",\nVLOOKUP($C104,'2. Unit Testing Results'!$B$5:$BC$12,19))","v":""},{"$f":"IF($B104=\"\",\"\",\nVLOOKUP($C104,'2. Unit Testing Results'!$B$5:$BC$12,20))","v":""},{"$f":"IF($B104=\"\",\"\",\nVLOOKUP($C104,'2. Unit Testing Results'!$B$5:$BC$12,22))","v":""},{"$f":"IF($B104=\"\",\"\",\nVLOOKUP($C104,'2. Unit Testing Results'!$B$5:$BC$12,24))","v":""},{"$f":"IF($B104=\"\",\"\",\nVLOOKUP($C104,'2. Unit Testing Results'!$B$5:$BC$12,26))","v":""},{"$f":"IF($B104=\"\",\"\",\nVLOOKUP($C104,'2. Unit Testing Results'!$B$5:$BC$12,28))","v":""},{"$f":"IF($B104=\"\",\"\",'2. Unit Testing Results'!$P114)","v":""},{"$f":"IF($B104=\"\",\"\",'2. Unit Testing Results'!$U114)","v":""},{"$f":"IF($B104=\"\",\"\",\nVLOOKUP($C104,'2. Unit Testing Results'!$B$5:$BC$12,30))","v":""},{"$f":"IF($B104=\"\",\"\",\nVLOOKUP($C104,'2. Unit Testing Results'!$B$5:$BC$12,32))","v":""},{"$f":"IF($B104=\"\",\"\",\nVLOOKUP($C104,'2. Unit Testing Results'!$B$5:$BC$12,34))","v":""},{"$f":"IF($B104=\"\",\"\",\nVLOOKUP($C104,'2. Unit Testing Results'!$B$5:$BC$12,36))","v":""},{"$f":"IF($B104=\"\",\"\",\nVLOOKUP($C104,'2. Unit Testing Results'!$B$5:$BC$12,38))","v":""},{"$f":"IF($B104=\"\",\"\",\nVLOOKUP($C104,'2. Unit Testing Results'!$B$5:$BC$12,39))","v":""},{"$f":"IF($B104=\"\",\"\",\nVLOOKUP($C104,'2. Unit Testing Results'!$B$5:$BC$12,40))","v":""},{"$f":"IF($B104=\"\",\"\",\nVLOOKUP($C104,'2. Unit Testing Results'!$B$5:$BC$12,42))","v":""},{"$f":"IF($B104=\"\",\"\",\nVLOOKUP($C104,'2. Unit Testing Results'!$B$5:$BC$12,44))","v":""},{"$f":"IF($B104=\"\",\"\",\nVLOOKUP($C104,'2. Unit Testing Results'!$B$5:$BC$12,46))","v":""},{"$f":"IF($B104=\"\",\"\",\nVLOOKUP($C104,'2. Unit Testing Results'!$B$5:$BC$12,48))","v":""},{"$f":"IF($B104=\"\",\"\",\nVLOOKUP($C104,'2. Unit Testing Results'!$B$5:$BC$12,50))","v":""},{"$f":"IF($B104=\"\",\"\",\nVLOOKUP($C104,'2. Unit Testing Results'!$B$5:$BC$12,51))","v":""},{"$f":"IF($B104=\"\",\"\",\nVLOOKUP($C104,'2. Unit Testing Results'!$B$5:$BC$12,52))","v":""},{"$f":"IF($B104=\"\",\"\",\nVLOOKUP($C104,'2. Unit Testing Results'!$B$5:$BC$12,53))","v":""},{"$f":"IF($B104=\"\",\"\",\nVLOOKUP($C104,'2. Unit Testing Results'!$B$5:$BC$12,54))","v":""}]
[null,{"$f":"IF('2. Unit Testing Results'!$B115=\"\",\"\",'2. Unit Testing Results'!$B115)","v":""},{"$f":"IF('2. Unit Testing Results'!$C115=\"\",\"\",'2. Unit Testing Results'!$C115)","v":""},{"$f":"IF('2. Unit Testing Results'!$D115=\"\",\"\",'2. Unit Testing Results'!$D115)","v":""},{"$f":"IF('2. Unit Testing Results'!$E115=\"\",\"\",'2. Unit Testing Results'!$E115)","v":""},null,{"$f":"IF($B105=\"\",\"\",\n(('2. Unit Testing Results'!$W115)*60)\n/((VLOOKUP($C105,'2. Unit Testing Results'!$B$5:$R$12,4))*(VLOOKUP($C105,'2. Unit Testing Results'!$B$5:$R$12,6)))\n)","v":""},{"$f":"IF($B105=\"\",\"\",\nVLOOKUP($C105,'2. Unit Testing Results'!$B$5:$BC$12,19))","v":""},{"$f":"IF($B105=\"\",\"\",\nVLOOKUP($C105,'2. Unit Testing Results'!$B$5:$BC$12,20))","v":""},{"$f":"IF($B105=\"\",\"\",\nVLOOKUP($C105,'2. Unit Testing Results'!$B$5:$BC$12,22))","v":""},{"$f":"IF($B105=\"\",\"\",\nVLOOKUP($C105,'2. Unit Testing Results'!$B$5:$BC$12,24))","v":""},{"$f":"IF($B105=\"\",\"\",\nVLOOKUP($C105,'2. Unit Testing Results'!$B$5:$BC$12,26))","v":""},{"$f":"IF($B105=\"\",\"\",\nVLOOKUP($C105,'2. Unit Testing Results'!$B$5:$BC$12,28))","v":""},{"$f":"IF($B105=\"\",\"\",'2. Unit Testing Results'!$P115)","v":""},{"$f":"IF($B105=\"\",\"\",'2. Unit Testing Results'!$U115)","v":""},{"$f":"IF($B105=\"\",\"\",\nVLOOKUP($C105,'2. Unit Testing Results'!$B$5:$BC$12,30))","v":""},{"$f":"IF($B105=\"\",\"\",\nVLOOKUP($C105,'2. Unit Testing Results'!$B$5:$BC$12,32))","v":""},{"$f":"IF($B105=\"\",\"\",\nVLOOKUP($C105,'2. Unit Testing Results'!$B$5:$BC$12,34))","v":""},{"$f":"IF($B105=\"\",\"\",\nVLOOKUP($C105,'2. Unit Testing Results'!$B$5:$BC$12,36))","v":""},{"$f":"IF($B105=\"\",\"\",\nVLOOKUP($C105,'2. Unit Testing Results'!$B$5:$BC$12,38))","v":""},{"$f":"IF($B105=\"\",\"\",\nVLOOKUP($C105,'2. Unit Testing Results'!$B$5:$BC$12,39))","v":""},{"$f":"IF($B105=\"\",\"\",\nVLOOKUP($C105,'2. Unit Testing Results'!$B$5:$BC$12,40))","v":""},{"$f":"IF($B105=\"\",\"\",\nVLOOKUP($C105,'2. Unit Testing Results'!$B$5:$BC$12,42))","v":""},{"$f":"IF($B105=\"\",\"\",\nVLOOKUP($C105,'2. Unit Testing Results'!$B$5:$BC$12,44))","v":""},{"$f":"IF($B105=\"\",\"\",\nVLOOKUP($C105,'2. Unit Testing Results'!$B$5:$BC$12,46))","v":""},{"$f":"IF($B105=\"\",\"\",\nVLOOKUP($C105,'2. Unit Testing Results'!$B$5:$BC$12,48))","v":""},{"$f":"IF($B105=\"\",\"\",\nVLOOKUP($C105,'2. Unit Testing Results'!$B$5:$BC$12,50))","v":""},{"$f":"IF($B105=\"\",\"\",\nVLOOKUP($C105,'2. Unit Testing Results'!$B$5:$BC$12,51))","v":""},{"$f":"IF($B105=\"\",\"\",\nVLOOKUP($C105,'2. Unit Testing Results'!$B$5:$BC$12,52))","v":""},{"$f":"IF($B105=\"\",\"\",\nVLOOKUP($C105,'2. Unit Testing Results'!$B$5:$BC$12,53))","v":""},{"$f":"IF($B105=\"\",\"\",\nVLOOKUP($C105,'2. Unit Testing Results'!$B$5:$BC$12,54))","v":""}]

{"sheet":"1a. Rater Design Checklist","index":3,"n_rows":105,"n_cols":11,"rows_kept":105,"cut":false,"hidden":false,"merged":[[112,3,112,4],[104,3,104,4],[0,4,0,5],[6,2,6,5],[103,5,103,6],[104,5,104,6],[103,3,103,4],[106,3,106,4],[109,3,109,4]]}
["\n\n\n\n",null,null,null,"ALL PATHWAYS"]
[]
["\n\n","Project Name:",{"$f":"IF('Project Information'!C5:D5=\"\",\"\",'Project Information'!C5:D5)","v":""},"Number of Units:",{"$f":"IF('Project Information'!$F$10=\"\",\"\",'Project Information'!$F$10)","v":""},"Permit Date:",{"$f":"IF('Project Information'!G5:H5=\"\",\"\",'Project Information'!G5:H5)","v":""}]
["\n\n","Project Address:",{"$f":"IF('Project Information'!C6:D6=\"\",\"\",'Project Information'!C6:D6)","v":""},"City:",{"$f":"IF('Project Information'!F6=\"\",\"\",'Project Information'!F6)","v":""},"State:",{"$f":"IF('Project Information'!H6=\"\",\"\",'Project Information'!H6)","v":""}]
[]
[]
[null,null,"Rater Design Review Checklist 1"]
[null,null," ","Must Correct","Rater 3 Verified","Comments","Column1","Pathway Tag","Required Fields","Field Type","Additional Columns"]
[null,null," 1. Partnership Status ",null,null,null,null,"All","Required","Section Header"]
[null,null,"\n\nFootnote 1. This Checklist applies to all dwelling units, sleeping units, most common spaces 2 on the property, and parking lots. This Checklist does not apply to commercial or retail spaces.  This Checklist does not apply to common spaces that are located in buildings on the property without any dwelling or sleeping units. The term ‘sleeping unit’ refers to a room or space in which people sleep, which can also include permanent provisions for living, eating, and either sanitation or kitchen facilities but not both. Where the term ‘dwelling unit’ is used in this Checklist, the requirement is also required of ‘sleeping’ units. The term ‘building’ refers to a structure utilized or intended for supporting or sheltering occupancy for a residential purpose; a structure with no dwelling or sleeping units connected to a structure with dwelling or sleeping units by less than 10% of its exterior wall area is not to be included in the ‘building’.",null,null,null,null,"All","Required","Footnote 1 - Checklist"]
[null,null,"Footnote 3. The term ‘Rater’ refers to the person completing the third-party inspections required for certification. This person shall: a) be a Certified Rater, Approved Inspector, or an equivalent designation as determined by a “Multifamily Oversight Organization” and, b) have attended and successfully completed an EPA-recognized training class. See energystar.gov/mftraining. ",null,null,null,null,"All","Required","Footnote 3 - Checklist"]
[null,null,"1.1 Rater has verified that builder or developer is an ENERGY STAR partner using energystar.gov/partnerlocator \n\nBuilder Name: __________________________\nDeveloper Name: _______________________",null,null,null,null,"All","Required","Checklist"]
[null,null,"1.2 ASHRAE Only: Rater has verified that modeler is listed in the online directory using energystar.gov/mfdirectory \n\nModeler name: ________________________________",null,null,null,null,"ASHRAE","Required","Checklist"]
[null,null,"2. High-Performance Fenestration ",null,null,null,null,"All","Required","Section Header"]
[null,null,"2.1 Dwelling units: ",null,null,null,null,"All","Required","Checklist"]
[null,null," 2.1.1 Prescriptive: Specified fenestration meets or exceeds ENERGY STAR MF Reference Design requirements 4\n",null,null,null,null,"Prescriptive","Required","Checklist"]
[null,null,"Footnote 4. All windows, doors and skylights must meet or exceed the U-factor and SHGC requirements specified in the table below. If no NFRC rating is noted on the window or in product literature (e.g., for site-built fenestration), select the U-factor and SHGC value from Tables 4 and 10, respectively, in 2013 ASHRAE Handbook of Fundamentals, Chapter 15. Select the highest U-factor and SHGC value among the values listed for the known window characteristics (e.g., frame type, number of panes, glass color, and presence of low-e coating). Note that the U-factor requirement applies to all fenestration while the SHGC only applies to the glazed portion.\n\nThe following exemptions apply:\ni. An area-weighted average of fenestration products shall be permitted to satisfy the U-factor requirements;\nii. An area-weighted average of fenestration products ≥ 50% glazed shall be permitted to satisfy the SHGC requirements; and\niii. 5% of all combined fenestration area (glazed and opaque) shall be exempt from the U-factor and SHGC requirements, and shall be excluded from area-weighted averages calculated using i) and ii), above. \nIn PHIUS+ or PHI certified buildings, where triple-glazed window assemblies with thermal breaks / spacers between the panes are used, such windows meet the intent of Items 2.1 and 2.2 and shall be excluded when assessing compliance of a) through d), above.",null,null,null,null,"Prescriptive","Required","Footnote 4 - 2.1.1"]
[null,null," 2.1.2 ERI and ASHRAE Only: Specified fenestration meets or exceeds 2009 IECC residential requirements 4\n",null,null,null,null,"ERI, ASHRAE","Required","Checklist"]
[null,null,"Footnote 4. All windows, doors and skylights must meet or exceed the U-factor and SHGC requirements specified in the table below. If no NFRC rating is noted on the window or in product literature (e.g., for site-built fenestration), select the U-factor and SHGC value from Tables 4 and 10, respectively, in 2013 ASHRAE Handbook of Fundamentals, Chapter 15. Select the highest U-factor and SHGC value among the values listed for the known window characteristics (e.g., frame type, number of panes, glass color, and presence of low-e coating). Note that the U-factor requirement applies to all fenestration while the SHGC only applies to the glazed portion.\n\nSEE TABLE IN Tab 6. Fenestration\n\nThe following exemptions apply:\ni. An area-weighted average of fenestration products shall be permitted to satisfy the U-factor requirements;\nii. An area-weighted average of fenestration products ≥ 50% glazed shall be permitted to satisfy the SHGC requirements; and\niii. 5% of all combined fenestration area (glazed and opaque) shall be exempt from the U-factor and SHGC requirements, and shall be excluded from area-weighted averages calculated using i) and ii), above. \nIn PHIUS+ or PHI certified buildings, where triple-glazed window assemblies with thermal breaks / spacers between the panes are used, such windows meet the intent of Items 2.1 and 2.2 and shall be excluded when assessing compliance of a) through d), above.",null,null,null,null,"ERI, ASHRAE","Required","Footnote 4 - 2.1.2"]
[null,null,"2.2 Common space: 2\n",null,null,null,null,"All","Required","Checklist"]
[null,null,"\n\nFootnote 2. The term ‘common space’ refers to any spaces on the property that serve a function in support of the residential part of the building that is not part of a dwelling or sleeping unit.  This includes spaces used by residents, such as corridors, stairs, lobbies, laundry rooms, exercise rooms, residential recreation rooms, or parking garages used exclusively by residents, building staff, and their guests.  This also includes offices used by building management, administration or maintenance and all special use areas located on the property to serve and support the residents such as day-care facilities, gyms, dining halls, etc.",null,null,null,null,"All","Required","Footnote 2 - 2.2"]
[null,null," 2.2.1 ERI and Prescriptive: Specified fenestration meets or exceeds ENERGY STAR MF Reference Design requirements 4\n",null,null,null,null,"ERI, Prescriptive","Required","Checklist"]
[null,null,"Footnote 4. All windows, doors and skylights must meet or exceed the U-factor and SHGC requirements specified in the table below. If no NFRC rating is noted on the window or in product literature (e.g., for site-built fenestration), select the U-factor and SHGC value from Tables 4 and 10, respectively, in 2013 ASHRAE Handbook of Fundamentals, Chapter 15. Select the highest U-factor and SHGC value among the values listed for the known window characteristics (e.g., frame type, number of panes, glass color, and presence of low-e coating). Note that the U-factor requirement applies to all fenestration while the SHGC only applies to the glazed portion.\n\nThe following exemptions apply:\ni. An area-weighted average of fenestration products shall be permitted to satisfy the U-factor requirements;\nii. An area-weighted average of fenestration products ≥ 50% glazed shall be permitted to satisfy the SHGC requirements; and\niii. 5% of all combined fenestration area (glazed and opaque) shall be exempt from the U-factor and SHGC requirements, and shall be excluded from area-weighted averages calculated using i) and ii), above. \nIn PHIUS+ or PHI certified buildings, where triple-glazed window assemblies with thermal breaks / spacers between the panes are used, such windows meet the intent of Items 2.1 and 2.2 and shall be excluded when assessing compliance of a) through d), above.",null,null,null,null,"ERI, Prescriptive","Required","Footnote 4 - 2.2.1"]
[null,null," 2.2.2 ASHRAE Only: Specified fenestration meets or exceeds 2009 IECC commercial requirements 4\n\n",null,null,null,null,"ASHRAE","Required","Checklist"]
[null,null,"Footnote 4. All windows, doors and skylights must meet or exceed the U-factor and SHGC requirements specified in the table below. If no NFRC rating is noted on the window or in product literature (e.g., for site-built fenestration), select the U-factor and SHGC value from Tables 4 and 10, respectively, in 2013 ASHRAE Handbook of Fundamentals, Chapter 15. Select the highest U-factor and SHGC value among the values listed for the known window characteristics (e.g., frame type, number of panes, glass color, and presence of low-e coating). Note that the U-factor requirement applies to all fenestration while the SHGC only applies to the glazed portion.\n\nThe following exemptions apply:\ni. An area-weighted average of fenestration products shall be permitted to satisfy the U-factor requirements;\nii. An area-weighted average of fenestration products ≥ 50% glazed shall be permitted to satisfy the SHGC requirements; and\niii. 5% of all combined fenestration area (glazed and opaque) shall be exempt from the U-factor and SHGC requirements, and shall be excluded from area-weighted averages calculated using i) and ii), above. \nIn PHIUS+ or PHI certified buildings, where triple-glazed window assemblies with thermal breaks / spacers between the panes are used, such windows meet the intent of Items 2.1 and 2.2 and shall be excluded when assessing compliance of a) through d), above.",null,null,null,null,"ASHRAE","Required","Footnote 4 - 2.2.2"]
[null,null,"3. High-Performance Insulation ",null,null,null,null,"All","Required","Section Header"]
[null,null,"3.1 Dwelling unit: ",null,null,null,null,"All","Required","Checklist"]
[null,null," 3.1.1: Prescriptive: Specified ceiling 5, wall 6, and slab-on-grade insulation levels meet or exceed ENERGY STAR MF Reference Design requirements 7, 8, 9 \n",null,null,"SELECT PATH",null,"Prescriptive","Required","Checklist"]
[null,null,"\n\nFootnote 5. Where the term ‘ceiling’ is used, the component insulation levels for “roofs” shall be used and does not apply to adiabatic ceilings, such as the insulated or uninsulated ceiling between two dwelling units in a multistory building.",null,null,null,null,"Prescriptive","Required","Footnote 5 - 3.1.1"]
[null,null,"Footnote 6. Items 3.1 and 3.2 are also applicable to walls that are adjacent to other buildings or adjacent to unconditioned spaces within the building. Where the wall assembly includes continuous insulation that is interrupted by fasteners or service openings, an assembly U-factor must be calculated. For the interrupted portions, the continuous insulation cannot contribute to the assembly U-factor and an overall U-factor shall be calculated based on an area weighted ratio. Thermally broken shelf-angles are exempt from de-rating. ",null,null,null,null,"Prescriptive","Required","Footnote 6 - 3.1.1"]
[null,null,"Footnote 7. Specified levels shall meet or exceed the component insulation levels in 2009 IECC \nTable 502.2(1) or the table specified in the ENERGY STAR Multifamily Reference Design. The following exceptions apply:\na. For ceilings with attic spaces, R-30 shall satisfy the requirement for R-38 and R-38 shall satisfy the requirement for R-49 wherever the full height of uncompressed insulation at the lower R-value extends over the wall top plate at the eaves. This exemption shall not apply if the alternative calculations in d) are used;\nb. For ceilings without attic spaces, that are not roofs with insulation above deck, R-30 shall satisfy the requirement for any required value above R-30 if the design of the roof / ceiling assembly does not provide sufficient space for the required insulation value. This exemption shall be limited to 20% of the total insulated ceiling area. This exemption shall not apply if the alternative calculations in d) are used;\nc. Common spaces following the ENERGY STAR Multifamily Reference Design should use the “All Other” column and also use the row of the table that best corresponds to the common space features. Unlike Prescriptive Path dwelling units, the common spaces do not need to follow the row corresponding to a wood-framed building. \nd. An alternative equivalent U-factor or total UA calculation may also be used to demonstrate compliance, as follows: \nAn assembly with a U-factor equal or less than specified in 2009 IECC Table 502.1.2 complies. A total building thermal envelope UA that is less than or equal to the total UA resulting from the U-factors in Table 502.1.2 also complies. The performance of all components (i.e., roofs, walls, floors, slabs-on-grade, and fenestration) can be traded off using the UA approach. Note that Items 1.5, 1.6, and 3.1 through 3.7 of the National Rater Field Checklist shall be met regardless of the UA tradeoffs calculated. The UA calculation shall be done using a method consistent with the ASHRAE Handbook of Fundamentals and shall include the thermal bridging effects of framing materials. The calculation for a steel-frame envelope assembly shall use the ASHRAE zone method or a method providing equivalent results, and not a series-parallel path calculation method.",null,null,null,null,"Prescriptive","Required","Footnote 7 - 3.1.1"]
[null,null,"Footnote 8. Consistent with the 2009 IECC, slab edge insulation is only required for slab-on-grade floors with a floor surface less than 24 inches below grade. Slab-on-grade perimeter insulation shall extend to the top of the slab to provide a complete thermal break. If the top edge of the insulation is installed between the exterior wall and the edge of the interior slab, it shall be permitted to be cut at a 45-degree angle away from the exterior wall. Alternatively, the thermal break is permitted to be created using ≥ R-3 rigid insulation on top of an existing slab (e.g., in a building undergoing a gut rehabilitation). In such cases, up to 10% of the slab surface is permitted to not be insulated (e.g., for sleepers, for sill plates). Insulation installed on top of slab shall be covered by a durable floor surface (e.g., hardwood, tile, carpet).",null,null,null,null,"Prescriptive","Required","Footnote 8 - 3.1.1"]
[null,null,"Footnote 9. Where an insulated wall separates a garage, patio, porch, or other unconditioned space from the conditioned space of the building, slab perimeter insulation shall also be installed at this interface to provide a thermal break between the conditioned and unconditioned slab, if the slab is in contact with the ground at that interface. Where specific details cannot meet this requirement, partners shall provide the detail to EPA to request an exemption prior to the building’s certification. EPA will compile exempted details and work with industry to develop feasible details for use in future revisions to the program. A list of currently exempted details is available at: energystar.gov/slabedge.",null,null,null,null,"Prescriptive","Required","Footnote 9 - 3.1.1"]
[null,null," 3.1.2: ERI and ASHRAE Only: Specified ceiling 5, wall 6, floor, and slab-on-grade insulation levels meet or exceed values from the “Group R” column in the 2009 IECC Commercial chapter 7, 8, 9\n",null,null,"SELECT PATH",null,"ERI, ASHRAE","Required","Checklist"]
[null,null,"Footnote 5. Where the term ‘ceiling’ is used, the component insulation levels for “roofs” shall be used and does not apply to adiabatic ceilings, such as the insulated or uninsulated ceiling between two dwelling units in a multistory building.",null,null,null,null,"ERI, ASHRAE","Required","Footnote 5 - 3.1.2"]
[null,null,"Footnote 6. Items 3.1 and 3.2 are also applicable to walls that are adjacent to other buildings or adjacent to unconditioned spaces within the building. Where the wall assembly includes continuous insulation that is interrupted by fasteners or service openings, an assembly U-factor must be calculated. For the interrupted portions, the continuous insulation cannot contribute to the assembly U-factor and an overall U-factor shall be calculated based on an area weighted ratio. Thermally broken shelf-angles are exempt from de-rating. ",null,null,null,null,"ERI, ASHRAE","Required","Footnote 6 - 3.1.2"]
[null,null,"Footnote 7. Specified levels shall meet or exceed the component insulation levels in \n2009 IECC Table 502.2(1) or the table specified in the ENERGY STAR Multifamily Reference Design. The following exceptions apply:\na. For ceilings with attic spaces, R-30 shall satisfy the requirement for R-38 and R-38 shall satisfy the requirement for R-49 wherever the full height of uncompressed insulation at the lower R-value extends over the wall top plate at the eaves. This exemption shall not apply if the alternative calculations in d) are used;\nb. For ceilings without attic spaces, that are not roofs with insulation above deck, R-30 shall satisfy the requirement for any required value above R-30 if the design of the roof / ceiling assembly does not provide sufficient space for the required insulation value. This exemption shall be limited to 20% of the total insulated ceiling area. This exemption shall not apply if the alternative calculations in d) are used;\nc. Common spaces following the ENERGY STAR Multifamily Reference Design should use the “All Other” column and also use the row of the table that best corresponds to the common space features. Unlike Prescriptive Path dwelling units, the common spaces do not need to follow the row corresponding to a wood-framed building. \nd. An alternative equivalent U-factor or total UA calculation may also be used to demonstrate compliance, as follows: \nAn assembly with a U-factor equal or less than specified in 2009 IECC Table 502.1.2 complies. A total building thermal envelope UA that is less than or equal to the total UA resulting from the U-factors in Table 502.1.2 also complies. The performance of all components (i.e., roofs, walls, floors, slabs-on-grade, and fenestration) can be traded off using the UA approach. Note that Items 1.5, 1.6, and 3.1 through 3.7 of the National Rater Field Checklist shall be met regardless of the UA tradeoffs calculated. The UA calculation shall be done using a method consistent with the ASHRAE Handbook of Fundamentals and shall include the thermal bridging effects of framing materials. The calculation for a steel-frame envelope assembly shall use the ASHRAE zone method or a method providing equivalent results, and not a series-parallel path calculation method.",null,null,null,null,"ERI, ASHRAE","Required","Footnote 7 - 3.1.2"]
[null,null,"Footnote 8. Consistent with the 2009 IECC, slab edge insulation is only required for slab-on-grade floors with a floor surface less than 24 inches below grade. Slab-on-grade perimeter insulation shall extend to the top of the slab to provide a complete thermal break. If the top edge of the insulation is installed between the exterior wall and the edge of the interior slab, it shall be permitted to be cut at a 45-degree angle away from the exterior wall. Alternatively, the thermal break is permitted to be created using ≥ R-3 rigid insulation on top of an existing slab (e.g., in a building undergoing a gut rehabilitation). In such cases, up to 10% of the slab surface is permitted to not be insulated (e.g., for sleepers, for sill plates). Insulation installed on top of slab shall be covered by a durable floor surface (e.g., hardwood, tile, carpet).",null,null,null,null,"ERI, ASHRAE","Required","Footnote 8 - 3.1.2"]
[null,null,"Footnote 9. Where an insulated wall separates a garage, patio, porch, or other unconditioned space from the conditioned space of the building, slab perimeter insulation shall also be installed at this interface to provide a thermal break between the conditioned and unconditioned slab, if the slab is in contact with the ground at that interface. Where specific details cannot meet this requirement, partners shall provide the detail to EPA to request an exemption prior to the building’s certification. EPA will compile exempted details and work with industry to develop feasible details for use in future revisions to the program. A list of currently exempted details is available at: energystar.gov/slabedge.",null,null,null,null,"ERI, ASHRAE","Required","Footnote 9 - 3.1.2"]
[null,null,"3.2 Common space: 2\n",null,null,null,null,"All","Required","Checklist"]
[null,null,"\n\nFootnote 2. The term ‘common space’ refers to any spaces on the property that serve a function in support of the residential part of the building that is not part of a dwelling or sleeping unit.  This includes spaces used by residents, such as corridors, stairs, lobbies, laundry rooms, exercise rooms, residential recreation rooms, or parking garages used exclusively by residents, building staff, and their guests.  This also includes offices used by building management, administration or maintenance and all special use areas located on the property to serve and support the residents such as day-care facilities, gyms, dining halls, etc.",null,null,null,null,"All","Required","Footnote 2 - 3.2"]
[null,null," 3.2.1 ERI and Prescriptive: Specified ceiling 5, wall 6, and slab-on-grade insulation levels meet or exceed ENERGY STAR MF Reference Design requirements 7, 8, 9\n",null,null,"SELECT PATH",null,"ERI, Prescriptive","Required","Checklist"]
[null,null,"\n\nFootnote 5. Where the term ‘ceiling’ is used, the component insulation levels for “roofs” shall be used and does not apply to adiabatic ceilings, such as the insulated or uninsulated ceiling between two dwelling units in a multistory building.",null,null,null,null,"ERI, Prescriptive","Required","Footnote 5 - 3.2.1"]
[null,null,"Footnote 6. Items 3.1 and 3.2 are also applicable to walls that are adjacent to other buildings or adjacent to unconditioned spaces within the building. Where the wall assembly includes continuous insulation that is interrupted by fasteners or service openings, an assembly U-factor must be calculated. For the interrupted portions, the continuous insulation cannot contribute to the assembly U-factor and an overall U-factor shall be calculated based on an area weighted ratio. Thermally broken shelf-angles are exempt from de-rating. ",null,null,null,null,"ERI, Prescriptive","Required","Footnote 6 - 3.2.1"]
[null,null,"Footnote 7. Specified levels shall meet or exceed the component insulation levels in \n2009 IECC Table 502.2(1) or the table specified in the ENERGY STAR Multifamily Reference Design. The following exceptions apply:\na. For ceilings with attic spaces, R-30 shall satisfy the requirement for R-38 and R-38 shall satisfy the requirement for R-49 wherever the full height of uncompressed insulation at the lower R-value extends over the wall top plate at the eaves. This exemption shall not apply if the alternative calculations in d) are used;\nb. For ceilings without attic spaces, that are not roofs with insulation above deck, R-30 shall satisfy the requirement for any required value above R-30 if the design of the roof / ceiling assembly does not provide sufficient space for the required insulation value. This exemption shall be limited to 20% of the total insulated ceiling area. This exemption shall not apply if the alternative calculations in d) are used;\nc. Common spaces following the ENERGY STAR Multifamily Reference Design should use the “All Other” column and also use the row of the table that best corresponds to the common space features. Unlike Prescriptive Path dwelling units, the common spaces do not need to follow the row corresponding to a wood-framed building. \nd. An alternative equivalent U-factor or total UA calculation may also be used to demonstrate compliance, as follows: \nAn assembly with a U-factor equal or less than specified in 2009 IECC Table 502.1.2 complies. A total building thermal envelope UA that is less than or equal to the total UA resulting from the U-factors in Table 502.1.2 also complies. The performance of all components (i.e., roofs, walls, floors, slabs-on-grade, and fenestration) can be traded off using the UA approach. Note that Items 1.5, 1.6, and 3.1 through 3.7 of the National Rater Field Checklist shall be met regardless of the UA tradeoffs calculated. The UA calculation shall be done using a method consistent with the ASHRAE Handbook of Fundamentals and shall include the thermal bridging effects of framing materials. The calculation for a steel-frame envelope assembly shall use the ASHRAE zone method or a method providing equivalent results, and not a series-parallel path calculation method.",null,null,null,null,"ERI, Prescriptive","Required","Footnote 7 - 3.2.1"]
[null,null,"Footnote 8. Consistent with the 2009 IECC, slab edge insulation is only required for slab-on-grade floors with a floor surface less than 24 inches below grade. Slab-on-grade perimeter insulation shall extend to the top of the slab to provide a complete thermal break. If the top edge of the insulation is installed between the exterior wall and the edge of the interior slab, it shall be permitted to be cut at a 45-degree angle away from the exterior wall. Alternatively, the thermal break is permitted to be created using ≥ R-3 rigid insulation on top of an existing slab (e.g., in a building undergoing a gut rehabilitation). In such cases, up to 10% of the slab surface is permitted to not be insulated (e.g., for sleepers, for sill plates). Insulation installed on top of slab shall be covered by a durable floor surface (e.g., hardwood, tile, carpet).",null,null,null,null,"ERI, Prescriptive","Required","Footnote 8 - 3.2.1"]
[null,null,"Footnote 9. Where an insulated wall separates a garage, patio, porch, or other unconditioned space from the conditioned space of the building, slab perimeter insulation shall also be installed at this interface to provide a thermal break between the conditioned and unconditioned slab, if the slab is in contact with the ground at that interface. Where specific details cannot meet this requirement, partners shall provide the detail to EPA to request an exemption prior to the building’s certification. EPA will compile exempted details and work with industry to develop feasible details for use in future revisions to the program. A list of currently exempted details is available at: energystar.gov/slabedge.",null,null,null,null,"ERI, Prescriptive","Required","Footnote 9 - 3.2.1"]
[null,null," 3.2.2 ASHRAE Only: Specified ceiling 5, wall 6, floor, and slab-on-grade insulation levels meet or exceed the values from the \"All Other\" column in the 2009 IECC Commercial chapter 7, 8, 9\n",null,null,"SELECT PATH",null,"ASHRAE","Required","Checklist"]
[null,null,"\n\nFootnote 5. Where the term ‘ceiling’ is used, the component insulation levels for “roofs” shall be used and does not apply to adiabatic ceilings, such as the insulated or uninsulated ceiling between two dwelling units in a multistory building.",null,null,null,null,"ASHRAE","Required","Footnote 5 - 3.2.2"]
[null,null,"Footnote 6. Items 3.1 and 3.2 are also applicable to walls that are adjacent to other buildings or adjacent to unconditioned spaces within the building. Where the wall assembly includes continuous insulation that is interrupted by fasteners or service openings, an assembly U-factor must be calculated. For the interrupted portions, the continuous insulation cannot contribute to the assembly U-factor and an overall U-factor shall be calculated based on an area weighted ratio. Thermally broken shelf-angles are exempt from de-rating. ",null,null,null,null,"ASHRAE","Required","Footnote 6 - 3.2.2"]
[null,null,"Footnote 7. Specified levels shall meet or exceed the component insulation levels in \n2009 IECC Table 502.2(1) or the table specified in the ENERGY STAR Multifamily Reference Design. The following exceptions apply:\na. For ceilings with attic spaces, R-30 shall satisfy the requirement for R-38 and R-38 shall satisfy the requirement for R-49 wherever the full height of uncompressed insulation at the lower R-value extends over the wall top plate at the eaves. This exemption shall not apply if the alternative calculations in d) are used;\nb. For ceilings without attic spaces, that are not roofs with insulation above deck, R-30 shall satisfy the requirement for any required value above R-30 if the design of the roof / ceiling assembly does not provide sufficient space for the required insulation value. This exemption shall be limited to 20% of the total insulated ceiling area. This exemption shall not apply if the alternative calculations in d) are used;\nc. Common spaces following the ENERGY STAR Multifamily Reference Design should use the “All Other” column and also use the row of the table that best corresponds to the common space features. Unlike Prescriptive Path dwelling units, the common spaces do not need to follow the row corresponding to a wood-framed building. \nd. An alternative equivalent U-factor or total UA calculation may also be used to demonstrate compliance, as follows: \nAn assembly with a U-factor equal or less than specified in 2009 IECC Table 502.1.2 complies. A total building thermal envelope UA that is less than or equal to the total UA resulting from the U-factors in Table 502.1.2 also complies. The performance of all components (i.e., roofs, walls, floors, slabs-on-grade, and fenestration) can be traded off using the UA approach. Note that Items 1.5, 1.6, and 3.1 through 3.7 of the National Rater Field Checklist shall be met regardless of the UA tradeoffs calculated. The UA calculation shall be done using a method consistent with the ASHRAE Handbook of Fundamentals and shall include the thermal bridging effects of framing materials. The calculation for a steel-frame envelope assembly shall use the ASHRAE zone method or a method providing equivalent results, and not a series-parallel path calculation method.",null,null,null,null,"ASHRAE","Required","Footnote 7 - 3.2.2"]
[null,null,"Footnote 8. Consistent with the 2009 IECC, slab edge insulation is only required for slab-on-grade floors with a floor surface less than 24 inches below grade. Slab-on-grade perimeter insulation shall extend to the top of the slab to provide a complete thermal break. If the top edge of the insulation is installed between the exterior wall and the edge of the interior slab, it shall be permitted to be cut at a 45-degree angle away from the exterior wall. Alternatively, the thermal break is permitted to be created using ≥ R-3 rigid insulation on top of an existing slab (e.g., in a building undergoing a gut rehabilitation). In such cases, up to 10% of the slab surface is permitted to not be insulated (e.g., for sleepers, for sill plates). Insulation installed on top of slab shall be covered by a durable floor surface (e.g., hardwood, tile, carpet).",null,null,null,null,"ASHRAE","Required","Footnote 8 - 3.2.2"]
[null,null,"Footnote 9. Where an insulated wall separates a garage, patio, porch, or other unconditioned space from the conditioned space of the building, slab perimeter insulation shall also be installed at this interface to provide a thermal break between the conditioned and unconditioned slab, if the slab is in contact with the ground at that interface. Where specific details cannot meet this requirement, partners shall provide the detail to EPA to request an exemption prior to the building’s certification. EPA will compile exempted details and work with industry to develop feasible details for use in future revisions to the program. A list of currently exempted details is available at: energystar.gov/slabedge.",null,null,null,null,"ASHRAE","Required","Footnote 9 - 3.2.2"]
[null,null,"4. Review of HVAC Design Report 10\n",null,null,null,null,"All","Required","Section Header"]
[null,null,"\n\nFootnote 10. The Rater shall collect one National HVAC Design Report per building / project. Regardless of whether the “unit-specific design”, “group design”, or “worst-case design” box has been checked in Item 3.2 of the National HVAC Design Report, the system design as documented on the National HVAC Design Report must fall within the tolerances in Item 4.2 for the unit to be certified. The Rater is only responsible for verifying that the designer has not left any items blank on the National HVAC Design Report and for verifying the discrete objective parameters in Item 4.2 of this Checklist, not for verifying the accuracy of every input on the National HVAC Design Report.",null,null,null,null,"All","Required","Footnote 10 - 4"]
[null,null,"4.1 National HVAC Design Report collected for records, with no Items left blank",null,null,null,null,"All","Required","Checklist"]
[null,null,"4.2 National HVAC Design Report reviewed by Rater for the following parameters (National HVAC Design Report Item # indicated in parenthesis): ",null,null,null,null,"All","Required","Checklist"]
[null,null," 4.2.1 Prescriptive Path: Dwelling Unit Mechanical Ventilation (2.7) is <150% of ASHRAE 62.2-2013 requirements 11\n",null,null,null,null,"Prescriptive","Required","Checklist"]
[null,null,"\n\nFootnote 11. Raters may use this table to determine the maximum ventilation rate allowed. \n\nSEE TABLE IN REFERENCE TABLES TAB",null,null,null,null,"Prescriptive","Required","Footnote 11 - 4.2.1"]
[null,null," 4.2.2 Cooling season and heating season outdoor design temperatures used in loads (3.4) are within the limits defined at energystar.gov/hvacdesigntemps for the State and County where the building will be built, or the designer has provided an allowance from EPA to use alternative values 12\n",null,null,null,null,"All","Required","Checklist"]
[null,null,"\n\nFootnote 12. Visit energystar.gov/hvacdesigntemps for the maximum cooling season design temperature and minimum heating season design temperature permitted and the process for a designer to obtain an allowance from EPA. The same design report is permitted to be used in other counties, as long as the design temperature limits in those other counties meet or exceed the cooling and heating season temperature limits for the county selected. For example, if Fauquier County, VA, is used for the load calculations, with a 1% cooling temperature limit of 93 °F, then the same report could be used in Fairfax County (which has a higher limit of 94 °F) but not in Arlington County (which has a lower limit of 92 °F).",null,null,null,null,"All","Required","Footnote 12 - 4.2.2"]
[null,null," 4.2.3 Number of occupants used in loads (3.6) is within ± 2 of the dwelling unit to be certified and occupant gains (3.7) do not exceed 645 Btuh per occupant 13\n",null,null,null,null,"All","Required","Checklist"]
[null,null,"\n\nFootnote 13. To determine the number of occupants among all HVAC systems in the dwelling unit, calculate the number of bedrooms, as defined below, and add one. The number of occupants used in loads must be within ± 2 of the dwelling unit to be certified.\nA bedroom is defined by ANSI / RESNET / ICC Standard 301-2014 as a room or space 70 sq. ft. or greater size, with egress window and closet, used or intended to be used for sleeping. A “den”, “library”, or “home office” with a closet, egress window, and 70 sq. ft. or greater size or other similar rooms shall count as a bedroom, but living rooms and foyers shall not. \nAn egress window, as defined in 2009 IRC Section R310, shall refer to any operable window that provides for a means of escape and access for rescue in the event of an emergency. The egress window definition has been summarized for convenience. The egress window shall:\n• have a sill height of not more than 44 inches above the floor; AND\n• have a minimum net clear opening of 5.7 sq. ft.; AND\n• have a minimum net clear opening height of 24 in.; AND\n• have a minimum net clear opening width of 20 in.; AND\n• be operational from the inside of the room without the use of keys, tools or special knowledge.",null,null,null,null,"All","Required","Footnote 13 - 4.2.3"]
[null,null," 4.2.4 Conditioned floor area used in loads (3.8) is between 100 sq. ft. smaller and 300 sq. ft. larger than the dwelling unit to be certified",null,null,null,null,"All","Required","Checklist"]
[null,null," 4.2.5 Window area used in loads (3.9) is between 15 sq. ft. smaller and 60 sq. ft. larger than the dwelling unit to be certified, or for dwelling units to be certified with > 500 sq. ft. of window area, between 3% smaller and 12% larger",null,null,null,null,"All","Required","Checklist"]
[null,null," 4.2.6 Predominant window SHGC used in loads (3.10) is within 0.1 of predominant value in the dwelling unit to be certified 14\n",null,null,null,null,"All","Required","Checklist"]
[null,null,"\n\nFootnote 14. “Predominant” is defined as the SHGC value used in the greatest amount of window area in the dwelling unit.",null,null,null,null,"All","Required","Footnote 14 - 4.2.6"]
[null,null," 4.2.7 Mechanical ventilation used in loads (3.12) is the same as the ventilation design (2.7) for the given unit plan",null,null,null,null,"All","Required","Checklist"]
[null,null," 4.2.8 Non-occupant internal gains (3.13) are less than 3,600 Btuh",null,null,null,null,"All","Required","Checklist"]
[null,null," 4.2.9 Sensible & total heat gain are documented (3.14, 3.16) for the orientation of the dwelling unit to be certified 15\n",null,null,null,null,"All","Required","Checklist"]
[null,null,"Footnote 15. Orientation represents the direction that the front door of the dwelling unit is facing. The designer is only required to document the loads for the orientation(s) that the dwelling unit might be built in. For example, if a unit plan will only be built in a specific orientation (e.g., facing South), then the designer only needs to document the loads for this one orientation.",null,null,null,null,"All","Required","Footnote 15 - 4.2.9"]
[null,null," 4.2.10 Cooling sizing % (4.18) is within the cooling sizing limit (4.19) selected by the HVAC designer ",null,null,null,null,"All","Required","Checklist"]
[null,null,"5. Additional Construction Document Review",null,null,null,null,"All","Optional","Section Header"]
[null,null,"5.1 Air Sealing: Review construction documents to verify that air-sealing details at assemblies adjacent to exterior and unconditioned spaces are represented which, at a minimum, demonstrate compliance with checklist items in Section 4 of the National Rater Field Checklist (noted with an asterisk below). Items 5.1.9 and 5.1.10 are not verified by the Rater in the field, but are recommended.","N/A",null,null,null,"All","Optional","Checklist"]
[null,null," 5.1.1 Ducts, flues, shafts, plumbing, piping, wiring, exhaust fans, & other penetrations to unconditioned space sealed, with blocking / flashing as needed*","N/A",null,null,null,"All","Optional","Checklist"]
[null,null," 5.1.2 Recessed lighting fixtures adjacent to unconditioned space ICAT labeled and gasketed. Also, if in insulated ceiling without attic above, exterior surface of fixture insulated to ≥ R-10 in CZ 4-8*","N/A",null,null,null,"All","Optional","Checklist"]
[null,null," 5.1.3 Continuous top plate or blocking is at top of walls adjoining unconditioned space including at balloon-framed parapets, and sealed*","N/A",null,null,null,"All","Optional","Checklist"]
[null,null," 5.1.4 Drywall sealed to top plate at all unconditioned attic / wall interfaces using caulk, foam, drywall adhesive (but not other construction adhesives), or equivalent material. Either apply sealant directly between drywall and top plate or to the seam between the two from the attic above*","N/A",null,null,null,"All","Optional","Checklist"]
[null,null," 5.1.5 Rough opening around windows & exterior doors sealed* 16\n","N/A",null,null,null,"All","Optional","Checklist"]
[null,null,"\n\nFootnote 16. In Climate Zones 1 through 3, a continuous stucco cladding system sealed to windows and doors is permitted to be used in lieu of sealing rough openings with caulk or foam. ",null,null,null,null,"All","Optional","Footnote 16 - 5.1.5"]
[null,null," 5.1.6 Assemblies that separate attached garages from occupiable space sealed and, also, an air barrier installed, sealed, and aligned with these assemblies*","N/A",null,null,null,"All","Optional","Checklist"]
[null,null," 5.1.7 Attic access panels, roof hatches and drop-down stairs are gasketed (i.e., not caulked) or equipped with durable covers that are gasketed* 17\n","N/A",null,null,null,"All","Optional","Checklist"]
[null,null,"\n\nFootnote 17. Examples of durable covers include, but are not limited to, pre-fabricated covers with integral insulation, rigid foam adhered to cover with adhesive, or batt insulation mechanically fastened to the cover (e.g., using bolts, metal wire, or metal strapping).",null,null,null,null,"All","Optional","Footnote 17 - 5.1.7"]
[null,null," 5.1.8 Doors adjacent to unconditioned space (e.g., attics, garages, basements), ambient conditions, or a unit entrance to a corridor / stairwell, made substantially air-tight with doorsweep and weatherstripping or equivalent gasket*","N/A",null,null,null,"All","Optional","Checklist"]
[null,null," 5.1.9 Above-grade sill plates adjacent to conditioned space sealed to foundation or sub-floor. Gasket also placed beneath above-grade sill plate if resting atop concrete / masonry & adjacent to conditioned space 18, 19\n","N/A",null,null,null,"All","Optional","Checklist"]
[null,null,"\n\nFootnote 18. Existing sill plates (e.g., in a building undergoing a gut rehabilitation) on the interior side of structural masonry or monolithic walls may not be able to complete this Item. In addition, other existing sill plates resting atop concrete or masonry and adjacent to conditioned space can in lieu of using a gasket, be sealed with caulk, foam, or equivalent material at both the interior seam between the sill plate and the subfloor and the seam between the top of the sill plate and the sheathing.",null,null,null,null,"All","Optional","Footnote 18 - 5.1.9"]
[null,null,"Footnote 19. In Climate Zones 1 through 3, a continuous stucco cladding system adjacent to sill and bottom plates is an alternate option of sealing plates to foundation or sub-floor with caulk, foam, or equivalent material.",null,null,null,null,"All","Optional","Footnote 19 - 5.1.9"]
[null,null," 5.1.10 The gap between the common wall (e.g., the drywall shaft wall) and the structural framing between units sealed at all exterior boundaries","N/A",null,null,null,"All","Optional","Checklist"]
[null,null,"5.2 Dwelling Unit Compartmentalization","N/A",null,null,null,"All","Optional","Checklist"]
[null,null," 5.2.1 Review construction documents to verify that air-sealing details 20 are represented such that air exchange between the dwelling unit and outside as well as the dwelling unit and other adjacent spaces is minimized and designed to achieve compartmentalization less than or equal to 0.30 CFM50 per square feet of dwelling unit enclosure area, following procedures in ANSI / RESNET / ICC Std. 380\n\n","N/A",null,null,null,"All","Optional","Checklist"]
[null,null,"\n\nFootnote 20. Recommended air leakage paths to be sealed include, but are not limited to the following: \na. Plumbing penetrations, including those from water piping, drain waste and vent piping, HVAC piping, and gas line piping. \nb. Electrical penetrations, including those for receptacle outlets, lighting outlets / fixtures, communications wiring, thermostats, and smoke alarms.\nc. HVAC penetrations, including those for fans and for exhaust, supply, transfer, and return air ducts. \nd. Envelope penetrations, including at the intersection of baseboard trim and floor, at the intersection of walls and ceilings, around window trim and dwelling unit doors, including the door latch hole. ",null,null,null,null,"All","Optional","Footnote 20 - 5.2.1"]
[null,null," 5.2.2 Seal all spaces 5.1.1-5.1.10 on adiabatic unit enclosure assemblies","N/A",null,null,null,"All","Optional","Checklist"]
[null,null,"5.3 Prescriptive Path: Verify that Window-to-wall ratio ≤ 30% 21\n","N/A",null,null,null,"Prescriptive","Optional","Checklist"]
[null,null,"\nFootnote 21. Window-to-Wall ratio is taken as the sum of all window area divided by the total exterior above-grade wall area. All decorative glass and skylight window area contribute to the total window area to above-grade wall ratio (WWR). Spandrel sections of curtain wall systems contribute to the above-grade wall area.",null,null,null,null,"Prescriptive","Optional","Footnote 21 - 5.3"]
[null,null,"5.4 Verify that fully-aligned air barrier details are in compliance with checklist items in Section 2 of the National Rater Field Checklist","N/A",null,null,null,"All","Optional","Checklist"]
[null,null,"5.5 Verify that thermal bridging details are in compliance with checklist items in Section 3 of the National Rater Field Checklist","N/A",null,null,null,"All","Optional","Checklist"]
[null,null,"5.6 Verify that HVAC details are in compliance with checklist items in Sections 5 - 10 of the National Rater Field Checklist","N/A",null,null,null,"All","Optional","Checklist"]
[null,null," 5.6.1 Verify that HVAC design includes access and means to measure the dwelling-unit mechanical ventilation airflow rate","N/A",null,null,null,"All","Optional","Checklist"]
[null,null," 5.6.2 Verify that bedrooms with design airflow ≥ 150 CFM are specified with a combination of transfer grilles, jump ducts dedicated return ducts, and/or undercut doors to achieve a Rater-measured pressure differential ≥ -5 Pa and ≤ +5 Pa with respect to the main body of the dwelling unit when all air handlers are operating","N/A",null,null,null,"All","Optional","Checklist"]
[null,null," 5.6.3 Verify that Functional Testing Agent holds credential required to complete the National HVAC Functional Testing Checklist 22\n","N/A",null,null,null,"All","Optional","Checklist"]
[null,null,"\n\nFootnote 22. Functional Testing Agents must be a Certified Commissioning Professional (CCP), a Certified Building Commissioning Professional (CBCP), a Building Commissioning Professional (BCxP, formerly the Commissioning Process Management Professional (CPMP)), a NEBB Certified Technician (BSC CxCT) or Certified Professional (BSC CP or CxPP), a representative of the Original Equipment Manufacturer (OEM), or a contractor credentialed by an HVAC Quality Installation Training and Oversight Organization (H­QUITO), if not completing Sections 6 and higher. Functional Testing Agents may not be the installing contractor unless they are a credentialed contractor. An explanation of the credentialing process and links to H-QUITOs, which maintain lists of credentialed contractors, can be found at energystar.gov/credentialedhvac. A directory of other FT Agents can be found at energystar.gov/mfdirectory.",null,null,null,null,"All","Optional","Footnote 22 - 5.6.3"]
[null,null,"5.7 Verify that Domestic Hot Water, Lighting, Appliances, Ceiling Fans, Plumbing Fixtures, and Whole Building Utility Data Acquisition Strategy details are in compliance with checklist items in Sections 11 – 14 of the National Rater Field Checklist","N/A",null,null,null,"All","Optional","Checklist"]
[]
["\n","Rater Name:",{"$f":"IF('Project Information'!C22:H22=\"\",\"\",'Project Information'!C22:H22)","v":""},"Date of Review: "]
["\n","Rater Signature: ",null,"Rater Company Name: ",null,{"$f":"IF('Project Information'!$C$21=\"\",\"\",'Project Information'!$C$21)","v":""}]

{"sheet":"1b. Rater Field Checklist","index":4,"n_rows":251,"n_cols":13,"rows_kept":251,"cut":false,"hidden":false,"merged":[[0,4,0,6],[6,2,6,12],[250,3,250,4],[241,3,241,4],[244,3,244,4],[247,3,247,4],[7,3,7,12]]}
[null,null,null,null,"ALL PATHWAYS"]
[]
[null,"Project Name:",{"$f":"'1a. Rater Design Checklist'!C3","v":""},"Number of Units:",{"$f":"'1a. Rater Design Checklist'!E3","v":""},"Permit Date:",{"$f":"'1a. Rater Design Checklist'!G3","v":""}]
[null,"Project Address:",{"$f":"'1a. Rater Design Checklist'!C4","v":""},"City:",{"$f":"'1a. Rater Design Checklist'!E4","v":""},"State:",{"$f":"'1a. Rater Design Checklist'!G4","v":""}]
[]
[]
[null,null,"Rater Field Review Checklist 1"]
[null,null,null,"Construction Verification"]
[null,null," ","Must Correct ","Builder Verified 3","LP Verified 39","Rater Verified 4","N/A 5","Pathway Tag","Required Fields","Field Type","Additional Columns","Notes/Comments"]
[null,null,"Footnote 1. This Checklist applies to all dwelling units, sleeping units, most common spaces 2 on the property, and parking lots. This Checklist does not apply to commercial or retail spaces. This Checklist does not apply to common spaces 2 that are located in buildings on the property without any dwelling or sleeping units. The term ‘sleeping unit’ refers to a room or space in which people sleep, which can also include permanent provisions for living, eating, and either sanitation or kitchen facilities but not both. Where the term ‘dwelling unit’ is used in this Checklist, the requirement is also required of ‘sleeping’ units. The term ‘building’ refers to a structure utilized or intended for supporting or sheltering occupancy for a residential purpose; a structure with no dwelling or sleeping units connected to a structure with dwelling or sleeping units by less than 10% of its exterior wall area is not to be included in the ‘building’.",null,null,null,null,null,"All","Required","Footnote 1 - Checklist"]
[null,null,"Footnote 2. The term ‘common space’ refers to any spaces on the property that serve a function in support of the residential part of the building that is not part of a dwelling or sleeping unit.  This includes spaces used by residents, such as corridors, stairs, lobbies, laundry rooms, exercise rooms, residential recreation rooms, or parking garages used exclusively by residents, building staff, and their guests.  This also includes offices used by building management, administration or maintenance and all special use areas located on the property to serve and support the residents such as day-care facilities, gyms, dining halls, etc.",null,null,null,null,null,"All","Required","Footnote 1 - Checklist"]
[null,null,"Footnote 3. At the discretion of the Rater, the builder or developer may verify up to eight items in Sections 1-4 of this Checklist. For the purpose of this Checklist, “Builder” represents either the builder or the developer. When exercised, the builder’s responsibility will be formally acknowledged by the builder, or their designated agent, signing off on the checklist for the item(s) that they verified. However, if a quality assurance review indicates that Items have not been successfully completed, the Rater will be responsible for facilitating corrective action.",null,null,null,null,null,"All","Required","Footnote 3 - Checklist"]
[null,null,"Footnote 4. The term ‘Rater’ refers to the person completing the third-party inspections required for certification. This person shall: a) be a Certified Rater, Approved Inspector, or an equivalent designation as determined by a “Multifamily Oversight Organization” and, b) have attended and successfully completed an EPA-recognized training class. See energystar.gov/mftraining.  ",null,null,null,null,null,"All","Required","Footnote 4 - Checklist"]
[null,null,"Footnote 5. The column titled “N/A,” which denotes items that are “not applicable,” should be used when the checklist Item is not present in the project or conflicts with local requirements.",null,null,null,null,null,"All","Required","Footnote 5 - Checklist"]
[null,null,"Footnote 39. At the discretion of the Rater, a Licensed Professional (LP), (i.e., a Registered Architect or Professional Engineer in good standing and with a current license), may verify any of the items in Sections 5, 11, and 12 of this Checklist, where a checkbox is provided for “LP Verified”. When exercised, the LP’s responsibility will be formally acknowledged by the LP signing off on the checklist for the item(s) that they verified. However, if a quality assurance review indicates that Items have not been successfully completed, the Rater will be responsible for facilitating corrective action. ",null,null,null,null,null,"All","Required","Footnote 39 - Checklist"]
[null,null,"Thermal Enclosure System ",null,null,null,null,null,"All","Required","Section Header"]
[null,null,"1. High-Performance Fenestration & Insulation ",null,null,null,null,null,"All","Required","Section Header"]
[null,null,"1.1 Fenestration meets or exceeds specification in Items 2.1 and 2.2 of the National Rater Design Review Checklist",null,null,"-",null,"-","All","Required","Checklist"]
[null,null,"1.2 Insulation meets or exceeds levels specified in Items 3.1 and 3.2 of the National Rater Design Review Checklist",null,null,"-",null,"-","All","Required","Checklist"]
[null,null,"1.3 All insulation achieves Grade I install per ANSI / RESNET / ICC Std. 301. Alternatives in footnote 6. 6,7",null,null,"-",null,"-","All","Required","Checklist"]
[null,null,"Footnote 6. Two alternatives are provided: a) Grade II cavity insulation is permitted to be used for assemblies that contain a layer of continuous, air impermeable insulation ≥ R-3 in Climate Zones 1 to 4, ≥ R-5 in Climate Zones 5 to 8; b) Grade II batts are permitted to be used in floors if they fill the full width and depth of the floor cavity, even when compression occurs due to excess insulation, as long as the R-value of the batts has been appropriately assessed based on manufacturer guidance and the only defect preventing the insulation from achieving Grade I is the compression caused by the excess insulation.",null,null,null,null,null,"All","Required","Footnote 6 - 1.3"]
[null,null,"Footnote 7. Ensure compliance with this requirement using the version of ANSI / RESNET / ICC Std. 301 utilized by RESNET for HERS ratings.",null,null,null,null,null,"All","Required","Footnote 7 - 1.3"]
[null,null,"1.4 Prescriptive Path: Window-to-wall ratio ≤ 30% 8",null,null,"-",null,null,"Prescriptive","Required","Checklist"]
[null,null,"Footnote 8. Window-to-Wall ratio is taken as the sum of all window area divided by the total exterior above-grade wall area. All decorative glass and skylight window area contribute to the total window area to above-grade wall ratio (WWR). Spandrel sections of curtain wall systems contribute to the above-grade wall area.",null,null,null,null,null,"Prescriptive","Required","Footnote 8 - 1.4"]
[null,null,"1.5 Heated plenums in unconditioned space or ambient conditions must meet the following requirements: 9",null,null,null,null,null,"All","Required","Checklist"]
[null,null,"Footnote 9. Compliance with Items 1.5 and 1.6 is not required for ASHRAE projects, but the energy used by the heating systems must be modeled following the requirements in the Simulation Guidelines, available at energystar.gov/mfguidance.",null,null,null,null,null,"All","Required","Footnote 9 - 1.5"]
[null,null," 1.5.1 Sides of plenum are an air barrier and insulated to ≥ R-3ci in CZ 1-4; ≥ R-5ci in CZ 5-6; ≥ R-7.5ci in CZ 7; ≥ R-9.5ci in CZ 8, AND;",null,null,"-",null,null,"All","Required","Checklist"]
[null,null," 1.5.2 Insulation at top of plenum meets or exceeds the R-value for mass floors from the “All Other” column of Table 502.2(1) of 2009 IECC, AND;",null,null,"-",null,null,"All","Required","Checklist"]
[null,null," 1.5.3 Bottom of plenum must have at least R-13 insulation 10",null,null,"-",null,null,"All","Required","Checklist"]
[null,null,"Footnote 10. The bottom of the plenum is permitted to be suspended ceiling tiles or other non-air barrier material. If fiberglass insulation is installed, it must be paper-faced.",null,null,null,null,null,"All","Required","Footnote 10 - 1.5.3"]
[null,null,"1.6 Garages with space heating must meet the following requirements: 9",null,null,null,null,null,"All","Required","Checklist"]
[null,null,"Footnote 9. Compliance with Items 1.5 and 1.6 is not required for ASHRAE projects, but the energy used by the heating systems must be modeled following the requirements in the Simulation Guidelines, available at energystar.gov/mfguidance.",null,null,null,null,null,"All","Required","Footnote 9 - 1.6"]
[null,null," 1.6.1 Insulation on above grade walls and walls on the first story below grade ≥ R-5ci in CZ 5-6; ≥ R-7.5ci in CZ 7; ≥ R-9.5ci in CZ 8, AND;",null,null,"-",null,null,"All","Required","Checklist"]
[null,null," 1.6.2 Garage ceiling insulation meets or exceeds the R-value for mass floors from the “All Other” column of Table 502.2(1) of 2009 IECC",null,null,"-",null,null,"All","Required","Checklist"]
[null,null,"2. Fully-Aligned Air Barriers 11 At each insulated location below, a complete air barrier is provided that is fully aligned as follows:",null,null,null,null,null,"All","Required","Section Header"]
[null,null,"Footnote 11. For purposes of this Checklist, an air barrier is defined as any durable solid material that blocks air flow between conditioned space and unconditioned space, including necessary sealing to block excessive air flow at edges and seams and adequate support to resist positive and negative pressures without displacement or damage. EPA recommends, but does not require, rigid air barriers. \nOpen-cell or closed-cell foam shall have a finished thickness ≥ 5.5 in. or 1.5 in., respectively, to qualify as an air barrier unless the manufacturer indicates otherwise.\nIf flexible air barriers such as house wrap are used, they shall be fully sealed at all seams and edges and supported using fasteners with caps or heads ≥ 1 in. diameter unless otherwise indicated by the manufacturer. Flexible air barriers shall not be made of kraft paper, paper-based products, or other materials that are easily torn. If polyethylene is used, its thickness shall be ≥ 6 mil.",null,null,null,null,null,"All","Required","Footnote 11 - 2"]
[null,null,"Ceilings: At interior or exterior horizontal surface of ceiling insulation in Climate Zones 1-3; at interior horizontal surface of ceiling insulation in Climate Zones 4-8. Also, at exterior vertical surface of ceiling insulation in all climate zones (e.g., using a wind baffle that extends to the full height of the insulation in every bay or a tabbed baffle in each bay with a soffit vent that prevents wind washing in adjacent bays). 12",null,null,null,null,null,"All","Required","Section Details"]
[null,null,"Footnote 12. All insulated ceiling surfaces, regardless of slope (e.g., cathedral ceilings, tray ceilings, conditioned attic roof decks, flat ceilings, sloped ceilings), must meet the requirements for ceilings, unless the ceiling is adiabatic.",null,null,null,null,null,"All","Required","Footnote 12 - 2 Ceilings"]
[null,null,"2.1 Dropped ceilings / soffits below unconditioned attics, chase / dead space, and all other ceilings",null,null,"-",null,null,"All","Required","Checklist"]
[null,null,"Walls: At exterior vertical surface of wall insulation in all climate zones; also at interior vertical surface of wall insulation in Climate Zones 4-8 13",null,null,null,null,null,"All","Required","Section Details"]
[null,null,"Footnote 13. All insulated vertical surfaces are considered walls (e.g., above and below grade exterior walls, knee walls) and must meet the air barrier requirements for walls. The following exceptions apply: air barriers recommended, but not required, in adiabatic walls; and, in Climate Zones 4 through 8, an air barrier at the interior vertical surface of insulation is recommended but not required in basement walls or crawlspace walls. For the purpose of these exceptions, a basement or crawlspace is a space for which ≥ 40% of the total gross wall area is below-grade.",null,null,null,null,null,"All","Required","Footnote 13 - 2 Walls"]
[null,null,"2.2 Walls behind showers, tubs, staircases, and fireplaces",null,null,"-",null,null,"All","Required","Checklist"]
[null,null,"2.3 Architectural bump-outs, dead space, and all other exterior walls",null,null,"-",null,"-","All","Required","Checklist"]
[null,null,"Floors: At exterior vertical surface of floor insulation in all climate zones and, if over unconditioned space, also at interior horizontal surface including supports to ensure alignment. Alternatives in Footnotes 15 & 16. 14, 15, 16",null,null,null,null,null,"All","Required","Section Details"]
[null,null,"Footnote 14. EPA highly recommends, but does not require, an air barrier at the interior vertical surface of floor insulation in Climate Zones 4-8. ",null,null,null,null,null,"All","Required","Footnote 14 - 2 Floors"]
[null,null,"Footnote 15. Examples of supports necessary for permanent contact include staves for batt insulation or netting for blown-in insulation. Alternatively, supports are not required if batts fill the full depth of the floor cavity, even when compression occurs due to excess insulation, as long as the R-value of the batts has been appropriately assessed based on manufacturer guidance and the only defect preventing the insulation from achieving the required installation grade is the compression caused by the excess insulation.",null,null,null,null,null,"All","Required","Footnote 15 - 2 Floors"]
[null,null,"Footnote 16. Alternatively, an air barrier is permitted to be installed at the exterior horizontal surface of the floor insulation if the insulation is installed in contact with this air barrier, the exterior vertical surfaces of the floor cavity are also insulated, and air barriers are included at the exterior vertical surfaces of this insulation. ",null,null,null,null,null,"All","Required","Footnote 16 - 2 Floors"]
[null,null,"2.4 Floors above garages, floors above unconditioned basements or crawlspaces, and cantilevered floors",null,null,"-",null,null,"All","Required","Checklist"]
[null,null,"2.5 All other floors adjoining unconditioned space (e.g., rim / band joists at exterior wall or at porch roof)",null,null,"-",null,null,"All","Required","Checklist"]
[null,null,"3. Reduced Thermal Bridging",null,null,null,null,null,"All","Required","Section Header"]
[null,null,"3.1 For insulated ceilings with attic space above (i.e., non-cathedralized), Grade I insulation extends to the inside face of the exterior wall below and is ≥ R-21 in CZ 1-5; ≥ R-30 in CZ 6-8 17",null,null,"-",null,null,"All","Required","Checklist"]
[null,null,"Footnote 17. The minimum designated R-values must be achieved regardless of the trade-offs determined using an equivalent U-factor or UA alternative calculation. \nNote that if the minimum designated values are used, then higher insulation values may be needed elsewhere to meet Item 1.2. Also, note that these requirements can be met by using any available strategy, such as a raised-heel truss, alternate framing that provides adequate space, and / or high-density insulation.",null,null,null,null,null,"All","Required","Footnote 17 - 3.1"]
[null,null,"3.2 For insulated ceilings with attic space above, attic access panels and drop-down stairs insulated ≥ R-10 or equipped with durable ≥ R-10 cover 18",null,null,"-",null,null,"All","Required","Checklist"]
[null,null,"Footnote 18. Examples of durable covers include, but are not limited to, pre-fabricated covers with integral insulation, rigid foam adhered to cover with adhesive, or batt insulation mechanically fastened to the cover (e.g., using bolts, metal wire, or metal strapping. Low-slope roof hatch covers to be insulated to R-5 minimum.",null,null,null,null,null,"All","Required","Footnote 18 - 3.2"]
[null,null,"3.3 Insulation beneath attic platforms (e.g., HVAC platforms, walkways) ≥ R-21 in CZ 1-5; ≥ R-30 in CZ 6-8",null,null,"-",null,null,"All","Required","Checklist"]
[null,null,"3.4 For slabs on grade in CZ 4-8, 100% of slab edge insulated to ≥ R-5 at the depth specified by Table 502.2(1) of the 2009 IECC and aligned with the thermal boundary of the walls 19, 20",null,null,"-",null,null,"All","Required","Checklist"]
[null,null,"Footnote 19. Consistent with the 2009 IECC, slab edge insulation is only required for slab-on-grade floors with a floor surface less than 24 inches below grade. Slab-on-grade perimeter insulation shall extend to the top of the slab to provide a complete thermal break. If the top edge of the insulation is installed between the exterior wall and the edge of the interior slab, it shall be permitted to be cut at a 45-degree angle away from the exterior wall. Alternatively, the thermal break is permitted to be created using ≥ R-3 rigid insulation on top of an existing slab (e.g., in a building undergoing a gut rehabilitation). In such cases, up to 10% of the slab surface is permitted to not be insulated (e.g., for sleepers, for sill plates). Insulation installed on top of slab shall be covered by a durable floor surface (e.g., hardwood, tile, carpet).",null,null,null,null,null,"All","Required","Footnote 19 - 3.4"]
[null,null,"Footnote 20. Where an insulated wall separates a garage, patio, porch, or other unconditioned space from the conditioned space of the building, slab perimeter insulation shall also be installed at this interface to provide a thermal break between the conditioned and unconditioned slab, if the slab is in contact with the ground at that interface. Where specific details cannot meet this requirement, partners shall provide the detail to EPA to request an exemption prior to the building’s certification. EPA will compile exempted details and work with industry to develop feasible details for use in future revisions to the program. A list of currently exempted details is available at: energystar.gov/slabedge.",null,null,null,null,null,"All","Required","Footnote 20 - 3.4"]
[null,null,"3.5 For elevated concrete slabs in CZ 4-8 (i.e., podiums and projected balconies, but not intermediate slab floor edges) 100% of the slab edge insulated to ≥ R-5. For podiums, insulation must be installed for the full height of the podium wall. Alternatives in Footnote 21 21",null,null,"-",null,null,"All","Required","Checklist"]
[null,null,"Footnote 21. For projected balconies, install a minimum of R-5 slab edge insulation to provide a thermal break between conditioned space and the unconditioned projected balcony slab. Alternatively, a UA calculation for the wall assembly that accounts for this uninsulated projected slab must be performed to demonstrate compliance with Item 1.2. For the purpose of this UA calculation, the area of the wall that is uninsulated due to the projected balcony is required to be calculated as 400% of that actual area. For example, for a projected balcony that is 20 feet wide, and has a thickness of 1 foot, the area to be used in the UA calculation is 80 ft2 instead of 20 ft2. The distance the balcony projects from the building is not used in this calculation.",null,null,null,null,null,"All","Required","Footnote 21 - 3.5"]
[null,null,"3.6 For elevated concrete slabs in CZ 4-8 (i.e., podiums, but not intermediate floor slabs), floor insulation meets the U-factor specified in Table 502.1.2 of the 2009 IECC for Group R when dwelling units are above the slab, and for ‘All Other’ when common space is above the slab 22",null,null,"-",null,null,"All","Required","Checklist"]
[null,null,"Footnote 22. Whether insulating from above or below the slab, thermal breaks must be accounted for when determining compliance with floor U-factors. Where structural columns cause a discontinuity in the installed floor insulation, the UA calculation for the floor assembly must account for this uninsulated area of the floor. For the purpose of this UA calculation, the area of the floor that is uninsulated due to the structural columns is required to be calculated as 400% of that actual area. For example, for a 4’x4’ column, the area to be used in the UA calculation is 64 ft2 instead of 16 ft2. The height of the column is not used in this calculation. Alternatively, if the structural column is insulated for a minimum of 4 vertical feet, the modification to the UA calculation is not required, and the U-value of the column insulation shall be associated with the uninsulated area of the floor due to the column.",null,null,null,null,null,"All","Required","Footnote 22 - 3.6"]
[null,null,"3.7 At above-grade walls and rim / band joists separating conditioned from unconditioned space, one of the following options used: 23",null,null,null,null,null,"All","Required","Checklist"]
[null,null,"Footnote 23. Item 3.7 is applicable to walls that are adjacent to other buildings or adjacent to unconditioned spaces within the building. Mass walls utilized as the thermal mass component of a passive solar design (e.g., a Trombe wall) are exempt from this Item. To be eligible for this exemption, the passive solar design shall be comprised of the following five components: an aperture or collector, an absorber, thermal mass, a distribution system, and a control system. For more information, see:  energy.gov/sites/prod/files/guide_to_passive_solar_home_design.pdf.\nMass walls that are not part of a passive solar design (e.g., CMU block or log home enclosure) shall either utilize the strategies outlined in Item 3.7 or the pathway in the assembly with the least thermal resistance, as determined using a method consistent with the 2013 ASHRAE Handbook of Fundamentals, shall provide ≥ 50% of the applicable assembly resistance, defined as the reciprocal of the mass wall equivalent U-factor in the 2009 IECC Table 502.1.2. Documentation identifying the pathway with the least thermal resistance and its resistance value shall be collected by the Rater and any Builder Verified or Rater Verified box under Item 3.7 shall be checked. ",null,null,null,null,null,"All","Required","Footnote 23 - 3.7"]
[null,null," 3.7.1 Continuous rigid insulation, insulated siding, or combination of the two is ≥ R-3 in CZ 1-4; ≥ R-5 in CZ 5-8 24, 25, 26, 27; OR;",null,null,"-",null,null,"All","Required","Checklist"]
[null,null,"Footnote 24. Up to 10% of the total exterior wall surface area is exempted from the reduced thermal bridging requirements to accommodate intentional designed details (e.g., architectural details such as thermal fins, wing walls, brick returns, stone window sills, metal panels, or masonry fireplaces; structural details, such as fasteners (e.g., shelf angles, metal clips, z-girts, brick ties), projected balconies, and service openings (e.g., PTACs), but not steel columns or wall area occupied by intermediate floors). It shall be apparent to the Rater that the exempted areas are intentional designed details or the exempted area shall be documented in a plan provided by the builder, architect, or engineer. The entire area of the wall area that is bypassed by the fastener must be used in the calculation. The Rater need not evaluate the necessity of the designed detail to certify the project.",null,null,null,null,null,"All","Required","Footnote 24 - 3.7.1"]
[null,null,"Footnote 25. If used, insulated siding shall be attached directly over a water-resistive barrier and sheathing. In addition, it shall provide the required R-value as demonstrated through either testing in accordance with ASTM C 1363 or by attaining the required R-value at its minimum thickness. Insulated sheathing rated for water protection can be used as a water resistant barrier if all seams are taped and sealed. If non-insulated structural sheathing is used at corners, the advanced framing details listed in Item 3.7.3 shall be met for those wall sections.",null,null,null,null,null,"All","Required","Footnote 25 - 3.7.1"]
[null,null,"Footnote 26. Steel framing shall meet the reduced thermal bridging requirements by complying with Item 3.7.1 of the Checklist.",null,null,null,null,null,"All","Required","Footnote 26 - 3.7.1"]
[null,null,"Footnote 27. In a building undergoing a gut rehabilitation, continuous interior insulation may be used in lieu of continuous exterior rigid insulation or insulated siding.",null,null,null,null,null,"All","Required","Footnote 27 - 3.7.1"]
[null,null," 3.7.2 Structural Insulated Panels OR; Insulated Concrete Forms OR; Double-wall framing OR; 24, 28",null,null,"-",null,null,"All","Required","Checklist"]
[null,null,"Footnote 24. Up to 10% of the total exterior wall surface area is exempted from the reduced thermal bridging requirements to accommodate intentional designed details (e.g., architectural details such as thermal fins, wing walls, brick returns, stone window sills, metal panels, or masonry fireplaces; structural details, such as fasteners (e.g., shelf angles, metal clips, z-girts, brick ties), projected balconies, and service openings (e.g., PTACs), but not steel columns or wall area occupied by intermediate floors). It shall be apparent to the Rater that the exempted areas are intentional designed details or the exempted area shall be documented in a plan provided by the builder, architect, or engineer. The entire area of the wall area that is bypassed by the fastener must be used in the calculation. The Rater need not evaluate the necessity of the designed detail to certify the project.",null,null,null,null,null,"All","Required","Footnote 24 - 3.7.2"]
[null,null,"Footnote 28. Double-wall framing is defined as any framing method that ensures a continuous layer of insulation covering the studs to at least the R-value required in Item 3.7.1 of the Checklist, such as offset double-stud walls, aligned double-stud walls with continuous insulation between the adjacent stud faces, or single-stud walls with 2x2 or 2x3 cross-framing. In all cases, insulation shall fill the entire wall cavity from the interior to exterior sheathing except at windows, doors and other penetrations.",null,null,null,null,null,"All","Required","Footnote 28 - 3.7.2"]
[null,null," 3.7.3 Option for CZ 1-3 OR buildings ≤ 3 stories: ‘advanced framing’ details including all of the Items below: 29",null,null,null,null,null,"All","Required","Checklist"]
[null,null,"Footnote 29. Rim / band joists are exempt from this requirement. All ‘advanced framing’ details shall be met except where the builder, architect, or engineer provides a framing plan that encompasses the details in question, indicating that structural members are required at these locations and including the rationale for these members (e.g., full-depth solid framing is required at wall corners or interior / exterior wall intersections for shear strength, a full-depth solid header is required above a window to transfer load to jacks studs, additional jack studs are required to support transferred loads, additional cripple studs are required to maintain on-center spacing, or stud spacing must be reduced to support multiple stories in a multifamily building). The Rater shall retain a copy of the detail and rationale for their records, but need not evaluate the rationale to certify the building. ",null,null,null,null,null,"All","Required","Footnote 29 - 3.7.3"]
[null,null,"  3.7.3a Corners insulated ≥ R-6 to edge, 30 AND;",null,null,"-",null,null,"All","Required","Checklist"]
[null,null,"Footnote 30. All exterior corners shall be constructed to allow access for the installation of ≥ R-6 insulation that extends to the exterior wall sheathing. Examples of compliance options include standard-density insulation with alternative framing techniques, such as using three studs per corner, or high-density insulation (e.g., spray foam) with standard framing techniques.",null,null,null,null,null,"All","Required","Footnote 30 - 3.7.3a"]
[null,null,"  3.7.3b Headers above windows & doors insulated ≥ R-3 for 2x4 framing or equivalent cavity width, and ≥ R-5 for all other assemblies (e.g., with 2x6 framing), 31 AND;",null,null,"-",null,null,"All","Required","Checklist"]
[null,null,"Footnote 31. Compliance options include continuous rigid insulation sheathing, SIP headers, other prefabricated insulated headers, single-member or two-member headers with insulation either in between or on one side, or an equivalent assembly. R-value requirement refers to manufacturer’s nominal insulation value.",null,null,null,null,null,"All","Required","Footnote 31 - 3.7.3b"]
[null,null,"  3.7.3c Interior / exterior wall intersections insulated to same R-value as rest of exterior wall 32",null,null,"-",null,null,"All","Required","Checklist"]
[null,null,"Footnote 32. Insulation shall run behind interior / exterior wall intersections using ladder blocking, full length 2x6 or 1x6 furring behind the first partition stud, drywall clips, or other equivalent alternative.",null,null,null,null,null,"All","Required","Footnote 32 - 3.7.3c"]
[null,null,"4. Air Sealing (Unless otherwise noted below, “sealed” indicates the use of caulk, foam, or equivalent material)",null,null,null,null,null,"All","Required","Section Header"]
[null,null,"4.1 Ducts, flues, shafts, plumbing, piping, wiring, exhaust fans, & other penetrations to unconditioned space sealed, with blocking / flashing as needed",null,null,"-",null,"-","All","Required","Checklist"]
[null,null,"4.2 Recessed lighting fixtures adjacent to unconditioned space ICAT labeled and gasketed. Also, if in insulated ceiling without attic above, exterior surface of fixture insulated to ≥ R-10 in CZ 4-8",null,null,"-",null,null,"All","Required","Checklist"]
[null,null,"4.3 Continuous top plate or blocking is at top of walls adjoining unconditioned space including at balloon-framed parapets, and sealed",null,null,"-",null,null,"All","Required","Checklist"]
[null,null,"4.4 Drywall sealed to top plate at all unconditioned attic / wall interfaces using caulk, foam, drywall adhesive (but not other construction adhesives), or equivalent material. Either apply sealant directly between drywall and top plate or to the seam between the two from the attic above",null,null,"-",null,null,"All","Required","Checklist"]
[null,null,"4.5 Rough opening around windows & exterior doors sealed 33",null,null,"-",null,"-","All","Required","Checklist"]
[null,null,"Footnote 33. In Climate Zones 1 through 3, a continuous stucco cladding system sealed to windows and doors is permitted to be used in lieu of sealing rough openings with caulk or foam.",null,null,null,null,null,"All","Required","Footnote 33 - 4.5"]
[null,null,"4.6 Assemblies that separate attached garages from occupiable space sealed and, also, an air barrier installed, sealed, and aligned with these assemblies",null,null,"-",null,null,"All","Required","Checklist"]
[null,null,"4.7 Doors adjacent to unconditioned space (e.g., attics, garages, basements) or ambient conditions made substantially air-tight with doorsweep and weatherstripping or equivalent gasket",null,null,"-",null,null,"All","Required","Checklist"]
[null,null,"4.8 Attic access panels, roof hatches and drop-down stairs are gasketed (i.e., not caulked) or equipped with durable covers that are gasketed 18",null,null,"-",null,null,"All","Required","Checklist"]
[null,null,"Footnote 18. Examples of durable covers include, but are not limited to, pre-fabricated covers with integral insulation, rigid foam adhered to cover with adhesive, or batt insulation mechanically fastened to the cover (e.g., using bolts, metal wire, or metal strapping. Low-slope roof hatch covers to be insulated to R-5 minimum.",null,null,null,null,null,"All","Required","Footnote 18 - 4.8"]
[null,null,"The following items must be additionally verified in dwelling units, to reduce air leakage between conditioned spaces.",null,null,"-",null,null,"All","Required","Section Details"]
[null,null,"4.9 Doors serving as a unit entrance from a corridor / stairwell made substantially air-tight with doorsweep and weatherstripping or equivalent gasket",null,null,"-",null,null,"All","Required","Checklist"]
[null,null,"4.10 Rater-measured compartmentalization is no greater than 0.30 CFM50 per square feet of dwelling unit enclosure area, following procedures in ANSI / RESNET / ICC Std. 380",null,"-","-",null,null,"All","Required","Checklist"]
[null,null," 4.10.1 For dwelling units with forced air distribution systems without ducted returns and located in a closet adjacent to unconditioned space, the Rater-measured pressure difference between the space containing the air handler and the conditioned space during the compartmentalization test is no greater than 5 Pa 34",null,"-","-",null,null,"All","Required","Checklist"]
[null,null,"Footnote 34. A ‘ducted return’ is defined as a continuous duct made of sheet metal, duct board, or flexible duct that connects one or more return grilles to the return-side inlet of the air handler. Any other approach to convey air from return or transfer grille(s) to the air handler, such as the use of building cavities, does not constitute a ‘ducted return’.",null,null,null,null,null,"All","Required","Footnote 34 - 4.10.1"]
[null,null,"HVAC System 35 (HVAC Design Report Item # indicated in parenthesis) ",null,null,null,null,null,"All","Required","Section Header"]
[null,null,"Footnote 35. This section of the Checklist is designed to meet the requirements of ASHRAE 62.1-2010 / 2013, ASHRAE 62.2-2010 / 2013, and ANSI / ACCA’s 5 QI-2015 protocol, thereby improving the performance of HVAC equipment in new multifamily buildings when compared to multifamily buildings built to minimum code. However, these features alone cannot prevent all ventilation, indoor air quality, and HVAC problems, (e.g., those caused by a lack of maintenance or by occupant behavior). Therefore, this Checklist is not a guarantee of proper ventilation, indoor air quality, or HVAC performance. ",null,null,null,null,null,"All","Required","Footnote 35 - HVAC System"]
[null,null,"5. Heating & Cooling Equipment ",null,null,null,null,null,"All","Required","Section Header"]
[null,null,"5.1 HVAC manufacturer & model number on installed equipment matches either of the following (check box): 36\n\n National HVAC Design Report           Written approval received from designer",null,"-","-",null,null,"All","Required","Checklist"]
[null,null,"Footnote 36. If installed equipment does not match the National HVAC Design Report, then prior to certification the Rater shall obtain written approval from the designer (e.g., email, updated National HVAC Design Report) confirming that the installed equipment meets the requirements of the National HVAC Design Report. In cases where the condenser unit is installed after the time of inspection by the Rater, the HVAC manufacturer and model numbers on installed equipment can be documented through the use of photographs provided by the Functional Testing Agent after installation is complete.",null,null,null,null,null,"All","Required","Footnote 36 - 5.1"]
[null,null,"5.2 Prescriptive Path: Heating and cooling equipment serving dwelling units and common spaces meet the efficiency levels specified in the Exhibit X. Electric resistance heating is not installed in dwelling units",null,"-","-",null,null,"Prescriptive","Required","Checklist"]
[null,null,"5.3 ERI Path: Heating and cooling equipment serving common spaces, but not serving dwelling units, meet the efficiency levels specified in the Exhibit X. See Exhibit X for restrictions on electric resistance heating",null,"-","-",null,null,"ERI","Required","Checklist"]
[null,null,"5.4 External static pressure measured by Rater at contractor-provided test locations and documented below: 37\n\nReturn-Side External Static Pressure: ________IWC\nSupply-Side External Static Pressure: __________IWC",null,"-","-",null,null,"All","Required","Checklist"]
[null,null,"Footnote 37. The Rater shall measure and record the external static pressure in the return-side and supply-side of the system using the contractor-provided test locations. However, at this time, the Rater need not assess whether these values are within a specific range to certify the dwelling unit.",null,null,null,null,null,"All","Required","Footnote 37 - 5.4"]
[null,null,"5.5 National HVAC Functional Testing Checklist(s) collected prior to certification, with all HVAC systems in the building / project fully documented. Exception: Where credentialed HVAC Contractor(s) are completing the National HVAC Functional Testing Checklist, the checklist is not required to be collected 38",null,"-","-",null,null,"All","Required","Checklist"]
[null,null,"Footnote 38. Functional Testing Agents must be a Certified Commissioning Professional (CCP), a Certified Building Commissioning Professional (CBCP), a Building Commissioning Professional (BCxP, formerly the Commissioning Process Management Professional (CPMP)), a NEBB Certified Technician (BSC CxCT) or Certified Professional (BSC CP or CxPP), a representative of the Original Equipment Manufacturer (OEM), or a contractor credentialed by an HVAC Quality Installation Training and Oversight Organization (H­QUITO), if not completing Sections 6 and higher. Functional Testing Agents may not be the installing contractor unless they are a credentialed contractor. An explanation of the credentialing process and links to H-QUITOs, which maintain lists of credentialed contractors, can be found at energystar.gov/credentialedhvac. A directory of other FT Agents can be found at energystar.gov/mfdirectory. ",null,null,null,null,null,"All","Required","Footnote 38 - 5.5"]
[null,null,"5.6 Rater has verified that Functional Testing Agent(s) (“FT Agent(s)”) hold credentials required to complete the National HVAC Functional Testing Checklist, and are listed on the appropriate online directory 38\n\nCredential: ______________________ “FT Agent” Company Name(s): _______________________",null,"-","-",null,null,"All","Required","Checklist"]
[null,null,"Footnote 38. Functional Testing Agents must be a Certified Commissioning Professional (CCP), a Certified Building Commissioning Professional (CBCP), a Building Commissioning Professional (BCxP, formerly the Commissioning Process Management Professional (CPMP)), a NEBB Certified Technician (BSC CxCT) or Certified Professional (BSC CP or CxPP), a representative of the Original Equipment Manufacturer (OEM), or a contractor credentialed by an HVAC Quality Installation Training and Oversight Organization (H­QUITO), if not completing Sections 6 and higher. Functional Testing Agents may not be the installing contractor unless they are a credentialed contractor. An explanation of the credentialing process and links to H-QUITOs, which maintain lists of credentialed contractors, can be found at energystar.gov/credentialedhvac. A directory of other FT Agents can be found at energystar.gov/mfdirectory. ",null,null,null,null,null,"All","Required","Footnote 38 - 5.6"]
[null,null,"Equipment Controls ",null,null,null,null,null,"All","Required","Section Details"]
[null,null,"5.7 All heating and cooling systems serving a dwelling unit have thermostatic controls within the dwelling unit which are not located on exterior walls",null,"-","-",null,null,"All","Required","Checklist"]
[null,null," 5.7.1 Prescriptive Path: Dwelling unit thermostats are programmable",null,"-","-",null,null,"Prescriptive","Required","Checklist"]
[null,null,"5.8 Stair and elevator shaft vents equipped with motorized dampers that are capable of being automatically closed during normal building operation and are interlocked to open as required by fire and smoke detection systems. Dampers are verified to be closed at the time of inspection",null,"-",null,null,null,"All","Required","Checklist"]
[null,null,"5.9 Freeze protection systems, such as heat tracing of piping and heat exchangers, including self-regulating heat tracing, and garage / plenum heaters include automatic controls that are verified to shut off the systems when pipe wall or garage / plenum temperatures are above 40°F",null,"-",null,null,null,"All","Required","Checklist"]
[null,null," 5.9.1 Where heat tracing is specified for freeze-protection, controls must be based on pipe wall temperature and a minimum of R-3 pipe insulation is also required",null,"-",null,null,null,"All","Required","Checklist"]
[null,null,"5.10 Snow- and ice-melting systems include automatic controls that are verified to shut off the systems when the pavement temperature is above 50°F and no precipitation is falling, and an automatic or manual control is installed that is verified to shut off system when the outdoor temperature is above 40°F, so that the potential for snow or ice accumulation is negligible",null,"-",null,null,null,"All","Required","Checklist"]
[null,null,"Hydronic Distribution ",null,null,null,null,null,"All","Required","Section Header"]
[null,null,"5.11 For hydronic distribution systems, all terminal heating and cooling distribution equipment are separated from the riser or distribution loop by a control valve or terminal distribution pump, so that heated or cooled fluid is not delivered to the dwelling unit distribution equipment when there is no call from the thermostat",null,"-",null,null,null,"All","Required","Checklist"]
[null,null,"5.12 Terminal units in hydronic distribution systems are equipped with pressure independent balancing valves or pressure independent control valves",null,"-",null,null,null,"All","Required","Checklist"]
[null,null,"5.13 Piping of a heating or cooling system is insulated in accordance with Item 4.40 on the National HVAC Design Report, including where passing through planks or any other penetrations",null,"-",null,null,null,"All","Required","Checklist"]
[null,null,"5.14 For circulating pumps serving hydronic heating or cooling systems with three-phase motors, 1 horsepower or larger, motors meet or exceed efficiency standards for NEMA Premium™ motors. If 5 horsepower or larger, also specified with variable frequency drives",null,"-",null,null,null,"All","Required","Checklist"]
[null,null,"6. Duct Quality Installation - Applies to Heating, Cooling, Ventilation, Exhaust, & Pressure Balancing Ducts, Unless Noted in Footnote ",null,null,null,null,null,"All","Required","Section Header"]
[null,null,"6.1 Ductwork installed without kinks, sharp bends, compressions, or excessive coiled flexible ductwork 40",null,"-","-",null,null,"All","Required","Checklist"]
[null,null,"Footnote 40. Kinks are to be avoided and are caused when ducts are bent across sharp corners such as framing members. Sharp bends are to be avoided and occur when the radius of the turn in the duct is less than one duct diameter. Compression is to be avoided and occurs when flexible ducts in unconditioned space are installed in cavities smaller than the outer duct diameter and ducts in conditioned space are installed in cavities smaller than inner duct diameter. Ducts shall not include coils or loops except to the extent needed for acoustical control.",null,null,null,null,null,"All","Required","Footnote 40 - 6.1"]
[null,null,"6.2 Bedrooms with a design supply airflow ≥ 150 CFM (per Item 5.2 on the National HVAC Design Report) pressure-balanced (e.g., using transfer grilles, jump ducts, dedicated return ducts, undercut doors) to achieve a Rater-measured pressure differential ≥ -5 Pa and ≤ +5 Pa with respect to the main body of the dwelling unit when all air handlers are operating. See Footnote 41 for test configuration 41",null,"-","-",null,null,"All","Required","Checklist"]
[null,null,"Footnote 41. Item 6.2 does not apply to ventilation ducts, exhaust ducts, or non-ducted systems. For an HVAC system with a multi-speed fan, the highest design fan speed shall be used when verifying this requirement. When verifying this requirement, doors separating bedrooms from the main body of the dwelling unit (e.g., a door between a bedroom and a hallway) shall be closed and doors to rooms that can only be entered from the bedroom (e.g., a closet, a bathroom) shall be open. The Rater-measured pressure shall be rounded to the nearest whole number to assess compliance.",null,null,null,null,null,"All","Required","Footnote 41 - 6.2"]
[null,null,"6.3 All supply and return ducts in unconditioned space, including connections to trunk ducts, are insulated to ≥ R-6 42",null,"-","-",null,null,"All","Required","Checklist"]
[null,null,"Footnote 42. Item 6.3 does not apply to ducts that are a part of local mechanical exhaust or exhaust-only dwelling-unit mechanical ventilation systems. EPA recommends, but does not require, that all metal ductwork not encompassed by Section 6 (e.g., exhaust ducts, duct boots, ducts in conditioned space) also be insulated and that insulation be sealed to duct boots to prevent condensation.",null,null,null,null,null,"All","Required","Footnote 42 - 6.3"]
[null,null," 6.3.1 Prescriptive Path: Dwelling unit ductwork meets the location and insulation requirements specified in the ENERGY STAR Multifamily Reference Design",null,"-","-",null,null,"Prescriptive","Required","Checklist"]
[null,null,"6.4 Rater-measured total duct leakage in dwelling units meets one of the following two options: 43",null,null,null,null,null,"All","Required","Checklist"]
[null,null,"Footnote 43. Item 6.4 and 6.5 only apply to heating, cooling, and balanced ventilation ducts that only serve one dwelling unit. Duct leakage testing is not required if the ducts and air handler are in conditioned space and the total supply duct length of the system, including all supply trunks and branches, is ≤ 10 ft. Duct leakage shall be determined and documented by a Rater using the same version of ANSI / RESNET / ICC Std. 380 that is utilized by RESNET for HERS ratings. Leakage limits shall be assessed on a per-system, rather than per-dwelling unit, basis. For balanced ventilation ducts that are not connected to space heating or cooling systems, a Rater is permitted to visually verify, in lieu of duct leakage testing, that all seams and connections are sealed with mastic or metal tape and all duct boots are sealed to floor, wall, or ceiling using caulk, foam, or mastic tape.",null,null,null,null,null,"All","Required","Footnote 43 - 6.4"]
[null,null," 6.4.1 Rough-in: Tested per allowances below, with air handler & all ducts, building cavities used as ducts, & duct boots installed. In addition, all duct boots sealed to finished surface, Rater-verified at final 44\n\nNo ducted returns 34: The greater of ≤ 3 CFM25 per 100 sq. ft. of CFA or ≤ 30 CFM. Additionally, the Rater-measured pressure difference between the space containing the air handler and the conditioned space, with the air handler running at high speed, is ≤ 5 Pa. For systems > 1 ton, increase by 1 Pa per half ton\n\nOne or two ducted returns 34: The greater of ≤ 4 CFM25 per 100 sq. ft. of CFA or ≤ 40 CFM\n\nThree or more ducted returns 34 : The greater of ≤ 6 CFM25 per 100 sq. ft. of CFA or ≤ 60 CFM",null,"-","-",null,null,"All","Required","Checklist"]
[null,null,"Footnote 34. A ‘ducted return’ is defined as a continuous duct made of sheet metal, duct board, or flexible duct that connects one or more return grilles to the return-side inlet of the air handler. Any other approach to convey air from return or transfer grille(s) to the air handler, such as the use of building cavities, does not constitute a ‘ducted return’.",null,null,null,null,null,"All","Required","Footnote 34 - 6.4.1"]
[null,null,"Footnote 44. Cabinets (e.g., kitchen, bath, multimedia) or ducts that connect duct boots to toe-kick registers are not required to be in place during the ‘rough-in’ test.",null,null,null,null,null,"All","Required","Footnote 44 - 6.4.1"]
[null,null," 6.4.2 Final: Tested per allowances below, with the air handler & all ducts, building cavities used as ducts, duct boots, & register grilles atop the finished surface (e.g., drywall, floor) installed 45\n\nNo ducted returns 34: The greater of ≤ 6 CFM25 per 100 sq. ft. of CFA or ≤ 60 CFM. Additionally, the Rater-measured pressure difference between the space containing the air handler and the conditioned space, with the air handler running at high speed, is ≤ 5 Pa. For systems > 1 ton, increase by 1 Pa per half ton\n\nOne or two ducted returns 34: The greater of ≤ 8 CFM25 per 100 sq. ft. of CFA or ≤ 80 CFM\n\nThree or more ducted returns 34 : The greater of ≤ 12 CFM25 per 100 sq. ft. of CFA or ≤ 120 CFM",null,"-","-",null,null,"All","Required","Checklist"]
[null,null,"Footnote 34. A ‘ducted return’ is defined as a continuous duct made of sheet metal, duct board, or flexible duct that connects one or more return grilles to the return-side inlet of the air handler. Any other approach to convey air from return or transfer grille(s) to the air handler, such as the use of building cavities, does not constitute a ‘ducted return’.",null,null,null,null,null,"All","Required","Footnote 34 - 6.4.2"]
[null,null,"Footnote 45. Registers atop carpets are permitted to be removed and the face of the duct boot temporarily sealed during testing. In such cases, the Rater shall visually verify that the boot has been durably sealed to the subfloor (e.g., using duct mastic or caulk) to prevent leakage during normal operation.",null,null,null,null,null,"All","Required","Footnote 45 - 6.4.2"]
[null,null,"6.5 Townhouses only: Rater-measured duct leakage to outdoors the greater of ≤ 4 CFM25 per 100 sq. ft. of CFA or ≤ 40 CFM25 43, 46",null,"-","-",null,null,"All","Required","Checklist"]
[null,null,"Footnote 43. Item 6.4 and 6.5 only apply to heating, cooling, and balanced ventilation ducts that only serve one dwelling unit. Duct leakage testing is not required if the ducts and air handler are in conditioned space and the total supply duct length of the system, including all supply trunks and branches, is ≤ 10 ft. Duct leakage shall be determined and documented by a Rater using the same version of ANSI / RESNET / ICC Std. 380 that is utilized by RESNET for HERS ratings. Leakage limits shall be assessed on a per-system, rather than per-dwelling unit, basis. For balanced ventilation ducts that are not connected to space heating or cooling systems, a Rater is permitted to visually verify, in lieu of duct leakage testing, that all seams and connections are sealed with mastic or metal tape and all duct boots are sealed to floor, wall, or ceiling using caulk, foam, or mastic tape.",null,null,null,null,null,"All","Required","Footnote 43 - 6.5"]
[null,null,"Footnote 46. Testing of duct leakage to the outside can be waived if all ducts & air handling equipment are located within the townhouse’s air and thermal barriers AND infiltration does not exceed the following: CZ 1-2: 3 ACH50; CZ 3-4: 2.5 ACH50; CZ 5-7: 2 ACH50; CZ 8: 1.5 ACH50. Alternatively, testing of duct leakage to outside can be waived if total duct leakage is ≤ 4 CFM25 per 100 sq. ft. of CFA or ≤ 40 CFM25, whichever is larger.",null,null,null,null,null,"All","Required","Footnote 46 - 6.5"]
[null,null,"6.6 Common Space: Supply, return, and exhaust ductwork and all plenums are sealed at all transverse joints, longitudinal seams, and duct wall penetrations with mastic or mastic tape",null,"-","-",null,null,"All","Required","Checklist"]
[null,null,"6.7 Central exhaust systems that serve four or more dwelling units tested for duct leakage, where the leakage at rough-in (e.g., including trunks, branches, and take-offs) does not exceed 25% of exhaust fan flow or 30% of exhaust fan flow at final (e.g., inclusive of all ductwork between the fan and the grilles) 47",null,"-","-",null,null,"All","Required","Checklist"]
[null,null,"Footnote 47. Exhaust fan flow shall be the lesser of the rated fan flow and at rough-in, 133% of the sum of the design airflow of the dwelling units that are exhausted by that central fan or at final, 143% of the sum of the design airflow of the dwelling units that are exhausted by that central fan. Duct leakage shall be determined using the procedures in the RESNET Guidelines for Multifamily Energy Ratings. No less than 50% of the ductwork, based on total linear feet, shall be tested. Where portions of ductwork are tested, rather than entire risers, the percentage of leakage allowed is based upon the design airflow of the dwelling units that are exhausted in that portion. Where failures occur, the percentage of total linear feet required to be tested increases by 10%. Where aerosol-based sealant is used on some but not all risers, the ductwork selected for testing must be representative of all sealing strategies used.",null,null,null,null,null,"All","Required","Footnote 47 - 6.7"]
[null,null,"7. Dwelling-Unit & Common Space Mechanical Ventilation System ",null,null,null,null,null,"All","Required","Section Header"]
[null,null,"7.1 Ventilation manufacturer & model number on installed equipment matches either of the following (check box): 36\n\n National HVAC Design Report           Written approval received from designer",null,"-","-",null,"-","All","Required","Checklist"]
[null,null,"Footnote 36. If installed equipment does not match the National HVAC Design Report, then prior to certification the Rater shall obtain written approval from the designer (e.g., email, updated National HVAC Design Report) confirming that the installed equipment meets the requirements of the National HVAC Design Report. In cases where the condenser unit is installed after the time of inspection by the Rater, the HVAC manufacturer and model numbers on installed equipment can be documented through the use of photographs provided by the Functional Testing Agent after installation is complete.",null,null,null,null,null,"All","Required","Footnote 36 - 7.1"]
[null,null,"7.2 Rater-measured ventilation rate is within either ± 15 CFM or ± 15% of dwelling unit design values (2.7) 48",null,"-","-",null,"-","All","Required","Checklist"]
[null,null,"Footnote 48. The dwelling-unit ventilation air flow and local exhaust air flows shall be determined and documented by a Rater using the same version of ANSI / RESNET / ICC Std. 380 that is utilized by RESNET for HERS ratings.",null,null,null,null,null,"All","Required","Footnote 48 - 7.2"]
[null,null,"7.3 Measured ventilation rate is within either ± 15 CFM or ± 15 % of common space design values (2.9) 49",null,"-","-",null,"-","All","Required","Checklist"]
[null,null,"Footnote 49. While common spaces are not under the scope of ANSI / RESNET / ICC Std. 380, the ventilation air flow and exhaust air flows in common spaces shall be measured in accordance with the procedures in ANSI / RESNET / ICC Std. 380. The air flows may be measured by a Rater or a certified air-balancing contractor under the observation of a Rater. Where a system provides supply air that is a mix of return and outdoor air, and not 100% outdoor air, the outdoor air intake airflow shall be measured and compared to the total supply airflow to determine percentage of outdoor air supplied. This percentage shall be applied to airflow measured at supply registers to determine outdoor air provided for comparison to design airflow rates.",null,null,null,null,null,"All","Required","Footnote 49 - 7.3"]
[null,null,"7.4 No outdoor air intakes connected to return side of the dwelling unit HVAC system, unless controls are installed to operate intermittently & automatically based on a timer and to restrict intake when not in use (e.g., motorized damper)",null,"-","-",null,"-","All","Required","Checklist"]
[null,null,"7.5 If located in the dwelling unit, system fan rated ≤ 3 sones if intermittent and ≤ 2 sone if continuous, or exempted 50",null,"-","-",null,"-","All","Required","Checklist"]
[null,null,"Footnote 50. Dwelling-unit mechanical ventilation fans shall be rated for sound at no less than the airflow rate in Item 2.7 of the National HVAC Design Report. Fans exempted from this requirement include HVAC air handler fans, remote-mounted fans, and intermittent fans rated ≥ 400 CFM. To be considered for this exemption, a remote-mounted fan must be mounted outside the habitable spaces, bathrooms, toilets, and hallways and there shall be ≥ 4 ft. ductwork between the fan and intake grill. Per ASHRAE 62.2-2010, habitable spaces are intended for continual human occupancy; such space generally includes areas used for living, sleeping, dining, and cooking but does not generally include bathrooms, toilets, hallways, storage areas, closets, or utility rooms.",null,null,null,null,null,"All","Required","Footnote 50 - 7.5"]
[null,null,"7.6 If system utilizes the dwelling unit HVAC fan, then the specified fan type is ECM / ICM (4.12), or the controls will reduce the standalone ventilation run-time by accounting for hours when the HVAC system is heating or cooling",null,"-","-",null,null,"All","Required","Checklist"]
[null,null,"7.7 In-unit bathroom fans or in-line fans are ENERGY STAR certified if used as part of the dwelling-unit mechanical ventilation system 51",null,"-","-",null,null,"All","Required","Checklist"]
[null,null,"Footnote 51. Bathroom fans with a rated flow rate ≥ 500 CFM are exempted from the requirement to be ENERGY STAR certified.",null,null,null,null,null,"All","Required","Footnote 51 - 7.7"]
[null,null,"7.8 If central exhaust fans, ≤ 1 HP, are specified as part of the dwelling-unit mechanical ventilation system, then they are direct-drive, ECM, with variable speed controllers. If > 1 HP, they are specified with NEMATM Premium Motors",null,"-","-",null,null,"All","Required","Checklist"]
[null,null,"7.9 Air inlet locations (Complete if ventilation air inlet locations were specified (2.22, 2.23); otherwise check “N/A”): 52, 53","-","-","-","-",null,"All","Required","Checklist"]
[null,null,"Footnote 52. Ventilation air inlets that are only visible via rooftop access are exempted from Item 7.9 and the Rater shall mark “N/A”. The outlet and inlet of balanced ventilation systems shall meet these spacing requirements unless manufacturer instructions indicate that a smaller distance may be used. However, if this occurs the manufacturer’s instructions shall be collected for documentation purposes.",null,null,null,null,null,"All","Required","Footnote 52 - 7.9"]
[null,null,"Footnote 53. Without proper maintenance, ventilation air inlet screens often become filled with debris. Therefore, EPA recommends, but does not require, that these ventilation air inlets be located so as to facilitate access and regular service by the building owner.",null,null,null,null,null,"All","Required","Footnote 53 - 7.9"]
[null,null," 7.9.1 Inlet(s) pull ventilation air directly from outdoors and not from attic, crawlspace, garage, or adjacent dwelling unit",null,"-","-",null,"-","All","Required","Checklist"]
[null,null," 7.9.2 Inlet(s) are ≥ 2 ft. above grade or roof deck; ≥ 10 ft. of stretched-string distance from known contamination sources (e.g., stack, vent, exhaust, vehicles) not exiting the roof, and ≥ 3 ft. distance from dryer exhausts and sources exiting the roof",null,"-","-",null,"-","All","Required","Checklist"]
[null,null,"8. Local Mechanical Exhaust ",null,null,null,null,null,"All","Required","Section Header"]
[null,null,"Dwelling Unit Mechanical Exhaust - In each dwelling unit kitchen and bathroom, a system is installed that exhausts directly to the outdoors and meets one of the following Rater-measured airflow and manufacturer-rated sound level standards: 48, 54",null,null,null,null,null,"All","Required","Section Details"]
[null,null,"Footnote 48. The dwelling-unit ventilation air flow and local exhaust air flows shall be determined and documented by a Rater using the same version of ANSI / RESNET / ICC Std. 380 that is utilized by RESNET for HERS ratings.",null,null,null,null,null,"All","Required","Footnote 48 - 8 DUME"]
[null,null,"Footnote 54. Continuous bathroom local mechanical exhaust fans shall be rated for sound at no less than the airflow rate in Item 8.2. Intermittent bathroom and both intermittent and continuous kitchen local mechanical exhaust fans are recommended, but not required, to be rated for sound at no less than the airflow rate in Items 8.1 and 8.2. Per ASHRAE 62.2-2010, an exhaust system is one or more fans that remove air from the building, causing outdoor air to enter by ventilation inlets or normal leakage paths through the building envelope (e.g., bath exhaust fans, range hoods, clothes dryers). Per ASHRAE 62.2-2010, a bathroom is any room containing a bathtub, shower, spa, or similar source of moisture. ",null,null,null,null,null,"All","Required","Footnote 54 - 8 DUME"]
[null,null,"Location ",null,null,null,null,null,"All","Required","Section Header"]
[null,null,"8.1 Kitchen\nAirflow\nContinuous Rate:  ≥ 5 ACH, based on kitchen volume 56, 57\nIntermittent Rate 55: ≥ 100 CFM and, if not integrated with range, also ≥ 5 ACH based on kitchen volume 56, 57, 58\n\nSound\nContinuous Rate: Recommended: ≤ 1 sone\nIntermittent Rate 55:  Recommended: ≤ 3 sones",null,"-","-",null,"-","All","Required","Checklist"]
[null,null,"Footnote 55. An intermittent mechanical exhaust system, where provided, shall be designed to operate as needed by the occupant. Control devices shall not impede occupant control in intermittent systems.",null,null,null,null,null,"All","Required","Footnote 55 - 8.1"]
[null,null,"Footnote 56. Kitchen volume shall be determined by drawing the smallest possible rectangle on the floor plan that encompasses all cabinets, pantries, islands, peninsulas, ranges / ovens, and the kitchen exhaust fan, and multiplying by the average ceiling height for this area. In addition, the continuous kitchen exhaust rate shall be ≥ 25 CFM, per 2009 IRC Table M1507.3, regardless of the rate calculated using the kitchen volume. Cabinet volume shall be included in the kitchen volume.",null,null,null,null,null,"All","Required","Footnote 56 - 8.1"]
[null,null,"Footnote 57. Alternatively, the prescriptive duct sizing requirements in Table 5.3 of ASHRAE 62.2-2010 are permitted to be used for kitchen exhaust fans based upon the rated airflow of the fan at 0.25 IWC. If the rated airflow is unknown, ≥ 6 in. smooth duct shall be used, with a rectangular to round duct transition as needed. Guidance to assist partners with these alternatives is available at energystar.gov/newhomesresources. As an alternative to Item 8.1, dwelling units are permitted to use a continuous kitchen exhaust rate of 25 CFM per 2009 IRC Table M1507.3, if they are either a) PHIUS+ or PHI certified, or b) provide both dwelling-unit ventilation and local mechanical kitchen exhaust using a balanced system, and have a Rater-verified whole-building infiltration rate ≤ 0.05 CFM50 per sq. ft. of Enclosure Area, and a Rater-verified dwelling unit compartmentalization rate ≤ 0.30 CFM50 per sq. ft. of Enclosure Area if multiple dwelling units are present in the building. ‘Enclosure Area’ is defined as the area of the surfaces that bound the volume being pressurized / depressurized during the test.",null,null,null,null,null,"All","Required","Footnote 57 - 8.1"]
[null,null,"Footnote 58. All intermittent kitchen exhaust fans must be capable of exhausting at least 100 CFM. In addition, if the fan is not part of a vented range hood or appliance-range hood combination (i.e., if the fan is not integrated with the range), then it must also be capable of exhausting ≥ 5 ACH, based on the kitchen volume.",null,null,null,null,null,"All","Required","Footnote 58 - 8.1"]
[null,null,"8.2 Bathroom\nAirflow\nContinuous Rate:  ≥ 20 CFM\nIntermittent Rate 55: ≥ 50 CFM\n\nSound\nContinuous Rate: Required: ≤ 2 sones\nIntermittent Rate 55:  Recommended: ≤ 3 sones",null,"-","-",null,"-","All","Required","Checklist"]
[null,null,"Footnote 55. An intermittent mechanical exhaust system, where provided, shall be designed to operate as needed by the occupant. Control devices shall not impede occupant control in intermittent systems.",null,null,null,null,null,"All","Required","Footnote 55 - 8.2"]
[null,null,"Common Space 2 Mechanical Exhaust ",null,null,null,null,null,"All","Required","Section Header"]
[null,null,"Footnote 2. The term ‘common space’ refers to any spaces on the property that serve a function in support of the residential part of the building that is not part of a dwelling or sleeping unit.  This includes spaces used by residents, such as corridors, stairs, lobbies, laundry rooms, exercise rooms, residential recreation rooms, or parking garages used exclusively by residents, building staff, and their guests.  This also includes offices used by building management, administration or maintenance and all special use areas located on the property to serve and support the residents such as day-care facilities, gyms, dining halls, etc.",null,null,null,null,null,"All","Required","Footnote 2 - 8 CSME"]
[null,null,"8.3 Measured ventilation rate is within either ± 15 CFM or ± 15% of design values (2c) 49",null,"-","-",null,null,"All","Required","Checklist"]
[null,null,"Footnote 49. While common spaces are not under the scope of ANSI / RESNET / ICC Std. 380, the ventilation air flow and exhaust air flows in common spaces shall be measured in accordance with the procedures in ANSI / RESNET / ICC Std. 380. The air flows may be measured by a Rater or a certified air-balancing contractor under the observation of a Rater. Where a system provides supply air that is a mix of return and outdoor air, and not 100% outdoor air, the outdoor air intake airflow shall be measured and compared to the total supply airflow to determine percentage of outdoor air supplied. This percentage shall be applied to airflow measured at supply registers to determine outdoor air provided for comparison to design airflow rates.",null,null,null,null,null,"All","Required","Footnote 49 - 8.3"]
[null,null,"8.4 Parking garage exhaust ventilation system is equipped with controls that sense CO and NO2",null,"-","-",null,null,"All","Required","Checklist"]
[null,null,"9. Filtration ",null,null,null,null,null,"All","Required","Section Header"]
[null,null,"9.1 At least one MERV 6 or higher filter installed in each dwelling unit ducted mechanical system serving an individual dwelling unit in a location that facilitates access and regular service by the occupant or building owner 59",null,"-","-",null,null,"All","Required","Checklist"]
[null,null,"Footnote 59. Based upon, ASHRAE 62.2-2010, ducted mechanical systems are those that supply air to an occupiable space with a total amount of supply ductwork exceeding 10 ft. in length and through a thermal conditioning component, except for evaporative coolers. Systems that do not meet this definition are exempt from this requirement. While filters are recommended for mini-split systems, HRV’s, and ERV’s, these systems, ducted or not, typically do not have MERV-rated filters available for use and are, therefore, also exempted under this version of the requirements. HVAC filters located in the attic shall be considered accessible to the occupant or building owner if either 1) drop-down stairs provide access to attic and a permanently installed walkway has been provided between the attic access location and the filter or 2) the filter location enables arm-length access from a portable ladder without the need to step into the attic and the ceiling height where access is provided is ≤ 12 ft.",null,null,null,null,null,"All","Required","Footnote 59 - 9.1"]
[null,null," 9.1.1 Filter access panel includes gasket or comparable sealing mechanism and fits snugly against the exposed edge of filter when closed to prevent bypass 60",null,"-","-",null,null,"All","Required","Checklist"]
[null,null,"Footnote 60. The filter media box (i.e., the component in the HVAC system that houses the filter) may be either site-fabricated by the installer or pre-fabricated by the manufacturer to meet this requirement. These requirements only apply when the filter is installed in a filter media box located in the HVAC system, not when the filter is installed flush with the return grill.",null,null,null,null,null,"All","Required","Footnote 60 - 9.1.1"]
[null,null," 9.1.2 All return air and mechanically supplied outdoor air passes through filter prior to conditioning",null,"-","-",null,null,"All","Required","Checklist"]
[null,null,"10. Combustion Appliances ",null,null,null,null,null,"All","Required","Section Header"]
[null,null,"10.1 Furnaces, boilers, and water heaters located within the building’s pressure boundary are mechanically drafted or direct-vented. If mechanically drafted, the minimum volume of combustion air required for safe operation by the manufacturer and/or code shall be met or exceeded and make-up air sources must be mechanically closed when the combustion appliance is not in operation. Alternatives in Footnote 63 61, 62, 63",null,"-","-",null,null,"All","Required","Checklist"]
[null,null,"Footnote 61. The pressure boundary is the primary enclosure boundary separating indoor and outdoor air. For example, a volume that has more leakage to outside than to conditioned space would be outside the pressure boundary.",null,null,null,null,null,"All","Required","Footnote 61 - 10.1"]
[null,null,"Footnote 62. Per the 2009 International Mechanical Code, a direct-vent appliance is one that is constructed and installed so that all air for combustion is derived from the outdoor atmosphere and all flue gases are discharged to the outside atmosphere; a mechanical draft system is a venting system designed to remove flue or vent gases by mechanical means consisting of an induced draft portion under non-positive static pressure or a forced draft portion under positive static pressure; and a natural draft system is a venting system designed to remove flue or vent gases under nonpositive static vent pressure entirely by natural draft.",null,null,null,null,null,"All","Required","Footnote 62 - 10.1"]
[null,null,"Footnote 63. Naturally drafted equipment is only allowed if located in a space outside the pressure boundary, where the envelope assemblies separating it from conditioned space are insulated and air-sealed.",null,null,null,null,null,"All","Required","Footnote 63 - 10.1"]
[null,null,"10.2 Fireplaces located within the building’s pressure boundary are direct-vented 61, 62",null,"-","-",null,null,"All","Required","Checklist"]
[null,null,"Footnote 61. The pressure boundary is the primary enclosure boundary separating indoor and outdoor air. For example, a volume that has more leakage to outside than to conditioned space would be outside the pressure boundary.",null,null,null,null,null,"All","Required","Footnote 61 - 10.2"]
[null,null,"Footnote 62. Per the 2009 International Mechanical Code, a direct-vent appliance is one that is constructed and installed so that all air for combustion is derived from the outdoor atmosphere and all flue gases are discharged to the outside atmosphere; a mechanical draft system is a venting system designed to remove flue or vent gases by mechanical means consisting of an induced draft portion under non-positive static pressure or a forced draft portion under positive static pressure; and a natural draft system is a venting system designed to remove flue or vent gases under nonpositive static vent pressure entirely by natural draft.",null,null,null,null,null,"All","Required","Footnote 62 - 10.2"]
[null,null,"10.3 No unvented combustion appliances other than cooking ranges or ovens are located inside the building’s pressure boundary. For cooking ranges and ovens, local mechanical exhaust per Checklist Item 8.1 requirements must be met 61",null,"-","-",null,null,"All","Required","Checklist"]
[null,null,"Footnote 61. The pressure boundary is the primary enclosure boundary separating indoor and outdoor air. For example, a volume that has more leakage to outside than to conditioned space would be outside the pressure boundary.",null,null,null,null,null,"All","Required","Footnote 61 - 10.3"]
[null,null,"Other ",null,null,null,null,null,"All","Required","Section Header"]
[null,null,"11. Domestic Hot Water ",null,null,null,null,null,"All","Required","Section Header"]
[null,null,"11.1 Prescriptive Path: Hot water equipment rated in EF or UEF meet the efficiency levels specified in the ENERGY STAR Multifamily Reference Design. Boilers providing hot water are ≥85% Et 64",null,"-","-",null,null,"Prescriptive","Required","Checklist"]
[null,null,"Footnote 64. Where water heater efficiency is rated in Uniform Energy Factor (UEF) rather than Energy Factor (EF), the EF may be calculated from the Uniform Energy Factor (UEF) using the RESNET EF Calculator 2017. The calculated EF must meet the efficiency levels specified in the ENERGY STAR Multifamily Reference Design.",null,null,null,null,null,"Prescriptive","Required","Footnote 64 - 11.1"]
[null,null,"11.2 ERI: Hot water equipment rated in EF or UEF serving common spaces but not dwelling units nor shared laundry meet the efficiency levels specified in the ENERGY STAR Multifamily Reference Design. Boilers providing hot water are ≥85% Et 64",null,"-","-",null,null,"ERI","Required","Checklist"]
[null,null,"Footnote 64. Where water heater efficiency is rated in Uniform Energy Factor (UEF) rather than Energy Factor (EF), the EF may be calculated from the Uniform Energy Factor (UEF) using the RESNET EF Calculator 2017. The calculated EF must meet the efficiency levels specified in the ENERGY STAR Multifamily Reference Design.",null,null,null,null,null,"ERI","Required","Footnote 64 - 11.2"]
[null,null,"11.3 For in-unit storage water heaters, AHRI Certificate confirms the presence of a heat trap",null,"-","-",null,null,"All","Required","Checklist"]
[null,null,"11.4 DHW piping is insulated with a minimum of R-3 65",null,"-",null,null,"-","All","Required","Checklist"]
[null,null,"Footnote 65. In accordance with Section 7.4.3 of ASHRAE 90.1-2016, the following DHW piping requires insulation: \na. Recirculating system piping, including the supply and return piping of a circulating tank type water heater. \nb. The first 8 feet of outlet piping of a constant-temperature nonrecirculating storage system.\nc. The first 8 feet of branch piping connecting to recirculated, heat-traced, or impedance heated piping. \nd. The inlet piping between the storage tank and a heat trap in a nonrecirculating storage system. \ne. Piping that is externally heated (such as heat trace or impedance heating.",null,null,null,null,null,"All","Required","Footnote 65 - 11.4"]
[null,null,"11.5 Rater-measured delivery temperatures at faucets and showerheads do not exceed 125°F 66",null,"-","-",null,"-","All","Required","Checklist"]
[null,null,"Footnote 66. To measure the delivery temperature, turn the hot water at a fixture completely on and place a digital thermometer in the stream of water. Observe the thermometer and when no additional rise in temperature occurs after 10 seconds, confirm this temperature does not exceed 125°F.",null,null,null,null,null,"All","Required","Footnote 66 - 11.5"]
[null,null,"12. Lighting ",null,null,null,null,null,"All","Required","Section Header"]
[null,null,"12.1 Common Space 2 Lighting Controls:",null,null,null,null,null,"All","Required","Checklist"]
[null,null,"Footnote 2. The term ‘common space’ refers to any spaces on the property that serve a function in support of the residential part of the building that is not part of a dwelling or sleeping unit.  This includes spaces used by residents, such as corridors, stairs, lobbies, laundry rooms, exercise rooms, residential recreation rooms, or parking garages used exclusively by residents, building staff, and their guests.  This also includes offices used by building management, administration or maintenance and all special use areas located on the property to serve and support the residents such as day-care facilities, gyms, dining halls, etc.",null,null,null,null,null,"All","Required","Footnote 2 - 12.1"]
[null,null," 12.1.1 ERI and Prescriptive Path: All common spaces 2 (including parking garages), except the building lobby and where automatic shutoff would endanger the safety of occupants, have occupancy sensors or automatic bi-level lighting controls installed and operation has been verified",null,"-",null,null,null,"ERI, Prescriptive","Required","Checklist"]
[null,null,"Footnote 2. The term ‘common space’ refers to any spaces on the property that serve a function in support of the residential part of the building that is not part of a dwelling or sleeping unit.  This includes spaces used by residents, such as corridors, stairs, lobbies, laundry rooms, exercise rooms, residential recreation rooms, or parking garages used exclusively by residents, building staff, and their guests.  This also includes offices used by building management, administration or maintenance and all special use areas located on the property to serve and support the residents such as day-care facilities, gyms, dining halls, etc.",null,null,null,null,null,"ERI, Prescriptive","Required","Footnote 2 - 12.1.1"]
[null,null," 12.1.2 ASHRAE path only: All common spaces 2 (including parking garages), except the building lobby, corridors, and stairwells and where automatic shutoff would endanger the safety of occupants, have occupancy sensors or automatic bi-level lighting controls installed and operation has been verified",null,"-",null,null,null,"ASHRAE","Required","Checklist"]
[null,null,"Footnote 2. The term ‘common space’ refers to any spaces on the property that serve a function in support of the residential part of the building that is not part of a dwelling or sleeping unit.  This includes spaces used by residents, such as corridors, stairs, lobbies, laundry rooms, exercise rooms, residential recreation rooms, or parking garages used exclusively by residents, building staff, and their guests.  This also includes offices used by building management, administration or maintenance and all special use areas located on the property to serve and support the residents such as day-care facilities, gyms, dining halls, etc.",null,null,null,null,null,"ASHRAE","Required","Footnote 2 - 12.1.2"]
[null,null,"12.2 Common Space 2 Lighting Power Density Maximum (except parking garages): 67",null,null,null,null,null,"All","Required","Checklist"]
[null,null,"Footnote 67. Senior housing projects can use the space-by-space allowances for ‘facilities for the visually impaired’ in ASHRAE 90.1-2016 Appendix G Table G3.7 for spaces used primarily by building residents. For example, 1.15 W/SF lighting power allowance may be used for the corridors in the baseline. To qualify for the increased allowance, the project must be designed to comply with the light levels in ANSI / IES RP-28 and must provide housing for seniors and/or people with special visual needs. Prescriptive Path dwelling unit overall in-unit lighting power density is permitted to be ≤ 1.3 W/SF, using 1.65 W/SF where lighting is not installed. ",null,null,null,null,null,"All","Required","Footnote 67 - 12.2"]
[null,null," 12.2.1 ERI and Prescriptive Path: Total specified lighting power for the combined common spaces 2 must not exceed ASHRAE 90.1-2007 allowances for those combined spaces, using the Space-by-Space or Building Area Method. See Footnote 68 for allowances 68",null,"-",null,null,null,"ERI, Prescriptive","Required","Checklist"]
[null,null,"Footnote 2. The term ‘common space’ refers to any spaces on the property that serve a function in support of the residential part of the building that is not part of a dwelling or sleeping unit.  This includes spaces used by residents, such as corridors, stairs, lobbies, laundry rooms, exercise rooms, residential recreation rooms, or parking garages used exclusively by residents, building staff, and their guests.  This also includes offices used by building management, administration or maintenance and all special use areas located on the property to serve and support the residents such as day-care facilities, gyms, dining halls, etc.",null,null,null,null,null,"ERI, Prescriptive","Required","Footnote 2 - 12.2.1"]
[null,null,"Footnote 68. Lighting power density values from ASHRAE 90.1-2007 Section 9 for Space-by-Space Method for typical common spaces in multifamily properties are shown in the table below. Projects following the Building Area method, the lighting power density is 0.7 W/ft2. For spaces not shown, refer to ASHRAE 90.1-2007 Section 9.",null,null,null,null,null,"ERI, Prescriptive","Required","Footnote 68 - 12.2.1"]
[null,null," 12.2.2 ASHRAE path only: Total specified lighting power for the combined common spaces 2 must not exceed ASHRAE 90.1-2007 allowances for those combined spaces, using the Space-by-Space or Building Area Method, by more than 20%. See Footnote 68 for allowances 68",null,"-",null,null,null,"ASHRAE","Required","Checklist"]
[null,null,"Footnote 2. The term ‘common space’ refers to any spaces on the property that serve a function in support of the residential part of the building that is not part of a dwelling or sleeping unit.  This includes spaces used by residents, such as corridors, stairs, lobbies, laundry rooms, exercise rooms, residential recreation rooms, or parking garages used exclusively by residents, building staff, and their guests.  This also includes offices used by building management, administration or maintenance and all special use areas located on the property to serve and support the residents such as day-care facilities, gyms, dining halls, etc.",null,null,null,null,null,"ASHRAE","Required","Footnote 2 - 12.2.2"]
[null,null,"Footnote 68. Lighting power density values from ASHRAE 90.1-2007 Section 9 for Space-by-Space Method for typical common spaces in multifamily properties are shown in the table below. Projects following the Building Area method, the lighting power density is 0.7 W/ft2. For spaces not shown, refer to ASHRAE 90.1-2007 Section 9.\n\nSEE TABLE IN REFERENCE TABLES TAB - Lighting Power Density",null,null,null,null,null,"ASHRAE","Required","Footnote 68 - 12.2.2"]
[null,null,"12.3 Parking garages: Lighting power density does not exceed 0.24 W/ft2",null,"-",null,null,null,"All","Required","Checklist"]
[null,null,"12.4 Exterior lighting controls: Fixtures, including parking lot fixtures, must include automatic switching on timers or photocell controls except fixtures intended for 24-hour operation, required for security, or located on dwelling unit balconies",null,"-",null,null,null,"All","Required","Checklist"]
[null,null,"12.5 ERI Path: All exterior and common space lighting fixtures meet the efficiency requirements in the ENERGY STAR Multifamily Reference Design, except fixtures located on dwelling unit balconies 69, 70",null,"-","-",null,null,"ERI","Required","Checklist"]
[null,null,"Footnote 69. This requirement applies to exterior lighting fixtures that are attached to the building, but does not apply to landscape or parking lot lighting fixtures.",null,null,null,null,null,"ERI","Required","Footnote 69 - 12.5"]
[null,null,"Footnote 70. For Prescriptive Path dwelling units, ENERGY STAR certified fixtures or light bulbs are required; however, the Rater is only responsible for verifying that the installed lighting meets the Tier I or Tier II definition specified in ANSI / RESNET / ICC Std. 301. For locations outside the dwelling unit, as an alternative to ENERGY STAR certified fixtures or light bulbs, lighting that meets the Tier I or Tier II definition specified in ANSI / RESNET / ICC Std.301 is permitted. ",null,null,null,null,null,"ERI","Required","Footnote 70 - 12.5"]
[null,null,"12.6 Prescriptive Path: All lighting fixtures (i.e., dwelling units, common spaces, and exterior) meet the efficiency requirements in the ENERGY STAR Multifamily Reference Design 69, 70",null,"-","-",null,null,"Prescriptive","Required","Checklist"]
[null,null,"Footnote 69. This requirement applies to exterior lighting fixtures that are attached to the building, but does not apply to landscape or parking lot lighting fixtures.",null,null,null,null,null,"Prescriptive","Required","Footnote 69 - 12.6"]
[null,null,"Footnote 70. For Prescriptive Path dwelling units, ENERGY STAR certified fixtures or light bulbs are required; however, the Rater is only responsible for verifying that the installed lighting meets the Tier I or Tier II definition specified in ANSI / RESNET / ICC Std. 301. For locations outside the dwelling unit, as an alternative to ENERGY STAR certified fixtures or light bulbs, lighting that meets the Tier I or Tier II definition specified in ANSI / RESNET / ICC Std.301 is permitted. ",null,null,null,null,null,"Prescriptive","Required","Footnote 70 - 12.6"]
[null,null,"12.7 Prescriptive Path: Dwelling unit overall in-unit lighting power density ≤ 0.75 W/ft2. When calculating overall lighting power density, use 1.1 W/ft2 where lighting is not installed 67",null,"-","-",null,null,"Prescriptive","Required","Checklist"]
[null,null,"Footnote 67. Senior housing projects can use the space-by-space allowances for ‘facilities for the visually impaired’ in ASHRAE 90.1-2016 Appendix G Table G3.7 for spaces used primarily by building residents. For example, 1.15 W/SF lighting power allowance may be used for the corridors in the baseline. To qualify for the increased allowance, the project must be designed to comply with the light levels in ANSI / IES RP-28 and must provide housing for seniors and/or people with special visual needs. Prescriptive Path dwelling unit overall in-unit lighting power density is permitted to be ≤ 1.3 W/SF, using 1.65 W/SF where lighting is not installed. ",null,null,null,null,null,"Prescriptive","Required","Footnote 67 - 12.7"]
[null,null,"13. Appliances, Ceiling Fans, and Plumbing Fixtures ",null,null,null,null,null,"All","Required","Section Header"]
[null,null,"13.1 Prescriptive Path: Specified appliances, ceiling fans, and plumbing fixtures in dwelling units and common spaces meet the criteria in the ENERGY STAR Multifamily Reference Design 71",null,"-","-",null,null,"Prescriptive","Required","Checklist"]
[null,null,"Footnote 71. Where an appliance type is not eligible for ENERGY STAR certification, (e.g., commercial dryers) the appliance is exempt from this requirement. Where a bathroom faucet or aerator is not eligible for WaterSense certification, (e.g., public use lavatory faucets) the fixture is exempt from this requirement.",null,null,null,null,null,"Prescriptive","Required","Footnote 71 - 13.1"]
[null,null,"13.2 ERI Path: Specified appliances, ceiling fans, and plumbing fixtures in common spaces, and not included in the ERI model, meet the criteria in the ENERGY STAR Multifamily Reference Design 71",null,"-","-",null,null,"ERI","Required","Checklist"]
[null,null,"Footnote 71. Where an appliance type is not eligible for ENERGY STAR certification, (e.g., commercial dryers) the appliance is exempt from this requirement. Where a bathroom faucet or aerator is not eligible for WaterSense certification, (e.g., public use lavatory faucets) the fixture is exempt from this requirement.",null,null,null,null,null,"ERI","Required","Footnote 71 - 13.2"]
[null,null,"13.3 Prescriptive Path: Shower compartments with multiple fixtures cannot be operated simultaneously OR the average flow rate per shower compartment must not exceed 1.75 gallons per minute, as rated at 80 psi",null,"-","-",null,null,"Prescriptive","Required","Checklist"]
[null,null,"14. Whole Building Energy Consumption Data Acquisition ",null,null,null,null,null,"All","Required","Section Header"]
[null,null,"14.1 For buildings 50,000 ft2 and larger, a strategy that enables the collection of monthly or annual building-level energy consumption data (electricity, natural gas, chilled water, steam, fuel oil, propane, etc.) has been confirmed 72",null,"-","-",null,null,"All","Required","Checklist"]
[null,null,"Footnote 72. Strategies include: an agreement with the utility companies to provide the aggregated building-level data, in a spreadsheet format or directly through Portfolio Manager; OR evidence that securing signed utility data release forms will be a mandatory component of all lease agreements; OR installation of a building-level energy monitor, data acquisition system, or utility-owned energy meter. If an energy monitor is installed, the builder shall provide the building operator with the manufacturer’s documentation and operations manual. EPA recommends, but does not require, that one of these strategies also be implemented in buildings 25,000-49,999 ft2. ",null,null,null,null,null,"All","Required","Footnote 72 - 14.1"]
[]
[null,"Rater Name:",{"$f":"IF('Project Information'!$C$22=\"\",\"\",'Project Information'!$C$22)","v":""},"Rater Pre-Drywall Inspection Date(s):",null,null,"Rater Initials:"]
[null,"Rater Company Name:",{"$f":"IF('Project Information'!$C$21=\"\",\"\",'Project Information'!$C$21)","v":""}]
[]
[null,"Rater Name: ",{"$f":"IF('Project Information'!$C$25=\"\",\"\",'Project Information'!$C$25)","v":""},"Rater Final Inspection Date(s):",null,null,"Rater Initials:"]
[null,"Rater Company Name:",{"$f":"IF('Project Information'!$C$24=\"\",\"\",'Project Information'!$C$24)","v":""}]
[]
[null,"Builder/Developer Employee:",{"$f":"IF('Project Information'!$F$15=\"\",\"\",'Project Information'!$F$15)","v":""},"Builder Inspection Date(s):",null,null,"Builder Initials:"]
[null,"Builder/Developer Name:",{"$f":"IF('Project Information'!$C$15:$D$15=\"\",\"\",'Project Information'!$C$15:$D$15)","v":""}]
[]
[null,"Licensed Professional:",{"$f":"IF('Project Information'!$E$32=\"\",\"\",'Project Information'!$E$32)","v":""},"LP Inspection Date(s):",null,null,"LP Initials:"]

{"sheet":"2. Unit Testing Results","index":5,"n_rows":100,"n_cols":57,"rows_kept":100,"cut":false,"hidden":false,"merged":[[13,1,13,12],[15,49,17,54],[3,56,4,61],[5,38,5,39],[6,38,6,39],[7,38,7,39],[8,38,8,39],[9,38,9,39],[10,38,10,39],[11,38,11,39],[10,48,10,49],[11,48,11,49],[7,42,7,43],[8,42,8,43],[9,42,9,43],[10,42,10,43],[11,42,11,43],[5,40,5,41],[6,40,6,41],[7,40,7,41],[8,40,8,41],[9,40,9,41],[3,19,3,54],[5,20,5,21],[3,1,3,17],[5,48,5,49],[6,48,6,49],[7,48,7,49],[8,48,8,49],[9,48,9,49],[10,44,10,45],[11,44,11,45],[5,46,5,47],[6,46,6,47],[7,46,7,47],[8,46,8,47],[9,46,9,47],[10,46,10,47],[11,46,11,47],[5,44,5,45],[6,44,6,45],[7,44,7,45],[8,44,8,45],[9,44,9,45],[10,40,10,41],[11,40,11,41],[5,42,5,43],[6,42,6,43],[11,34,11,35],[5,34,5,35],[6,34,6,35],[7,34,7,35],[8,34,8,35],[9,34,9,35],[11,30,11,31],[5,32,5,33],[6,32,6,33],[7,32,7,33],[8,32,8,33],[9,32,9,33],[10,32,10,33],[11,32,11,33],[5,30,5,31],[6,30,6,31],[8,30,8,31],[9,30,9,31],[7,30,7,31],[10,30,10,31],[10,34,10,35],[99,13,99,14],[16,17,17,17],[15,14,15,47],[16,6,17,6],[16,7,17,7],[16,18,16,19],[16,36,17,36],[16,37,17,37],[16,38,16,39],[99,18,99,19],[99,38,99,39],[99,44,99,45],[99,46,99,47],[15,5,15,12],[16,15,16,16],[7,20,7,21],[8,20,8,21],[9,20,9,21],[10,20,10,21],[11,20,11,21],[5,22,5,23],[6,22,6,23],[7,22,7,23],[8,22,8,23],[11,22,11,23],[6,20,6,21],[5,24,5,25],[6,24,6,25],[7,24,7,25],[8,24,8,25],[9,24,9,25],[10,24,10,25],[11,24,11,25],[5,26,5,27],[4,28,4,29],[11,26,11,27],[5,28,5,29],[6,28,6,29],[7,28,7,29],[8,28,8,29],[9,28,9,29],[10,28,10,29],[11,28,11,29],[6,26,6,27],[7,26,7,27],[8,26,8,27],[9,26,9,27],[10,26,10,27],[99,48,99,49],[99,32,99,33],[99,34,99,35],[99,40,99,41],[99,42,99,43],[99,22,99,23],[99,24,99,25],[99,26,99,27],[99,28,99,29],[99,30,99,31],[1,2,1,17],[99,15,99,16],[99,20,99,21],[16,26,16,27],[16,28,16,29],[16,30,16,31],[16,32,16,33],[16,34,16,35],[14,40,14,49],[16,3,17,3],[16,14,17,14],[16,22,16,23],[16,20,16,21],[16,40,16,41],[16,42,16,43],[16,44,16,45],[16,46,16,47],[16,24,16,25],[4,20,4,21],[4,22,4,23],[4,24,4,25],[4,26,4,27],[9,22,9,23],[10,22,10,23],[16,1,17,1],[16,2,17,2],[15,1,15,4],[16,13,17,13],[16,10,17,10],[16,12,17,12],[16,11,17,11],[16,8,17,8],[16,4,17,4],[16,9,17,9],[4,30,4,31],[4,32,4,33],[4,34,4,35],[4,48,4,49],[4,46,4,47],[4,40,4,41],[4,42,4,43],[4,44,4,45],[4,38,4,39]]}
[]
[null,"Instructions: ","Using Tables: Prior to the Proposed Design submittal, the yellow and orange cells in the \"Unit Types\" table should be filled out for the unique floorplans in the project. Prior to testing, each unit in the project should be defined and assigned a unit type in the \"Unit Details\" table. These two tables will enable the generation of the testing targets and allow the user to track testing results of all items on an individual apartment basis.\n\nPrior to the As-Built submittal or as testing is completed, enter test values into all yellow and orange cells in the Testing Results section. Pass/Fail values will display at the unit level and for the entire checklist item. Additionally, prior to As-Built submittal, complete the yellow cells in the \"Label Printing Data Entry\" table.\n\nPrinting: Optimized for Landscape view"]
[]
[null,"UNIT TYPES",null,null,null,null,null,null,null,null,null,null,null,null,null,null,null,null,null,"Label Printing Data Entry - this area should be populated during the As-Built Submittal to facilitate label & certificate printing",null,null,null,null,null,null,null,null,null,null,null,null,null,null,null,null,null,null,null,null,null,null,null,null,null,null,null,null,null,null,null,null,null,null,null,null,"NOTES"]
[null,"UNIT TYPE","BEDROOMS","BATHROOMS","AREA","PERIMETER","CEILING HEIGHT","ENCLOSURE AREA","# RETURNS","VENTILATION (CFM)","ASHRAE 62.2 - 2010","Ventilation > ASHRAE 62.2","KITCHEN VENTILATION","KITCHEN VOLUME(ft3)","BATHROOM 1 VENTILATION","BATHROOM 2 VENTILATION","BATHROOM 3 VENTILATION","AC SIZE (Tons)",null,"Ceiling Insulation (R-Value)","Wall Insulation  (R-Value)",null,"Floor Insulation  (R-Value)",null,"Slab Insulation (R-Value)",null,"Window U-Factor",null,"Window SHGC",null,"Primary Heating System Type",null,"Primary Heating Fuel",null,"Primary Heating Efficiency",null,"Primary Heating Efficiency Unit","Primary Cooling System Type","Primary Cooling Fuel",null,"Primary Cooling Efficiency",null,"Primary Cooling Efficiency Unit",null,"Primary Hot Water System Type",null,"Primary Hot Water Fuel",null,"Primary Hot Water Efficiency (EF)",null,"% ENERGY STAR Certified Lighting","# ES Refrigerators","# ES Ceiling Fans","# ES Dishwashers","# ES Exhaust Fans"]
[null,null,null,null,null,null,null,{"$f":"IF($B6=\"\",\"\",2*$E6+$F6*$G6)","v":""},null,null,{"$f":"IF($B6=\"\",\"\",0.01*$E6+7.5*($C6+1))","v":""},{"$f":"IF($B6=\"\",\"\",IF($J6>=$K6,\"PASS\",\nIF(J6<K6,\"FAIL\",\n\"\")))","v":""},null,{"$f":"IF(M6=\"Intermittent\",\"N/A\",\"\")","v":""}]
[null,null,null,null,null,null,null,{"$f":"IF($B7=\"\",\"\",2*$E7+$F7*$G7)","v":""},null,null,{"$f":"IF($B7=\"\",\"\",0.01*$E7+7.5*($C7+1))","v":""},{"$f":"IF($B7=\"\",\"\",IF($J7>=$K7,\"PASS\",\nIF(J7<K7,\"FAIL\",\n\"\")))","v":""},null,""]
[null,null,null,null,null,null,null,{"$f":"IF($B8=\"\",\"\",2*$E8+$F8*$G8)","v":""},null,null,{"$f":"IF($B8=\"\",\"\",0.01*$E8+7.5*($C8+1))","v":""},"",null,""]
[null,null,null,null,null,null,null,"",null,null,"","",null,""]
[null,null,null,null,null,null,null,"",null,null,"","",null,""]
[null,null,null,null,null,null,null,"",null,null,"","",null,""]
[null,null,null,null,null,null,null,"",null,null,"","",null,""]
[]
[null,{"$f":"IF('Project Information'!$F$10=\"\",\"Enter Number of Units in Project Information tab\",CONCATENATE(\"This project has a total of \",'Project Information'!$F$10,\" units. This results in a minimum of \",(7+ROUNDUP((('Project Information'!$F$10-7)/7),0)),\" units to be tested.\"))","v":"Enter Number of Units in Project Information tab"}]
[]
[null,"UNIT DETAILS",null,null,null,"TESTING TARGETS",null,null,null,null,null,null,null,"SAMPLING","TESTING RESULTS",null,null,null,null,null,null,null,null,null,null,null,null,null,null,null,null,null,null,null,null,null,null,null,null,null,null,null,null,null,null,null,null,null,null,"NOTES"]
[null,"UNIT","UNIT TYPE","SQUARE FOOTAGE","ENCLOSURE AREA","TOTAL DUCT LEAKAGE (6.4.1/6.4.2)","Duct Leakage to Outdoors (Townhouses Only) (6.5)","UNIT INFILTRATION (4.10)","DWELLING UNIT VENTILATION (7.2)","KITCHEN VENTILATION (8.1)","BATH 1 VENTILATION (8.2)","BATH 2 VENTILATION (8.2)","BATH 3 VENTILATION (8.2)","SAMPLE SET ID","TESTING DATE","TOTAL DUCT LEAKAGE (6.4.1 / 6.4.2)",null,"TEST\n(ROUGH-IN/FINAL)","PRESSURE DIFFERENCE\nFOR NON-DUCTED RETURNS\n(6.4.1/6.4.2)",null,"DUCT LEAKAGE TO OUTSIDE (TOWNHOUSES ONLY) (6.5)",null,"UNIT INFILTRATION (4.10)",null,"PRESSURE DIFFERENTIAL FOR AHU CLOSETS (4.10.1)",null,"DWELLING UNIT VENTILATION (7.2)",null,"KITCHEN VENTILATION (8.1)",null,"BATH 1 VENTILATION (8.2)",null,"BATH 2 VENTILATION (8.2)",null,"BATH 3 VENTILATION (8.2)",null,"RETURN SIDE STATIC PRESSURE (IWC) (5.4)","SUPPLY SIDE STATIC PRESSURE (IWC) (5.4)","TEMP AT SHOWER (11.5)",null,"TEMP AT FAUCETS (11.5)",null,"PRESSURE BALANCING\n(BEDROOM 1) (6.2)",null,"PRESSURE BALANCING\n(BEDROOM 2) (6.2)",null,"PRESSURE BALANCING\n(BEDROOM 3) (6.2)"]
[null,null,null,null,null,null,null,null,null,null,null,null,null,null,null,"Value","Pass/Fail",null,"Value","Pass/Fail","Value","Pass/Fail","Value","Pass/Fail","Value","Pass/Fail","Value","Pass/Fail","Value","Pass/Fail","Value","Pass/Fail","Value","Pass/Fail","Value","Pass/Fail",null,null,"Value","Pass/Fail","Value","Pass/Fail","Value","Pass/Fail","Value","Pass/Fail","Value","Pass/Fail"]
[null,null,null,{"$f":"IF(C19=\"\",\"\",VLOOKUP(C19,$B$6:$R$12,4))","v":""},{"$f":"IF(C19=\"\",\"\",VLOOKUP(C19,$B$6:$R$12,7))","v":""},{"$f":"IF($C19=\"\",\"\",\nIF(AND($R19=\"Final\",VLOOKUP($C19,$B$6:$R$12,8)=0,$D19<=1000),60,\nIF(AND($R19=\"Final\",VLOOKUP($C19,$B$6:$R$12,8)=0,$D19>1000),$D19*0.06,\n\nIF(AND($R19=\"Final\",VLOOKUP($C19,$B$6:$R$12,8)<3,$D19<=1000),80,\nIF(AND($R19=\"Final\",VLOOKUP($C19,$B$6:$R$12,8)<3,$D19>1000),$D19*0.08,\n\nIF(AND($R19=\"Final\",VLOOKUP($C19,$B$6:$R$12,8)>=3,$D19<=1000),120,\nIF(AND($R19=\"FInal\",VLOOKUP($C19,$B$6:$R$12,8)>=3,$D19>1000),$D19*0.12,\n\nIF(AND($R19=\"Rough-In\",VLOOKUP($C19,$B$6:$R$12,8)=0,$D19<=1000),30,\nIF(AND($R19=\"Rough-In\",VLOOKUP($C19,$B$6:$R$12,8)=0,$D19>1000),$D19*0.03,\n\nIF(AND($R19=\"Rough-In\",VLOOKUP($C19,$B$6:$R$12,8)<3,$D19<=1000),40,\nIF(AND($R19=\"Rough-In\",VLOOKUP($C19,$B$6:$R$12,8)<3,$D19>1000),$D19*0.04,\n\nIF(AND($R19=\"Rough-In\",VLOOKUP($C19,$B$6:$R$12,8)>=3,$D19<=1000),60,\nIF(AND($R19=\"Rough-In\",VLOOKUP($C19,$B$6:$R$12,8)>=3,$D19>1000),$D19*0.06,\n\n\"\")))))))))))))","v":""},{"$f":"IF($C19=\"\",\"\",IF($D19<1000,40,$D19*0.04))","v":""},{"$f":"IF($C19=\"\",\"\",$E19*0.3)","v":""},{"$f":"IF($C19=\"\",\"\",VLOOKUP($C19,$B$6:$R$12,10))","v":""},{"$f":"IF($C19=\"\",\"\",\nIF(VLOOKUP($C19,$B$6:$R$12,12)=\"Intermittent\",100,\nIF(AND(VLOOKUP($C19,$B$6:$R$12,12)=\"Continuous\",VLOOKUP($C19,$B$6:$R$12,13)=\"\"),\"Volume Above?\",\nIF(VLOOKUP($C19,$B$6:$R$12,12)=\"Continuous\",((5*VLOOKUP($C19,$B$6:$R$12,13))/60),\"\"))))","v":""},{"$f":"IF($C19=\"\",\"\",IF(VLOOKUP($C19,$B$6:$R$12,14)=\"Continuous\",20,IF(VLOOKUP($C19,$B$6:$R$12,14)=\"Intermittent\",50,\"\")))","v":""},{"$f":"IF($C19=\"\",\"\",IF(VLOOKUP($C19,$B$6:$R$12,15)=\"Continuous\",20,IF(VLOOKUP($C19,$B$6:$R$12,15)=\"Intermittent\",50,\"\")))","v":""},{"$f":"IF($C19=\"\",\"\",IF(VLOOKUP($C19,$B$6:$R$12,16)=\"Continuous\",20,IF(VLOOKUP($C19,$B$6:$R$12,16)=\"Intermittent\",50,\"\")))","v":""},null,null,null,{"$f":"IF($P19=\"\",\"\",IF($P19<=$F19,\"PASS\",\"FAIL\"))","v":""},null,null,{"$f":"IF($S19=\"\",\"\",\nIF($S19<=5,\"PASS\",\nIF(AND(VLOOKUP($C19,$B$6:$R$12,17)=1.5,$S19<=6),\"PASS\",\nIF(AND(VLOOKUP($C19,$B$6:$R$12,17)=2,$S19<=7),\"PASS\",\nIF(AND(VLOOKUP($C19,$B$6:$R$12,17)=2.5,$S19<=8),\"PASS\",\nIF(AND(VLOOKUP($C19,$B$6:$R$12,17)=3,$S19<=9),\"PASS\",\nIF(AND(VLOOKUP($C19,$B$6:$R$12,17)=3.5,$S19<=10),\"PASS\",\nIF(AND(VLOOKUP($C19,$B$6:$R$12,17)=4,$S19<=11),\"PASS\",\"FAIL\"))))))))","v":""},null,{"$f":"IF($U19=\"\",\"\",\nIF($U19<=$G19,\"PASS\",\"FAIL\"))","v":""},null,{"$f":"IF($W19=\"\",\"\",\nIF($W19<=$H19,\"PASS\",\"FAIL\"))","v":""},null,{"$f":"IF($Y19=\"\",\"\",\nIF(AND($Y19>=-5,$Y19<=5),\"PASS\",\"FAIL\"))","v":""},null,{"$f":"IF($AA19=\"\",\"\",\nIF($AA19>=$I19,\"PASS\",\"FAIL\"))","v":""},null,{"$f":"IF($AC19=\"\",\"\",\nIF($AC19>=$J19,\"PASS\",\"FAIL\"))","v":""},null,{"$f":"IF($AE19=\"\",\"\",\nIF($AE19>=$K19,\"PASS\",\"FAIL\"))","v":""},null,{"$f":"IF($AG19=\"\",\"\",\nIF($AG19>=$L19,\"PASS\",\"FAIL\"))","v":""},null,{"$f":"IF($AI19=\"\",\"\",\nIF($AI19>=$M19,\"PASS\",\"FAIL\"))","v":""},null,null,null,{"$f":"IF($AM19=\"\",\"\",\nIF($AM19<=125,\"PASS\",\"FAIL\"))","v":""},null,{"$f":"IF($AO19=\"\",\"\",\nIF($AO19<=125,\"PASS\",\"FAIL\"))","v":""},null,{"$f":"IF($AQ19=\"\",\"\",\nIF(AND($AQ19>=-5,$AQ19<=5),\"PASS\",\"FAIL\"))","v":""},null,{"$f":"IF($AS19=\"\",\"\",\nIF(AND($AS19>=-5,$AS19<=5),\"PASS\",\"FAIL\"))","v":""},null,{"$f":"IF($AU19=\"\",\"\",\nIF(AND($AU19>=-5,$AU19<=5),\"PASS\",\"FAIL\"))","v":""}]
[null,null,null,{"$f":"IF(C20=\"\",\"\",VLOOKUP(C20,$B$6:$R$12,4))","v":""},{"$f":"IF(C20=\"\",\"\",VLOOKUP(C20,$B$6:$R$12,7))","v":""},{"$f":"IF($C20=\"\",\"\",\nIF(AND($R20=\"Final\",VLOOKUP($C20,$B$6:$R$12,8)=0,$D20<=1000),60,\nIF(AND($R20=\"Final\",VLOOKUP($C20,$B$6:$R$12,8)=0,$D20>1000),$D20*0.06,\n\nIF(AND($R20=\"Final\",VLOOKUP($C20,$B$6:$R$12,8)<3,$D20<=1000),80,\nIF(AND($R20=\"Final\",VLOOKUP($C20,$B$6:$R$12,8)<3,$D20>1000),$D20*0.08,\n\nIF(AND($R20=\"Final\",VLOOKUP($C20,$B$6:$R$12,8)>=3,$D20<=1000),120,\nIF(AND($R20=\"FInal\",VLOOKUP($C20,$B$6:$R$12,8)>=3,$D20>1000),$D20*0.12,\n\nIF(AND($R20=\"Rough-In\",VLOOKUP($C20,$B$6:$R$12,8)=0,$D20<=1000),30,\nIF(AND($R20=\"Rough-In\",VLOOKUP($C20,$B$6:$R$12,8)=0,$D20>1000),$D20*0.03,\n\nIF(AND($R20=\"Rough-In\",VLOOKUP($C20,$B$6:$R$12,8)<3,$D20<=1000),40,\nIF(AND($R20=\"Rough-In\",VLOOKUP($C20,$B$6:$R$12,8)<3,$D20>1000),$D20*0.04,\n\nIF(AND($R20=\"Rough-In\",VLOOKUP($C20,$B$6:$R$12,8)>=3,$D20<=1000),60,\nIF(AND($R20=\"Rough-In\",VLOOKUP($C20,$B$6:$R$12,8)>=3,$D20>1000),$D20*0.06,\n\n\"\")))))))))))))","v":""},{"$f":"IF($C20=\"\",\"\",IF($D20<1000,40,$D20*0.04))","v":""},{"$f":"IF($C20=\"\",\"\",$E20*0.3)","v":""},{"$f":"IF($C20=\"\",\"\",VLOOKUP($C20,$B$6:$R$12,10))","v":""},{"$f":"IF($C20=\"\",\"\",\nIF(VLOOKUP($C20,$B$6:$R$12,12)=\"Intermittent\",100,\nIF(AND(VLOOKUP($C20,$B$6:$R$12,12)=\"Continuous\",VLOOKUP($C20,$B$6:$R$12,13)=\"\"),\"Volume Above?\",\nIF(VLOOKUP($C20,$B$6:$R$12,12)=\"Continuous\",((5*VLOOKUP($C20,$B$6:$R$12,13))/60),\"\"))))","v":""},{"$f":"IF($C20=\"\",\"\",IF(VLOOKUP($C20,$B$6:$R$12,14)=\"Continuous\",20,IF(VLOOKUP($C20,$B$6:$R$12,14)=\"Intermittent\",50,\"\")))","v":""},{"$f":"IF($C20=\"\",\"\",IF(VLOOKUP($C20,$B$6:$R$12,15)=\"Continuous\",20,IF(VLOOKUP($C20,$B$6:$R$12,15)=\"Intermittent\",50,\"\")))","v":""},{"$f":"IF($C20=\"\",\"\",IF(VLOOKUP($C20,$B$6:$R$12,16)=\"Continuous\",20,IF(VLOOKUP($C20,$B$6:$R$12,16)=\"Intermittent\",50,\"\")))","v":""},null,null,null,{"$f":"IF($P20=\"\",\"\",IF($P20<=$F20,\"PASS\",\"FAIL\"))","v":""},null,null,{"$f":"IF($S20=\"\",\"\",\nIF($S20<=5,\"PASS\",\nIF(AND(VLOOKUP($C20,$B$6:$R$12,17)=1.5,$S20<=6),\"PASS\",\nIF(AND(VLOOKUP($C20,$B$6:$R$12,17)=2,$S20<=7),\"PASS\",\nIF(AND(VLOOKUP($C20,$B$6:$R$12,17)=2.5,$S20<=8),\"PASS\",\nIF(AND(VLOOKUP($C20,$B$6:$R$12,17)=3,$S20<=9),\"PASS\",\nIF(AND(VLOOKUP($C20,$B$6:$R$12,17)=3.5,$S20<=10),\"PASS\",\nIF(AND(VLOOKUP($C20,$B$6:$R$12,17)=4,$S20<=11),\"PASS\",\"FAIL\"))))))))","v":""},null,{"$f":"IF($U20=\"\",\"\",\nIF($U20<=$G20,\"PASS\",\"FAIL\"))","v":""},null,{"$f":"IF($W20=\"\",\"\",\nIF($W20<=$H20,\"PASS\",\"FAIL\"))","v":""},null,{"$f":"IF($Y20=\"\",\"\",\nIF(AND($Y20>=-5,$Y20<=5),\"PASS\",\"FAIL\"))","v":""},null,{"$f":"IF($AA20=\"\",\"\",\nIF($AA20>=$I20,\"PASS\",\"FAIL\"))","v":""},null,{"$f":"IF($AC20=\"\",\"\",\nIF($AC20>=$J20,\"PASS\",\"FAIL\"))","v":""},null,{"$f":"IF($AE20=\"\",\"\",\nIF($AE20>=$K20,\"PASS\",\"FAIL\"))","v":""},null,{"$f":"IF($AG20=\"\",\"\",\nIF($AG20>=$L20,\"PASS\",\"FAIL\"))","v":""},null,{"$f":"IF($AI20=\"\",\"\",\nIF($AI20>=$M20,\"PASS\",\"FAIL\"))","v":""},null,null,null,{"$f":"IF($AM20=\"\",\"\",\nIF($AM20<=125,\"PASS\",\"FAIL\"))","v":""},null,{"$f":"IF($AO20=\"\",\"\",\nIF($AO20<=125,\"PASS\",\"FAIL\"))","v":""},null,{"$f":"IF($AQ20=\"\",\"\",\nIF(AND($AQ20>=-5,$AQ20<=5),\"PASS\",\"FAIL\"))","v":""},null,{"$f":"IF($AS20=\"\",\"\",\nIF(AND($AS20>=-5,$AS20<=5),\"PASS\",\"FAIL\"))","v":""},null,{"$f":"IF($AU20=\"\",\"\",\nIF(AND($AU20>=-5,$AU20<=5),\"PASS\",\"FAIL\"))","v":""}]
[null,null,null,"","","","","","","","","","",null,null,null,"",null,null,"",null,"",null,"",null,"",null,"",null,"",null,"",null,"",null,"",null,null,null,"",null,"",null,"",null,"",null,""]
[null,null,null,"","","","","","","","","","",null,null,null,"",null,null,"",null,"",null,"",null,"",null,"",null,"",null,"",null,"",null,"",null,null,null,"",null,"",null,"",null,"",null,""]
[null,null,null,"","","","","","","","","","",null,null,null,"",null,null,"",null,"",null,"",null,"",null,"",null,"",null,"",null,"",null,"",null,null,null,"",null,"",null,"",null,"",null,""]
[null,null,null,"","","","","","","","","","",null,null,null,"",null,null,"",null,"",null,"",null,"",null,"",null,"",null,"",null,"",null,"",null,null,null,"",null,"",null,"",null,"",null,""]
[null,null,null,"","","","","","","","","","",null,null,null,"",null,null,"",null,"",null,"",null,"",null,"",null,"",null,"",null,"",null,"",null,null,null,"",null,"",null,"",null,"",null,""]
[null,null,null,"","","","","","","","","","",null,null,null,"",null,null,"",null,"",null,"",null,"",null,"",null,"",null,"",null,"",null,"",null,null,null,"",null,"",null,"",null,"",null,""]
[null,null,null,"","","","","","","","","","",null,null,null,"",null,null,"",null,"",null,"",null,"",null,"",null,"",null,"",null,"",null,"",null,null,null,"",null,"",null,"",null,"",null,""]
[null,null,null,"","","","","","","","","","",null,null,null,"",null,null,"",null,"",null,"",null,"",null,"",null,"",null,"",null,"",null,"",null,null,null,"",null,"",null,"",null,"",null,""]
[null,null,null,"","","","","","","","","","",null,null,null,"",null,null,"",null,"",null,"",null,"",null,"",null,"",null,"",null,"",null,"",null,null,null,"",null,"",null,"",null,"",null,""]
[null,null,null,"","","","","","","","","","",null,null,null,"",null,null,"",null,"",null,"",null,"",null,"",null,"",null,"",null,"",null,"",null,null,null,"",null,"",null,"",null,"",null,""]
[null,null,null,"","","","","","","","","","",null,null,null,"",null,null,"",null,"",null,"",null,"",null,"",null,"",null,"",null,"",null,"",null,null,null,"",null,"",null,"",null,"",null,""]
[null,null,null,"","","","","","","","","","",null,null,null,"",null,null,"",null,"",null,"",null,"",null,"",null,"",null,"",null,"",null,"",null,null,null,"",null,"",null,"",null,"",null,""]
[null,null,null,"","","","","","","","","","",null,null,null,"",null,null,"",null,"",null,"",null,"",null,"",null,"",null,"",null,"",null,"",null,null,null,"",null,"",null,"",null,"",null,""]
[null,null,null,"","","","","","","","","","",null,null,null,"",null,null,"",null,"",null,"",null,"",null,"",null,"",null,"",null,"",null,"",null,null,null,"",null,"",null,"",null,"",null,""]
[null,null,null,"","","","","","","","","","",null,null,null,"",null,null,"",null,"",null,"",null,"",null,"",null,"",null,"",null,"",null,"",null,null,null,"",null,"",null,"",null,"",null,""]
[null,null,null,"","","","","","","","","","",null,null,null,"",null,null,"",null,"",null,"",null,"",null,"",null,"",null,"",null,"",null,"",null,null,null,"",null,"",null,"",null,"",null,""]
[null,null,null,"","","","","","","","","","",null,null,null,"",null,null,"",null,"",null,"",null,"",null,"",null,"",null,"",null,"",null,"",null,null,null,"",null,"",null,"",null,"",null,""]
[null,null,null,"","","","","","","","","","",null,null,null,"",null,null,"",null,"",null,"",null,"",null,"",null,"",null,"",null,"",null,"",null,null,null,"",null,"",null,"",null,"",null,""]
[null,null,null,"","","","","","","","","","",null,null,null,"",null,null,"",null,"",null,"",null,"",null,"",null,"",null,"",null,"",null,"",null,null,null,"",null,"",null,"",null,"",null,""]
[null,null,null,"","","","","","","","","","",null,null,null,"",null,null,"",null,"",null,"",null,"",null,"",null,"",null,"",null,"",null,"",null,null,null,"",null,"",null,"",null,"",null,""]
[null,null,null,"","","","","","","","","","",null,null,null,"",null,null,"",null,"",null,"",null,"",null,"",null,"",null,"",null,"",null,"",null,null,null,"",null,"",null,"",null,"",null,""]
[null,null,null,"","","","","","","","","","",null,null,null,"",null,null,"",null,"",null,"",null,"",null,"",null,"",null,"",null,"",null,"",null,null,null,"",null,"",null,"",null,"",null,""]
[null,null,null,"","","","","","","","","","",null,null,null,"",null,null,"",null,"",null,"",null,"",null,"",null,"",null,"",null,"",null,"",null,null,null,"",null,"",null,"",null,"",null,""]
[null,null,null,"","","","","","","","","","",null,null,null,"",null,null,"",null,"",null,"",null,"",null,"",null,"",null,"",null,"",null,"",null,null,null,"",null,"",null,"",null,"",null,""]
[null,null,null,"","","","","","","","","","",null,null,null,"",null,null,"",null,"",null,"",null,"",null,"",null,"",null,"",null,"",null,"",null,null,null,"",null,"",null,"",null,"",null,""]
[null,null,null,"","","","","","","","","","",null,null,null,"",null,null,"",null,"",null,"",null,"",null,"",null,"",null,"",null,"",null,"",null,null,null,"",null,"",null,"",null,"",null,""]
[null,null,null,"","","","","","","","","","",null,null,null,"",null,null,"",null,"",null,"",null,"",null,"",null,"",null,"",null,"",null,"",null,null,null,"",null,"",null,"",null,"",null,""]
[null,null,null,"","","","","","","","","","",null,null,null,"",null,null,"",null,"",null,"",null,"",null,"",null,"",null,"",null,"",null,"",null,null,null,"",null,"",null,"",null,"",null,""]
[null,null,null,"","","","","","","","","","",null,null,null,"",null,null,"",null,"",null,"",null,"",null,"",null,"",null,"",null,"",null,"",null,null,null,"",null,"",null,"",null,"",null,""]
[null,null,null,"","","","","","","","","","",null,null,null,"",null,null,"",null,"",null,"",null,"",null,"",null,"",null,"",null,"",null,"",null,null,null,"",null,"",null,"",null,"",null,""]
[null,null,null,"","","","","","","","","","",null,null,null,"",null,null,"",null,"",null,"",null,"",null,"",null,"",null,"",null,"",null,"",null,null,null,"",null,"",null,"",null,"",null,""]
[null,null,null,"","","","","","","","","","",null,null,null,"",null,null,"",null,"",null,"",null,"",null,"",null,"",null,"",null,"",null,"",null,null,null,"",null,"",null,"",null,"",null,""]
[null,null,null,"","","","","","","","","","",null,null,null,"",null,null,"",null,"",null,"",null,"",null,"",null,"",null,"",null,"",null,"",null,null,null,"",null,"",null,"",null,"",null,""]
[null,null,null,"","","","","","","","","","",null,null,null,"",null,null,"",null,"",null,"",null,"",null,"",null,"",null,"",null,"",null,"",null,null,null,"",null,"",null,"",null,"",null,""]
[null,null,null,"","","","","","","","","","",null,null,null,"",null,null,"",null,"",null,"",null,"",null,"",null,"",null,"",null,"",null,"",null,null,null,"",null,"",null,"",null,"",null,""]
[null,null,null,"","","","","","","","","","",null,null,null,"",null,null,"",null,"",null,"",null,"",null,"",null,"",null,"",null,"",null,"",null,null,null,"",null,"",null,"",null,"",null,""]
[null,null,null,"","","","","","","","","","",null,null,null,"",null,null,"",null,"",null,"",null,"",null,"",null,"",null,"",null,"",null,"",null,null,null,"",null,"",null,"",null,"",null,""]
[null,null,null,"","","","","","","","","","",null,null,null,"",null,null,"",null,"",null,"",null,"",null,"",null,"",null,"",null,"",null,"",null,null,null,"",null,"",null,"",null,"",null,""]
[null,null,null,"","","","","","","","","","",null,null,null,"",null,null,"",null,"",null,"",null,"",null,"",null,"",null,"",null,"",null,"",null,null,null,"",null,"",null,"",null,"",null,""]
[null,null,null,"","","","","","","","","","",null,null,null,"",null,null,"",null,"",null,"",null,"",null,"",null,"",null,"",null,"",null,"",null,null,null,"",null,"",null,"",null,"",null,""]
[null,null,null,"","","","","","","","","","",null,null,null,"",null,null,"",null,"",null,"",null,"",null,"",null,"",null,"",null,"",null,"",null,null,null,"",null,"",null,"",null,"",null,""]
[null,null,null,"","","","","","","","","","",null,null,null,"",null,null,"",null,"",null,"",null,"",null,"",null,"",null,"",null,"",null,"",null,null,null,"",null,"",null,"",null,"",null,""]
[null,null,null,"","","","","","","","","","",null,null,null,"",null,null,"",null,"",null,"",null,"",null,"",null,"",null,"",null,"",null,"",null,null,null,"",null,"",null,"",null,"",null,""]
[null,null,null,"","","","","","","","","","",null,null,null,"",null,null,"",null,"",null,"",null,"",null,"",null,"",null,"",null,"",null,"",null,null,null,"",null,"",null,"",null,"",null,""]
[null,null,null,"","","","","","","","","","",null,null,null,"",null,null,"",null,"",null,"",null,"",null,"",null,"",null,"",null,"",null,"",null,null,null,"",null,"",null,"",null,"",null,""]
[null,null,null,"","","","","","","","","","",null,null,null,"",null,null,"",null,"",null,"",null,"",null,"",null,"",null,"",null,"",null,"",null,null,null,"",null,"",null,"",null,"",null,""]
[null,null,null,"","","","","","","","","","",null,null,null,"",null,null,"",null,"",null,"",null,"",null,"",null,"",null,"",null,"",null,"",null,null,null,"",null,"",null,"",null,"",null,""]
[null,null,null,"","","","","","","","","","",null,null,null,"",null,null,"",null,"",null,"",null,"",null,"",null,"",null,"",null,"",null,"",null,null,null,"",null,"",null,"",null,"",null,""]
[null,null,null,"","","","","","","","","","",null,null,null,"",null,null,"",null,"",null,"",null,"",null,"",null,"",null,"",null,"",null,"",null,null,null,"",null,"",null,"",null,"",null,""]
[null,null,null,"","","","","","","","","","",null,null,null,"",null,null,"",null,"",null,"",null,"",null,"",null,"",null,"",null,"",null,"",null,null,null,"",null,"",null,"",null,"",null,""]
[null,null,null,"","","","","","","","","","",null,null,null,"",null,null,"",null,"",null,"",null,"",null,"",null,"",null,"",null,"",null,"",null,null,null,"",null,"",null,"",null,"",null,""]
[null,null,null,"","","","","","","","","","",null,null,null,"",null,null,"",null,"",null,"",null,"",null,"",null,"",null,"",null,"",null,"",null,null,null,"",null,"",null,"",null,"",null,""]
[null,null,null,"","","","","","","","","","",null,null,null,"",null,null,"",null,"",null,"",null,"",null,"",null,"",null,"",null,"",null,"",null,null,null,"",null,"",null,"",null,"",null,""]
[null,null,null,"","","","","","","","","","",null,null,null,"",null,null,"",null,"",null,"",null,"",null,"",null,"",null,"",null,"",null,"",null,null,null,"",null,"",null,"",null,"",null,""]
[null,null,null,"","","","","","","","","","",null,null,null,"",null,null,"",null,"",null,"",null,"",null,"",null,"",null,"",null,"",null,"",null,null,null,"",null,"",null,"",null,"",null,""]
[null,null,null,"","","","","","","","","","",null,null,null,"",null,null,"",null,"",null,"",null,"",null,"",null,"",null,"",null,"",null,"",null,null,null,"",null,"",null,"",null,"",null,""]
[null,null,null,"","","","","","","","","","",null,null,null,"",null,null,"",null,"",null,"",null,"",null,"",null,"",null,"",null,"",null,"",null,null,null,"",null,"",null,"",null,"",null,""]
[null,null,null,"","","","","","","","","","",null,null,null,"",null,null,"",null,"",null,"",null,"",null,"",null,"",null,"",null,"",null,"",null,null,null,"",null,"",null,"",null,"",null,""]
[null,null,null,"","","","","","","","","","",null,null,null,"",null,null,"",null,"",null,"",null,"",null,"",null,"",null,"",null,"",null,"",null,null,null,"",null,"",null,"",null,"",null,""]
[null,null,null,"","","","","","","","","","",null,null,null,"",null,null,"",null,"",null,"",null,"",null,"",null,"",null,"",null,"",null,"",null,null,null,"",null,"",null,"",null,"",null,""]
[null,null,null,"","","","","","","","","","",null,null,null,"",null,null,"",null,"",null,"",null,"",null,"",null,"",null,"",null,"",null,"",null,null,null,"",null,"",null,"",null,"",null,""]
[null,null,null,"","","","","","","","","","",null,null,null,"",null,null,"",null,"",null,"",null,"",null,"",null,"",null,"",null,"",null,"",null,null,null,"",null,"",null,"",null,"",null,""]
[null,null,null,"","","","","","","","","","",null,null,null,"",null,null,"",null,"",null,"",null,"",null,"",null,"",null,"",null,"",null,"",null,null,null,"",null,"",null,"",null,"",null,""]
[null,null,null,{"$f":"IF(C84=\"\",\"\",VLOOKUP(C84,$B$6:$R$12,4))","v":""},{"$f":"IF(C84=\"\",\"\",VLOOKUP(C84,$B$6:$R$12,7))","v":""},{"$f":"IF($C84=\"\",\"\",\nIF(AND($R84=\"Final\",VLOOKUP($C84,$B$6:$R$12,8)=0,$D84<=1000),60,\nIF(AND($R84=\"Final\",VLOOKUP($C84,$B$6:$R$12,8)=0,$D84>1000),$D84*0.06,\n\nIF(AND($R84=\"Final\",VLOOKUP($C84,$B$6:$R$12,8)<3,$D84<=1000),80,\nIF(AND($R84=\"Final\",VLOOKUP($C84,$B$6:$R$12,8)<3,$D84>1000),$D84*0.08,\n\nIF(AND($R84=\"Final\",VLOOKUP($C84,$B$6:$R$12,8)>=3,$D84<=1000),120,\nIF(AND($R84=\"FInal\",VLOOKUP($C84,$B$6:$R$12,8)>=3,$D84>1000),$D84*0.12,\n\nIF(AND($R84=\"Rough-In\",VLOOKUP($C84,$B$6:$R$12,8)=0,$D84<=1000),30,\nIF(AND($R84=\"Rough-In\",VLOOKUP($C84,$B$6:$R$12,8)=0,$D84>1000),$D84*0.03,\n\nIF(AND($R84=\"Rough-In\",VLOOKUP($C84,$B$6:$R$12,8)<3,$D84<=1000),40,\nIF(AND($R84=\"Rough-In\",VLOOKUP($C84,$B$6:$R$12,8)<3,$D84>1000),$D84*0.04,\n\nIF(AND($R84=\"Rough-In\",VLOOKUP($C84,$B$6:$R$12,8)>=3,$D84<=1000),60,\nIF(AND($R84=\"Rough-In\",VLOOKUP($C84,$B$6:$R$12,8)>=3,$D84>1000),$D84*0.06,\n\n\"\")))))))))))))","v":""},{"$f":"IF($C84=\"\",\"\",IF($D84<1000,40,$D84*0.04))","v":""},{"$f":"IF($C84=\"\",\"\",$E84*0.3)","v":""},{"$f":"IF($C84=\"\",\"\",VLOOKUP($C84,$B$6:$R$12,10))","v":""},{"$f":"IF($C84=\"\",\"\",\nIF(VLOOKUP($C84,$B$6:$R$12,12)=\"Intermittent\",100,\nIF(AND(VLOOKUP($C84,$B$6:$R$12,12)=\"Continuous\",VLOOKUP($C84,$B$6:$R$12,13)=\"\"),\"Volume Above?\",\nIF(VLOOKUP($C84,$B$6:$R$12,12)=\"Continuous\",((5*VLOOKUP($C84,$B$6:$R$12,13))/60),\"\"))))","v":""},{"$f":"IF($C84=\"\",\"\",IF(VLOOKUP($C84,$B$6:$R$12,14)=\"Continuous\",20,IF(VLOOKUP($C84,$B$6:$R$12,14)=\"Intermittent\",50,\"\")))","v":""},{"$f":"IF($C84=\"\",\"\",IF(VLOOKUP($C84,$B$6:$R$12,15)=\"Continuous\",20,IF(VLOOKUP($C84,$B$6:$R$12,15)=\"Intermittent\",50,\"\")))","v":""},{"$f":"IF($C84=\"\",\"\",IF(VLOOKUP($C84,$B$6:$R$12,16)=\"Continuous\",20,IF(VLOOKUP($C84,$B$6:$R$12,16)=\"Intermittent\",50,\"\")))","v":""},null,null,null,{"$f":"IF($P84=\"\",\"\",IF($P84<=$F84,\"PASS\",\"FAIL\"))","v":""},null,null,{"$f":"IF($S84=\"\",\"\",\nIF($S84<=5,\"PASS\",\nIF(AND(VLOOKUP($C84,$B$6:$R$12,17)=1.5,$S84<=6),\"PASS\",\nIF(AND(VLOOKUP($C84,$B$6:$R$12,17)=2,$S84<=7),\"PASS\",\nIF(AND(VLOOKUP($C84,$B$6:$R$12,17)=2.5,$S84<=8),\"PASS\",\nIF(AND(VLOOKUP($C84,$B$6:$R$12,17)=3,$S84<=9),\"PASS\",\nIF(AND(VLOOKUP($C84,$B$6:$R$12,17)=3.5,$S84<=10),\"PASS\",\nIF(AND(VLOOKUP($C84,$B$6:$R$12,17)=4,$S84<=11),\"PASS\",\"FAIL\"))))))))","v":""},null,{"$f":"IF($U84=\"\",\"\",\nIF($U84<=$G84,\"PASS\",\"FAIL\"))","v":""},null,{"$f":"IF($W84=\"\",\"\",\nIF($W84<=$H84,\"PASS\",\"FAIL\"))","v":""},null,{"$f":"IF($Y84=\"\",\"\",\nIF(AND($Y84>=-5,$Y84<=5),\"PASS\",\"FAIL\"))","v":""},null,{"$f":"IF($AA84=\"\",\"\",\nIF($AA84>=$I84,\"PASS\",\"FAIL\"))","v":""},null,{"$f":"IF($AC84=\"\",\"\",\nIF($AC84>=$J84,\"PASS\",\"FAIL\"))","v":""},null,{"$f":"IF($AE84=\"\",\"\",\nIF($AE84>=$K84,\"PASS\",\"FAIL\"))","v":""},null,{"$f":"IF($AG84=\"\",\"\",\nIF($AG84>=$L84,\"PASS\",\"FAIL\"))","v":""},null,{"$f":"IF($AI84=\"\",\"\",\nIF($AI84>=$M84,\"PASS\",\"FAIL\"))","v":""},null,null,null,{"$f":"IF($AM84=\"\",\"\",\nIF($AM84<=125,\"PASS\",\"FAIL\"))","v":""},null,{"$f":"IF($AO84=\"\",\"\",\nIF($AO84<=125,\"PASS\",\"FAIL\"))","v":""},null,{"$f":"IF($AQ84=\"\",\"\",\nIF(AND($AQ84>=-5,$AQ84<=5),\"PASS\",\"FAIL\"))","v":""},null,{"$f":"IF($AS84=\"\",\"\",\nIF(AND($AS84>=-5,$AS84<=5),\"PASS\",\"FAIL\"))","v":""},null,{"$f":"IF($AU84=\"\",\"\",\nIF(AND($AU84>=-5,$AU84<=5),\"PASS\",\"FAIL\"))","v":""}]
[null,null,null,"","","","","","","","","","",null,null,null,"",null,null,"",null,"",null,"",null,"",null,"",null,"",null,"",null,"",null,"",null,null,null,"",null,"",null,"",null,"",null,""]
[null,null,null,"","","","","","","","","","",null,null,null,"",null,null,"",null,"",null,"",null,"",null,"",null,"",null,"",null,"",null,"",null,null,null,"",null,"",null,"",null,"",null,""]
[null,null,null,"","","","","","","","","","",null,null,null,"",null,null,"",null,"",null,"",null,"",null,"",null,"",null,"",null,"",null,"",null,null,null,"",null,"",null,"",null,"",null,""]
[null,null,null,"","","","","","","","","","",null,null,null,"",null,null,"",null,"",null,"",null,"",null,"",null,"",null,"",null,"",null,"",null,null,null,"",null,"",null,"",null,"",null,""]
[null,null,null,"","","","","","","","","","",null,null,null,"",null,null,"",null,"",null,"",null,"",null,"",null,"",null,"",null,"",null,"",null,null,null,"",null,"",null,"",null,"",null,""]
[null,null,null,"","","","","","","","","","",null,null,null,"",null,null,"",null,"",null,"",null,"",null,"",null,"",null,"",null,"",null,"",null,null,null,"",null,"",null,"",null,"",null,""]
[null,null,null,"","","","","","","","","","",null,null,null,"",null,null,"",null,"",null,"",null,"",null,"",null,"",null,"",null,"",null,"",null,null,null,"",null,"",null,"",null,"",null,""]
[null,null,null,"","","","","","","","","","",null,null,null,"",null,null,"",null,"",null,"",null,"",null,"",null,"",null,"",null,"",null,"",null,null,null,"",null,"",null,"",null,"",null,""]
[null,null,null,"","","","","","","","","","",null,null,null,"",null,null,"",null,"",null,"",null,"",null,"",null,"",null,"",null,"",null,"",null,null,null,"",null,"",null,"",null,"",null,""]
[null,null,null,"","","","","","","","","","",null,null,null,"",null,null,"",null,"",null,"",null,"",null,"",null,"",null,"",null,"",null,"",null,null,null,"",null,"",null,"",null,"",null,""]
[null,null,null,"","","","","","","","","","",null,null,null,"",null,null,"",null,"",null,"",null,"",null,"",null,"",null,"",null,"",null,"",null,null,null,"",null,"",null,"",null,"",null,""]
[null,null,null,"","","","","","","","","","",null,null,null,"",null,null,"",null,"",null,"",null,"",null,"",null,"",null,"",null,"",null,"",null,null,null,"",null,"",null,"",null,"",null,""]
[null,null,null,"","","","","","","","","","",null,null,null,"",null,null,"",null,"",null,"",null,"",null,"",null,"",null,"",null,"",null,"",null,null,null,"",null,"",null,"",null,"",null,""]
[null,null,null,"","","","","","","","","","",null,null,null,"",null,null,"",null,"",null,"",null,"",null,"",null,"",null,"",null,"",null,"",null,null,null,"",null,"",null,"",null,"",null,""]
[]
[null,null,null,null,null,null,null,null,null,null,null,null,null,"Checklist Item PASS/FAIL",null,{"$f":"IF(COUNTIF(Q19:Q$98,\"FAIL\")<>0,\"FAIL\",\"PASS\")","v":"PASS"},null,"N/A",{"$f":"IF(COUNTIF(T19:T$98,\"FAIL\")<>0,\"FAIL\",\"PASS\")","v":"PASS"},null,{"$f":"IF(COUNTIF(V19:V$98,\"FAIL\")<>0,\"FAIL\",\"PASS\")","v":"PASS"},null,{"$f":"IF(COUNTIF(X19:X$98,\"FAIL\")<>0,\"FAIL\",\"PASS\")","v":"PASS"},null,{"$f":"IF(COUNTIF(Z19:Z$98,\"FAIL\")<>0,\"FAIL\",\"PASS\")","v":"PASS"},null,{"$f":"IF(COUNTIF(AB19:AB$98,\"FAIL\")<>0,\"FAIL\",\"PASS\")","v":"PASS"},null,{"$f":"IF(COUNTIF(AD19:AD$98,\"FAIL\")<>0,\"FAIL\",\"PASS\")","v":"PASS"},null,{"$f":"IF(COUNTIF(AF19:AF$98,\"FAIL\")<>0,\"FAIL\",\"PASS\")","v":"PASS"},null,{"$f":"IF(COUNTIF(AH19:AH$98,\"FAIL\")<>0,\"FAIL\",\"PASS\")","v":"PASS"},null,{"$f":"IF(COUNTIF(AJ19:AJ$98,\"FAIL\")<>0,\"FAIL\",\"PASS\")","v":"PASS"},null,"N/A","N/A",{"$f":"IF(COUNTIF(AN19:AN$98,\"FAIL\")<>0,\"FAIL\",\"PASS\")","v":"PASS"},null,{"$f":"IF(COUNTIF(AP19:AP$98,\"FAIL\")<>0,\"FAIL\",\"PASS\")","v":"PASS"},null,{"$f":"IF(COUNTIF(AR19:AR$98,\"FAIL\")<>0,\"FAIL\",\"PASS\")","v":"PASS"},null,{"$f":"IF(COUNTIF(AT19:AT$98,\"FAIL\")<>0,\"FAIL\",\"PASS\")","v":"PASS"},null,{"$f":"IF(COUNTIF(AV19:AV$98,\"FAIL\")<>0,\"FAIL\",\"PASS\")","v":"PASS"}]

{"sheet":"3a. Common Area Ventilation","index":6,"n_rows":41,"n_cols":12,"rows_kept":41,"cut":false,"hidden":false,"merged":[[1,2,1,9],[22,2,22,9],[40,2,40,9],[3,11,4,16],[25,11,26,16]]}
[]
[null,"Instructions: ","Using Tables: Prior to the Proposed Design submittal, enter space names and design CFM values in yellow cells, and enter a description of your sampling plan below each table. Add additional columns or rows as needed. \n\nPrior to the As-Built Submittal, enter tested CFM values. Total airflow will calculate automatically and a Pass/Fail value will display. \n\nPrinting: Optimized for both views (Portrait/Landscape)."]
[]
[null,"Common Space Outdoor Air Ventilation Rates (7.3): This section can be expanded; copy and insert columns as needed for additional spaces. Copy and insert rows as needed for multiple registers serving a space",null,null,null,null,null,null,null,null,null,"NOTES"]
[]
[null,"Enter Space >>>","Column1","Column2","Column3","Column4","Column5","Column6","Column7","Column8"]
[null,"Ventilation Airflow Designed by ASHRAE 62.1, per Item 2.9 of\nHVAC Design Report"]
[null,"Tested CFM"]
[null,"Tested CFM"]
[null,"Tested CFM"]
[null,"Tested CFM"]
[null,"Tested CFM"]
[null,"Tested CFM"]
[null,"Tested CFM"]
[null,"Tested CFM"]
[null,"Total Airflow:",{"$f":"SUM(C$8:C$15)","v":0},{"$f":"SUM(D$8:D$15)","v":0},0,0,0,0,0,0]
[null,"15% ASHRAE",{"$f":"C$7*0.15","v":0},{"$f":"D$7*0.15","v":0},0,0,0,0,0,0]
[null,"Range (Upper)",{"$f":"IF(C$17>15,C$17+C$7,C$7+15)","v":15},{"$f":"IF(D$17>15,D$17+D$7,D$7+15)","v":15},15,15,15,15,15,15]
[null,"Range (Lower)",{"$f":"IF(C$17>15,C$7-C$17,C$7-15)","v":-15},{"$f":"IF(D$17>15,D$7-D$17,D$7-15)","v":-15},-15,-15,-15,-15,-15,-15]
[null,"PASS/FAIL",{"$f":"IF(OR(C$16=0,C$16=\"\"),\"\",\nIF(AND(C$16>=C$19,C$16<=C$18),\"PASS\",\"FAIL\"))","v":""},{"$f":"IF(OR(D$16=0,D$16=\"\"),\"\",\nIF(AND(D$16>=D$19,D$16<=D$18),\"PASS\",\"FAIL\"))","v":""},"","","","","",""]
[]
[]
[null,"Sampling Plan:","Provide description of sampling plan"]
[]
[]
[null,"Common Space Exhaust Airflow Rates (8.3): This section can be expanded, copy and insert rows/columns as needed, to represent additional spaces.",null,null,null,null,null,null,null,null,null,"NOTES"]
[]
[null,"Enter Space >>>","Column1","Column2","Column3","Column4","Column5","Column6","Column7","Column8"]
[null,"Design CFM"]
[null,"Tested CFM"]
[null,"Tested CFM"]
[null,"Tested CFM"]
[null,"Tested CFM"]
[null,"Total Airflow",{"$f":"SUM(C$30:C$33)","v":0},{"$f":"SUM(D$30:D$33)","v":0},0,0,0,0,0,0]
[null,"15% ASHRAE",{"$f":"C$29*0.15","v":0},{"$f":"D$29*0.15","v":0},0,0,0,0,0]
[null,"Range (Upper)",{"$f":"IF(C$35>15,C$35+C$29,C$29+15)","v":15},{"$f":"IF(D$35>15,D$35+D$29,D$29+15)","v":15},15,15,15,15,15]
[null,"Range (Lower)",{"$f":"IF(C$35>15,C$29-C$35,C$29-15)","v":-15},{"$f":"IF(D$35>15,D$29-D$35,D$29-15)","v":-15},-15,-15,-15,-15,-15]
[null,"PASS/FAIL",{"$f":"IF(OR(C$34=0,C$34=\"\"),\"\",\nIF(AND(C$34>=C$37,C$34<=C$36),\"PASS\",\"FAIL\"))","v":""},{"$f":"IF(OR(D$34=0,D$34=\"\"),\"\",\nIF(AND(D$34>=D$37,D$34<=D$36),\"PASS\",\"FAIL\"))","v":""},"","","","","",""]
[]
[]
[null,"Sampling Plan:","Provide description of sampling plan"]

{"sheet":"3b. Central Exhaust Duct Test","index":7,"n_rows":21,"n_cols":14,"rows_kept":21,"cut":false,"hidden":false,"merged":[[5,13,6,18],[20,1,20,2],[20,3,20,4],[1,2,1,11],[18,3,18,11],[18,1,18,2],[5,2,5,11]]}
[]
[null,"Instructions: ","Using Tables: Prior to the Proposed Design submittal, enter values in yellow cells, except for CFM50 Leakage. This section can be expanded; copy and insert rows as needed. CFM allowances will calculate automatically. Enter a description of your sampling plan and the total number of risers below the table.\n\nPrior to the As-Built submittal, enter CFM50 Leakage results from Single Point tests. \n\nPrinting: Optimized for printing in Landscape view."]
[]
[null,"Central Exhaust Ventilation Duct Leakage Summary (Single-Point tests):"]
[]
[null,"Instructions: ","Central exhaust systems that serve four or more dwelling units tested for duct leakage, where the leakage at rough-in (e.g. including trunks, branches, and take-offs) does not exceed 25% of exhaust fan flow or 30% of exhaust fan flow at final (e.g. inclusive of all ductwork between the fan and the grilles).\n\nNote: Exhaust fan flow shall be the lesser of the rated fan flow and at rough-in, 133% of the sum of the design airflow of the dwelling units that are exhausted by that central fan or at final, 143% of the sum of the design airflow of the dwelling units that are exhausted by that central fan.",null,null,null,null,null,null,null,null,null,null,"NOTES"]
[]
[null,"Fan/Shaft ID","# of units/grilles","Rate per unit/grille (CFM)","Rated Fan Flow CFM","CFM50 Leakage from Single-Point Test","Test at Final or Rough-in","% Leakage of Design CFM","Rough-in MAX CFM50","Final MAX CFM50","PASS/FAIL","Comments"]
[null,null,null,null,null,null,null,{"$f":"IFERROR($F9/$E9,\"\")","v":""},{"$f":"IF($C9=\"\",\"\",\nIF(($C9*$D9*1.33)<$E9,(0.25*1.33*$C9*$D9),(0.25*$E9)))","v":""},{"$f":"IF($C9=\"\",\"\",\nIF(($C9*$D9*1.43)<$E9,(0.3*1.43*$C9*$D9),(0.3*$E9)))","v":""},{"$f":"IF(AND(Table3b[[#This Row],[Test at Final or Rough-in]]=\"Final\",Table3b[[#This Row],[CFM50 Leakage from Single-Point Test]]<Table3b[[#This Row],[Final MAX CFM50]]),\"PASS\",\nIF(AND(Table3b[[#This Row],[Test at Final or Rough-in]]=\"Rough-In\",Table3b[[#This Row],[CFM50 Leakage from Single-Point Test]]<Table3b[[#This Row],[Rough-in MAX CFM50]]),\"PASS\",\nIF(Table3b[[#This Row],[Test at Final or Rough-in]]=\"\",\"\",\"FAIL\")))","v":""}]
[null,null,null,null,null,null,null,"",{"$f":"IF($C10=\"\",\"\",\nIF(($C10*$D10*1.33)<$E10,(0.25*1.33*$C10*$D10),(0.25*$E10)))","v":""},"",{"$f":"IF(AND(Table3b[[#This Row],[Test at Final or Rough-in]]=\"Final\",Table3b[[#This Row],[CFM50 Leakage from Single-Point Test]]<Table3b[[#This Row],[Final MAX CFM50]]),\"PASS\",\nIF(AND(Table3b[[#This Row],[Test at Final or Rough-in]]=\"Rough-In\",Table3b[[#This Row],[CFM50 Leakage from Single-Point Test]]<Table3b[[#This Row],[Rough-in MAX CFM50]]),\"PASS\",\nIF(Table3b[[#This Row],[Test at Final or Rough-in]]=\"\",\"\",\"FAIL\")))","v":""}]
[null,null,null,null,null,null,null,"","","",{"$f":"IF(AND(Table3b[[#This Row],[Test at Final or Rough-in]]=\"Final\",Table3b[[#This Row],[CFM50 Leakage from Single-Point Test]]<Table3b[[#This Row],[Final MAX CFM50]]),\"PASS\",\nIF(AND(Table3b[[#This Row],[Test at Final or Rough-in]]=\"Rough-In\",Table3b[[#This Row],[CFM50 Leakage from Single-Point Test]]<Table3b[[#This Row],[Rough-in MAX CFM50]]),\"PASS\",\nIF(Table3b[[#This Row],[Test at Final or Rough-in]]=\"\",\"\",\"FAIL\")))","v":""}]
[null,null,null,null,null,null,null,"","","",{"$f":"IF(AND(Table3b[[#This Row],[Test at Final or Rough-in]]=\"Final\",Table3b[[#This Row],[CFM50 Leakage from Single-Point Test]]<Table3b[[#This Row],[Final MAX CFM50]]),\"PASS\",\nIF(AND(Table3b[[#This Row],[Test at Final or Rough-in]]=\"Rough-In\",Table3b[[#This Row],[CFM50 Leakage from Single-Point Test]]<Table3b[[#This Row],[Rough-in MAX CFM50]]),\"PASS\",\nIF(Table3b[[#This Row],[Test at Final or Rough-in]]=\"\",\"\",\"FAIL\")))","v":""}]
[null,null,null,null,null,null,null,"","","",{"$f":"IF(AND(Table3b[[#This Row],[Test at Final or Rough-in]]=\"Final\",Table3b[[#This Row],[CFM50 Leakage from Single-Point Test]]<Table3b[[#This Row],[Final MAX CFM50]]),\"PASS\",\nIF(AND(Table3b[[#This Row],[Test at Final or Rough-in]]=\"Rough-In\",Table3b[[#This Row],[CFM50 Leakage from Single-Point Test]]<Table3b[[#This Row],[Rough-in MAX CFM50]]),\"PASS\",\nIF(Table3b[[#This Row],[Test at Final or Rough-in]]=\"\",\"\",\"FAIL\")))","v":""}]
[null,null,null,null,null,null,null,"","","",{"$f":"IF(AND(Table3b[[#This Row],[Test at Final or Rough-in]]=\"Final\",Table3b[[#This Row],[CFM50 Leakage from Single-Point Test]]<Table3b[[#This Row],[Final MAX CFM50]]),\"PASS\",\nIF(AND(Table3b[[#This Row],[Test at Final or Rough-in]]=\"Rough-In\",Table3b[[#This Row],[CFM50 Leakage from Single-Point Test]]<Table3b[[#This Row],[Rough-in MAX CFM50]]),\"PASS\",\nIF(Table3b[[#This Row],[Test at Final or Rough-in]]=\"\",\"\",\"FAIL\")))","v":""}]
[null,null,null,null,null,null,null,"","","",{"$f":"IF(AND(Table3b[[#This Row],[Test at Final or Rough-in]]=\"Final\",Table3b[[#This Row],[CFM50 Leakage from Single-Point Test]]<Table3b[[#This Row],[Final MAX CFM50]]),\"PASS\",\nIF(AND(Table3b[[#This Row],[Test at Final or Rough-in]]=\"Rough-In\",Table3b[[#This Row],[CFM50 Leakage from Single-Point Test]]<Table3b[[#This Row],[Rough-in MAX CFM50]]),\"PASS\",\nIF(Table3b[[#This Row],[Test at Final or Rough-in]]=\"\",\"\",\"FAIL\")))","v":""}]
[null,null,null,null,null,null,null,"","","",{"$f":"IF(AND(Table3b[[#This Row],[Test at Final or Rough-in]]=\"Final\",Table3b[[#This Row],[CFM50 Leakage from Single-Point Test]]<Table3b[[#This Row],[Final MAX CFM50]]),\"PASS\",\nIF(AND(Table3b[[#This Row],[Test at Final or Rough-in]]=\"Rough-In\",Table3b[[#This Row],[CFM50 Leakage from Single-Point Test]]<Table3b[[#This Row],[Rough-in MAX CFM50]]),\"PASS\",\nIF(Table3b[[#This Row],[Test at Final or Rough-in]]=\"\",\"\",\"FAIL\")))","v":""}]
[null,null,null,null,null,null,null,"","","",{"$f":"IF(AND(Table3b[[#This Row],[Test at Final or Rough-in]]=\"Final\",Table3b[[#This Row],[CFM50 Leakage from Single-Point Test]]<Table3b[[#This Row],[Final MAX CFM50]]),\"PASS\",\nIF(AND(Table3b[[#This Row],[Test at Final or Rough-in]]=\"Rough-In\",Table3b[[#This Row],[CFM50 Leakage from Single-Point Test]]<Table3b[[#This Row],[Rough-in MAX CFM50]]),\"PASS\",\nIF(Table3b[[#This Row],[Test at Final or Rough-in]]=\"\",\"\",\"FAIL\")))","v":""}]
[]
[null,"Sampling Plan:",null,"Provide description of sampling plan"]
[]
[null,"Total # of risers:"]

{"sheet":"4. Appliances","index":8,"n_rows":10,"n_cols":13,"rows_kept":10,"cut":false,"hidden":false,"merged":[[1,2,1,10],[4,1,4,10],[7,1,7,10],[7,12,8,14]]}
[]
[null,"Instructions: ","Using Tables: Providing data in yellow cells on this tab prior to the Proposed Design submittal is optional, but recommended. \n\nPrior to As-Built submittal, enter installed appliance details into all yellow and orange cells.\n\nPrinting: Optimized for both views (Portrait/Landscape)."]
[]
[null,"1. ASHRAE Path"]
[null,"Provide photo of each unique appliance model number AND provide the Energy Guide label or other documentation that confirms energy use consistent with ASHRAE Path Calculator."]
[]
[null,"2. Prescriptive Path "]
[null,"Provide photo of each unique appliance model number AND either list MFR/model in table below OR submit evidence of listing in the ENERGY STAR Product Search at time of purchase.",null,null,null,null,null,null,null,null,null,null,"NOTES"]
[]
[null,"APPLIANCE","LOCATION","QUANTITY","MFR","MODEL #","ENERGY STAR\n(Yes/No)","LOCATION\n(dwg/spec)","PLAN REVIEW","INSPECTION?","INSPECTION COMMENTS "]

{"sheet":"5. Envelope Compliance Options","index":9,"n_rows":4,"n_cols":3,"rows_kept":4,"cut":false,"hidden":false,"merged":[[1,2,1,4],[3,2,3,4]]}
[]
[null,"Instructions: ","To demonstrate compliance with the High-Performance Insulation requirements, project teams have three options to select from: R-values, U-Factors, or Total UA. Based on the descriptions below, use the drop-down to indicate your selection and the appropriate tab will be shown. \n\nEnvelope R-Values (5a): Use this tab if you want to compare your insulation to the R-Value required (Note: Projects should not use this tab if they are going through the Prescriptive Path OR if the project contains walls with uninsulated balconies, PTACS, continuous insulation that is frequently interrupted by fasteners, or floors with garages below.\n\nEnvelope U-Factors (5b): Use this tab if you want to compare the project insulation to the U-factor required. (Note: slab on grade insulation will still show an R-Value or F-Factor)\n\nTotal UA Compliance (5c): Use this tab if you want to show that the project meets the total UA option. (Note: slab on grade insulation will still show an R-Value or F-Factor)"]
[]
[null,"Which envelope compliance option does your project use?","Select Envelope Option"]

{"sheet":"5a. Envelope R-Values","index":10,"n_rows":19,"n_cols":20,"rows_kept":19,"cut":false,"hidden":true,"merged":[[8,19,9,22],[1,2,1,8],[8,3,8,4],[8,1,8,2],[5,1,5,3],[5,5,5,8],[6,1,6,8]]}
[]
[null,"Instructions: ","Using Tables: Answer \"Does this project include any of the following:\" question in the orange cell dropdown to its right. If yes, do not use this worksheet and instead use tabs 5b or 5c. If no, continue with worksheet and complete all orange and yellow cells, prior to the Proposed Design submittal. Compare specified value to ENERGY STAR requirement and use the drop-down to indicate if the components Pass or Fail. \n\nWarning: If during the course of design or construction, the certification path changes, you will need to re-select the Building Component and Component Type drop-down options.\n\nPrior to As-Built submittal, update the Installed R-value or U-factor to match as-built conditions, if different from design.\n\nNote: All door calculations are included on the \"6. Fenestration\" tab.\n\nPrinting: Optimized for Landscape view."]
[]
[null,"Mandatory Insulation Requirement Verification"]
[]
[null,"Does this project include any of the following: \n1) walls with uninsulated balconies; \n2) PTACS; \n3) continuous insulation that is frequently interrupted by fasteners; or\n4) floors with garages below.",null,null,null,{"$f":"IF($E$6=\"Yes\",\"DO NOT USE THIS WORKSHEET. USE THE TOTAL UA (5c) TAB.\",\"\")","v":""}]
[null,"This R-value compliance path is not permitted for projects with walls with uninsulated balconies, PTACs, continuous insulation that is frequently interrupted by fasteners, or floors with garages below. They must use the U-factor or total UA tabs."]
[]
[null,"Select ENERGY STAR Pathway",null,{"$f":"IF('Project Information'!$C$8=\"\",\"Complete Project Information Tab\",'Project Information'!$C$8)","v":"Complete Project Information Tab"},null,"Select ENERGY STAR Version",{"$f":"IF('Project Information'!$F$8=\"\",\"Complete Project Information Tab\",'Project Information'!$F$8)","v":"Complete Project Information Tab"},"Select ENERGY STAR Climate Zone",{"$f":"IF('Project Information'!$F$9=\"\",\"Complete Project Information Tab\",'Project Information'!$F$9)","v":"Complete Project Information Tab"},null,null,null,null,null,null,{"$f":"IF($I$9=\"CZ 1\",2,\nIF($I$9=\"CZ 2\",3,\nIF($I$9=\"CZ 3\",4,\nIF($I$9=\"CZ 4\",5,\nIF($I$9=\"CZ 4 C\",6,\nIF($I$9=\"CZ 5\",7,\nIF($I$9=\"CZ 6\",8,\nIF($I$9=\"CZ 7\",9,\nIF($I$9=\"CZ 8\",10,\"\")))))))))","v":""},"<< CZ Reference Table Index",null,null,"Notes"]
[null,null,null,"hide",null,null,null,null,null,null,null,null,null,null,"hide","hide","hide","hide"]
[null,"Assembly Name","Dwelling or Common?","Building_Component_Lookup","Building Component","Component Type\n(N/A for Prescriptive Dwelling Unit)","ENERGY STAR Requirement","Specified/Installed R-value or U-Factor","PASS/FAIL","Description of Layers","Location\n(dwg/spec)\n(Optional)","Plan Review\n(Optional)","Inspection?\n(Optional)","Inspection Comments\n(Optional)","Component_Lookup","Lookup Table","ESRefDesign Row Lookups","Row Lookups Index"]
[null,null,null,{"$f":"IF(AND($G$9=\"Version 1.2 OR+WA\",$D$9=\"Prescriptive\"),\"BuildingComponents_ESRefListv12\",\nIF(AND($G$9=\"Version 1.2 OR+WA\",$D$9=\"ERI\",Table5a[[#This Row],[Dwelling or Common?]]=\"Common\"),\"BuildingComponents_ESRefListv12\",\nIF(AND(Table5a[[#This Row],[Dwelling or Common?]]=\"Dwelling\",$D$9=\"Prescriptive\"),\"BuildingComponents_ESRefList\",\nIF(Table5a[[#This Row],[Dwelling or Common?]]=\"Dwelling\",\"BuildingComponents_IECCList\",\n\nIF(AND(Table5a[[#This Row],[Dwelling or Common?]]=\"Common\",$D$9=\"Prescriptive\"),\"BuildingComponents_IECCList\",\nIF(AND(Table5a[[#This Row],[Dwelling or Common?]]=\"Common\",OR($D$9=\"ERI\",$D$9=\"Title 24 - Dwelling Unit Models\")),\"BuildingComponents_IECCList\",\nIF(AND(Table5a[[#This Row],[Dwelling or Common?]]=\"Common\",OR($D$9=\"ASHRAE\",$D$9=\"Title 24 - Whole Building Models\")),\"BuildingComponents_IECCList\",\"\")))))))","v":""},null,null,{"$f":"IFERROR(IF(AND($G$9=\"Version 1.2 OR+WA\",OR($I$9=\"CZ 1\",$I$9=\"CZ 2\",$I$9=\"CZ 3\",$I$9=\"CZ 4\",$I$9=\"CZ 7\",$I$9=\"CZ 8\")),\"N/A - Update CZ\",\n\nIF(Table5a[[#This Row],[Lookup Table]]=\"ESRefDesign_Insulation_V1\",INDEX(INDIRECT(Table5a[[#This Row],[Lookup Table]]),Table5a[[#This Row],[Row Lookups Index]],$P$9),\nIF(Table5a[[#This Row],[Lookup Table]]=\"ESRefDesign_Insulation_V11\",INDEX(INDIRECT(Table5a[[#This Row],[Lookup Table]]),Table5a[[#This Row],[Row Lookups Index]],$P$9),\nIF(Table5a[[#This Row],[Lookup Table]]=\"ESRefDesign_Insulation_V12\",INDEX(INDIRECT(Table5a[[#This Row],[Lookup Table]]),Table5a[[#This Row],[Row Lookups Index]],2),\n\nIF(Table5a[[#This Row],[Lookup Table]]=\"IECC2009_R\",INDEX(INDIRECT(Table5a[[#This Row],[ESRefDesign Row Lookups]]),Table5a[[#This Row],[Row Lookups Index]],$P$9),\nIF(Table5a[[#This Row],[Lookup Table]]=\"IECC2009_O\",INDEX(INDIRECT(Table5a[[#This Row],[ESRefDesign Row Lookups]]),Table5a[[#This Row],[Row Lookups Index]],$P$9),\n\nIF(Table5a[[#This Row],[Lookup Table]]=\"IECC2012_R\",INDEX(INDIRECT(Table5a[[#This Row],[ESRefDesign Row Lookups]]),Table5a[[#This Row],[Row Lookups Index]],$P$9),\nIF(Table5a[[#This Row],[Lookup Table]]=\"IECC2012_O\",INDEX(INDIRECT(Table5a[[#This Row],[ESRefDesign Row Lookups]]),Table5a[[#This Row],[Row Lookups Index]],$P$9),\n\n\"\")))))))),\"\")","v":""},null,null,null,null,null,null,null,{"$f":"IF(OR(Table5a[[#This Row],[Building_Component_Lookup]]=\"BuildingComponents_ESRefList\",Table5a[[#This Row],[Building_Component_Lookup]]=\"BuildingComponents_ESRefListv12\"),\"ESRefNoCom\",\nIF(Table5a[[#This Row],[Building Component]]=\"Roofs\",\"Roofs\",\nIF(Table5a[[#This Row],[Building Component]]=\"Walls, Above Grade\",\"WallsAboveGrade\",\nIF(Table5a[[#This Row],[Building Component]]=\"Walls, Below Grade\",\"WallsBelowGrade\",\nIF(Table5a[[#This Row],[Building Component]]=\"Floors\",\"Floors\",\nIF(Table5a[[#This Row],[Building Component]]=\"Slab-on-Grade Floors\",\"SlabOnGradeFloors\",\nIF(Table5a[[#This Row],[Building Component]]=\"Opaque Doors\",\"OpaqueDoors\",\"\")))))))","v":""},{"$f":"IF(AND(Table5a[[#This Row],[Dwelling or Common?]]=\"Dwelling\",$D$9=\"Prescriptive\",$G$9=\"Version 1\"),\"ESRefDesign_Insulation_V1\",\nIF(AND(Table5a[[#This Row],[Dwelling or Common?]]=\"Dwelling\",$D$9=\"Prescriptive\",$G$9=\"Version 1.1\"),\"ESRefDesign_Insulation_V11\",\n\nIF(AND($G$9=\"Version 1.2 OR+WA\",$D$9=\"Prescriptive\"),\"ESRefDesign_Insulation_V12\",\n\nIF(Table5a[[#This Row],[Dwelling or Common?]]=\"Dwelling\",\"IECC2009_R\",\n\nIF(AND(Table5a[[#This Row],[Dwelling or Common?]]=\"Common\",$D$9=\"Prescriptive\",$G$9=\"Version 1\"),\"IECC2009_O\",\nIF(AND(Table5a[[#This Row],[Dwelling or Common?]]=\"Common\",$D$9=\"Prescriptive\",$G$9=\"Version 1.1\"),\"IECC2012_O\",\n\nIF(AND(Table5a[[#This Row],[Dwelling or Common?]]=\"Common\",OR($D$9=\"ERI\",$D$9=\"Title 24 - Dwelling Unit Models\"),$G$9=\"Version 1\"),\"IECC2009_O\",\nIF(AND(Table5a[[#This Row],[Dwelling or Common?]]=\"Common\",OR($D$9=\"ERI\",$D$9=\"Title 24 - Dwelling Unit Models\"),$G$9=\"Version 1.1\"),\"IECC2012_O\",\nIF(AND(Table5a[[#This Row],[Dwelling or Common?]]=\"Common\",OR($D$9=\"ERI\",$D$9=\"Title 24 - Dwelling Unit Models\"),$G$9=\"Version 1.2 OR+WA\"),\"ESRefDesign_Insulation_V12\",\n\nIF(AND(Table5a[[#This Row],[Dwelling or Common?]]=\"Common\",OR($D$9=\"ASHRAE\",$D$9=\"Title 24 - Whole Building Models\")),\"IECC2009_O\",\"\"\n))))))))))","v":""},{"$f":"IF(Table5a[[#This Row],[Building Component]]=\"Slab Insulation\",\"Slab Insulation R-Value:\",\nIF(Table5a[[#This Row],[Building Component]]=\"Basement Wall Continuous Insulation\",\"Basement Wall Continuous Insulation R-Value:\",\nIF(Table5a[[#This Row],[Building Component]]=\"Floor Assembly\", \"Floor Assembly U-Factor:\",\nIF(Table5a[[#This Row],[Building Component]]=\"Wall Assembly\", \"Wall Assembly U-Factor:\",\nIF(Table5a[[#This Row],[Building Component]]=\"Ceiling Assembly\", \"Ceiling Assembly U-Factor:\",\n\nTable5a[[#This Row],[Lookup Table]]&\"_\"&Table5a[[#This Row],[Component_Lookup]])\n))))","v":"_"},{"$f":"IF(Table5a[[#This Row],[ESRefDesign Row Lookups]]=\"Slab Insulation R-Value:\",1,\nIF(Table5a[[#This Row],[ESRefDesign Row Lookups]]=\"Slab Insulation Depth (ft):\",2,\nIF(Table5a[[#This Row],[ESRefDesign Row Lookups]]=\"Basement Wall Continuous Insulation R-Value:\",3,\nIF(Table5a[[#This Row],[ESRefDesign Row Lookups]]=\"Floor Assembly U-Factor:\",4,\nIF(Table5a[[#This Row],[ESRefDesign Row Lookups]]=\"Wall Assembly U-Factor:\",5,\nIF(Table5a[[#This Row],[ESRefDesign Row Lookups]]=\"Ceiling Assembly U-Factor:\",6,\n\nIF(Table5a[[#This Row],[Building Component]]=\"Above-Grade Wall\",1,\nIF(Table5a[[#This Row],[Building Component]]=\"Ceiling\",2,\nIF(Table5a[[#This Row],[Building Component]]=\"Floor\",3,\nIF(Table5a[[#This Row],[Building Component]]=\"Basement Wall\",4,\nIF(Table5a[[#This Row],[Building Component]]=\"On-Grade & Below Grade Slab\",5,\n\nIF(Table5a[[#This Row],[Component Type\n(N/A for Prescriptive Dwelling Unit)]]=\"Insulation entirely above deck\",1,\nIF(Table5a[[#This Row],[Component Type\n(N/A for Prescriptive Dwelling Unit)]]=\"Metal buildings (with R-5 thermal blocks)\",2,\nIF(Table5a[[#This Row],[Component Type\n(N/A for Prescriptive Dwelling Unit)]]=\"Attic and other\",3,\n\nIF(Table5a[[#This Row],[Component Type\n(N/A for Prescriptive Dwelling Unit)]]=\"Mass\",1,\nIF(Table5a[[#This Row],[Component Type\n(N/A for Prescriptive Dwelling Unit)]]=\"Metal building\",2,\nIF(Table5a[[#This Row],[Component Type\n(N/A for Prescriptive Dwelling Unit)]]=\"Metal framed\",3,\nIF(Table5a[[#This Row],[Component Type\n(N/A for Prescriptive Dwelling Unit)]]=\"Wood framed and other\",4,\n\nIF(Table5a[[#This Row],[Component Type\n(N/A for Prescriptive Dwelling Unit)]]=\"Below grade wall\",1,\n\nIF(Table5a[[#This Row],[Component Type\n(N/A for Prescriptive Dwelling Unit)]]=\"Mass\",1,\nIF(Table5a[[#This Row],[Component Type\n(N/A for Prescriptive Dwelling Unit)]]=\"Joist/framing\nSteel/(wood)\",2,\n\nIF(Table5a[[#This Row],[Component Type\n(N/A for Prescriptive Dwelling Unit)]]=\"Unheated slabs\",1,\nIF(Table5a[[#This Row],[Component Type\n(N/A for Prescriptive Dwelling Unit)]]=\"Heated slabs\",2,\n\nIF(Table5a[[#This Row],[Component Type\n(N/A for Prescriptive Dwelling Unit)]]=\"Swinging\",1,\nIF(Table5a[[#This Row],[Component Type\n(N/A for Prescriptive Dwelling Unit)]]=\"Roll-up or sliding\",2,\n\n\"ADD IN IECC TABLE INDEX VALUES\")))))))))))))))))))))))))","v":"ADD IN IECC TABLE INDEX VALUES"}]
[null,null,null,{"$f":"IF(AND($G$9=\"Version 1.2 OR+WA\",$D$9=\"Prescriptive\"),\"BuildingComponents_ESRefListv12\",\nIF(AND($G$9=\"Version 1.2 OR+WA\",$D$9=\"ERI\",Table5a[[#This Row],[Dwelling or Common?]]=\"Common\"),\"BuildingComponents_ESRefListv12\",\nIF(AND(Table5a[[#This Row],[Dwelling or Common?]]=\"Dwelling\",$D$9=\"Prescriptive\"),\"BuildingComponents_ESRefList\",\nIF(Table5a[[#This Row],[Dwelling or Common?]]=\"Dwelling\",\"BuildingComponents_IECCList\",\n\nIF(AND(Table5a[[#This Row],[Dwelling or Common?]]=\"Common\",$D$9=\"Prescriptive\"),\"BuildingComponents_IECCList\",\nIF(AND(Table5a[[#This Row],[Dwelling or Common?]]=\"Common\",OR($D$9=\"ERI\",$D$9=\"Title 24 - Dwelling Unit Models\")),\"BuildingComponents_IECCList\",\nIF(AND(Table5a[[#This Row],[Dwelling or Common?]]=\"Common\",OR($D$9=\"ASHRAE\",$D$9=\"Title 24 - Whole Building Models\")),\"BuildingComponents_IECCList\",\"\")))))))","v":""},null,null,{"$f":"IFERROR(IF(AND($G$9=\"Version 1.2 OR+WA\",OR($I$9=\"CZ 1\",$I$9=\"CZ 2\",$I$9=\"CZ 3\",$I$9=\"CZ 4\",$I$9=\"CZ 7\",$I$9=\"CZ 8\")),\"N/A - Update CZ\",\n\nIF(Table5a[[#This Row],[Lookup Table]]=\"ESRefDesign_Insulation_V1\",INDEX(INDIRECT(Table5a[[#This Row],[Lookup Table]]),Table5a[[#This Row],[Row Lookups Index]],$P$9),\nIF(Table5a[[#This Row],[Lookup Table]]=\"ESRefDesign_Insulation_V11\",INDEX(INDIRECT(Table5a[[#This Row],[Lookup Table]]),Table5a[[#This Row],[Row Lookups Index]],$P$9),\nIF(Table5a[[#This Row],[Lookup Table]]=\"ESRefDesign_Insulation_V12\",INDEX(INDIRECT(Table5a[[#This Row],[Lookup Table]]),Table5a[[#This Row],[Row Lookups Index]],2),\n\nIF(Table5a[[#This Row],[Lookup Table]]=\"IECC2009_R\",INDEX(INDIRECT(Table5a[[#This Row],[ESRefDesign Row Lookups]]),Table5a[[#This Row],[Row Lookups Index]],$P$9),\nIF(Table5a[[#This Row],[Lookup Table]]=\"IECC2009_O\",INDEX(INDIRECT(Table5a[[#This Row],[ESRefDesign Row Lookups]]),Table5a[[#This Row],[Row Lookups Index]],$P$9),\n\nIF(Table5a[[#This Row],[Lookup Table]]=\"IECC2012_R\",INDEX(INDIRECT(Table5a[[#This Row],[ESRefDesign Row Lookups]]),Table5a[[#This Row],[Row Lookups Index]],$P$9),\nIF(Table5a[[#This Row],[Lookup Table]]=\"IECC2012_O\",INDEX(INDIRECT(Table5a[[#This Row],[ESRefDesign Row Lookups]]),Table5a[[#This Row],[Row Lookups Index]],$P$9),\n\n\"\")))))))),\"\")","v":""},null,null,null,null,null,null,null,{"$f":"IF(OR(Table5a[[#This Row],[Building_Component_Lookup]]=\"BuildingComponents_ESRefList\",Table5a[[#This Row],[Building_Component_Lookup]]=\"BuildingComponents_ESRefListv12\"),\"ESRefNoCom\",\nIF(Table5a[[#This Row],[Building Component]]=\"Roofs\",\"Roofs\",\nIF(Table5a[[#This Row],[Building Component]]=\"Walls, Above Grade\",\"WallsAboveGrade\",\nIF(Table5a[[#This Row],[Building Component]]=\"Walls, Below Grade\",\"WallsBelowGrade\",\nIF(Table5a[[#This Row],[Building Component]]=\"Floors\",\"Floors\",\nIF(Table5a[[#This Row],[Building Component]]=\"Slab-on-Grade Floors\",\"SlabOnGradeFloors\",\nIF(Table5a[[#This Row],[Building Component]]=\"Opaque Doors\",\"OpaqueDoors\",\"\")))))))","v":""},{"$f":"IF(AND(Table5a[[#This Row],[Dwelling or Common?]]=\"Dwelling\",$D$9=\"Prescriptive\",$G$9=\"Version 1\"),\"ESRefDesign_Insulation_V1\",\nIF(AND(Table5a[[#This Row],[Dwelling or Common?]]=\"Dwelling\",$D$9=\"Prescriptive\",$G$9=\"Version 1.1\"),\"ESRefDesign_Insulation_V11\",\n\nIF(AND($G$9=\"Version 1.2 OR+WA\",$D$9=\"Prescriptive\"),\"ESRefDesign_Insulation_V12\",\n\nIF(Table5a[[#This Row],[Dwelling or Common?]]=\"Dwelling\",\"IECC2009_R\",\n\nIF(AND(Table5a[[#This Row],[Dwelling or Common?]]=\"Common\",$D$9=\"Prescriptive\",$G$9=\"Version 1\"),\"IECC2009_O\",\nIF(AND(Table5a[[#This Row],[Dwelling or Common?]]=\"Common\",$D$9=\"Prescriptive\",$G$9=\"Version 1.1\"),\"IECC2012_O\",\n\nIF(AND(Table5a[[#This Row],[Dwelling or Common?]]=\"Common\",OR($D$9=\"ERI\",$D$9=\"Title 24 - Dwelling Unit Models\"),$G$9=\"Version 1\"),\"IECC2009_O\",\nIF(AND(Table5a[[#This Row],[Dwelling or Common?]]=\"Common\",OR($D$9=\"ERI\",$D$9=\"Title 24 - Dwelling Unit Models\"),$G$9=\"Version 1.1\"),\"IECC2012_O\",\nIF(AND(Table5a[[#This Row],[Dwelling or Common?]]=\"Common\",OR($D$9=\"ERI\",$D$9=\"Title 24 - Dwelling Unit Models\"),$G$9=\"Version 1.2 OR+WA\"),\"ESRefDesign_Insulation_V12\",\n\nIF(AND(Table5a[[#This Row],[Dwelling or Common?]]=\"Common\",OR($D$9=\"ASHRAE\",$D$9=\"Title 24 - Whole Building Models\")),\"IECC2009_O\",\"\"\n))))))))))","v":""},{"$f":"IF(Table5a[[#This Row],[Building Component]]=\"Slab Insulation\",\"Slab Insulation R-Value:\",\nIF(Table5a[[#This Row],[Building Component]]=\"Basement Wall Continuous Insulation\",\"Basement Wall Continuous Insulation R-Value:\",\nIF(Table5a[[#This Row],[Building Component]]=\"Floor Assembly\", \"Floor Assembly U-Factor:\",\nIF(Table5a[[#This Row],[Building Component]]=\"Wall Assembly\", \"Wall Assembly U-Factor:\",\nIF(Table5a[[#This Row],[Building Component]]=\"Ceiling Assembly\", \"Ceiling Assembly U-Factor:\",\n\nTable5a[[#This Row],[Lookup Table]]&\"_\"&Table5a[[#This Row],[Component_Lookup]])\n))))","v":"_"},{"$f":"IF(Table5a[[#This Row],[ESRefDesign Row Lookups]]=\"Slab Insulation R-Value:\",1,\nIF(Table5a[[#This Row],[ESRefDesign Row Lookups]]=\"Slab Insulation Depth (ft):\",2,\nIF(Table5a[[#This Row],[ESRefDesign Row Lookups]]=\"Basement Wall Continuous Insulation R-Value:\",3,\nIF(Table5a[[#This Row],[ESRefDesign Row Lookups]]=\"Floor Assembly U-Factor:\",4,\nIF(Table5a[[#This Row],[ESRefDesign Row Lookups]]=\"Wall Assembly U-Factor:\",5,\nIF(Table5a[[#This Row],[ESRefDesign Row Lookups]]=\"Ceiling Assembly U-Factor:\",6,\n\nIF(Table5a[[#This Row],[Building Component]]=\"Above-Grade Wall\",1,\nIF(Table5a[[#This Row],[Building Component]]=\"Ceiling\",2,\nIF(Table5a[[#This Row],[Building Component]]=\"Floor\",3,\nIF(Table5a[[#This Row],[Building Component]]=\"Basement Wall\",4,\nIF(Table5a[[#This Row],[Building Component]]=\"On-Grade & Below Grade Slab\",5,\n\nIF(Table5a[[#This Row],[Component Type\n(N/A for Prescriptive Dwelling Unit)]]=\"Insulation entirely above deck\",1,\nIF(Table5a[[#This Row],[Component Type\n(N/A for Prescriptive Dwelling Unit)]]=\"Metal buildings (with R-5 thermal blocks)\",2,\nIF(Table5a[[#This Row],[Component Type\n(N/A for Prescriptive Dwelling Unit)]]=\"Attic and other\",3,\n\nIF(Table5a[[#This Row],[Component Type\n(N/A for Prescriptive Dwelling Unit)]]=\"Mass\",1,\nIF(Table5a[[#This Row],[Component Type\n(N/A for Prescriptive Dwelling Unit)]]=\"Metal building\",2,\nIF(Table5a[[#This Row],[Component Type\n(N/A for Prescriptive Dwelling Unit)]]=\"Metal framed\",3,\nIF(Table5a[[#This Row],[Component Type\n(N/A for Prescriptive Dwelling Unit)]]=\"Wood framed and other\",4,\n\nIF(Table5a[[#This Row],[Component Type\n(N/A for Prescriptive Dwelling Unit)]]=\"Below grade wall\",1,\n\nIF(Table5a[[#This Row],[Component Type\n(N/A for Prescriptive Dwelling Unit)]]=\"Mass\",1,\nIF(Table5a[[#This Row],[Component Type\n(N/A for Prescriptive Dwelling Unit)]]=\"Joist/framing\nSteel/(wood)\",2,\n\nIF(Table5a[[#This Row],[Component Type\n(N/A for Prescriptive Dwelling Unit)]]=\"Unheated slabs\",1,\nIF(Table5a[[#This Row],[Component Type\n(N/A for Prescriptive Dwelling Unit)]]=\"Heated slabs\",2,\n\nIF(Table5a[[#This Row],[Component Type\n(N/A for Prescriptive Dwelling Unit)]]=\"Swinging\",1,\nIF(Table5a[[#This Row],[Component Type\n(N/A for Prescriptive Dwelling Unit)]]=\"Roll-up or sliding\",2,\n\n\"ADD IN IECC TABLE INDEX VALUES\")))))))))))))))))))))))))","v":"ADD IN IECC TABLE INDEX VALUES"}]
[null,null,null,{"$f":"IF(AND($G$9=\"Version 1.2 OR+WA\",$D$9=\"Prescriptive\"),\"BuildingComponents_ESRefListv12\",\nIF(AND($G$9=\"Version 1.2 OR+WA\",$D$9=\"ERI\",Table5a[[#This Row],[Dwelling or Common?]]=\"Common\"),\"BuildingComponents_ESRefListv12\",\nIF(AND(Table5a[[#This Row],[Dwelling or Common?]]=\"Dwelling\",$D$9=\"Prescriptive\"),\"BuildingComponents_ESRefList\",\nIF(Table5a[[#This Row],[Dwelling or Common?]]=\"Dwelling\",\"BuildingComponents_IECCList\",\n\nIF(AND(Table5a[[#This Row],[Dwelling or Common?]]=\"Common\",$D$9=\"Prescriptive\"),\"BuildingComponents_IECCList\",\nIF(AND(Table5a[[#This Row],[Dwelling or Common?]]=\"Common\",OR($D$9=\"ERI\",$D$9=\"Title 24 - Dwelling Unit Models\")),\"BuildingComponents_IECCList\",\nIF(AND(Table5a[[#This Row],[Dwelling or Common?]]=\"Common\",OR($D$9=\"ASHRAE\",$D$9=\"Title 24 - Whole Building Models\")),\"BuildingComponents_IECCList\",\"\")))))))","v":""},null,null,{"$f":"IFERROR(IF(AND($G$9=\"Version 1.2 OR+WA\",OR($I$9=\"CZ 1\",$I$9=\"CZ 2\",$I$9=\"CZ 3\",$I$9=\"CZ 4\",$I$9=\"CZ 7\",$I$9=\"CZ 8\")),\"N/A - Update CZ\",\n\nIF(Table5a[[#This Row],[Lookup Table]]=\"ESRefDesign_Insulation_V1\",INDEX(INDIRECT(Table5a[[#This Row],[Lookup Table]]),Table5a[[#This Row],[Row Lookups Index]],$P$9),\nIF(Table5a[[#This Row],[Lookup Table]]=\"ESRefDesign_Insulation_V11\",INDEX(INDIRECT(Table5a[[#This Row],[Lookup Table]]),Table5a[[#This Row],[Row Lookups Index]],$P$9),\nIF(Table5a[[#This Row],[Lookup Table]]=\"ESRefDesign_Insulation_V12\",INDEX(INDIRECT(Table5a[[#This Row],[Lookup Table]]),Table5a[[#This Row],[Row Lookups Index]],2),\n\nIF(Table5a[[#This Row],[Lookup Table]]=\"IECC2009_R\",INDEX(INDIRECT(Table5a[[#This Row],[ESRefDesign Row Lookups]]),Table5a[[#This Row],[Row Lookups Index]],$P$9),\nIF(Table5a[[#This Row],[Lookup Table]]=\"IECC2009_O\",INDEX(INDIRECT(Table5a[[#This Row],[ESRefDesign Row Lookups]]),Table5a[[#This Row],[Row Lookups Index]],$P$9),\n\nIF(Table5a[[#This Row],[Lookup Table]]=\"IECC2012_R\",INDEX(INDIRECT(Table5a[[#This Row],[ESRefDesign Row Lookups]]),Table5a[[#This Row],[Row Lookups Index]],$P$9),\nIF(Table5a[[#This Row],[Lookup Table]]=\"IECC2012_O\",INDEX(INDIRECT(Table5a[[#This Row],[ESRefDesign Row Lookups]]),Table5a[[#This Row],[Row Lookups Index]],$P$9),\n\n\"\")))))))),\"\")","v":""},null,null,null,null,null,null,null,{"$f":"IF(OR(Table5a[[#This Row],[Building_Component_Lookup]]=\"BuildingComponents_ESRefList\",Table5a[[#This Row],[Building_Component_Lookup]]=\"BuildingComponents_ESRefListv12\"),\"ESRefNoCom\",\nIF(Table5a[[#This Row],[Building Component]]=\"Roofs\",\"Roofs\",\nIF(Table5a[[#This Row],[Building Component]]=\"Walls, Above Grade\",\"WallsAboveGrade\",\nIF(Table5a[[#This Row],[Building Component]]=\"Walls, Below Grade\",\"WallsBelowGrade\",\nIF(Table5a[[#This Row],[Building Component]]=\"Floors\",\"Floors\",\nIF(Table5a[[#This Row],[Building Component]]=\"Slab-on-Grade Floors\",\"SlabOnGradeFloors\",\nIF(Table5a[[#This Row],[Building Component]]=\"Opaque Doors\",\"OpaqueDoors\",\"\")))))))","v":""},{"$f":"IF(AND(Table5a[[#This Row],[Dwelling or Common?]]=\"Dwelling\",$D$9=\"Prescriptive\",$G$9=\"Version 1\"),\"ESRefDesign_Insulation_V1\",\nIF(AND(Table5a[[#This Row],[Dwelling or Common?]]=\"Dwelling\",$D$9=\"Prescriptive\",$G$9=\"Version 1.1\"),\"ESRefDesign_Insulation_V11\",\n\nIF(AND($G$9=\"Version 1.2 OR+WA\",$D$9=\"Prescriptive\"),\"ESRefDesign_Insulation_V12\",\n\nIF(Table5a[[#This Row],[Dwelling or Common?]]=\"Dwelling\",\"IECC2009_R\",\n\nIF(AND(Table5a[[#This Row],[Dwelling or Common?]]=\"Common\",$D$9=\"Prescriptive\",$G$9=\"Version 1\"),\"IECC2009_O\",\nIF(AND(Table5a[[#This Row],[Dwelling or Common?]]=\"Common\",$D$9=\"Prescriptive\",$G$9=\"Version 1.1\"),\"IECC2012_O\",\n\nIF(AND(Table5a[[#This Row],[Dwelling or Common?]]=\"Common\",OR($D$9=\"ERI\",$D$9=\"Title 24 - Dwelling Unit Models\"),$G$9=\"Version 1\"),\"IECC2009_O\",\nIF(AND(Table5a[[#This Row],[Dwelling or Common?]]=\"Common\",OR($D$9=\"ERI\",$D$9=\"Title 24 - Dwelling Unit Models\"),$G$9=\"Version 1.1\"),\"IECC2012_O\",\nIF(AND(Table5a[[#This Row],[Dwelling or Common?]]=\"Common\",OR($D$9=\"ERI\",$D$9=\"Title 24 - Dwelling Unit Models\"),$G$9=\"Version 1.2 OR+WA\"),\"ESRefDesign_Insulation_V12\",\n\nIF(AND(Table5a[[#This Row],[Dwelling or Common?]]=\"Common\",OR($D$9=\"ASHRAE\",$D$9=\"Title 24 - Whole Building Models\")),\"IECC2009_O\",\"\"\n))))))))))","v":""},{"$f":"IF(Table5a[[#This Row],[Building Component]]=\"Slab Insulation\",\"Slab Insulation R-Value:\",\nIF(Table5a[[#This Row],[Building Component]]=\"Basement Wall Continuous Insulation\",\"Basement Wall Continuous Insulation R-Value:\",\nIF(Table5a[[#This Row],[Building Component]]=\"Floor Assembly\", \"Floor Assembly U-Factor:\",\nIF(Table5a[[#This Row],[Building Component]]=\"Wall Assembly\", \"Wall Assembly U-Factor:\",\nIF(Table5a[[#This Row],[Building Component]]=\"Ceiling Assembly\", \"Ceiling Assembly U-Factor:\",\n\nTable5a[[#This Row],[Lookup Table]]&\"_\"&Table5a[[#This Row],[Component_Lookup]])\n))))","v":"_"},{"$f":"IF(Table5a[[#This Row],[ESRefDesign Row Lookups]]=\"Slab Insulation R-Value:\",1,\nIF(Table5a[[#This Row],[ESRefDesign Row Lookups]]=\"Slab Insulation Depth (ft):\",2,\nIF(Table5a[[#This Row],[ESRefDesign Row Lookups]]=\"Basement Wall Continuous Insulation R-Value:\",3,\nIF(Table5a[[#This Row],[ESRefDesign Row Lookups]]=\"Floor Assembly U-Factor:\",4,\nIF(Table5a[[#This Row],[ESRefDesign Row Lookups]]=\"Wall Assembly U-Factor:\",5,\nIF(Table5a[[#This Row],[ESRefDesign Row Lookups]]=\"Ceiling Assembly U-Factor:\",6,\n\nIF(Table5a[[#This Row],[Building Component]]=\"Above-Grade Wall\",1,\nIF(Table5a[[#This Row],[Building Component]]=\"Ceiling\",2,\nIF(Table5a[[#This Row],[Building Component]]=\"Floor\",3,\nIF(Table5a[[#This Row],[Building Component]]=\"Basement Wall\",4,\nIF(Table5a[[#This Row],[Building Component]]=\"On-Grade & Below Grade Slab\",5,\n\nIF(Table5a[[#This Row],[Component Type\n(N/A for Prescriptive Dwelling Unit)]]=\"Insulation entirely above deck\",1,\nIF(Table5a[[#This Row],[Component Type\n(N/A for Prescriptive Dwelling Unit)]]=\"Metal buildings (with R-5 thermal blocks)\",2,\nIF(Table5a[[#This Row],[Component Type\n(N/A for Prescriptive Dwelling Unit)]]=\"Attic and other\",3,\n\nIF(Table5a[[#This Row],[Component Type\n(N/A for Prescriptive Dwelling Unit)]]=\"Mass\",1,\nIF(Table5a[[#This Row],[Component Type\n(N/A for Prescriptive Dwelling Unit)]]=\"Metal building\",2,\nIF(Table5a[[#This Row],[Component Type\n(N/A for Prescriptive Dwelling Unit)]]=\"Metal framed\",3,\nIF(Table5a[[#This Row],[Component Type\n(N/A for Prescriptive Dwelling Unit)]]=\"Wood framed and other\",4,\n\nIF(Table5a[[#This Row],[Component Type\n(N/A for Prescriptive Dwelling Unit)]]=\"Below grade wall\",1,\n\nIF(Table5a[[#This Row],[Component Type\n(N/A for Prescriptive Dwelling Unit)]]=\"Mass\",1,\nIF(Table5a[[#This Row],[Component Type\n(N/A for Prescriptive Dwelling Unit)]]=\"Joist/framing\nSteel/(wood)\",2,\n\nIF(Table5a[[#This Row],[Component Type\n(N/A for Prescriptive Dwelling Unit)]]=\"Unheated slabs\",1,\nIF(Table5a[[#This Row],[Component Type\n(N/A for Prescriptive Dwelling Unit)]]=\"Heated slabs\",2,\n\nIF(Table5a[[#This Row],[Component Type\n(N/A for Prescriptive Dwelling Unit)]]=\"Swinging\",1,\nIF(Table5a[[#This Row],[Component Type\n(N/A for Prescriptive Dwelling Unit)]]=\"Roll-up or sliding\",2,\n\n\"ADD IN IECC TABLE INDEX VALUES\")))))))))))))))))))))))))","v":"ADD IN IECC TABLE INDEX VALUES"}]
[null,null,null,{"$f":"IF(AND($G$9=\"Version 1.2 OR+WA\",$D$9=\"Prescriptive\"),\"BuildingComponents_ESRefListv12\",\nIF(AND($G$9=\"Version 1.2 OR+WA\",$D$9=\"ERI\",Table5a[[#This Row],[Dwelling or Common?]]=\"Common\"),\"BuildingComponents_ESRefListv12\",\nIF(AND(Table5a[[#This Row],[Dwelling or Common?]]=\"Dwelling\",$D$9=\"Prescriptive\"),\"BuildingComponents_ESRefList\",\nIF(Table5a[[#This Row],[Dwelling or Common?]]=\"Dwelling\",\"BuildingComponents_IECCList\",\n\nIF(AND(Table5a[[#This Row],[Dwelling or Common?]]=\"Common\",$D$9=\"Prescriptive\"),\"BuildingComponents_IECCList\",\nIF(AND(Table5a[[#This Row],[Dwelling or Common?]]=\"Common\",OR($D$9=\"ERI\",$D$9=\"Title 24 - Dwelling Unit Models\")),\"BuildingComponents_IECCList\",\nIF(AND(Table5a[[#This Row],[Dwelling or Common?]]=\"Common\",OR($D$9=\"ASHRAE\",$D$9=\"Title 24 - Whole Building Models\")),\"BuildingComponents_IECCList\",\"\")))))))","v":""},null,null,{"$f":"IFERROR(IF(AND($G$9=\"Version 1.2 OR+WA\",OR($I$9=\"CZ 1\",$I$9=\"CZ 2\",$I$9=\"CZ 3\",$I$9=\"CZ 4\",$I$9=\"CZ 7\",$I$9=\"CZ 8\")),\"N/A - Update CZ\",\n\nIF(Table5a[[#This Row],[Lookup Table]]=\"ESRefDesign_Insulation_V1\",INDEX(INDIRECT(Table5a[[#This Row],[Lookup Table]]),Table5a[[#This Row],[Row Lookups Index]],$P$9),\nIF(Table5a[[#This Row],[Lookup Table]]=\"ESRefDesign_Insulation_V11\",INDEX(INDIRECT(Table5a[[#This Row],[Lookup Table]]),Table5a[[#This Row],[Row Lookups Index]],$P$9),\nIF(Table5a[[#This Row],[Lookup Table]]=\"ESRefDesign_Insulation_V12\",INDEX(INDIRECT(Table5a[[#This Row],[Lookup Table]]),Table5a[[#This Row],[Row Lookups Index]],2),\n\nIF(Table5a[[#This Row],[Lookup Table]]=\"IECC2009_R\",INDEX(INDIRECT(Table5a[[#This Row],[ESRefDesign Row Lookups]]),Table5a[[#This Row],[Row Lookups Index]],$P$9),\nIF(Table5a[[#This Row],[Lookup Table]]=\"IECC2009_O\",INDEX(INDIRECT(Table5a[[#This Row],[ESRefDesign Row Lookups]]),Table5a[[#This Row],[Row Lookups Index]],$P$9),\n\nIF(Table5a[[#This Row],[Lookup Table]]=\"IECC2012_R\",INDEX(INDIRECT(Table5a[[#This Row],[ESRefDesign Row Lookups]]),Table5a[[#This Row],[Row Lookups Index]],$P$9),\nIF(Table5a[[#This Row],[Lookup Table]]=\"IECC2012_O\",INDEX(INDIRECT(Table5a[[#This Row],[ESRefDesign Row Lookups]]),Table5a[[#This Row],[Row Lookups Index]],$P$9),\n\n\"\")))))))),\"\")","v":""},null,null,null,null,null,null,null,{"$f":"IF(OR(Table5a[[#This Row],[Building_Component_Lookup]]=\"BuildingComponents_ESRefList\",Table5a[[#This Row],[Building_Component_Lookup]]=\"BuildingComponents_ESRefListv12\"),\"ESRefNoCom\",\nIF(Table5a[[#This Row],[Building Component]]=\"Roofs\",\"Roofs\",\nIF(Table5a[[#This Row],[Building Component]]=\"Walls, Above Grade\",\"WallsAboveGrade\",\nIF(Table5a[[#This Row],[Building Component]]=\"Walls, Below Grade\",\"WallsBelowGrade\",\nIF(Table5a[[#This Row],[Building Component]]=\"Floors\",\"Floors\",\nIF(Table5a[[#This Row],[Building Component]]=\"Slab-on-Grade Floors\",\"SlabOnGradeFloors\",\nIF(Table5a[[#This Row],[Building Component]]=\"Opaque Doors\",\"OpaqueDoors\",\"\")))))))","v":""},{"$f":"IF(AND(Table5a[[#This Row],[Dwelling or Common?]]=\"Dwelling\",$D$9=\"Prescriptive\",$G$9=\"Version 1\"),\"ESRefDesign_Insulation_V1\",\nIF(AND(Table5a[[#This Row],[Dwelling or Common?]]=\"Dwelling\",$D$9=\"Prescriptive\",$G$9=\"Version 1.1\"),\"ESRefDesign_Insulation_V11\",\n\nIF(AND($G$9=\"Version 1.2 OR+WA\",$D$9=\"Prescriptive\"),\"ESRefDesign_Insulation_V12\",\n\nIF(Table5a[[#This Row],[Dwelling or Common?]]=\"Dwelling\",\"IECC2009_R\",\n\nIF(AND(Table5a[[#This Row],[Dwelling or Common?]]=\"Common\",$D$9=\"Prescriptive\",$G$9=\"Version 1\"),\"IECC2009_O\",\nIF(AND(Table5a[[#This Row],[Dwelling or Common?]]=\"Common\",$D$9=\"Prescriptive\",$G$9=\"Version 1.1\"),\"IECC2012_O\",\n\nIF(AND(Table5a[[#This Row],[Dwelling or Common?]]=\"Common\",OR($D$9=\"ERI\",$D$9=\"Title 24 - Dwelling Unit Models\"),$G$9=\"Version 1\"),\"IECC2009_O\",\nIF(AND(Table5a[[#This Row],[Dwelling or Common?]]=\"Common\",OR($D$9=\"ERI\",$D$9=\"Title 24 - Dwelling Unit Models\"),$G$9=\"Version 1.1\"),\"IECC2012_O\",\nIF(AND(Table5a[[#This Row],[Dwelling or Common?]]=\"Common\",OR($D$9=\"ERI\",$D$9=\"Title 24 - Dwelling Unit Models\"),$G$9=\"Version 1.2 OR+WA\"),\"ESRefDesign_Insulation_V12\",\n\nIF(AND(Table5a[[#This Row],[Dwelling or Common?]]=\"Common\",OR($D$9=\"ASHRAE\",$D$9=\"Title 24 - Whole Building Models\")),\"IECC2009_O\",\"\"\n))))))))))","v":""},{"$f":"IF(Table5a[[#This Row],[Building Component]]=\"Slab Insulation\",\"Slab Insulation R-Value:\",\nIF(Table5a[[#This Row],[Building Component]]=\"Basement Wall Continuous Insulation\",\"Basement Wall Continuous Insulation R-Value:\",\nIF(Table5a[[#This Row],[Building Component]]=\"Floor Assembly\", \"Floor Assembly U-Factor:\",\nIF(Table5a[[#This Row],[Building Component]]=\"Wall Assembly\", \"Wall Assembly U-Factor:\",\nIF(Table5a[[#This Row],[Building Component]]=\"Ceiling Assembly\", \"Ceiling Assembly U-Factor:\",\n\nTable5a[[#This Row],[Lookup Table]]&\"_\"&Table5a[[#This Row],[Component_Lookup]])\n))))","v":"_"},{"$f":"IF(Table5a[[#This Row],[ESRefDesign Row Lookups]]=\"Slab Insulation R-Value:\",1,\nIF(Table5a[[#This Row],[ESRefDesign Row Lookups]]=\"Slab Insulation Depth (ft):\",2,\nIF(Table5a[[#This Row],[ESRefDesign Row Lookups]]=\"Basement Wall Continuous Insulation R-Value:\",3,\nIF(Table5a[[#This Row],[ESRefDesign Row Lookups]]=\"Floor Assembly U-Factor:\",4,\nIF(Table5a[[#This Row],[ESRefDesign Row Lookups]]=\"Wall Assembly U-Factor:\",5,\nIF(Table5a[[#This Row],[ESRefDesign Row Lookups]]=\"Ceiling Assembly U-Factor:\",6,\n\nIF(Table5a[[#This Row],[Building Component]]=\"Above-Grade Wall\",1,\nIF(Table5a[[#This Row],[Building Component]]=\"Ceiling\",2,\nIF(Table5a[[#This Row],[Building Component]]=\"Floor\",3,\nIF(Table5a[[#This Row],[Building Component]]=\"Basement Wall\",4,\nIF(Table5a[[#This Row],[Building Component]]=\"On-Grade & Below Grade Slab\",5,\n\nIF(Table5a[[#This Row],[Component Type\n(N/A for Prescriptive Dwelling Unit)]]=\"Insulation entirely above deck\",1,\nIF(Table5a[[#This Row],[Component Type\n(N/A for Prescriptive Dwelling Unit)]]=\"Metal buildings (with R-5 thermal blocks)\",2,\nIF(Table5a[[#This Row],[Component Type\n(N/A for Prescriptive Dwelling Unit)]]=\"Attic and other\",3,\n\nIF(Table5a[[#This Row],[Component Type\n(N/A for Prescriptive Dwelling Unit)]]=\"Mass\",1,\nIF(Table5a[[#This Row],[Component Type\n(N/A for Prescriptive Dwelling Unit)]]=\"Metal building\",2,\nIF(Table5a[[#This Row],[Component Type\n(N/A for Prescriptive Dwelling Unit)]]=\"Metal framed\",3,\nIF(Table5a[[#This Row],[Component Type\n(N/A for Prescriptive Dwelling Unit)]]=\"Wood framed and other\",4,\n\nIF(Table5a[[#This Row],[Component Type\n(N/A for Prescriptive Dwelling Unit)]]=\"Below grade wall\",1,\n\nIF(Table5a[[#This Row],[Component Type\n(N/A for Prescriptive Dwelling Unit)]]=\"Mass\",1,\nIF(Table5a[[#This Row],[Component Type\n(N/A for Prescriptive Dwelling Unit)]]=\"Joist/framing\nSteel/(wood)\",2,\n\nIF(Table5a[[#This Row],[Component Type\n(N/A for Prescriptive Dwelling Unit)]]=\"Unheated slabs\",1,\nIF(Table5a[[#This Row],[Component Type\n(N/A for Prescriptive Dwelling Unit)]]=\"Heated slabs\",2,\n\nIF(Table5a[[#This Row],[Component Type\n(N/A for Prescriptive Dwelling Unit)]]=\"Swinging\",1,\nIF(Table5a[[#This Row],[Component Type\n(N/A for Prescriptive Dwelling Unit)]]=\"Roll-up or sliding\",2,\n\n\"ADD IN IECC TABLE INDEX VALUES\")))))))))))))))))))))))))","v":"ADD IN IECC TABLE INDEX VALUES"}]
[null,null,null,{"$f":"IF(AND($G$9=\"Version 1.2 OR+WA\",$D$9=\"Prescriptive\"),\"BuildingComponents_ESRefListv12\",\nIF(AND($G$9=\"Version 1.2 OR+WA\",$D$9=\"ERI\",Table5a[[#This Row],[Dwelling or Common?]]=\"Common\"),\"BuildingComponents_ESRefListv12\",\nIF(AND(Table5a[[#This Row],[Dwelling or Common?]]=\"Dwelling\",$D$9=\"Prescriptive\"),\"BuildingComponents_ESRefList\",\nIF(Table5a[[#This Row],[Dwelling or Common?]]=\"Dwelling\",\"BuildingComponents_IECCList\",\n\nIF(AND(Table5a[[#This Row],[Dwelling or Common?]]=\"Common\",$D$9=\"Prescriptive\"),\"BuildingComponents_IECCList\",\nIF(AND(Table5a[[#This Row],[Dwelling or Common?]]=\"Common\",OR($D$9=\"ERI\",$D$9=\"Title 24 - Dwelling Unit Models\")),\"BuildingComponents_IECCList\",\nIF(AND(Table5a[[#This Row],[Dwelling or Common?]]=\"Common\",OR($D$9=\"ASHRAE\",$D$9=\"Title 24 - Whole Building Models\")),\"BuildingComponents_IECCList\",\"\")))))))","v":""},null,null,{"$f":"IFERROR(IF(AND($G$9=\"Version 1.2 OR+WA\",OR($I$9=\"CZ 1\",$I$9=\"CZ 2\",$I$9=\"CZ 3\",$I$9=\"CZ 4\",$I$9=\"CZ 7\",$I$9=\"CZ 8\")),\"N/A - Update CZ\",\n\nIF(Table5a[[#This Row],[Lookup Table]]=\"ESRefDesign_Insulation_V1\",INDEX(INDIRECT(Table5a[[#This Row],[Lookup Table]]),Table5a[[#This Row],[Row Lookups Index]],$P$9),\nIF(Table5a[[#This Row],[Lookup Table]]=\"ESRefDesign_Insulation_V11\",INDEX(INDIRECT(Table5a[[#This Row],[Lookup Table]]),Table5a[[#This Row],[Row Lookups Index]],$P$9),\nIF(Table5a[[#This Row],[Lookup Table]]=\"ESRefDesign_Insulation_V12\",INDEX(INDIRECT(Table5a[[#This Row],[Lookup Table]]),Table5a[[#This Row],[Row Lookups Index]],2),\n\nIF(Table5a[[#This Row],[Lookup Table]]=\"IECC2009_R\",INDEX(INDIRECT(Table5a[[#This Row],[ESRefDesign Row Lookups]]),Table5a[[#This Row],[Row Lookups Index]],$P$9),\nIF(Table5a[[#This Row],[Lookup Table]]=\"IECC2009_O\",INDEX(INDIRECT(Table5a[[#This Row],[ESRefDesign Row Lookups]]),Table5a[[#This Row],[Row Lookups Index]],$P$9),\n\nIF(Table5a[[#This Row],[Lookup Table]]=\"IECC2012_R\",INDEX(INDIRECT(Table5a[[#This Row],[ESRefDesign Row Lookups]]),Table5a[[#This Row],[Row Lookups Index]],$P$9),\nIF(Table5a[[#This Row],[Lookup Table]]=\"IECC2012_O\",INDEX(INDIRECT(Table5a[[#This Row],[ESRefDesign Row Lookups]]),Table5a[[#This Row],[Row Lookups Index]],$P$9),\n\n\"\")))))))),\"\")","v":""},null,null,null,null,null,null,null,{"$f":"IF(OR(Table5a[[#This Row],[Building_Component_Lookup]]=\"BuildingComponents_ESRefList\",Table5a[[#This Row],[Building_Component_Lookup]]=\"BuildingComponents_ESRefListv12\"),\"ESRefNoCom\",\nIF(Table5a[[#This Row],[Building Component]]=\"Roofs\",\"Roofs\",\nIF(Table5a[[#This Row],[Building Component]]=\"Walls, Above Grade\",\"WallsAboveGrade\",\nIF(Table5a[[#This Row],[Building Component]]=\"Walls, Below Grade\",\"WallsBelowGrade\",\nIF(Table5a[[#This Row],[Building Component]]=\"Floors\",\"Floors\",\nIF(Table5a[[#This Row],[Building Component]]=\"Slab-on-Grade Floors\",\"SlabOnGradeFloors\",\nIF(Table5a[[#This Row],[Building Component]]=\"Opaque Doors\",\"OpaqueDoors\",\"\")))))))","v":""},{"$f":"IF(AND(Table5a[[#This Row],[Dwelling or Common?]]=\"Dwelling\",$D$9=\"Prescriptive\",$G$9=\"Version 1\"),\"ESRefDesign_Insulation_V1\",\nIF(AND(Table5a[[#This Row],[Dwelling or Common?]]=\"Dwelling\",$D$9=\"Prescriptive\",$G$9=\"Version 1.1\"),\"ESRefDesign_Insulation_V11\",\n\nIF(AND($G$9=\"Version 1.2 OR+WA\",$D$9=\"Prescriptive\"),\"ESRefDesign_Insulation_V12\",\n\nIF(Table5a[[#This Row],[Dwelling or Common?]]=\"Dwelling\",\"IECC2009_R\",\n\nIF(AND(Table5a[[#This Row],[Dwelling or Common?]]=\"Common\",$D$9=\"Prescriptive\",$G$9=\"Version 1\"),\"IECC2009_O\",\nIF(AND(Table5a[[#This Row],[Dwelling or Common?]]=\"Common\",$D$9=\"Prescriptive\",$G$9=\"Version 1.1\"),\"IECC2012_O\",\n\nIF(AND(Table5a[[#This Row],[Dwelling or Common?]]=\"Common\",OR($D$9=\"ERI\",$D$9=\"Title 24 - Dwelling Unit Models\"),$G$9=\"Version 1\"),\"IECC2009_O\",\nIF(AND(Table5a[[#This Row],[Dwelling or Common?]]=\"Common\",OR($D$9=\"ERI\",$D$9=\"Title 24 - Dwelling Unit Models\"),$G$9=\"Version 1.1\"),\"IECC2012_O\",\nIF(AND(Table5a[[#This Row],[Dwelling or Common?]]=\"Common\",OR($D$9=\"ERI\",$D$9=\"Title 24 - Dwelling Unit Models\"),$G$9=\"Version 1.2 OR+WA\"),\"ESRefDesign_Insulation_V12\",\n\nIF(AND(Table5a[[#This Row],[Dwelling or Common?]]=\"Common\",OR($D$9=\"ASHRAE\",$D$9=\"Title 24 - Whole Building Models\")),\"IECC2009_O\",\"\"\n))))))))))","v":""},{"$f":"IF(Table5a[[#This Row],[Building Component]]=\"Slab Insulation\",\"Slab Insulation R-Value:\",\nIF(Table5a[[#This Row],[Building Component]]=\"Basement Wall Continuous Insulation\",\"Basement Wall Continuous Insulation R-Value:\",\nIF(Table5a[[#This Row],[Building Component]]=\"Floor Assembly\", \"Floor Assembly U-Factor:\",\nIF(Table5a[[#This Row],[Building Component]]=\"Wall Assembly\", \"Wall Assembly U-Factor:\",\nIF(Table5a[[#This Row],[Building Component]]=\"Ceiling Assembly\", \"Ceiling Assembly U-Factor:\",\n\nTable5a[[#This Row],[Lookup Table]]&\"_\"&Table5a[[#This Row],[Component_Lookup]])\n))))","v":"_"},{"$f":"IF(Table5a[[#This Row],[ESRefDesign Row Lookups]]=\"Slab Insulation R-Value:\",1,\nIF(Table5a[[#This Row],[ESRefDesign Row Lookups]]=\"Slab Insulation Depth (ft):\",2,\nIF(Table5a[[#This Row],[ESRefDesign Row Lookups]]=\"Basement Wall Continuous Insulation R-Value:\",3,\nIF(Table5a[[#This Row],[ESRefDesign Row Lookups]]=\"Floor Assembly U-Factor:\",4,\nIF(Table5a[[#This Row],[ESRefDesign Row Lookups]]=\"Wall Assembly U-Factor:\",5,\nIF(Table5a[[#This Row],[ESRefDesign Row Lookups]]=\"Ceiling Assembly U-Factor:\",6,\n\nIF(Table5a[[#This Row],[Building Component]]=\"Above-Grade Wall\",1,\nIF(Table5a[[#This Row],[Building Component]]=\"Ceiling\",2,\nIF(Table5a[[#This Row],[Building Component]]=\"Floor\",3,\nIF(Table5a[[#This Row],[Building Component]]=\"Basement Wall\",4,\nIF(Table5a[[#This Row],[Building Component]]=\"On-Grade & Below Grade Slab\",5,\n\nIF(Table5a[[#This Row],[Component Type\n(N/A for Prescriptive Dwelling Unit)]]=\"Insulation entirely above deck\",1,\nIF(Table5a[[#This Row],[Component Type\n(N/A for Prescriptive Dwelling Unit)]]=\"Metal buildings (with R-5 thermal blocks)\",2,\nIF(Table5a[[#This Row],[Component Type\n(N/A for Prescriptive Dwelling Unit)]]=\"Attic and other\",3,\n\nIF(Table5a[[#This Row],[Component Type\n(N/A for Prescriptive Dwelling Unit)]]=\"Mass\",1,\nIF(Table5a[[#This Row],[Component Type\n(N/A for Prescriptive Dwelling Unit)]]=\"Metal building\",2,\nIF(Table5a[[#This Row],[Component Type\n(N/A for Prescriptive Dwelling Unit)]]=\"Metal framed\",3,\nIF(Table5a[[#This Row],[Component Type\n(N/A for Prescriptive Dwelling Unit)]]=\"Wood framed and other\",4,\n\nIF(Table5a[[#This Row],[Component Type\n(N/A for Prescriptive Dwelling Unit)]]=\"Below grade wall\",1,\n\nIF(Table5a[[#This Row],[Component Type\n(N/A for Prescriptive Dwelling Unit)]]=\"Mass\",1,\nIF(Table5a[[#This Row],[Component Type\n(N/A for Prescriptive Dwelling Unit)]]=\"Joist/framing\nSteel/(wood)\",2,\n\nIF(Table5a[[#This Row],[Component Type\n(N/A for Prescriptive Dwelling Unit)]]=\"Unheated slabs\",1,\nIF(Table5a[[#This Row],[Component Type\n(N/A for Prescriptive Dwelling Unit)]]=\"Heated slabs\",2,\n\nIF(Table5a[[#This Row],[Component Type\n(N/A for Prescriptive Dwelling Unit)]]=\"Swinging\",1,\nIF(Table5a[[#This Row],[Component Type\n(N/A for Prescriptive Dwelling Unit)]]=\"Roll-up or sliding\",2,\n\n\"ADD IN IECC TABLE INDEX VALUES\")))))))))))))))))))))))))","v":"ADD IN IECC TABLE INDEX VALUES"}]
[null,null,null,{"$f":"IF(AND($G$9=\"Version 1.2 OR+WA\",$D$9=\"Prescriptive\"),\"BuildingComponents_ESRefListv12\",\nIF(AND($G$9=\"Version 1.2 OR+WA\",$D$9=\"ERI\",Table5a[[#This Row],[Dwelling or Common?]]=\"Common\"),\"BuildingComponents_ESRefListv12\",\nIF(AND(Table5a[[#This Row],[Dwelling or Common?]]=\"Dwelling\",$D$9=\"Prescriptive\"),\"BuildingComponents_ESRefList\",\nIF(Table5a[[#This Row],[Dwelling or Common?]]=\"Dwelling\",\"BuildingComponents_IECCList\",\n\nIF(AND(Table5a[[#This Row],[Dwelling or Common?]]=\"Common\",$D$9=\"Prescriptive\"),\"BuildingComponents_IECCList\",\nIF(AND(Table5a[[#This Row],[Dwelling or Common?]]=\"Common\",OR($D$9=\"ERI\",$D$9=\"Title 24 - Dwelling Unit Models\")),\"BuildingComponents_IECCList\",\nIF(AND(Table5a[[#This Row],[Dwelling or Common?]]=\"Common\",OR($D$9=\"ASHRAE\",$D$9=\"Title 24 - Whole Building Models\")),\"BuildingComponents_IECCList\",\"\")))))))","v":""},null,null,{"$f":"IFERROR(IF(AND($G$9=\"Version 1.2 OR+WA\",OR($I$9=\"CZ 1\",$I$9=\"CZ 2\",$I$9=\"CZ 3\",$I$9=\"CZ 4\",$I$9=\"CZ 7\",$I$9=\"CZ 8\")),\"N/A - Update CZ\",\n\nIF(Table5a[[#This Row],[Lookup Table]]=\"ESRefDesign_Insulation_V1\",INDEX(INDIRECT(Table5a[[#This Row],[Lookup Table]]),Table5a[[#This Row],[Row Lookups Index]],$P$9),\nIF(Table5a[[#This Row],[Lookup Table]]=\"ESRefDesign_Insulation_V11\",INDEX(INDIRECT(Table5a[[#This Row],[Lookup Table]]),Table5a[[#This Row],[Row Lookups Index]],$P$9),\nIF(Table5a[[#This Row],[Lookup Table]]=\"ESRefDesign_Insulation_V12\",INDEX(INDIRECT(Table5a[[#This Row],[Lookup Table]]),Table5a[[#This Row],[Row Lookups Index]],2),\n\nIF(Table5a[[#This Row],[Lookup Table]]=\"IECC2009_R\",INDEX(INDIRECT(Table5a[[#This Row],[ESRefDesign Row Lookups]]),Table5a[[#This Row],[Row Lookups Index]],$P$9),\nIF(Table5a[[#This Row],[Lookup Table]]=\"IECC2009_O\",INDEX(INDIRECT(Table5a[[#This Row],[ESRefDesign Row Lookups]]),Table5a[[#This Row],[Row Lookups Index]],$P$9),\n\nIF(Table5a[[#This Row],[Lookup Table]]=\"IECC2012_R\",INDEX(INDIRECT(Table5a[[#This Row],[ESRefDesign Row Lookups]]),Table5a[[#This Row],[Row Lookups Index]],$P$9),\nIF(Table5a[[#This Row],[Lookup Table]]=\"IECC2012_O\",INDEX(INDIRECT(Table5a[[#This Row],[ESRefDesign Row Lookups]]),Table5a[[#This Row],[Row Lookups Index]],$P$9),\n\n\"\")))))))),\"\")","v":""},null,null,null,null,null,null,null,{"$f":"IF(OR(Table5a[[#This Row],[Building_Component_Lookup]]=\"BuildingComponents_ESRefList\",Table5a[[#This Row],[Building_Component_Lookup]]=\"BuildingComponents_ESRefListv12\"),\"ESRefNoCom\",\nIF(Table5a[[#This Row],[Building Component]]=\"Roofs\",\"Roofs\",\nIF(Table5a[[#This Row],[Building Component]]=\"Walls, Above Grade\",\"WallsAboveGrade\",\nIF(Table5a[[#This Row],[Building Component]]=\"Walls, Below Grade\",\"WallsBelowGrade\",\nIF(Table5a[[#This Row],[Building Component]]=\"Floors\",\"Floors\",\nIF(Table5a[[#This Row],[Building Component]]=\"Slab-on-Grade Floors\",\"SlabOnGradeFloors\",\nIF(Table5a[[#This Row],[Building Component]]=\"Opaque Doors\",\"OpaqueDoors\",\"\")))))))","v":""},{"$f":"IF(AND(Table5a[[#This Row],[Dwelling or Common?]]=\"Dwelling\",$D$9=\"Prescriptive\",$G$9=\"Version 1\"),\"ESRefDesign_Insulation_V1\",\nIF(AND(Table5a[[#This Row],[Dwelling or Common?]]=\"Dwelling\",$D$9=\"Prescriptive\",$G$9=\"Version 1.1\"),\"ESRefDesign_Insulation_V11\",\n\nIF(AND($G$9=\"Version 1.2 OR+WA\",$D$9=\"Prescriptive\"),\"ESRefDesign_Insulation_V12\",\n\nIF(Table5a[[#This Row],[Dwelling or Common?]]=\"Dwelling\",\"IECC2009_R\",\n\nIF(AND(Table5a[[#This Row],[Dwelling or Common?]]=\"Common\",$D$9=\"Prescriptive\",$G$9=\"Version 1\"),\"IECC2009_O\",\nIF(AND(Table5a[[#This Row],[Dwelling or Common?]]=\"Common\",$D$9=\"Prescriptive\",$G$9=\"Version 1.1\"),\"IECC2012_O\",\n\nIF(AND(Table5a[[#This Row],[Dwelling or Common?]]=\"Common\",OR($D$9=\"ERI\",$D$9=\"Title 24 - Dwelling Unit Models\"),$G$9=\"Version 1\"),\"IECC2009_O\",\nIF(AND(Table5a[[#This Row],[Dwelling or Common?]]=\"Common\",OR($D$9=\"ERI\",$D$9=\"Title 24 - Dwelling Unit Models\"),$G$9=\"Version 1.1\"),\"IECC2012_O\",\nIF(AND(Table5a[[#This Row],[Dwelling or Common?]]=\"Common\",OR($D$9=\"ERI\",$D$9=\"Title 24 - Dwelling Unit Models\"),$G$9=\"Version 1.2 OR+WA\"),\"ESRefDesign_Insulation_V12\",\n\nIF(AND(Table5a[[#This Row],[Dwelling or Common?]]=\"Common\",OR($D$9=\"ASHRAE\",$D$9=\"Title 24 - Whole Building Models\")),\"IECC2009_O\",\"\"\n))))))))))","v":""},{"$f":"IF(Table5a[[#This Row],[Building Component]]=\"Slab Insulation\",\"Slab Insulation R-Value:\",\nIF(Table5a[[#This Row],[Building Component]]=\"Basement Wall Continuous Insulation\",\"Basement Wall Continuous Insulation R-Value:\",\nIF(Table5a[[#This Row],[Building Component]]=\"Floor Assembly\", \"Floor Assembly U-Factor:\",\nIF(Table5a[[#This Row],[Building Component]]=\"Wall Assembly\", \"Wall Assembly U-Factor:\",\nIF(Table5a[[#This Row],[Building Component]]=\"Ceiling Assembly\", \"Ceiling Assembly U-Factor:\",\n\nTable5a[[#This Row],[Lookup Table]]&\"_\"&Table5a[[#This Row],[Component_Lookup]])\n))))","v":"_"},{"$f":"IF(Table5a[[#This Row],[ESRefDesign Row Lookups]]=\"Slab Insulation R-Value:\",1,\nIF(Table5a[[#This Row],[ESRefDesign Row Lookups]]=\"Slab Insulation Depth (ft):\",2,\nIF(Table5a[[#This Row],[ESRefDesign Row Lookups]]=\"Basement Wall Continuous Insulation R-Value:\",3,\nIF(Table5a[[#This Row],[ESRefDesign Row Lookups]]=\"Floor Assembly U-Factor:\",4,\nIF(Table5a[[#This Row],[ESRefDesign Row Lookups]]=\"Wall Assembly U-Factor:\",5,\nIF(Table5a[[#This Row],[ESRefDesign Row Lookups]]=\"Ceiling Assembly U-Factor:\",6,\n\nIF(Table5a[[#This Row],[Building Component]]=\"Above-Grade Wall\",1,\nIF(Table5a[[#This Row],[Building Component]]=\"Ceiling\",2,\nIF(Table5a[[#This Row],[Building Component]]=\"Floor\",3,\nIF(Table5a[[#This Row],[Building Component]]=\"Basement Wall\",4,\nIF(Table5a[[#This Row],[Building Component]]=\"On-Grade & Below Grade Slab\",5,\n\nIF(Table5a[[#This Row],[Component Type\n(N/A for Prescriptive Dwelling Unit)]]=\"Insulation entirely above deck\",1,\nIF(Table5a[[#This Row],[Component Type\n(N/A for Prescriptive Dwelling Unit)]]=\"Metal buildings (with R-5 thermal blocks)\",2,\nIF(Table5a[[#This Row],[Component Type\n(N/A for Prescriptive Dwelling Unit)]]=\"Attic and other\",3,\n\nIF(Table5a[[#This Row],[Component Type\n(N/A for Prescriptive Dwelling Unit)]]=\"Mass\",1,\nIF(Table5a[[#This Row],[Component Type\n(N/A for Prescriptive Dwelling Unit)]]=\"Metal building\",2,\nIF(Table5a[[#This Row],[Component Type\n(N/A for Prescriptive Dwelling Unit)]]=\"Metal framed\",3,\nIF(Table5a[[#This Row],[Component Type\n(N/A for Prescriptive Dwelling Unit)]]=\"Wood framed and other\",4,\n\nIF(Table5a[[#This Row],[Component Type\n(N/A for Prescriptive Dwelling Unit)]]=\"Below grade wall\",1,\n\nIF(Table5a[[#This Row],[Component Type\n(N/A for Prescriptive Dwelling Unit)]]=\"Mass\",1,\nIF(Table5a[[#This Row],[Component Type\n(N/A for Prescriptive Dwelling Unit)]]=\"Joist/framing\nSteel/(wood)\",2,\n\nIF(Table5a[[#This Row],[Component Type\n(N/A for Prescriptive Dwelling Unit)]]=\"Unheated slabs\",1,\nIF(Table5a[[#This Row],[Component Type\n(N/A for Prescriptive Dwelling Unit)]]=\"Heated slabs\",2,\n\nIF(Table5a[[#This Row],[Component Type\n(N/A for Prescriptive Dwelling Unit)]]=\"Swinging\",1,\nIF(Table5a[[#This Row],[Component Type\n(N/A for Prescriptive Dwelling Unit)]]=\"Roll-up or sliding\",2,\n\n\"ADD IN IECC TABLE INDEX VALUES\")))))))))))))))))))))))))","v":"ADD IN IECC TABLE INDEX VALUES"}]
[null,null,null,{"$f":"IF(AND($G$9=\"Version 1.2 OR+WA\",$D$9=\"Prescriptive\"),\"BuildingComponents_ESRefListv12\",\nIF(AND($G$9=\"Version 1.2 OR+WA\",$D$9=\"ERI\",Table5a[[#This Row],[Dwelling or Common?]]=\"Common\"),\"BuildingComponents_ESRefListv12\",\nIF(AND(Table5a[[#This Row],[Dwelling or Common?]]=\"Dwelling\",$D$9=\"Prescriptive\"),\"BuildingComponents_ESRefList\",\nIF(Table5a[[#This Row],[Dwelling or Common?]]=\"Dwelling\",\"BuildingComponents_IECCList\",\n\nIF(AND(Table5a[[#This Row],[Dwelling or Common?]]=\"Common\",$D$9=\"Prescriptive\"),\"BuildingComponents_IECCList\",\nIF(AND(Table5a[[#This Row],[Dwelling or Common?]]=\"Common\",OR($D$9=\"ERI\",$D$9=\"Title 24 - Dwelling Unit Models\")),\"BuildingComponents_IECCList\",\nIF(AND(Table5a[[#This Row],[Dwelling or Common?]]=\"Common\",OR($D$9=\"ASHRAE\",$D$9=\"Title 24 - Whole Building Models\")),\"BuildingComponents_IECCList\",\"\")))))))","v":""},null,null,{"$f":"IFERROR(IF(AND($G$9=\"Version 1.2 OR+WA\",OR($I$9=\"CZ 1\",$I$9=\"CZ 2\",$I$9=\"CZ 3\",$I$9=\"CZ 4\",$I$9=\"CZ 7\",$I$9=\"CZ 8\")),\"N/A - Update CZ\",\n\nIF(Table5a[[#This Row],[Lookup Table]]=\"ESRefDesign_Insulation_V1\",INDEX(INDIRECT(Table5a[[#This Row],[Lookup Table]]),Table5a[[#This Row],[Row Lookups Index]],$P$9),\nIF(Table5a[[#This Row],[Lookup Table]]=\"ESRefDesign_Insulation_V11\",INDEX(INDIRECT(Table5a[[#This Row],[Lookup Table]]),Table5a[[#This Row],[Row Lookups Index]],$P$9),\nIF(Table5a[[#This Row],[Lookup Table]]=\"ESRefDesign_Insulation_V12\",INDEX(INDIRECT(Table5a[[#This Row],[Lookup Table]]),Table5a[[#This Row],[Row Lookups Index]],2),\n\nIF(Table5a[[#This Row],[Lookup Table]]=\"IECC2009_R\",INDEX(INDIRECT(Table5a[[#This Row],[ESRefDesign Row Lookups]]),Table5a[[#This Row],[Row Lookups Index]],$P$9),\nIF(Table5a[[#This Row],[Lookup Table]]=\"IECC2009_O\",INDEX(INDIRECT(Table5a[[#This Row],[ESRefDesign Row Lookups]]),Table5a[[#This Row],[Row Lookups Index]],$P$9),\n\nIF(Table5a[[#This Row],[Lookup Table]]=\"IECC2012_R\",INDEX(INDIRECT(Table5a[[#This Row],[ESRefDesign Row Lookups]]),Table5a[[#This Row],[Row Lookups Index]],$P$9),\nIF(Table5a[[#This Row],[Lookup Table]]=\"IECC2012_O\",INDEX(INDIRECT(Table5a[[#This Row],[ESRefDesign Row Lookups]]),Table5a[[#This Row],[Row Lookups Index]],$P$9),\n\n\"\")))))))),\"\")","v":""},null,null,null,null,null,null,null,{"$f":"IF(OR(Table5a[[#This Row],[Building_Component_Lookup]]=\"BuildingComponents_ESRefList\",Table5a[[#This Row],[Building_Component_Lookup]]=\"BuildingComponents_ESRefListv12\"),\"ESRefNoCom\",\nIF(Table5a[[#This Row],[Building Component]]=\"Roofs\",\"Roofs\",\nIF(Table5a[[#This Row],[Building Component]]=\"Walls, Above Grade\",\"WallsAboveGrade\",\nIF(Table5a[[#This Row],[Building Component]]=\"Walls, Below Grade\",\"WallsBelowGrade\",\nIF(Table5a[[#This Row],[Building Component]]=\"Floors\",\"Floors\",\nIF(Table5a[[#This Row],[Building Component]]=\"Slab-on-Grade Floors\",\"SlabOnGradeFloors\",\nIF(Table5a[[#This Row],[Building Component]]=\"Opaque Doors\",\"OpaqueDoors\",\"\")))))))","v":""},{"$f":"IF(AND(Table5a[[#This Row],[Dwelling or Common?]]=\"Dwelling\",$D$9=\"Prescriptive\",$G$9=\"Version 1\"),\"ESRefDesign_Insulation_V1\",\nIF(AND(Table5a[[#This Row],[Dwelling or Common?]]=\"Dwelling\",$D$9=\"Prescriptive\",$G$9=\"Version 1.1\"),\"ESRefDesign_Insulation_V11\",\n\nIF(AND($G$9=\"Version 1.2 OR+WA\",$D$9=\"Prescriptive\"),\"ESRefDesign_Insulation_V12\",\n\nIF(Table5a[[#This Row],[Dwelling or Common?]]=\"Dwelling\",\"IECC2009_R\",\n\nIF(AND(Table5a[[#This Row],[Dwelling or Common?]]=\"Common\",$D$9=\"Prescriptive\",$G$9=\"Version 1\"),\"IECC2009_O\",\nIF(AND(Table5a[[#This Row],[Dwelling or Common?]]=\"Common\",$D$9=\"Prescriptive\",$G$9=\"Version 1.1\"),\"IECC2012_O\",\n\nIF(AND(Table5a[[#This Row],[Dwelling or Common?]]=\"Common\",OR($D$9=\"ERI\",$D$9=\"Title 24 - Dwelling Unit Models\"),$G$9=\"Version 1\"),\"IECC2009_O\",\nIF(AND(Table5a[[#This Row],[Dwelling or Common?]]=\"Common\",OR($D$9=\"ERI\",$D$9=\"Title 24 - Dwelling Unit Models\"),$G$9=\"Version 1.1\"),\"IECC2012_O\",\nIF(AND(Table5a[[#This Row],[Dwelling or Common?]]=\"Common\",OR($D$9=\"ERI\",$D$9=\"Title 24 - Dwelling Unit Models\"),$G$9=\"Version 1.2 OR+WA\"),\"ESRefDesign_Insulation_V12\",\n\nIF(AND(Table5a[[#This Row],[Dwelling or Common?]]=\"Common\",OR($D$9=\"ASHRAE\",$D$9=\"Title 24 - Whole Building Models\")),\"IECC2009_O\",\"\"\n))))))))))","v":""},{"$f":"IF(Table5a[[#This Row],[Building Component]]=\"Slab Insulation\",\"Slab Insulation R-Value:\",\nIF(Table5a[[#This Row],[Building Component]]=\"Basement Wall Continuous Insulation\",\"Basement Wall Continuous Insulation R-Value:\",\nIF(Table5a[[#This Row],[Building Component]]=\"Floor Assembly\", \"Floor Assembly U-Factor:\",\nIF(Table5a[[#This Row],[Building Component]]=\"Wall Assembly\", \"Wall Assembly U-Factor:\",\nIF(Table5a[[#This Row],[Building Component]]=\"Ceiling Assembly\", \"Ceiling Assembly U-Factor:\",\n\nTable5a[[#This Row],[Lookup Table]]&\"_\"&Table5a[[#This Row],[Component_Lookup]])\n))))","v":"_"},{"$f":"IF(Table5a[[#This Row],[ESRefDesign Row Lookups]]=\"Slab Insulation R-Value:\",1,\nIF(Table5a[[#This Row],[ESRefDesign Row Lookups]]=\"Slab Insulation Depth (ft):\",2,\nIF(Table5a[[#This Row],[ESRefDesign Row Lookups]]=\"Basement Wall Continuous Insulation R-Value:\",3,\nIF(Table5a[[#This Row],[ESRefDesign Row Lookups]]=\"Floor Assembly U-Factor:\",4,\nIF(Table5a[[#This Row],[ESRefDesign Row Lookups]]=\"Wall Assembly U-Factor:\",5,\nIF(Table5a[[#This Row],[ESRefDesign Row Lookups]]=\"Ceiling Assembly U-Factor:\",6,\n\nIF(Table5a[[#This Row],[Building Component]]=\"Above-Grade Wall\",1,\nIF(Table5a[[#This Row],[Building Component]]=\"Ceiling\",2,\nIF(Table5a[[#This Row],[Building Component]]=\"Floor\",3,\nIF(Table5a[[#This Row],[Building Component]]=\"Basement Wall\",4,\nIF(Table5a[[#This Row],[Building Component]]=\"On-Grade & Below Grade Slab\",5,\n\nIF(Table5a[[#This Row],[Component Type\n(N/A for Prescriptive Dwelling Unit)]]=\"Insulation entirely above deck\",1,\nIF(Table5a[[#This Row],[Component Type\n(N/A for Prescriptive Dwelling Unit)]]=\"Metal buildings (with R-5 thermal blocks)\",2,\nIF(Table5a[[#This Row],[Component Type\n(N/A for Prescriptive Dwelling Unit)]]=\"Attic and other\",3,\n\nIF(Table5a[[#This Row],[Component Type\n(N/A for Prescriptive Dwelling Unit)]]=\"Mass\",1,\nIF(Table5a[[#This Row],[Component Type\n(N/A for Prescriptive Dwelling Unit)]]=\"Metal building\",2,\nIF(Table5a[[#This Row],[Component Type\n(N/A for Prescriptive Dwelling Unit)]]=\"Metal framed\",3,\nIF(Table5a[[#This Row],[Component Type\n(N/A for Prescriptive Dwelling Unit)]]=\"Wood framed and other\",4,\n\nIF(Table5a[[#This Row],[Component Type\n(N/A for Prescriptive Dwelling Unit)]]=\"Below grade wall\",1,\n\nIF(Table5a[[#This Row],[Component Type\n(N/A for Prescriptive Dwelling Unit)]]=\"Mass\",1,\nIF(Table5a[[#This Row],[Component Type\n(N/A for Prescriptive Dwelling Unit)]]=\"Joist/framing\nSteel/(wood)\",2,\n\nIF(Table5a[[#This Row],[Component Type\n(N/A for Prescriptive Dwelling Unit)]]=\"Unheated slabs\",1,\nIF(Table5a[[#This Row],[Component Type\n(N/A for Prescriptive Dwelling Unit)]]=\"Heated slabs\",2,\n\nIF(Table5a[[#This Row],[Component Type\n(N/A for Prescriptive Dwelling Unit)]]=\"Swinging\",1,\nIF(Table5a[[#This Row],[Component Type\n(N/A for Prescriptive Dwelling Unit)]]=\"Roll-up or sliding\",2,\n\n\"ADD IN IECC TABLE INDEX VALUES\")))))))))))))))))))))))))","v":"ADD IN IECC TABLE INDEX VALUES"}]
[null,null,null,{"$f":"IF(AND($G$9=\"Version 1.2 OR+WA\",$D$9=\"Prescriptive\"),\"BuildingComponents_ESRefListv12\",\nIF(AND($G$9=\"Version 1.2 OR+WA\",$D$9=\"ERI\",Table5a[[#This Row],[Dwelling or Common?]]=\"Common\"),\"BuildingComponents_ESRefListv12\",\nIF(AND(Table5a[[#This Row],[Dwelling or Common?]]=\"Dwelling\",$D$9=\"Prescriptive\"),\"BuildingComponents_ESRefList\",\nIF(Table5a[[#This Row],[Dwelling or Common?]]=\"Dwelling\",\"BuildingComponents_IECCList\",\n\nIF(AND(Table5a[[#This Row],[Dwelling or Common?]]=\"Common\",$D$9=\"Prescriptive\"),\"BuildingComponents_IECCList\",\nIF(AND(Table5a[[#This Row],[Dwelling or Common?]]=\"Common\",OR($D$9=\"ERI\",$D$9=\"Title 24 - Dwelling Unit Models\")),\"BuildingComponents_IECCList\",\nIF(AND(Table5a[[#This Row],[Dwelling or Common?]]=\"Common\",OR($D$9=\"ASHRAE\",$D$9=\"Title 24 - Whole Building Models\")),\"BuildingComponents_IECCList\",\"\")))))))","v":""},null,null,{"$f":"IFERROR(IF(AND($G$9=\"Version 1.2 OR+WA\",OR($I$9=\"CZ 1\",$I$9=\"CZ 2\",$I$9=\"CZ 3\",$I$9=\"CZ 4\",$I$9=\"CZ 7\",$I$9=\"CZ 8\")),\"N/A - Update CZ\",\n\nIF(Table5a[[#This Row],[Lookup Table]]=\"ESRefDesign_Insulation_V1\",INDEX(INDIRECT(Table5a[[#This Row],[Lookup Table]]),Table5a[[#This Row],[Row Lookups Index]],$P$9),\nIF(Table5a[[#This Row],[Lookup Table]]=\"ESRefDesign_Insulation_V11\",INDEX(INDIRECT(Table5a[[#This Row],[Lookup Table]]),Table5a[[#This Row],[Row Lookups Index]],$P$9),\nIF(Table5a[[#This Row],[Lookup Table]]=\"ESRefDesign_Insulation_V12\",INDEX(INDIRECT(Table5a[[#This Row],[Lookup Table]]),Table5a[[#This Row],[Row Lookups Index]],2),\n\nIF(Table5a[[#This Row],[Lookup Table]]=\"IECC2009_R\",INDEX(INDIRECT(Table5a[[#This Row],[ESRefDesign Row Lookups]]),Table5a[[#This Row],[Row Lookups Index]],$P$9),\nIF(Table5a[[#This Row],[Lookup Table]]=\"IECC2009_O\",INDEX(INDIRECT(Table5a[[#This Row],[ESRefDesign Row Lookups]]),Table5a[[#This Row],[Row Lookups Index]],$P$9),\n\nIF(Table5a[[#This Row],[Lookup Table]]=\"IECC2012_R\",INDEX(INDIRECT(Table5a[[#This Row],[ESRefDesign Row Lookups]]),Table5a[[#This Row],[Row Lookups Index]],$P$9),\nIF(Table5a[[#This Row],[Lookup Table]]=\"IECC2012_O\",INDEX(INDIRECT(Table5a[[#This Row],[ESRefDesign Row Lookups]]),Table5a[[#This Row],[Row Lookups Index]],$P$9),\n\n\"\")))))))),\"\")","v":""},null,null,null,null,null,null,null,{"$f":"IF(OR(Table5a[[#This Row],[Building_Component_Lookup]]=\"BuildingComponents_ESRefList\",Table5a[[#This Row],[Building_Component_Lookup]]=\"BuildingComponents_ESRefListv12\"),\"ESRefNoCom\",\nIF(Table5a[[#This Row],[Building Component]]=\"Roofs\",\"Roofs\",\nIF(Table5a[[#This Row],[Building Component]]=\"Walls, Above Grade\",\"WallsAboveGrade\",\nIF(Table5a[[#This Row],[Building Component]]=\"Walls, Below Grade\",\"WallsBelowGrade\",\nIF(Table5a[[#This Row],[Building Component]]=\"Floors\",\"Floors\",\nIF(Table5a[[#This Row],[Building Component]]=\"Slab-on-Grade Floors\",\"SlabOnGradeFloors\",\nIF(Table5a[[#This Row],[Building Component]]=\"Opaque Doors\",\"OpaqueDoors\",\"\")))))))","v":""},{"$f":"IF(AND(Table5a[[#This Row],[Dwelling or Common?]]=\"Dwelling\",$D$9=\"Prescriptive\",$G$9=\"Version 1\"),\"ESRefDesign_Insulation_V1\",\nIF(AND(Table5a[[#This Row],[Dwelling or Common?]]=\"Dwelling\",$D$9=\"Prescriptive\",$G$9=\"Version 1.1\"),\"ESRefDesign_Insulation_V11\",\n\nIF(AND($G$9=\"Version 1.2 OR+WA\",$D$9=\"Prescriptive\"),\"ESRefDesign_Insulation_V12\",\n\nIF(Table5a[[#This Row],[Dwelling or Common?]]=\"Dwelling\",\"IECC2009_R\",\n\nIF(AND(Table5a[[#This Row],[Dwelling or Common?]]=\"Common\",$D$9=\"Prescriptive\",$G$9=\"Version 1\"),\"IECC2009_O\",\nIF(AND(Table5a[[#This Row],[Dwelling or Common?]]=\"Common\",$D$9=\"Prescriptive\",$G$9=\"Version 1.1\"),\"IECC2012_O\",\n\nIF(AND(Table5a[[#This Row],[Dwelling or Common?]]=\"Common\",OR($D$9=\"ERI\",$D$9=\"Title 24 - Dwelling Unit Models\"),$G$9=\"Version 1\"),\"IECC2009_O\",\nIF(AND(Table5a[[#This Row],[Dwelling or Common?]]=\"Common\",OR($D$9=\"ERI\",$D$9=\"Title 24 - Dwelling Unit Models\"),$G$9=\"Version 1.1\"),\"IECC2012_O\",\nIF(AND(Table5a[[#This Row],[Dwelling or Common?]]=\"Common\",OR($D$9=\"ERI\",$D$9=\"Title 24 - Dwelling Unit Models\"),$G$9=\"Version 1.2 OR+WA\"),\"ESRefDesign_Insulation_V12\",\n\nIF(AND(Table5a[[#This Row],[Dwelling or Common?]]=\"Common\",OR($D$9=\"ASHRAE\",$D$9=\"Title 24 - Whole Building Models\")),\"IECC2009_O\",\"\"\n))))))))))","v":""},{"$f":"IF(Table5a[[#This Row],[Building Component]]=\"Slab Insulation\",\"Slab Insulation R-Value:\",\nIF(Table5a[[#This Row],[Building Component]]=\"Basement Wall Continuous Insulation\",\"Basement Wall Continuous Insulation R-Value:\",\nIF(Table5a[[#This Row],[Building Component]]=\"Floor Assembly\", \"Floor Assembly U-Factor:\",\nIF(Table5a[[#This Row],[Building Component]]=\"Wall Assembly\", \"Wall Assembly U-Factor:\",\nIF(Table5a[[#This Row],[Building Component]]=\"Ceiling Assembly\", \"Ceiling Assembly U-Factor:\",\n\nTable5a[[#This Row],[Lookup Table]]&\"_\"&Table5a[[#This Row],[Component_Lookup]])\n))))","v":"_"},{"$f":"IF(Table5a[[#This Row],[ESRefDesign Row Lookups]]=\"Slab Insulation R-Value:\",1,\nIF(Table5a[[#This Row],[ESRefDesign Row Lookups]]=\"Slab Insulation Depth (ft):\",2,\nIF(Table5a[[#This Row],[ESRefDesign Row Lookups]]=\"Basement Wall Continuous Insulation R-Value:\",3,\nIF(Table5a[[#This Row],[ESRefDesign Row Lookups]]=\"Floor Assembly U-Factor:\",4,\nIF(Table5a[[#This Row],[ESRefDesign Row Lookups]]=\"Wall Assembly U-Factor:\",5,\nIF(Table5a[[#This Row],[ESRefDesign Row Lookups]]=\"Ceiling Assembly U-Factor:\",6,\n\nIF(Table5a[[#This Row],[Building Component]]=\"Above-Grade Wall\",1,\nIF(Table5a[[#This Row],[Building Component]]=\"Ceiling\",2,\nIF(Table5a[[#This Row],[Building Component]]=\"Floor\",3,\nIF(Table5a[[#This Row],[Building Component]]=\"Basement Wall\",4,\nIF(Table5a[[#This Row],[Building Component]]=\"On-Grade & Below Grade Slab\",5,\n\nIF(Table5a[[#This Row],[Component Type\n(N/A for Prescriptive Dwelling Unit)]]=\"Insulation entirely above deck\",1,\nIF(Table5a[[#This Row],[Component Type\n(N/A for Prescriptive Dwelling Unit)]]=\"Metal buildings (with R-5 thermal blocks)\",2,\nIF(Table5a[[#This Row],[Component Type\n(N/A for Prescriptive Dwelling Unit)]]=\"Attic and other\",3,\n\nIF(Table5a[[#This Row],[Component Type\n(N/A for Prescriptive Dwelling Unit)]]=\"Mass\",1,\nIF(Table5a[[#This Row],[Component Type\n(N/A for Prescriptive Dwelling Unit)]]=\"Metal building\",2,\nIF(Table5a[[#This Row],[Component Type\n(N/A for Prescriptive Dwelling Unit)]]=\"Metal framed\",3,\nIF(Table5a[[#This Row],[Component Type\n(N/A for Prescriptive Dwelling Unit)]]=\"Wood framed and other\",4,\n\nIF(Table5a[[#This Row],[Component Type\n(N/A for Prescriptive Dwelling Unit)]]=\"Below grade wall\",1,\n\nIF(Table5a[[#This Row],[Component Type\n(N/A for Prescriptive Dwelling Unit)]]=\"Mass\",1,\nIF(Table5a[[#This Row],[Component Type\n(N/A for Prescriptive Dwelling Unit)]]=\"Joist/framing\nSteel/(wood)\",2,\n\nIF(Table5a[[#This Row],[Component Type\n(N/A for Prescriptive Dwelling Unit)]]=\"Unheated slabs\",1,\nIF(Table5a[[#This Row],[Component Type\n(N/A for Prescriptive Dwelling Unit)]]=\"Heated slabs\",2,\n\nIF(Table5a[[#This Row],[Component Type\n(N/A for Prescriptive Dwelling Unit)]]=\"Swinging\",1,\nIF(Table5a[[#This Row],[Component Type\n(N/A for Prescriptive Dwelling Unit)]]=\"Roll-up or sliding\",2,\n\n\"ADD IN IECC TABLE INDEX VALUES\")))))))))))))))))))))))))","v":"ADD IN IECC TABLE INDEX VALUES"}]

{"sheet":"5b. Envelope U-Factors","index":11,"n_rows":16,"n_cols":26,"rows_kept":16,"cut":false,"hidden":true,"merged":[[5,22,6,24],[1,2,1,14],[89,1,89,2],[89,4,95,4],[95,1,95,2],[21,1,21,3],[24,1,24,3],[57,1,57,3],[59,1,59,3],[3,5,3,6],[5,4,5,5],[6,11,6,14],[3,8,3,9],[106,4,112,4],[112,1,112,2],[3,1,3,2],[105,1,105,2],[98,4,104,4],[104,1,104,2],[60,4,67,4],[69,4,76,4],[78,1,78,3],[79,1,79,2],[79,4,85,4],[85,1,85,2]]}
[]
[null,"Instructions: ","Using Tables: Complete all orange and yellow cells prior to the Proposed Design submittal. Compare specified value to ENERGY STAR requirement and use the drop-down to indicate if the components Pass or Fail.\n\nWarning: If during the course of design or construction, the certification path changes, you will need to re-select the Building Component and Component Type drop-down options.\n\nPrior to As-Built submittal, update the Installed U-factor to match as-built conditions, if different from design.\n\nNote: All door calculations are included on the fenestration tab.\n\nPrinting: Optimized for Landscape view."]
[]
[null,"Select ENERGY STAR Pathway",null,{"$f":"IF('Project Information'!$C$8=\"\",\"Complete Project Information Tab\",'Project Information'!$C$8)","v":"Complete Project Information Tab"},"Select ENERGY STAR Version",{"$f":"IF('Project Information'!$F$8=\"\",\"Complete Project Information Tab\",'Project Information'!$F$8)","v":"Complete Project Information Tab"},null,"Select ENERGY STAR Climate Zone",{"$f":"IF('Project Information'!$F$9=\"\",\"Complete Project Information Tab\",'Project Information'!$F$9)","v":"Complete Project Information Tab"}]
[]
[null,"Mandatory Insulation Requirement Verification",null,null,null,null,null,null,null,null,null,null,null,null,null,null,null,null,null,null,null,null,"NOTES"]
[null,null,null,null,null,null,null,null,null,null,null,null,null,null,null,"hide","hide","hide","hide","hide","hide"]
[null,"Assembly Name","Dwelling or Common?","Building Component","Component Type\n(N/A for Prescriptive Path Dwelling Unit)","% of Component Area","ENERGY STAR Requirement Values","ENERGY STAR Required U-Factor","Specified/Installed U-Factor","PASS/FAIL","Description of Layers","Location\n(dwg/spec)\n(Optional)","Plan Review\n(Optional)","Inspection?\n(Optional)","Inspection Comments\n(Optional)","Building_Component_Lookup","Component_Lookup","Lookup Table Pt1","Lookup Table Pt2","Row Index","Column Index",null,null,null,null," "]
[null,null,null,null,null,null,{"$f":"IFERROR(IF(AND($F$4=\"Version 1.2 OR+WA\",OR($I$4=\"CZ 1\",$I$4=\"CZ 2\",$I$4=\"CZ 3\",$I$4=\"CZ 4\",$I$4=\"CZ 7\",$I$4=\"CZ 8\")),\"N/A - Update CZ\",\n\nIF(Table5b[[#This Row],[Lookup Table Pt1]]=\"ESRefDesign_InsulationU_V1\",INDEX(INDIRECT(Table5b[[#This Row],[Lookup Table Pt1]]),Table5b[[#This Row],[Row Index]],Table5b[[#This Row],[Column Index]]),\nIF(Table5b[[#This Row],[Lookup Table Pt1]]=\"ESRefDesign_InsulationU_V11\",INDEX(INDIRECT(Table5b[[#This Row],[Lookup Table Pt1]]),Table5b[[#This Row],[Row Index]],Table5b[[#This Row],[Column Index]]),\nIF(Table5b[[#This Row],[Lookup Table Pt1]]=\"ESRefDesign_InsulationU_V12\",INDEX(INDIRECT(Table5b[[#This Row],[Lookup Table Pt1]]),Table5b[[#This Row],[Row Index]],2),\n\nIF(Table5b[[#This Row],[Lookup Table Pt1]]=\"IECC2009_RU\",INDEX(INDIRECT(Table5b[[#This Row],[Lookup Table Pt2]]),Table5b[[#This Row],[Row Index]],Table5b[[#This Row],[Column Index]]),\nIF(Table5b[[#This Row],[Lookup Table Pt1]]=\"IECC2009_OU\",INDEX(INDIRECT(Table5b[[#This Row],[Lookup Table Pt2]]),Table5b[[#This Row],[Row Index]],Table5b[[#This Row],[Column Index]]),\n\nIF(Table5b[[#This Row],[Lookup Table Pt1]]=\"IECC2012_RU\",INDEX(INDIRECT(Table5b[[#This Row],[Lookup Table Pt2]]),Table5b[[#This Row],[Row Index]],Table5b[[#This Row],[Column Index]]),\nIF(Table5b[[#This Row],[Lookup Table Pt1]]=\"IECC2012_OU\",INDEX(INDIRECT(Table5b[[#This Row],[Lookup Table Pt2]]),Table5b[[#This Row],[Row Index]],Table5b[[#This Row],[Column Index]]),\n\n\"\")))))))),\"\")","v":""},{"$f":"IFERROR(\nIF(LEFT(Table5b[[#This Row],[ENERGY STAR Requirement Values]],2)=\"U-\",Table5b[[#This Row],[ENERGY STAR Requirement Values]],\n\nIF(OR(Table5b[[#This Row],[Building Component]]=\"Slab Insulation\",Table5b[[#This Row],[Building Component]]=\"Slab-On-Grade Floor\",Table5b[[#This Row],[Building Component]]=\"Slab-On-Grade Floors\",Table5b[[#This Row],[Building Component]]=\"On-Grade & Below Grade Slab\",Table5b[[#This Row],[Building Component]]=\"Slab-on-Grade Floors\",Table5b[[#This Row],[Building Component]]=\"Slab-on-Grade Floor\"),\"\",\n\nIF(OR(Table5b[[#This Row],[ENERGY STAR Requirement Values]]=\"R-0\",Table5b[[#This Row],[ENERGY STAR Requirement Values]]=0,Table5b[[#This Row],[ENERGY STAR Requirement Values]]=\"C-1.140\"),\"U-0.36\",\nIF(OR(Table5b[[#This Row],[ENERGY STAR Requirement Values]]=\"R-7.5\",Table5b[[#This Row],[ENERGY STAR Requirement Values]]=7.5,Table5b[[#This Row],[ENERGY STAR Requirement Values]]=\"C-0.119\"),\"U-0.072\",\nIF(OR(Table5b[[#This Row],[ENERGY STAR Requirement Values]]=\"R-10\",Table5b[[#This Row],[ENERGY STAR Requirement Values]]=10,Table5b[[#This Row],[ENERGY STAR Requirement Values]]=\"C-0.092\"),\"U-0.059\",\nIF(OR(Table5b[[#This Row],[ENERGY STAR Requirement Values]]=\"R-15\",Table5b[[#This Row],[ENERGY STAR Requirement Values]]=15,Table5b[[#This Row],[ENERGY STAR Requirement Values]]=\"R-15 continuous or R-21 cavity\"),\"U-0.05\",\nIF(OR(Table5b[[#This Row],[ENERGY STAR Requirement Values]]=\"R-12.5\",Table5b[[#This Row],[ENERGY STAR Requirement Values]]=12.5,Table5b[[#This Row],[ENERGY STAR Requirement Values]]=\"C-0.075\"),\"U-0.054\",\nIF(OR(Table5b[[#This Row],[ENERGY STAR Requirement Values]]=\"R-21\",Table5b[[#This Row],[ENERGY STAR Requirement Values]]=21),\"U-0.056\",\nIF(OR(Table5b[[#This Row],[ENERGY STAR Requirement Values]]=\"R-38\",Table5b[[#This Row],[ENERGY STAR Requirement Values]]=38),\"U-0.028\",\nIF(OR(Table5b[[#This Row],[ENERGY STAR Requirement Values]]=\"R-49\",Table5b[[#This Row],[ENERGY STAR Requirement Values]]=49),\"U-0.026\",\n\nIF(LEFT(Table5b[[#This Row],[ENERGY STAR Requirement Values]],2)=\"F-\",\"\",\n\nIF(LEFT(Table5b[[#This Row],[ENERGY STAR Requirement Values]],1)=\"0\",CONCATENATE(\"U-\",Table5b[[#This Row],[ENERGY STAR Requirement Values]]),\n\nTable5b[[#This Row],[ENERGY STAR Requirement Values]])))))))))))),\"\")","v":""},null,null,null,null,null,null,null,{"$f":"IF(AND(Table5b[[#This Row],[Dwelling or Common?]]=\"Dwelling\",$D$4=\"Prescriptive\",OR($F$4=\"Version 1\", $F$4=\"Version 1.1\")),\"BuildingComponents_ESRefList\",\nIF(AND(Table5b[[#This Row],[Dwelling or Common?]]=\"Dwelling\",$D$4=\"Prescriptive\",$F$4=\"Version 1.2 OR+WA\"),\"BuildingComponents_ESRefListV12\",\nIF(Table5b[[#This Row],[Dwelling or Common?]]=\"Dwelling\",\"BuildingComponents_IECCList\",\n\nIF(AND(Table5b[[#This Row],[Dwelling or Common?]]=\"Common\",$F$4=\"Version 1.2 OR+WA\",OR($D$4=\"Prescriptive\",$D$4=\"ERI\",$D$4=\"Title 24 - Dwelling Unit Models\")),\"BuildingComponents_ESRefListV12\",\n\nIF(AND(Table5b[[#This Row],[Dwelling or Common?]]=\"Common\",$D$4=\"Prescriptive\"),\"BuildingComponents_IECCList\",\nIF(AND(Table5b[[#This Row],[Dwelling or Common?]]=\"Common\",OR($D$4=\"ERI\",$D$4=\"Title 24 - Dwelling Unit Models\")),\"BuildingComponents_IECCList\",\n\nIF(AND(Table5b[[#This Row],[Dwelling or Common?]]=\"Common\",OR($D$4=\"ASHRAE\",$D$4=\"Title 24 - Whole Building Models\")),\"BuildingComponents_IECCList\",\n\"\")))))))","v":""},{"$f":"IF(OR(Table5b[[#This Row],[Building_Component_Lookup]]=\"BuildingComponents_ESRefList\",Table5b[[#This Row],[Building_Component_Lookup]]=\"BuildingComponents_ESRefListV12\"),\"ESRefNoCom\",\nIF(Table5b[[#This Row],[Building Component]]=\"Roofs\",\"Roof\",\nIF(Table5b[[#This Row],[Building Component]]=\"Walls, Above Grade\",\"WallAboveGrade\",\nIF(Table5b[[#This Row],[Building Component]]=\"Walls, Below Grade\",\"WallBelowGrade\",\nIF(Table5b[[#This Row],[Building Component]]=\"Floors\",\"Floor\",\nIF(Table5b[[#This Row],[Building Component]]=\"Slab-on-Grade Floors\",\"SlabOnGradeFloor\",\nIF(Table5b[[#This Row],[Building Component]]=\"Opaque Doors\",\"OpaqueDoor\",\"\")))))))","v":""},{"$f":"IF(AND(Table5b[[#This Row],[Dwelling or Common?]]=\"Dwelling\",$F$4=\"Version 1\",$D$4=\"Prescriptive\"),\"ESRefDesign_InsulationU_V1\",\nIF(AND(Table5b[[#This Row],[Dwelling or Common?]]=\"Dwelling\",$F$4=\"Version 1.1\",$D$4=\"Prescriptive\"),\"ESRefDesign_InsulationU_V11\",\nIF(AND(Table5b[[#This Row],[Dwelling or Common?]]=\"Dwelling\",$F$4=\"Version 1.2 OR+WA\",$D$4=\"Prescriptive\"),\"ESRefDesign_InsulationU_V12\",\n\nIF(AND(Table5b[[#This Row],[Dwelling or Common?]]=\"Dwelling\",OR($F$4=\"Version 1\",$F$4=\"Version 1.1\",$F$4=\"Version 1.2 OR+WA\"),OR($D$4=\"ERI\",$D$4=\"ASHRAE\",$D$4=\"Title 24 - Whole Building Models\",$D$4=\"Title 24 - Dwelling Unit Models\")),\"IECC2009_RU\",\n\nIF(AND(Table5b[[#This Row],[Dwelling or Common?]]=\"Common\",$F$4=\"Version 1\",OR($D$4=\"Prescriptive\",$D$4=\"ERI\",$D$4=\"Title 24 - Dwelling Unit Models\",)),\"IECC2009_OU\",\nIF(AND(Table5b[[#This Row],[Dwelling or Common?]]=\"Common\",$F$4=\"Version 1.1\",OR($D$4=\"Prescriptive\",$D$4=\"ERI\",$D$4=\"Title 24 - Dwelling Unit Models\")),\"IECC2012_OU\",\nIF(AND(Table5b[[#This Row],[Dwelling or Common?]]=\"Common\",$F$4=\"Version 1.2 OR+WA\",OR($D$4=\"Prescriptive\",$D$4=\"ERI\",$D$4=\"Title 24 - Dwelling Unit Models\")),\"ESRefDesign_InsulationU_V12\",\n\nIF(AND(Table5b[[#This Row],[Dwelling or Common?]]=\"Common\",OR($D$4=\"ASHRAE\",$D$4=\"Title 24 - Whole Building Models\")),\"IECC2009_OU\",\n\n\"\"))))))))","v":""},{"$f":"IF(Table5b[[#This Row],[Building Component]]=\"Slab Insulation\",\"Slab Insulation R-Value:\",\nIF(Table5b[[#This Row],[Building Component]]=\"Basement Wall Continuous Insulation\",\"Basement Wall Continuous Insulation R-Value:\",\nIF(Table5b[[#This Row],[Building Component]]=\"Floor Assembly\", \"Floor Assembly U-Factor:\",\nIF(Table5b[[#This Row],[Building Component]]=\"Wall Assembly\", \"Wall Assembly U-Factor:\",\nIF(Table5b[[#This Row],[Building Component]]=\"Ceiling Assembly\", \"Ceiling Assembly U-Factor:\",\n\nTable5b[[#This Row],[Lookup Table Pt1]]&\"_\"&Table5b[[#This Row],[Component_Lookup]])\n))))","v":"_"},{"$f":"IF(Table5b[[#This Row],[Lookup Table Pt2]]=\"Slab Insulation R-Value:\",1,\nIF(Table5b[[#This Row],[Lookup Table Pt2]]=\"Slab Insulation Depth (ft):\",2,\nIF(Table5b[[#This Row],[Lookup Table Pt2]]=\"Basement Wall Continuous Insulation R-Value:\",3,\nIF(Table5b[[#This Row],[Lookup Table Pt2]]=\"Floor Assembly U-Factor:\",4,\nIF(Table5b[[#This Row],[Lookup Table Pt2]]=\"Wall Assembly U-Factor:\",5,\nIF(Table5b[[#This Row],[Lookup Table Pt2]]=\"Ceiling Assembly U-Factor:\",6,\n\nIF(Table5b[[#This Row],[Building Component]]=\"Above-Grade Wall\",1,\nIF(Table5b[[#This Row],[Building Component]]=\"Ceiling\",2,\nIF(Table5b[[#This Row],[Building Component]]=\"Floor\",3,\nIF(Table5b[[#This Row],[Building Component]]=\"Basement Wall\",4,\nIF(Table5b[[#This Row],[Building Component]]=\"On-Grade & Below Grade Slab\",5,\n\nIF(Table5b[[#This Row],[Component Type\n(N/A for Prescriptive Path Dwelling Unit)]]=\"Insulation entirely above deck\",1,\nIF(Table5b[[#This Row],[Component Type\n(N/A for Prescriptive Path Dwelling Unit)]]=\"Metal buildings\",2,\nIF(Table5b[[#This Row],[Component Type\n(N/A for Prescriptive Path Dwelling Unit)]]=\"Attic and other\",3,\n\nIF(Table5b[[#This Row],[Component Type\n(N/A for Prescriptive Path Dwelling Unit)]]=\"Mass\",1,\nIF(Table5b[[#This Row],[Component Type\n(N/A for Prescriptive Path Dwelling Unit)]]=\"Metal building\",2,\nIF(Table5b[[#This Row],[Component Type\n(N/A for Prescriptive Path Dwelling Unit)]]=\"Metal framed\",3,\nIF(Table5b[[#This Row],[Component Type\n(N/A for Prescriptive Path Dwelling Unit)]]=\"Wood framed and other\",4,\n\nIF(Table5b[[#This Row],[Component Type\n(N/A for Prescriptive Path Dwelling Unit)]]=\"Below grade wall\",1,\n\nIF(Table5b[[#This Row],[Component Type\n(N/A for Prescriptive Path Dwelling Unit)]]=\"Mass\",1,\nIF(Table5b[[#This Row],[Component Type\n(N/A for Prescriptive Path Dwelling Unit)]]=\"Joist/framing\",2,\n\nIF(Table5b[[#This Row],[Component Type\n(N/A for Prescriptive Path Dwelling Unit)]]=\"Unheated slabs\",1,\nIF(Table5b[[#This Row],[Component Type\n(N/A for Prescriptive Path Dwelling Unit)]]=\"Heated slabs\",2,\n\nIF(Table5b[[#This Row],[Component Type\n(N/A for Prescriptive Path Dwelling Unit)]]=\"Swinging\",1,\nIF(Table5b[[#This Row],[Component Type\n(N/A for Prescriptive Path Dwelling Unit)]]=\"Roll-up or sliding\",2,\n\n\"ADD IN IECC TABLE INDEX VALUES\")))))))))))))))))))))))))","v":"ADD IN IECC TABLE INDEX VALUES"},{"$f":"IF(AND($F$4=\"Version 1.2 OR+WA\",$D$4=\"Prescriptive\"),2,\n\nIF($I$4=\"CZ 1\",2,\nIF($I$4=\"CZ 2\",3,\nIF($I$4=\"CZ 3\",4,\nIF($I$4=\"CZ 4\",5,\nIF($I$4=\"CZ 4 C\",6,\nIF($I$4=\"CZ 5\",7,\nIF($I$4=\"CZ 6\",8,\nIF($I$4=\"CZ 7\",9,\nIF($I$4=\"CZ 8\",10,\"\"))))))))))","v":""}]
[null,null,null,null,null,null,{"$f":"IFERROR(IF(AND($F$4=\"Version 1.2 OR+WA\",OR($I$4=\"CZ 1\",$I$4=\"CZ 2\",$I$4=\"CZ 3\",$I$4=\"CZ 4\",$I$4=\"CZ 7\",$I$4=\"CZ 8\")),\"N/A - Update CZ\",\n\nIF(Table5b[[#This Row],[Lookup Table Pt1]]=\"ESRefDesign_InsulationU_V1\",INDEX(INDIRECT(Table5b[[#This Row],[Lookup Table Pt1]]),Table5b[[#This Row],[Row Index]],Table5b[[#This Row],[Column Index]]),\nIF(Table5b[[#This Row],[Lookup Table Pt1]]=\"ESRefDesign_InsulationU_V11\",INDEX(INDIRECT(Table5b[[#This Row],[Lookup Table Pt1]]),Table5b[[#This Row],[Row Index]],Table5b[[#This Row],[Column Index]]),\nIF(Table5b[[#This Row],[Lookup Table Pt1]]=\"ESRefDesign_InsulationU_V12\",INDEX(INDIRECT(Table5b[[#This Row],[Lookup Table Pt1]]),Table5b[[#This Row],[Row Index]],2),\n\nIF(Table5b[[#This Row],[Lookup Table Pt1]]=\"IECC2009_RU\",INDEX(INDIRECT(Table5b[[#This Row],[Lookup Table Pt2]]),Table5b[[#This Row],[Row Index]],Table5b[[#This Row],[Column Index]]),\nIF(Table5b[[#This Row],[Lookup Table Pt1]]=\"IECC2009_OU\",INDEX(INDIRECT(Table5b[[#This Row],[Lookup Table Pt2]]),Table5b[[#This Row],[Row Index]],Table5b[[#This Row],[Column Index]]),\n\nIF(Table5b[[#This Row],[Lookup Table Pt1]]=\"IECC2012_RU\",INDEX(INDIRECT(Table5b[[#This Row],[Lookup Table Pt2]]),Table5b[[#This Row],[Row Index]],Table5b[[#This Row],[Column Index]]),\nIF(Table5b[[#This Row],[Lookup Table Pt1]]=\"IECC2012_OU\",INDEX(INDIRECT(Table5b[[#This Row],[Lookup Table Pt2]]),Table5b[[#This Row],[Row Index]],Table5b[[#This Row],[Column Index]]),\n\n\"\")))))))),\"\")","v":""},{"$f":"IFERROR(\nIF(LEFT(Table5b[[#This Row],[ENERGY STAR Requirement Values]],2)=\"U-\",Table5b[[#This Row],[ENERGY STAR Requirement Values]],\n\nIF(OR(Table5b[[#This Row],[Building Component]]=\"Slab Insulation\",Table5b[[#This Row],[Building Component]]=\"Slab-On-Grade Floor\",Table5b[[#This Row],[Building Component]]=\"Slab-On-Grade Floors\",Table5b[[#This Row],[Building Component]]=\"On-Grade & Below Grade Slab\",Table5b[[#This Row],[Building Component]]=\"Slab-on-Grade Floors\",Table5b[[#This Row],[Building Component]]=\"Slab-on-Grade Floor\"),\"\",\n\nIF(OR(Table5b[[#This Row],[ENERGY STAR Requirement Values]]=\"R-0\",Table5b[[#This Row],[ENERGY STAR Requirement Values]]=0,Table5b[[#This Row],[ENERGY STAR Requirement Values]]=\"C-1.140\"),\"U-0.36\",\nIF(OR(Table5b[[#This Row],[ENERGY STAR Requirement Values]]=\"R-7.5\",Table5b[[#This Row],[ENERGY STAR Requirement Values]]=7.5,Table5b[[#This Row],[ENERGY STAR Requirement Values]]=\"C-0.119\"),\"U-0.072\",\nIF(OR(Table5b[[#This Row],[ENERGY STAR Requirement Values]]=\"R-10\",Table5b[[#This Row],[ENERGY STAR Requirement Values]]=10,Table5b[[#This Row],[ENERGY STAR Requirement Values]]=\"C-0.092\"),\"U-0.059\",\nIF(OR(Table5b[[#This Row],[ENERGY STAR Requirement Values]]=\"R-15\",Table5b[[#This Row],[ENERGY STAR Requirement Values]]=15,Table5b[[#This Row],[ENERGY STAR Requirement Values]]=\"R-15 continuous or R-21 cavity\"),\"U-0.05\",\nIF(OR(Table5b[[#This Row],[ENERGY STAR Requirement Values]]=\"R-12.5\",Table5b[[#This Row],[ENERGY STAR Requirement Values]]=12.5,Table5b[[#This Row],[ENERGY STAR Requirement Values]]=\"C-0.075\"),\"U-0.054\",\nIF(OR(Table5b[[#This Row],[ENERGY STAR Requirement Values]]=\"R-21\",Table5b[[#This Row],[ENERGY STAR Requirement Values]]=21),\"U-0.056\",\nIF(OR(Table5b[[#This Row],[ENERGY STAR Requirement Values]]=\"R-38\",Table5b[[#This Row],[ENERGY STAR Requirement Values]]=38),\"U-0.028\",\nIF(OR(Table5b[[#This Row],[ENERGY STAR Requirement Values]]=\"R-49\",Table5b[[#This Row],[ENERGY STAR Requirement Values]]=49),\"U-0.026\",\n\nIF(LEFT(Table5b[[#This Row],[ENERGY STAR Requirement Values]],2)=\"F-\",\"\",\n\nIF(LEFT(Table5b[[#This Row],[ENERGY STAR Requirement Values]],1)=\"0\",CONCATENATE(\"U-\",Table5b[[#This Row],[ENERGY STAR Requirement Values]]),\n\nTable5b[[#This Row],[ENERGY STAR Requirement Values]])))))))))))),\"\")","v":""},null,null,null,null,null,null,null,{"$f":"IF(AND(Table5b[[#This Row],[Dwelling or Common?]]=\"Dwelling\",$D$4=\"Prescriptive\",OR($F$4=\"Version 1\", $F$4=\"Version 1.1\")),\"BuildingComponents_ESRefList\",\nIF(AND(Table5b[[#This Row],[Dwelling or Common?]]=\"Dwelling\",$D$4=\"Prescriptive\",$F$4=\"Version 1.2 OR+WA\"),\"BuildingComponents_ESRefListV12\",\nIF(Table5b[[#This Row],[Dwelling or Common?]]=\"Dwelling\",\"BuildingComponents_IECCList\",\n\nIF(AND(Table5b[[#This Row],[Dwelling or Common?]]=\"Common\",$F$4=\"Version 1.2 OR+WA\",OR($D$4=\"Prescriptive\",$D$4=\"ERI\",$D$4=\"Title 24 - Dwelling Unit Models\")),\"BuildingComponents_ESRefListV12\",\n\nIF(AND(Table5b[[#This Row],[Dwelling or Common?]]=\"Common\",$D$4=\"Prescriptive\"),\"BuildingComponents_IECCList\",\nIF(AND(Table5b[[#This Row],[Dwelling or Common?]]=\"Common\",OR($D$4=\"ERI\",$D$4=\"Title 24 - Dwelling Unit Models\")),\"BuildingComponents_IECCList\",\n\nIF(AND(Table5b[[#This Row],[Dwelling or Common?]]=\"Common\",OR($D$4=\"ASHRAE\",$D$4=\"Title 24 - Whole Building Models\")),\"BuildingComponents_IECCList\",\n\"\")))))))","v":""},{"$f":"IF(OR(Table5b[[#This Row],[Building_Component_Lookup]]=\"BuildingComponents_ESRefList\",Table5b[[#This Row],[Building_Component_Lookup]]=\"BuildingComponents_ESRefListV12\"),\"ESRefNoCom\",\nIF(Table5b[[#This Row],[Building Component]]=\"Roofs\",\"Roof\",\nIF(Table5b[[#This Row],[Building Component]]=\"Walls, Above Grade\",\"WallAboveGrade\",\nIF(Table5b[[#This Row],[Building Component]]=\"Walls, Below Grade\",\"WallBelowGrade\",\nIF(Table5b[[#This Row],[Building Component]]=\"Floors\",\"Floor\",\nIF(Table5b[[#This Row],[Building Component]]=\"Slab-on-Grade Floors\",\"SlabOnGradeFloor\",\nIF(Table5b[[#This Row],[Building Component]]=\"Opaque Doors\",\"OpaqueDoor\",\"\")))))))","v":""},{"$f":"IF(AND(Table5b[[#This Row],[Dwelling or Common?]]=\"Dwelling\",$F$4=\"Version 1\",$D$4=\"Prescriptive\"),\"ESRefDesign_InsulationU_V1\",\nIF(AND(Table5b[[#This Row],[Dwelling or Common?]]=\"Dwelling\",$F$4=\"Version 1.1\",$D$4=\"Prescriptive\"),\"ESRefDesign_InsulationU_V11\",\nIF(AND(Table5b[[#This Row],[Dwelling or Common?]]=\"Dwelling\",$F$4=\"Version 1.2 OR+WA\",$D$4=\"Prescriptive\"),\"ESRefDesign_InsulationU_V12\",\n\nIF(AND(Table5b[[#This Row],[Dwelling or Common?]]=\"Dwelling\",OR($F$4=\"Version 1\",$F$4=\"Version 1.1\",$F$4=\"Version 1.2 OR+WA\"),OR($D$4=\"ERI\",$D$4=\"ASHRAE\",$D$4=\"Title 24 - Whole Building Models\",$D$4=\"Title 24 - Dwelling Unit Models\")),\"IECC2009_RU\",\n\nIF(AND(Table5b[[#This Row],[Dwelling or Common?]]=\"Common\",$F$4=\"Version 1\",OR($D$4=\"Prescriptive\",$D$4=\"ERI\",$D$4=\"Title 24 - Dwelling Unit Models\",)),\"IECC2009_OU\",\nIF(AND(Table5b[[#This Row],[Dwelling or Common?]]=\"Common\",$F$4=\"Version 1.1\",OR($D$4=\"Prescriptive\",$D$4=\"ERI\",$D$4=\"Title 24 - Dwelling Unit Models\")),\"IECC2012_OU\",\nIF(AND(Table5b[[#This Row],[Dwelling or Common?]]=\"Common\",$F$4=\"Version 1.2 OR+WA\",OR($D$4=\"Prescriptive\",$D$4=\"ERI\",$D$4=\"Title 24 - Dwelling Unit Models\")),\"ESRefDesign_InsulationU_V12\",\n\nIF(AND(Table5b[[#This Row],[Dwelling or Common?]]=\"Common\",OR($D$4=\"ASHRAE\",$D$4=\"Title 24 - Whole Building Models\")),\"IECC2009_OU\",\n\n\"\"))))))))","v":""},{"$f":"IF(Table5b[[#This Row],[Building Component]]=\"Slab Insulation\",\"Slab Insulation R-Value:\",\nIF(Table5b[[#This Row],[Building Component]]=\"Basement Wall Continuous Insulation\",\"Basement Wall Continuous Insulation R-Value:\",\nIF(Table5b[[#This Row],[Building Component]]=\"Floor Assembly\", \"Floor Assembly U-Factor:\",\nIF(Table5b[[#This Row],[Building Component]]=\"Wall Assembly\", \"Wall Assembly U-Factor:\",\nIF(Table5b[[#This Row],[Building Component]]=\"Ceiling Assembly\", \"Ceiling Assembly U-Factor:\",\n\nTable5b[[#This Row],[Lookup Table Pt1]]&\"_\"&Table5b[[#This Row],[Component_Lookup]])\n))))","v":"_"},{"$f":"IF(Table5b[[#This Row],[Lookup Table Pt2]]=\"Slab Insulation R-Value:\",1,\nIF(Table5b[[#This Row],[Lookup Table Pt2]]=\"Slab Insulation Depth (ft):\",2,\nIF(Table5b[[#This Row],[Lookup Table Pt2]]=\"Basement Wall Continuous Insulation R-Value:\",3,\nIF(Table5b[[#This Row],[Lookup Table Pt2]]=\"Floor Assembly U-Factor:\",4,\nIF(Table5b[[#This Row],[Lookup Table Pt2]]=\"Wall Assembly U-Factor:\",5,\nIF(Table5b[[#This Row],[Lookup Table Pt2]]=\"Ceiling Assembly U-Factor:\",6,\n\nIF(Table5b[[#This Row],[Building Component]]=\"Above-Grade Wall\",1,\nIF(Table5b[[#This Row],[Building Component]]=\"Ceiling\",2,\nIF(Table5b[[#This Row],[Building Component]]=\"Floor\",3,\nIF(Table5b[[#This Row],[Building Component]]=\"Basement Wall\",4,\nIF(Table5b[[#This Row],[Building Component]]=\"On-Grade & Below Grade Slab\",5,\n\nIF(Table5b[[#This Row],[Component Type\n(N/A for Prescriptive Path Dwelling Unit)]]=\"Insulation entirely above deck\",1,\nIF(Table5b[[#This Row],[Component Type\n(N/A for Prescriptive Path Dwelling Unit)]]=\"Metal buildings\",2,\nIF(Table5b[[#This Row],[Component Type\n(N/A for Prescriptive Path Dwelling Unit)]]=\"Attic and other\",3,\n\nIF(Table5b[[#This Row],[Component Type\n(N/A for Prescriptive Path Dwelling Unit)]]=\"Mass\",1,\nIF(Table5b[[#This Row],[Component Type\n(N/A for Prescriptive Path Dwelling Unit)]]=\"Metal building\",2,\nIF(Table5b[[#This Row],[Component Type\n(N/A for Prescriptive Path Dwelling Unit)]]=\"Metal framed\",3,\nIF(Table5b[[#This Row],[Component Type\n(N/A for Prescriptive Path Dwelling Unit)]]=\"Wood framed and other\",4,\n\nIF(Table5b[[#This Row],[Component Type\n(N/A for Prescriptive Path Dwelling Unit)]]=\"Below grade wall\",1,\n\nIF(Table5b[[#This Row],[Component Type\n(N/A for Prescriptive Path Dwelling Unit)]]=\"Mass\",1,\nIF(Table5b[[#This Row],[Component Type\n(N/A for Prescriptive Path Dwelling Unit)]]=\"Joist/framing\",2,\n\nIF(Table5b[[#This Row],[Component Type\n(N/A for Prescriptive Path Dwelling Unit)]]=\"Unheated slabs\",1,\nIF(Table5b[[#This Row],[Component Type\n(N/A for Prescriptive Path Dwelling Unit)]]=\"Heated slabs\",2,\n\nIF(Table5b[[#This Row],[Component Type\n(N/A for Prescriptive Path Dwelling Unit)]]=\"Swinging\",1,\nIF(Table5b[[#This Row],[Component Type\n(N/A for Prescriptive Path Dwelling Unit)]]=\"Roll-up or sliding\",2,\n\n\"ADD IN IECC TABLE INDEX VALUES\")))))))))))))))))))))))))","v":"ADD IN IECC TABLE INDEX VALUES"},""]
[null,null,null,null,null,null,{"$f":"IFERROR(IF(AND($F$4=\"Version 1.2 OR+WA\",OR($I$4=\"CZ 1\",$I$4=\"CZ 2\",$I$4=\"CZ 3\",$I$4=\"CZ 4\",$I$4=\"CZ 7\",$I$4=\"CZ 8\")),\"N/A - Update CZ\",\n\nIF(Table5b[[#This Row],[Lookup Table Pt1]]=\"ESRefDesign_InsulationU_V1\",INDEX(INDIRECT(Table5b[[#This Row],[Lookup Table Pt1]]),Table5b[[#This Row],[Row Index]],Table5b[[#This Row],[Column Index]]),\nIF(Table5b[[#This Row],[Lookup Table Pt1]]=\"ESRefDesign_InsulationU_V11\",INDEX(INDIRECT(Table5b[[#This Row],[Lookup Table Pt1]]),Table5b[[#This Row],[Row Index]],Table5b[[#This Row],[Column Index]]),\nIF(Table5b[[#This Row],[Lookup Table Pt1]]=\"ESRefDesign_InsulationU_V12\",INDEX(INDIRECT(Table5b[[#This Row],[Lookup Table Pt1]]),Table5b[[#This Row],[Row Index]],2),\n\nIF(Table5b[[#This Row],[Lookup Table Pt1]]=\"IECC2009_RU\",INDEX(INDIRECT(Table5b[[#This Row],[Lookup Table Pt2]]),Table5b[[#This Row],[Row Index]],Table5b[[#This Row],[Column Index]]),\nIF(Table5b[[#This Row],[Lookup Table Pt1]]=\"IECC2009_OU\",INDEX(INDIRECT(Table5b[[#This Row],[Lookup Table Pt2]]),Table5b[[#This Row],[Row Index]],Table5b[[#This Row],[Column Index]]),\n\nIF(Table5b[[#This Row],[Lookup Table Pt1]]=\"IECC2012_RU\",INDEX(INDIRECT(Table5b[[#This Row],[Lookup Table Pt2]]),Table5b[[#This Row],[Row Index]],Table5b[[#This Row],[Column Index]]),\nIF(Table5b[[#This Row],[Lookup Table Pt1]]=\"IECC2012_OU\",INDEX(INDIRECT(Table5b[[#This Row],[Lookup Table Pt2]]),Table5b[[#This Row],[Row Index]],Table5b[[#This Row],[Column Index]]),\n\n\"\")))))))),\"\")","v":""},{"$f":"IFERROR(\nIF(LEFT(Table5b[[#This Row],[ENERGY STAR Requirement Values]],2)=\"U-\",Table5b[[#This Row],[ENERGY STAR Requirement Values]],\n\nIF(OR(Table5b[[#This Row],[Building Component]]=\"Slab Insulation\",Table5b[[#This Row],[Building Component]]=\"Slab-On-Grade Floor\",Table5b[[#This Row],[Building Component]]=\"Slab-On-Grade Floors\",Table5b[[#This Row],[Building Component]]=\"On-Grade & Below Grade Slab\",Table5b[[#This Row],[Building Component]]=\"Slab-on-Grade Floors\",Table5b[[#This Row],[Building Component]]=\"Slab-on-Grade Floor\"),\"\",\n\nIF(OR(Table5b[[#This Row],[ENERGY STAR Requirement Values]]=\"R-0\",Table5b[[#This Row],[ENERGY STAR Requirement Values]]=0,Table5b[[#This Row],[ENERGY STAR Requirement Values]]=\"C-1.140\"),\"U-0.36\",\nIF(OR(Table5b[[#This Row],[ENERGY STAR Requirement Values]]=\"R-7.5\",Table5b[[#This Row],[ENERGY STAR Requirement Values]]=7.5,Table5b[[#This Row],[ENERGY STAR Requirement Values]]=\"C-0.119\"),\"U-0.072\",\nIF(OR(Table5b[[#This Row],[ENERGY STAR Requirement Values]]=\"R-10\",Table5b[[#This Row],[ENERGY STAR Requirement Values]]=10,Table5b[[#This Row],[ENERGY STAR Requirement Values]]=\"C-0.092\"),\"U-0.059\",\nIF(OR(Table5b[[#This Row],[ENERGY STAR Requirement Values]]=\"R-15\",Table5b[[#This Row],[ENERGY STAR Requirement Values]]=15,Table5b[[#This Row],[ENERGY STAR Requirement Values]]=\"R-15 continuous or R-21 cavity\"),\"U-0.05\",\nIF(OR(Table5b[[#This Row],[ENERGY STAR Requirement Values]]=\"R-12.5\",Table5b[[#This Row],[ENERGY STAR Requirement Values]]=12.5,Table5b[[#This Row],[ENERGY STAR Requirement Values]]=\"C-0.075\"),\"U-0.054\",\nIF(OR(Table5b[[#This Row],[ENERGY STAR Requirement Values]]=\"R-21\",Table5b[[#This Row],[ENERGY STAR Requirement Values]]=21),\"U-0.056\",\nIF(OR(Table5b[[#This Row],[ENERGY STAR Requirement Values]]=\"R-38\",Table5b[[#This Row],[ENERGY STAR Requirement Values]]=38),\"U-0.028\",\nIF(OR(Table5b[[#This Row],[ENERGY STAR Requirement Values]]=\"R-49\",Table5b[[#This Row],[ENERGY STAR Requirement Values]]=49),\"U-0.026\",\n\nIF(LEFT(Table5b[[#This Row],[ENERGY STAR Requirement Values]],2)=\"F-\",\"\",\n\nIF(LEFT(Table5b[[#This Row],[ENERGY STAR Requirement Values]],1)=\"0\",CONCATENATE(\"U-\",Table5b[[#This Row],[ENERGY STAR Requirement Values]]),\n\nTable5b[[#This Row],[ENERGY STAR Requirement Values]])))))))))))),\"\")","v":""},null,null,null,null,null,null,null,{"$f":"IF(AND(Table5b[[#This Row],[Dwelling or Common?]]=\"Dwelling\",$D$4=\"Prescriptive\",OR($F$4=\"Version 1\", $F$4=\"Version 1.1\")),\"BuildingComponents_ESRefList\",\nIF(AND(Table5b[[#This Row],[Dwelling or Common?]]=\"Dwelling\",$D$4=\"Prescriptive\",$F$4=\"Version 1.2 OR+WA\"),\"BuildingComponents_ESRefListV12\",\nIF(Table5b[[#This Row],[Dwelling or Common?]]=\"Dwelling\",\"BuildingComponents_IECCList\",\n\nIF(AND(Table5b[[#This Row],[Dwelling or Common?]]=\"Common\",$F$4=\"Version 1.2 OR+WA\",OR($D$4=\"Prescriptive\",$D$4=\"ERI\",$D$4=\"Title 24 - Dwelling Unit Models\")),\"BuildingComponents_ESRefListV12\",\n\nIF(AND(Table5b[[#This Row],[Dwelling or Common?]]=\"Common\",$D$4=\"Prescriptive\"),\"BuildingComponents_IECCList\",\nIF(AND(Table5b[[#This Row],[Dwelling or Common?]]=\"Common\",OR($D$4=\"ERI\",$D$4=\"Title 24 - Dwelling Unit Models\")),\"BuildingComponents_IECCList\",\n\nIF(AND(Table5b[[#This Row],[Dwelling or Common?]]=\"Common\",OR($D$4=\"ASHRAE\",$D$4=\"Title 24 - Whole Building Models\")),\"BuildingComponents_IECCList\",\n\"\")))))))","v":""},{"$f":"IF(OR(Table5b[[#This Row],[Building_Component_Lookup]]=\"BuildingComponents_ESRefList\",Table5b[[#This Row],[Building_Component_Lookup]]=\"BuildingComponents_ESRefListV12\"),\"ESRefNoCom\",\nIF(Table5b[[#This Row],[Building Component]]=\"Roofs\",\"Roof\",\nIF(Table5b[[#This Row],[Building Component]]=\"Walls, Above Grade\",\"WallAboveGrade\",\nIF(Table5b[[#This Row],[Building Component]]=\"Walls, Below Grade\",\"WallBelowGrade\",\nIF(Table5b[[#This Row],[Building Component]]=\"Floors\",\"Floor\",\nIF(Table5b[[#This Row],[Building Component]]=\"Slab-on-Grade Floors\",\"SlabOnGradeFloor\",\nIF(Table5b[[#This Row],[Building Component]]=\"Opaque Doors\",\"OpaqueDoor\",\"\")))))))","v":""},{"$f":"IF(AND(Table5b[[#This Row],[Dwelling or Common?]]=\"Dwelling\",$F$4=\"Version 1\",$D$4=\"Prescriptive\"),\"ESRefDesign_InsulationU_V1\",\nIF(AND(Table5b[[#This Row],[Dwelling or Common?]]=\"Dwelling\",$F$4=\"Version 1.1\",$D$4=\"Prescriptive\"),\"ESRefDesign_InsulationU_V11\",\nIF(AND(Table5b[[#This Row],[Dwelling or Common?]]=\"Dwelling\",$F$4=\"Version 1.2 OR+WA\",$D$4=\"Prescriptive\"),\"ESRefDesign_InsulationU_V12\",\n\nIF(AND(Table5b[[#This Row],[Dwelling or Common?]]=\"Dwelling\",OR($F$4=\"Version 1\",$F$4=\"Version 1.1\",$F$4=\"Version 1.2 OR+WA\"),OR($D$4=\"ERI\",$D$4=\"ASHRAE\",$D$4=\"Title 24 - Whole Building Models\",$D$4=\"Title 24 - Dwelling Unit Models\")),\"IECC2009_RU\",\n\nIF(AND(Table5b[[#This Row],[Dwelling or Common?]]=\"Common\",$F$4=\"Version 1\",OR($D$4=\"Prescriptive\",$D$4=\"ERI\",$D$4=\"Title 24 - Dwelling Unit Models\",)),\"IECC2009_OU\",\nIF(AND(Table5b[[#This Row],[Dwelling or Common?]]=\"Common\",$F$4=\"Version 1.1\",OR($D$4=\"Prescriptive\",$D$4=\"ERI\",$D$4=\"Title 24 - Dwelling Unit Models\")),\"IECC2012_OU\",\nIF(AND(Table5b[[#This Row],[Dwelling or Common?]]=\"Common\",$F$4=\"Version 1.2 OR+WA\",OR($D$4=\"Prescriptive\",$D$4=\"ERI\",$D$4=\"Title 24 - Dwelling Unit Models\")),\"ESRefDesign_InsulationU_V12\",\n\nIF(AND(Table5b[[#This Row],[Dwelling or Common?]]=\"Common\",OR($D$4=\"ASHRAE\",$D$4=\"Title 24 - Whole Building Models\")),\"IECC2009_OU\",\n\n\"\"))))))))","v":""},{"$f":"IF(Table5b[[#This Row],[Building Component]]=\"Slab Insulation\",\"Slab Insulation R-Value:\",\nIF(Table5b[[#This Row],[Building Component]]=\"Basement Wall Continuous Insulation\",\"Basement Wall Continuous Insulation R-Value:\",\nIF(Table5b[[#This Row],[Building Component]]=\"Floor Assembly\", \"Floor Assembly U-Factor:\",\nIF(Table5b[[#This Row],[Building Component]]=\"Wall Assembly\", \"Wall Assembly U-Factor:\",\nIF(Table5b[[#This Row],[Building Component]]=\"Ceiling Assembly\", \"Ceiling Assembly U-Factor:\",\n\nTable5b[[#This Row],[Lookup Table Pt1]]&\"_\"&Table5b[[#This Row],[Component_Lookup]])\n))))","v":"_"},{"$f":"IF(Table5b[[#This Row],[Lookup Table Pt2]]=\"Slab Insulation R-Value:\",1,\nIF(Table5b[[#This Row],[Lookup Table Pt2]]=\"Slab Insulation Depth (ft):\",2,\nIF(Table5b[[#This Row],[Lookup Table Pt2]]=\"Basement Wall Continuous Insulation R-Value:\",3,\nIF(Table5b[[#This Row],[Lookup Table Pt2]]=\"Floor Assembly U-Factor:\",4,\nIF(Table5b[[#This Row],[Lookup Table Pt2]]=\"Wall Assembly U-Factor:\",5,\nIF(Table5b[[#This Row],[Lookup Table Pt2]]=\"Ceiling Assembly U-Factor:\",6,\n\nIF(Table5b[[#This Row],[Building Component]]=\"Above-Grade Wall\",1,\nIF(Table5b[[#This Row],[Building Component]]=\"Ceiling\",2,\nIF(Table5b[[#This Row],[Building Component]]=\"Floor\",3,\nIF(Table5b[[#This Row],[Building Component]]=\"Basement Wall\",4,\nIF(Table5b[[#This Row],[Building Component]]=\"On-Grade & Below Grade Slab\",5,\n\nIF(Table5b[[#This Row],[Component Type\n(N/A for Prescriptive Path Dwelling Unit)]]=\"Insulation entirely above deck\",1,\nIF(Table5b[[#This Row],[Component Type\n(N/A for Prescriptive Path Dwelling Unit)]]=\"Metal buildings\",2,\nIF(Table5b[[#This Row],[Component Type\n(N/A for Prescriptive Path Dwelling Unit)]]=\"Attic and other\",3,\n\nIF(Table5b[[#This Row],[Component Type\n(N/A for Prescriptive Path Dwelling Unit)]]=\"Mass\",1,\nIF(Table5b[[#This Row],[Component Type\n(N/A for Prescriptive Path Dwelling Unit)]]=\"Metal building\",2,\nIF(Table5b[[#This Row],[Component Type\n(N/A for Prescriptive Path Dwelling Unit)]]=\"Metal framed\",3,\nIF(Table5b[[#This Row],[Component Type\n(N/A for Prescriptive Path Dwelling Unit)]]=\"Wood framed and other\",4,\n\nIF(Table5b[[#This Row],[Component Type\n(N/A for Prescriptive Path Dwelling Unit)]]=\"Below grade wall\",1,\n\nIF(Table5b[[#This Row],[Component Type\n(N/A for Prescriptive Path Dwelling Unit)]]=\"Mass\",1,\nIF(Table5b[[#This Row],[Component Type\n(N/A for Prescriptive Path Dwelling Unit)]]=\"Joist/framing\",2,\n\nIF(Table5b[[#This Row],[Component Type\n(N/A for Prescriptive Path Dwelling Unit)]]=\"Unheated slabs\",1,\nIF(Table5b[[#This Row],[Component Type\n(N/A for Prescriptive Path Dwelling Unit)]]=\"Heated slabs\",2,\n\nIF(Table5b[[#This Row],[Component Type\n(N/A for Prescriptive Path Dwelling Unit)]]=\"Swinging\",1,\nIF(Table5b[[#This Row],[Component Type\n(N/A for Prescriptive Path Dwelling Unit)]]=\"Roll-up or sliding\",2,\n\n\"ADD IN IECC TABLE INDEX VALUES\")))))))))))))))))))))))))","v":"ADD IN IECC TABLE INDEX VALUES"},""]
[null,null,null,null,null,null,{"$f":"IFERROR(IF(AND($F$4=\"Version 1.2 OR+WA\",OR($I$4=\"CZ 1\",$I$4=\"CZ 2\",$I$4=\"CZ 3\",$I$4=\"CZ 4\",$I$4=\"CZ 7\",$I$4=\"CZ 8\")),\"N/A - Update CZ\",\n\nIF(Table5b[[#This Row],[Lookup Table Pt1]]=\"ESRefDesign_InsulationU_V1\",INDEX(INDIRECT(Table5b[[#This Row],[Lookup Table Pt1]]),Table5b[[#This Row],[Row Index]],Table5b[[#This Row],[Column Index]]),\nIF(Table5b[[#This Row],[Lookup Table Pt1]]=\"ESRefDesign_InsulationU_V11\",INDEX(INDIRECT(Table5b[[#This Row],[Lookup Table Pt1]]),Table5b[[#This Row],[Row Index]],Table5b[[#This Row],[Column Index]]),\nIF(Table5b[[#This Row],[Lookup Table Pt1]]=\"ESRefDesign_InsulationU_V12\",INDEX(INDIRECT(Table5b[[#This Row],[Lookup Table Pt1]]),Table5b[[#This Row],[Row Index]],2),\n\nIF(Table5b[[#This Row],[Lookup Table Pt1]]=\"IECC2009_RU\",INDEX(INDIRECT(Table5b[[#This Row],[Lookup Table Pt2]]),Table5b[[#This Row],[Row Index]],Table5b[[#This Row],[Column Index]]),\nIF(Table5b[[#This Row],[Lookup Table Pt1]]=\"IECC2009_OU\",INDEX(INDIRECT(Table5b[[#This Row],[Lookup Table Pt2]]),Table5b[[#This Row],[Row Index]],Table5b[[#This Row],[Column Index]]),\n\nIF(Table5b[[#This Row],[Lookup Table Pt1]]=\"IECC2012_RU\",INDEX(INDIRECT(Table5b[[#This Row],[Lookup Table Pt2]]),Table5b[[#This Row],[Row Index]],Table5b[[#This Row],[Column Index]]),\nIF(Table5b[[#This Row],[Lookup Table Pt1]]=\"IECC2012_OU\",INDEX(INDIRECT(Table5b[[#This Row],[Lookup Table Pt2]]),Table5b[[#This Row],[Row Index]],Table5b[[#This Row],[Column Index]]),\n\n\"\")))))))),\"\")","v":""},{"$f":"IFERROR(\nIF(LEFT(Table5b[[#This Row],[ENERGY STAR Requirement Values]],2)=\"U-\",Table5b[[#This Row],[ENERGY STAR Requirement Values]],\n\nIF(OR(Table5b[[#This Row],[Building Component]]=\"Slab Insulation\",Table5b[[#This Row],[Building Component]]=\"Slab-On-Grade Floor\",Table5b[[#This Row],[Building Component]]=\"Slab-On-Grade Floors\",Table5b[[#This Row],[Building Component]]=\"On-Grade & Below Grade Slab\",Table5b[[#This Row],[Building Component]]=\"Slab-on-Grade Floors\",Table5b[[#This Row],[Building Component]]=\"Slab-on-Grade Floor\"),\"\",\n\nIF(OR(Table5b[[#This Row],[ENERGY STAR Requirement Values]]=\"R-0\",Table5b[[#This Row],[ENERGY STAR Requirement Values]]=0,Table5b[[#This Row],[ENERGY STAR Requirement Values]]=\"C-1.140\"),\"U-0.36\",\nIF(OR(Table5b[[#This Row],[ENERGY STAR Requirement Values]]=\"R-7.5\",Table5b[[#This Row],[ENERGY STAR Requirement Values]]=7.5,Table5b[[#This Row],[ENERGY STAR Requirement Values]]=\"C-0.119\"),\"U-0.072\",\nIF(OR(Table5b[[#This Row],[ENERGY STAR Requirement Values]]=\"R-10\",Table5b[[#This Row],[ENERGY STAR Requirement Values]]=10,Table5b[[#This Row],[ENERGY STAR Requirement Values]]=\"C-0.092\"),\"U-0.059\",\nIF(OR(Table5b[[#This Row],[ENERGY STAR Requirement Values]]=\"R-15\",Table5b[[#This Row],[ENERGY STAR Requirement Values]]=15,Table5b[[#This Row],[ENERGY STAR Requirement Values]]=\"R-15 continuous or R-21 cavity\"),\"U-0.05\",\nIF(OR(Table5b[[#This Row],[ENERGY STAR Requirement Values]]=\"R-12.5\",Table5b[[#This Row],[ENERGY STAR Requirement Values]]=12.5,Table5b[[#This Row],[ENERGY STAR Requirement Values]]=\"C-0.075\"),\"U-0.054\",\nIF(OR(Table5b[[#This Row],[ENERGY STAR Requirement Values]]=\"R-21\",Table5b[[#This Row],[ENERGY STAR Requirement Values]]=21),\"U-0.056\",\nIF(OR(Table5b[[#This Row],[ENERGY STAR Requirement Values]]=\"R-38\",Table5b[[#This Row],[ENERGY STAR Requirement Values]]=38),\"U-0.028\",\nIF(OR(Table5b[[#This Row],[ENERGY STAR Requirement Values]]=\"R-49\",Table5b[[#This Row],[ENERGY STAR Requirement Values]]=49),\"U-0.026\",\n\nIF(LEFT(Table5b[[#This Row],[ENERGY STAR Requirement Values]],2)=\"F-\",\"\",\n\nIF(LEFT(Table5b[[#This Row],[ENERGY STAR Requirement Values]],1)=\"0\",CONCATENATE(\"U-\",Table5b[[#This Row],[ENERGY STAR Requirement Values]]),\n\nTable5b[[#This Row],[ENERGY STAR Requirement Values]])))))))))))),\"\")","v":""},null,null,null,null,null,null,null,{"$f":"IF(AND(Table5b[[#This Row],[Dwelling or Common?]]=\"Dwelling\",$D$4=\"Prescriptive\",OR($F$4=\"Version 1\", $F$4=\"Version 1.1\")),\"BuildingComponents_ESRefList\",\nIF(AND(Table5b[[#This Row],[Dwelling or Common?]]=\"Dwelling\",$D$4=\"Prescriptive\",$F$4=\"Version 1.2 OR+WA\"),\"BuildingComponents_ESRefListV12\",\nIF(Table5b[[#This Row],[Dwelling or Common?]]=\"Dwelling\",\"BuildingComponents_IECCList\",\n\nIF(AND(Table5b[[#This Row],[Dwelling or Common?]]=\"Common\",$F$4=\"Version 1.2 OR+WA\",OR($D$4=\"Prescriptive\",$D$4=\"ERI\",$D$4=\"Title 24 - Dwelling Unit Models\")),\"BuildingComponents_ESRefListV12\",\n\nIF(AND(Table5b[[#This Row],[Dwelling or Common?]]=\"Common\",$D$4=\"Prescriptive\"),\"BuildingComponents_IECCList\",\nIF(AND(Table5b[[#This Row],[Dwelling or Common?]]=\"Common\",OR($D$4=\"ERI\",$D$4=\"Title 24 - Dwelling Unit Models\")),\"BuildingComponents_IECCList\",\n\nIF(AND(Table5b[[#This Row],[Dwelling or Common?]]=\"Common\",OR($D$4=\"ASHRAE\",$D$4=\"Title 24 - Whole Building Models\")),\"BuildingComponents_IECCList\",\n\"\")))))))","v":""},{"$f":"IF(OR(Table5b[[#This Row],[Building_Component_Lookup]]=\"BuildingComponents_ESRefList\",Table5b[[#This Row],[Building_Component_Lookup]]=\"BuildingComponents_ESRefListV12\"),\"ESRefNoCom\",\nIF(Table5b[[#This Row],[Building Component]]=\"Roofs\",\"Roof\",\nIF(Table5b[[#This Row],[Building Component]]=\"Walls, Above Grade\",\"WallAboveGrade\",\nIF(Table5b[[#This Row],[Building Component]]=\"Walls, Below Grade\",\"WallBelowGrade\",\nIF(Table5b[[#This Row],[Building Component]]=\"Floors\",\"Floor\",\nIF(Table5b[[#This Row],[Building Component]]=\"Slab-on-Grade Floors\",\"SlabOnGradeFloor\",\nIF(Table5b[[#This Row],[Building Component]]=\"Opaque Doors\",\"OpaqueDoor\",\"\")))))))","v":""},{"$f":"IF(AND(Table5b[[#This Row],[Dwelling or Common?]]=\"Dwelling\",$F$4=\"Version 1\",$D$4=\"Prescriptive\"),\"ESRefDesign_InsulationU_V1\",\nIF(AND(Table5b[[#This Row],[Dwelling or Common?]]=\"Dwelling\",$F$4=\"Version 1.1\",$D$4=\"Prescriptive\"),\"ESRefDesign_InsulationU_V11\",\nIF(AND(Table5b[[#This Row],[Dwelling or Common?]]=\"Dwelling\",$F$4=\"Version 1.2 OR+WA\",$D$4=\"Prescriptive\"),\"ESRefDesign_InsulationU_V12\",\n\nIF(AND(Table5b[[#This Row],[Dwelling or Common?]]=\"Dwelling\",OR($F$4=\"Version 1\",$F$4=\"Version 1.1\",$F$4=\"Version 1.2 OR+WA\"),OR($D$4=\"ERI\",$D$4=\"ASHRAE\",$D$4=\"Title 24 - Whole Building Models\",$D$4=\"Title 24 - Dwelling Unit Models\")),\"IECC2009_RU\",\n\nIF(AND(Table5b[[#This Row],[Dwelling or Common?]]=\"Common\",$F$4=\"Version 1\",OR($D$4=\"Prescriptive\",$D$4=\"ERI\",$D$4=\"Title 24 - Dwelling Unit Models\",)),\"IECC2009_OU\",\nIF(AND(Table5b[[#This Row],[Dwelling or Common?]]=\"Common\",$F$4=\"Version 1.1\",OR($D$4=\"Prescriptive\",$D$4=\"ERI\",$D$4=\"Title 24 - Dwelling Unit Models\")),\"IECC2012_OU\",\nIF(AND(Table5b[[#This Row],[Dwelling or Common?]]=\"Common\",$F$4=\"Version 1.2 OR+WA\",OR($D$4=\"Prescriptive\",$D$4=\"ERI\",$D$4=\"Title 24 - Dwelling Unit Models\")),\"ESRefDesign_InsulationU_V12\",\n\nIF(AND(Table5b[[#This Row],[Dwelling or Common?]]=\"Common\",OR($D$4=\"ASHRAE\",$D$4=\"Title 24 - Whole Building Models\")),\"IECC2009_OU\",\n\n\"\"))))))))","v":""},{"$f":"IF(Table5b[[#This Row],[Building Component]]=\"Slab Insulation\",\"Slab Insulation R-Value:\",\nIF(Table5b[[#This Row],[Building Component]]=\"Basement Wall Continuous Insulation\",\"Basement Wall Continuous Insulation R-Value:\",\nIF(Table5b[[#This Row],[Building Component]]=\"Floor Assembly\", \"Floor Assembly U-Factor:\",\nIF(Table5b[[#This Row],[Building Component]]=\"Wall Assembly\", \"Wall Assembly U-Factor:\",\nIF(Table5b[[#This Row],[Building Component]]=\"Ceiling Assembly\", \"Ceiling Assembly U-Factor:\",\n\nTable5b[[#This Row],[Lookup Table Pt1]]&\"_\"&Table5b[[#This Row],[Component_Lookup]])\n))))","v":"_"},{"$f":"IF(Table5b[[#This Row],[Lookup Table Pt2]]=\"Slab Insulation R-Value:\",1,\nIF(Table5b[[#This Row],[Lookup Table Pt2]]=\"Slab Insulation Depth (ft):\",2,\nIF(Table5b[[#This Row],[Lookup Table Pt2]]=\"Basement Wall Continuous Insulation R-Value:\",3,\nIF(Table5b[[#This Row],[Lookup Table Pt2]]=\"Floor Assembly U-Factor:\",4,\nIF(Table5b[[#This Row],[Lookup Table Pt2]]=\"Wall Assembly U-Factor:\",5,\nIF(Table5b[[#This Row],[Lookup Table Pt2]]=\"Ceiling Assembly U-Factor:\",6,\n\nIF(Table5b[[#This Row],[Building Component]]=\"Above-Grade Wall\",1,\nIF(Table5b[[#This Row],[Building Component]]=\"Ceiling\",2,\nIF(Table5b[[#This Row],[Building Component]]=\"Floor\",3,\nIF(Table5b[[#This Row],[Building Component]]=\"Basement Wall\",4,\nIF(Table5b[[#This Row],[Building Component]]=\"On-Grade & Below Grade Slab\",5,\n\nIF(Table5b[[#This Row],[Component Type\n(N/A for Prescriptive Path Dwelling Unit)]]=\"Insulation entirely above deck\",1,\nIF(Table5b[[#This Row],[Component Type\n(N/A for Prescriptive Path Dwelling Unit)]]=\"Metal buildings\",2,\nIF(Table5b[[#This Row],[Component Type\n(N/A for Prescriptive Path Dwelling Unit)]]=\"Attic and other\",3,\n\nIF(Table5b[[#This Row],[Component Type\n(N/A for Prescriptive Path Dwelling Unit)]]=\"Mass\",1,\nIF(Table5b[[#This Row],[Component Type\n(N/A for Prescriptive Path Dwelling Unit)]]=\"Metal building\",2,\nIF(Table5b[[#This Row],[Component Type\n(N/A for Prescriptive Path Dwelling Unit)]]=\"Metal framed\",3,\nIF(Table5b[[#This Row],[Component Type\n(N/A for Prescriptive Path Dwelling Unit)]]=\"Wood framed and other\",4,\n\nIF(Table5b[[#This Row],[Component Type\n(N/A for Prescriptive Path Dwelling Unit)]]=\"Below grade wall\",1,\n\nIF(Table5b[[#This Row],[Component Type\n(N/A for Prescriptive Path Dwelling Unit)]]=\"Mass\",1,\nIF(Table5b[[#This Row],[Component Type\n(N/A for Prescriptive Path Dwelling Unit)]]=\"Joist/framing\",2,\n\nIF(Table5b[[#This Row],[Component Type\n(N/A for Prescriptive Path Dwelling Unit)]]=\"Unheated slabs\",1,\nIF(Table5b[[#This Row],[Component Type\n(N/A for Prescriptive Path Dwelling Unit)]]=\"Heated slabs\",2,\n\nIF(Table5b[[#This Row],[Component Type\n(N/A for Prescriptive Path Dwelling Unit)]]=\"Swinging\",1,\nIF(Table5b[[#This Row],[Component Type\n(N/A for Prescriptive Path Dwelling Unit)]]=\"Roll-up or sliding\",2,\n\n\"ADD IN IECC TABLE INDEX VALUES\")))))))))))))))))))))))))","v":"ADD IN IECC TABLE INDEX VALUES"},""]
[null,null,null,null,null,null,{"$f":"IFERROR(IF(AND($F$4=\"Version 1.2 OR+WA\",OR($I$4=\"CZ 1\",$I$4=\"CZ 2\",$I$4=\"CZ 3\",$I$4=\"CZ 4\",$I$4=\"CZ 7\",$I$4=\"CZ 8\")),\"N/A - Update CZ\",\n\nIF(Table5b[[#This Row],[Lookup Table Pt1]]=\"ESRefDesign_InsulationU_V1\",INDEX(INDIRECT(Table5b[[#This Row],[Lookup Table Pt1]]),Table5b[[#This Row],[Row Index]],Table5b[[#This Row],[Column Index]]),\nIF(Table5b[[#This Row],[Lookup Table Pt1]]=\"ESRefDesign_InsulationU_V11\",INDEX(INDIRECT(Table5b[[#This Row],[Lookup Table Pt1]]),Table5b[[#This Row],[Row Index]],Table5b[[#This Row],[Column Index]]),\nIF(Table5b[[#This Row],[Lookup Table Pt1]]=\"ESRefDesign_InsulationU_V12\",INDEX(INDIRECT(Table5b[[#This Row],[Lookup Table Pt1]]),Table5b[[#This Row],[Row Index]],2),\n\nIF(Table5b[[#This Row],[Lookup Table Pt1]]=\"IECC2009_RU\",INDEX(INDIRECT(Table5b[[#This Row],[Lookup Table Pt2]]),Table5b[[#This Row],[Row Index]],Table5b[[#This Row],[Column Index]]),\nIF(Table5b[[#This Row],[Lookup Table Pt1]]=\"IECC2009_OU\",INDEX(INDIRECT(Table5b[[#This Row],[Lookup Table Pt2]]),Table5b[[#This Row],[Row Index]],Table5b[[#This Row],[Column Index]]),\n\nIF(Table5b[[#This Row],[Lookup Table Pt1]]=\"IECC2012_RU\",INDEX(INDIRECT(Table5b[[#This Row],[Lookup Table Pt2]]),Table5b[[#This Row],[Row Index]],Table5b[[#This Row],[Column Index]]),\nIF(Table5b[[#This Row],[Lookup Table Pt1]]=\"IECC2012_OU\",INDEX(INDIRECT(Table5b[[#This Row],[Lookup Table Pt2]]),Table5b[[#This Row],[Row Index]],Table5b[[#This Row],[Column Index]]),\n\n\"\")))))))),\"\")","v":""},{"$f":"IFERROR(\nIF(LEFT(Table5b[[#This Row],[ENERGY STAR Requirement Values]],2)=\"U-\",Table5b[[#This Row],[ENERGY STAR Requirement Values]],\n\nIF(OR(Table5b[[#This Row],[Building Component]]=\"Slab Insulation\",Table5b[[#This Row],[Building Component]]=\"Slab-On-Grade Floor\",Table5b[[#This Row],[Building Component]]=\"Slab-On-Grade Floors\",Table5b[[#This Row],[Building Component]]=\"On-Grade & Below Grade Slab\",Table5b[[#This Row],[Building Component]]=\"Slab-on-Grade Floors\",Table5b[[#This Row],[Building Component]]=\"Slab-on-Grade Floor\"),\"\",\n\nIF(OR(Table5b[[#This Row],[ENERGY STAR Requirement Values]]=\"R-0\",Table5b[[#This Row],[ENERGY STAR Requirement Values]]=0,Table5b[[#This Row],[ENERGY STAR Requirement Values]]=\"C-1.140\"),\"U-0.36\",\nIF(OR(Table5b[[#This Row],[ENERGY STAR Requirement Values]]=\"R-7.5\",Table5b[[#This Row],[ENERGY STAR Requirement Values]]=7.5,Table5b[[#This Row],[ENERGY STAR Requirement Values]]=\"C-0.119\"),\"U-0.072\",\nIF(OR(Table5b[[#This Row],[ENERGY STAR Requirement Values]]=\"R-10\",Table5b[[#This Row],[ENERGY STAR Requirement Values]]=10,Table5b[[#This Row],[ENERGY STAR Requirement Values]]=\"C-0.092\"),\"U-0.059\",\nIF(OR(Table5b[[#This Row],[ENERGY STAR Requirement Values]]=\"R-15\",Table5b[[#This Row],[ENERGY STAR Requirement Values]]=15,Table5b[[#This Row],[ENERGY STAR Requirement Values]]=\"R-15 continuous or R-21 cavity\"),\"U-0.05\",\nIF(OR(Table5b[[#This Row],[ENERGY STAR Requirement Values]]=\"R-12.5\",Table5b[[#This Row],[ENERGY STAR Requirement Values]]=12.5,Table5b[[#This Row],[ENERGY STAR Requirement Values]]=\"C-0.075\"),\"U-0.054\",\nIF(OR(Table5b[[#This Row],[ENERGY STAR Requirement Values]]=\"R-21\",Table5b[[#This Row],[ENERGY STAR Requirement Values]]=21),\"U-0.056\",\nIF(OR(Table5b[[#This Row],[ENERGY STAR Requirement Values]]=\"R-38\",Table5b[[#This Row],[ENERGY STAR Requirement Values]]=38),\"U-0.028\",\nIF(OR(Table5b[[#This Row],[ENERGY STAR Requirement Values]]=\"R-49\",Table5b[[#This Row],[ENERGY STAR Requirement Values]]=49),\"U-0.026\",\n\nIF(LEFT(Table5b[[#This Row],[ENERGY STAR Requirement Values]],2)=\"F-\",\"\",\n\nIF(LEFT(Table5b[[#This Row],[ENERGY STAR Requirement Values]],1)=\"0\",CONCATENATE(\"U-\",Table5b[[#This Row],[ENERGY STAR Requirement Values]]),\n\nTable5b[[#This Row],[ENERGY STAR Requirement Values]])))))))))))),\"\")","v":""},null,null,null,null,null,null,null,{"$f":"IF(AND(Table5b[[#This Row],[Dwelling or Common?]]=\"Dwelling\",$D$4=\"Prescriptive\",OR($F$4=\"Version 1\", $F$4=\"Version 1.1\")),\"BuildingComponents_ESRefList\",\nIF(AND(Table5b[[#This Row],[Dwelling or Common?]]=\"Dwelling\",$D$4=\"Prescriptive\",$F$4=\"Version 1.2 OR+WA\"),\"BuildingComponents_ESRefListV12\",\nIF(Table5b[[#This Row],[Dwelling or Common?]]=\"Dwelling\",\"BuildingComponents_IECCList\",\n\nIF(AND(Table5b[[#This Row],[Dwelling or Common?]]=\"Common\",$F$4=\"Version 1.2 OR+WA\",OR($D$4=\"Prescriptive\",$D$4=\"ERI\",$D$4=\"Title 24 - Dwelling Unit Models\")),\"BuildingComponents_ESRefListV12\",\n\nIF(AND(Table5b[[#This Row],[Dwelling or Common?]]=\"Common\",$D$4=\"Prescriptive\"),\"BuildingComponents_IECCList\",\nIF(AND(Table5b[[#This Row],[Dwelling or Common?]]=\"Common\",OR($D$4=\"ERI\",$D$4=\"Title 24 - Dwelling Unit Models\")),\"BuildingComponents_IECCList\",\n\nIF(AND(Table5b[[#This Row],[Dwelling or Common?]]=\"Common\",OR($D$4=\"ASHRAE\",$D$4=\"Title 24 - Whole Building Models\")),\"BuildingComponents_IECCList\",\n\"\")))))))","v":""},{"$f":"IF(OR(Table5b[[#This Row],[Building_Component_Lookup]]=\"BuildingComponents_ESRefList\",Table5b[[#This Row],[Building_Component_Lookup]]=\"BuildingComponents_ESRefListV12\"),\"ESRefNoCom\",\nIF(Table5b[[#This Row],[Building Component]]=\"Roofs\",\"Roof\",\nIF(Table5b[[#This Row],[Building Component]]=\"Walls, Above Grade\",\"WallAboveGrade\",\nIF(Table5b[[#This Row],[Building Component]]=\"Walls, Below Grade\",\"WallBelowGrade\",\nIF(Table5b[[#This Row],[Building Component]]=\"Floors\",\"Floor\",\nIF(Table5b[[#This Row],[Building Component]]=\"Slab-on-Grade Floors\",\"SlabOnGradeFloor\",\nIF(Table5b[[#This Row],[Building Component]]=\"Opaque Doors\",\"OpaqueDoor\",\"\")))))))","v":""},{"$f":"IF(AND(Table5b[[#This Row],[Dwelling or Common?]]=\"Dwelling\",$F$4=\"Version 1\",$D$4=\"Prescriptive\"),\"ESRefDesign_InsulationU_V1\",\nIF(AND(Table5b[[#This Row],[Dwelling or Common?]]=\"Dwelling\",$F$4=\"Version 1.1\",$D$4=\"Prescriptive\"),\"ESRefDesign_InsulationU_V11\",\nIF(AND(Table5b[[#This Row],[Dwelling or Common?]]=\"Dwelling\",$F$4=\"Version 1.2 OR+WA\",$D$4=\"Prescriptive\"),\"ESRefDesign_InsulationU_V12\",\n\nIF(AND(Table5b[[#This Row],[Dwelling or Common?]]=\"Dwelling\",OR($F$4=\"Version 1\",$F$4=\"Version 1.1\",$F$4=\"Version 1.2 OR+WA\"),OR($D$4=\"ERI\",$D$4=\"ASHRAE\",$D$4=\"Title 24 - Whole Building Models\",$D$4=\"Title 24 - Dwelling Unit Models\")),\"IECC2009_RU\",\n\nIF(AND(Table5b[[#This Row],[Dwelling or Common?]]=\"Common\",$F$4=\"Version 1\",OR($D$4=\"Prescriptive\",$D$4=\"ERI\",$D$4=\"Title 24 - Dwelling Unit Models\",)),\"IECC2009_OU\",\nIF(AND(Table5b[[#This Row],[Dwelling or Common?]]=\"Common\",$F$4=\"Version 1.1\",OR($D$4=\"Prescriptive\",$D$4=\"ERI\",$D$4=\"Title 24 - Dwelling Unit Models\")),\"IECC2012_OU\",\nIF(AND(Table5b[[#This Row],[Dwelling or Common?]]=\"Common\",$F$4=\"Version 1.2 OR+WA\",OR($D$4=\"Prescriptive\",$D$4=\"ERI\",$D$4=\"Title 24 - Dwelling Unit Models\")),\"ESRefDesign_InsulationU_V12\",\n\nIF(AND(Table5b[[#This Row],[Dwelling or Common?]]=\"Common\",OR($D$4=\"ASHRAE\",$D$4=\"Title 24 - Whole Building Models\")),\"IECC2009_OU\",\n\n\"\"))))))))","v":""},{"$f":"IF(Table5b[[#This Row],[Building Component]]=\"Slab Insulation\",\"Slab Insulation R-Value:\",\nIF(Table5b[[#This Row],[Building Component]]=\"Basement Wall Continuous Insulation\",\"Basement Wall Continuous Insulation R-Value:\",\nIF(Table5b[[#This Row],[Building Component]]=\"Floor Assembly\", \"Floor Assembly U-Factor:\",\nIF(Table5b[[#This Row],[Building Component]]=\"Wall Assembly\", \"Wall Assembly U-Factor:\",\nIF(Table5b[[#This Row],[Building Component]]=\"Ceiling Assembly\", \"Ceiling Assembly U-Factor:\",\n\nTable5b[[#This Row],[Lookup Table Pt1]]&\"_\"&Table5b[[#This Row],[Component_Lookup]])\n))))","v":"_"},{"$f":"IF(Table5b[[#This Row],[Lookup Table Pt2]]=\"Slab Insulation R-Value:\",1,\nIF(Table5b[[#This Row],[Lookup Table Pt2]]=\"Slab Insulation Depth (ft):\",2,\nIF(Table5b[[#This Row],[Lookup Table Pt2]]=\"Basement Wall Continuous Insulation R-Value:\",3,\nIF(Table5b[[#This Row],[Lookup Table Pt2]]=\"Floor Assembly U-Factor:\",4,\nIF(Table5b[[#This Row],[Lookup Table Pt2]]=\"Wall Assembly U-Factor:\",5,\nIF(Table5b[[#This Row],[Lookup Table Pt2]]=\"Ceiling Assembly U-Factor:\",6,\n\nIF(Table5b[[#This Row],[Building Component]]=\"Above-Grade Wall\",1,\nIF(Table5b[[#This Row],[Building Component]]=\"Ceiling\",2,\nIF(Table5b[[#This Row],[Building Component]]=\"Floor\",3,\nIF(Table5b[[#This Row],[Building Component]]=\"Basement Wall\",4,\nIF(Table5b[[#This Row],[Building Component]]=\"On-Grade & Below Grade Slab\",5,\n\nIF(Table5b[[#This Row],[Component Type\n(N/A for Prescriptive Path Dwelling Unit)]]=\"Insulation entirely above deck\",1,\nIF(Table5b[[#This Row],[Component Type\n(N/A for Prescriptive Path Dwelling Unit)]]=\"Metal buildings\",2,\nIF(Table5b[[#This Row],[Component Type\n(N/A for Prescriptive Path Dwelling Unit)]]=\"Attic and other\",3,\n\nIF(Table5b[[#This Row],[Component Type\n(N/A for Prescriptive Path Dwelling Unit)]]=\"Mass\",1,\nIF(Table5b[[#This Row],[Component Type\n(N/A for Prescriptive Path Dwelling Unit)]]=\"Metal building\",2,\nIF(Table5b[[#This Row],[Component Type\n(N/A for Prescriptive Path Dwelling Unit)]]=\"Metal framed\",3,\nIF(Table5b[[#This Row],[Component Type\n(N/A for Prescriptive Path Dwelling Unit)]]=\"Wood framed and other\",4,\n\nIF(Table5b[[#This Row],[Component Type\n(N/A for Prescriptive Path Dwelling Unit)]]=\"Below grade wall\",1,\n\nIF(Table5b[[#This Row],[Component Type\n(N/A for Prescriptive Path Dwelling Unit)]]=\"Mass\",1,\nIF(Table5b[[#This Row],[Component Type\n(N/A for Prescriptive Path Dwelling Unit)]]=\"Joist/framing\",2,\n\nIF(Table5b[[#This Row],[Component Type\n(N/A for Prescriptive Path Dwelling Unit)]]=\"Unheated slabs\",1,\nIF(Table5b[[#This Row],[Component Type\n(N/A for Prescriptive Path Dwelling Unit)]]=\"Heated slabs\",2,\n\nIF(Table5b[[#This Row],[Component Type\n(N/A for Prescriptive Path Dwelling Unit)]]=\"Swinging\",1,\nIF(Table5b[[#This Row],[Component Type\n(N/A for Prescriptive Path Dwelling Unit)]]=\"Roll-up or sliding\",2,\n\n\"ADD IN IECC TABLE INDEX VALUES\")))))))))))))))))))))))))","v":"ADD IN IECC TABLE INDEX VALUES"},""]
[null,null,null,null,null,null,{"$f":"IFERROR(IF(AND($F$4=\"Version 1.2 OR+WA\",OR($I$4=\"CZ 1\",$I$4=\"CZ 2\",$I$4=\"CZ 3\",$I$4=\"CZ 4\",$I$4=\"CZ 7\",$I$4=\"CZ 8\")),\"N/A - Update CZ\",\n\nIF(Table5b[[#This Row],[Lookup Table Pt1]]=\"ESRefDesign_InsulationU_V1\",INDEX(INDIRECT(Table5b[[#This Row],[Lookup Table Pt1]]),Table5b[[#This Row],[Row Index]],Table5b[[#This Row],[Column Index]]),\nIF(Table5b[[#This Row],[Lookup Table Pt1]]=\"ESRefDesign_InsulationU_V11\",INDEX(INDIRECT(Table5b[[#This Row],[Lookup Table Pt1]]),Table5b[[#This Row],[Row Index]],Table5b[[#This Row],[Column Index]]),\nIF(Table5b[[#This Row],[Lookup Table Pt1]]=\"ESRefDesign_InsulationU_V12\",INDEX(INDIRECT(Table5b[[#This Row],[Lookup Table Pt1]]),Table5b[[#This Row],[Row Index]],2),\n\nIF(Table5b[[#This Row],[Lookup Table Pt1]]=\"IECC2009_RU\",INDEX(INDIRECT(Table5b[[#This Row],[Lookup Table Pt2]]),Table5b[[#This Row],[Row Index]],Table5b[[#This Row],[Column Index]]),\nIF(Table5b[[#This Row],[Lookup Table Pt1]]=\"IECC2009_OU\",INDEX(INDIRECT(Table5b[[#This Row],[Lookup Table Pt2]]),Table5b[[#This Row],[Row Index]],Table5b[[#This Row],[Column Index]]),\n\nIF(Table5b[[#This Row],[Lookup Table Pt1]]=\"IECC2012_RU\",INDEX(INDIRECT(Table5b[[#This Row],[Lookup Table Pt2]]),Table5b[[#This Row],[Row Index]],Table5b[[#This Row],[Column Index]]),\nIF(Table5b[[#This Row],[Lookup Table Pt1]]=\"IECC2012_OU\",INDEX(INDIRECT(Table5b[[#This Row],[Lookup Table Pt2]]),Table5b[[#This Row],[Row Index]],Table5b[[#This Row],[Column Index]]),\n\n\"\")))))))),\"\")","v":""},{"$f":"IFERROR(\nIF(LEFT(Table5b[[#This Row],[ENERGY STAR Requirement Values]],2)=\"U-\",Table5b[[#This Row],[ENERGY STAR Requirement Values]],\n\nIF(OR(Table5b[[#This Row],[Building Component]]=\"Slab Insulation\",Table5b[[#This Row],[Building Component]]=\"Slab-On-Grade Floor\",Table5b[[#This Row],[Building Component]]=\"Slab-On-Grade Floors\",Table5b[[#This Row],[Building Component]]=\"On-Grade & Below Grade Slab\",Table5b[[#This Row],[Building Component]]=\"Slab-on-Grade Floors\",Table5b[[#This Row],[Building Component]]=\"Slab-on-Grade Floor\"),\"\",\n\nIF(OR(Table5b[[#This Row],[ENERGY STAR Requirement Values]]=\"R-0\",Table5b[[#This Row],[ENERGY STAR Requirement Values]]=0,Table5b[[#This Row],[ENERGY STAR Requirement Values]]=\"C-1.140\"),\"U-0.36\",\nIF(OR(Table5b[[#This Row],[ENERGY STAR Requirement Values]]=\"R-7.5\",Table5b[[#This Row],[ENERGY STAR Requirement Values]]=7.5,Table5b[[#This Row],[ENERGY STAR Requirement Values]]=\"C-0.119\"),\"U-0.072\",\nIF(OR(Table5b[[#This Row],[ENERGY STAR Requirement Values]]=\"R-10\",Table5b[[#This Row],[ENERGY STAR Requirement Values]]=10,Table5b[[#This Row],[ENERGY STAR Requirement Values]]=\"C-0.092\"),\"U-0.059\",\nIF(OR(Table5b[[#This Row],[ENERGY STAR Requirement Values]]=\"R-15\",Table5b[[#This Row],[ENERGY STAR Requirement Values]]=15,Table5b[[#This Row],[ENERGY STAR Requirement Values]]=\"R-15 continuous or R-21 cavity\"),\"U-0.05\",\nIF(OR(Table5b[[#This Row],[ENERGY STAR Requirement Values]]=\"R-12.5\",Table5b[[#This Row],[ENERGY STAR Requirement Values]]=12.5,Table5b[[#This Row],[ENERGY STAR Requirement Values]]=\"C-0.075\"),\"U-0.054\",\nIF(OR(Table5b[[#This Row],[ENERGY STAR Requirement Values]]=\"R-21\",Table5b[[#This Row],[ENERGY STAR Requirement Values]]=21),\"U-0.056\",\nIF(OR(Table5b[[#This Row],[ENERGY STAR Requirement Values]]=\"R-38\",Table5b[[#This Row],[ENERGY STAR Requirement Values]]=38),\"U-0.028\",\nIF(OR(Table5b[[#This Row],[ENERGY STAR Requirement Values]]=\"R-49\",Table5b[[#This Row],[ENERGY STAR Requirement Values]]=49),\"U-0.026\",\n\nIF(LEFT(Table5b[[#This Row],[ENERGY STAR Requirement Values]],2)=\"F-\",\"\",\n\nIF(LEFT(Table5b[[#This Row],[ENERGY STAR Requirement Values]],1)=\"0\",CONCATENATE(\"U-\",Table5b[[#This Row],[ENERGY STAR Requirement Values]]),\n\nTable5b[[#This Row],[ENERGY STAR Requirement Values]])))))))))))),\"\")","v":""},null,null,null,null,null,null,null,{"$f":"IF(AND(Table5b[[#This Row],[Dwelling or Common?]]=\"Dwelling\",$D$4=\"Prescriptive\",OR($F$4=\"Version 1\", $F$4=\"Version 1.1\")),\"BuildingComponents_ESRefList\",\nIF(AND(Table5b[[#This Row],[Dwelling or Common?]]=\"Dwelling\",$D$4=\"Prescriptive\",$F$4=\"Version 1.2 OR+WA\"),\"BuildingComponents_ESRefListV12\",\nIF(Table5b[[#This Row],[Dwelling or Common?]]=\"Dwelling\",\"BuildingComponents_IECCList\",\n\nIF(AND(Table5b[[#This Row],[Dwelling or Common?]]=\"Common\",$F$4=\"Version 1.2 OR+WA\",OR($D$4=\"Prescriptive\",$D$4=\"ERI\",$D$4=\"Title 24 - Dwelling Unit Models\")),\"BuildingComponents_ESRefListV12\",\n\nIF(AND(Table5b[[#This Row],[Dwelling or Common?]]=\"Common\",$D$4=\"Prescriptive\"),\"BuildingComponents_IECCList\",\nIF(AND(Table5b[[#This Row],[Dwelling or Common?]]=\"Common\",OR($D$4=\"ERI\",$D$4=\"Title 24 - Dwelling Unit Models\")),\"BuildingComponents_IECCList\",\n\nIF(AND(Table5b[[#This Row],[Dwelling or Common?]]=\"Common\",OR($D$4=\"ASHRAE\",$D$4=\"Title 24 - Whole Building Models\")),\"BuildingComponents_IECCList\",\n\"\")))))))","v":""},{"$f":"IF(OR(Table5b[[#This Row],[Building_Component_Lookup]]=\"BuildingComponents_ESRefList\",Table5b[[#This Row],[Building_Component_Lookup]]=\"BuildingComponents_ESRefListV12\"),\"ESRefNoCom\",\nIF(Table5b[[#This Row],[Building Component]]=\"Roofs\",\"Roof\",\nIF(Table5b[[#This Row],[Building Component]]=\"Walls, Above Grade\",\"WallAboveGrade\",\nIF(Table5b[[#This Row],[Building Component]]=\"Walls, Below Grade\",\"WallBelowGrade\",\nIF(Table5b[[#This Row],[Building Component]]=\"Floors\",\"Floor\",\nIF(Table5b[[#This Row],[Building Component]]=\"Slab-on-Grade Floors\",\"SlabOnGradeFloor\",\nIF(Table5b[[#This Row],[Building Component]]=\"Opaque Doors\",\"OpaqueDoor\",\"\")))))))","v":""},{"$f":"IF(AND(Table5b[[#This Row],[Dwelling or Common?]]=\"Dwelling\",$F$4=\"Version 1\",$D$4=\"Prescriptive\"),\"ESRefDesign_InsulationU_V1\",\nIF(AND(Table5b[[#This Row],[Dwelling or Common?]]=\"Dwelling\",$F$4=\"Version 1.1\",$D$4=\"Prescriptive\"),\"ESRefDesign_InsulationU_V11\",\nIF(AND(Table5b[[#This Row],[Dwelling or Common?]]=\"Dwelling\",$F$4=\"Version 1.2 OR+WA\",$D$4=\"Prescriptive\"),\"ESRefDesign_InsulationU_V12\",\n\nIF(AND(Table5b[[#This Row],[Dwelling or Common?]]=\"Dwelling\",OR($F$4=\"Version 1\",$F$4=\"Version 1.1\",$F$4=\"Version 1.2 OR+WA\"),OR($D$4=\"ERI\",$D$4=\"ASHRAE\",$D$4=\"Title 24 - Whole Building Models\",$D$4=\"Title 24 - Dwelling Unit Models\")),\"IECC2009_RU\",\n\nIF(AND(Table5b[[#This Row],[Dwelling or Common?]]=\"Common\",$F$4=\"Version 1\",OR($D$4=\"Prescriptive\",$D$4=\"ERI\",$D$4=\"Title 24 - Dwelling Unit Models\",)),\"IECC2009_OU\",\nIF(AND(Table5b[[#This Row],[Dwelling or Common?]]=\"Common\",$F$4=\"Version 1.1\",OR($D$4=\"Prescriptive\",$D$4=\"ERI\",$D$4=\"Title 24 - Dwelling Unit Models\")),\"IECC2012_OU\",\nIF(AND(Table5b[[#This Row],[Dwelling or Common?]]=\"Common\",$F$4=\"Version 1.2 OR+WA\",OR($D$4=\"Prescriptive\",$D$4=\"ERI\",$D$4=\"Title 24 - Dwelling Unit Models\")),\"ESRefDesign_InsulationU_V12\",\n\nIF(AND(Table5b[[#This Row],[Dwelling or Common?]]=\"Common\",OR($D$4=\"ASHRAE\",$D$4=\"Title 24 - Whole Building Models\")),\"IECC2009_OU\",\n\n\"\"))))))))","v":""},{"$f":"IF(Table5b[[#This Row],[Building Component]]=\"Slab Insulation\",\"Slab Insulation R-Value:\",\nIF(Table5b[[#This Row],[Building Component]]=\"Basement Wall Continuous Insulation\",\"Basement Wall Continuous Insulation R-Value:\",\nIF(Table5b[[#This Row],[Building Component]]=\"Floor Assembly\", \"Floor Assembly U-Factor:\",\nIF(Table5b[[#This Row],[Building Component]]=\"Wall Assembly\", \"Wall Assembly U-Factor:\",\nIF(Table5b[[#This Row],[Building Component]]=\"Ceiling Assembly\", \"Ceiling Assembly U-Factor:\",\n\nTable5b[[#This Row],[Lookup Table Pt1]]&\"_\"&Table5b[[#This Row],[Component_Lookup]])\n))))","v":"_"},{"$f":"IF(Table5b[[#This Row],[Lookup Table Pt2]]=\"Slab Insulation R-Value:\",1,\nIF(Table5b[[#This Row],[Lookup Table Pt2]]=\"Slab Insulation Depth (ft):\",2,\nIF(Table5b[[#This Row],[Lookup Table Pt2]]=\"Basement Wall Continuous Insulation R-Value:\",3,\nIF(Table5b[[#This Row],[Lookup Table Pt2]]=\"Floor Assembly U-Factor:\",4,\nIF(Table5b[[#This Row],[Lookup Table Pt2]]=\"Wall Assembly U-Factor:\",5,\nIF(Table5b[[#This Row],[Lookup Table Pt2]]=\"Ceiling Assembly U-Factor:\",6,\n\nIF(Table5b[[#This Row],[Building Component]]=\"Above-Grade Wall\",1,\nIF(Table5b[[#This Row],[Building Component]]=\"Ceiling\",2,\nIF(Table5b[[#This Row],[Building Component]]=\"Floor\",3,\nIF(Table5b[[#This Row],[Building Component]]=\"Basement Wall\",4,\nIF(Table5b[[#This Row],[Building Component]]=\"On-Grade & Below Grade Slab\",5,\n\nIF(Table5b[[#This Row],[Component Type\n(N/A for Prescriptive Path Dwelling Unit)]]=\"Insulation entirely above deck\",1,\nIF(Table5b[[#This Row],[Component Type\n(N/A for Prescriptive Path Dwelling Unit)]]=\"Metal buildings\",2,\nIF(Table5b[[#This Row],[Component Type\n(N/A for Prescriptive Path Dwelling Unit)]]=\"Attic and other\",3,\n\nIF(Table5b[[#This Row],[Component Type\n(N/A for Prescriptive Path Dwelling Unit)]]=\"Mass\",1,\nIF(Table5b[[#This Row],[Component Type\n(N/A for Prescriptive Path Dwelling Unit)]]=\"Metal building\",2,\nIF(Table5b[[#This Row],[Component Type\n(N/A for Prescriptive Path Dwelling Unit)]]=\"Metal framed\",3,\nIF(Table5b[[#This Row],[Component Type\n(N/A for Prescriptive Path Dwelling Unit)]]=\"Wood framed and other\",4,\n\nIF(Table5b[[#This Row],[Component Type\n(N/A for Prescriptive Path Dwelling Unit)]]=\"Below grade wall\",1,\n\nIF(Table5b[[#This Row],[Component Type\n(N/A for Prescriptive Path Dwelling Unit)]]=\"Mass\",1,\nIF(Table5b[[#This Row],[Component Type\n(N/A for Prescriptive Path Dwelling Unit)]]=\"Joist/framing\",2,\n\nIF(Table5b[[#This Row],[Component Type\n(N/A for Prescriptive Path Dwelling Unit)]]=\"Unheated slabs\",1,\nIF(Table5b[[#This Row],[Component Type\n(N/A for Prescriptive Path Dwelling Unit)]]=\"Heated slabs\",2,\n\nIF(Table5b[[#This Row],[Component Type\n(N/A for Prescriptive Path Dwelling Unit)]]=\"Swinging\",1,\nIF(Table5b[[#This Row],[Component Type\n(N/A for Prescriptive Path Dwelling Unit)]]=\"Roll-up or sliding\",2,\n\n\"ADD IN IECC TABLE INDEX VALUES\")))))))))))))))))))))))))","v":"ADD IN IECC TABLE INDEX VALUES"},""]
[null,null,null,null,null,null,{"$f":"IFERROR(IF(AND($F$4=\"Version 1.2 OR+WA\",OR($I$4=\"CZ 1\",$I$4=\"CZ 2\",$I$4=\"CZ 3\",$I$4=\"CZ 4\",$I$4=\"CZ 7\",$I$4=\"CZ 8\")),\"N/A - Update CZ\",\n\nIF(Table5b[[#This Row],[Lookup Table Pt1]]=\"ESRefDesign_InsulationU_V1\",INDEX(INDIRECT(Table5b[[#This Row],[Lookup Table Pt1]]),Table5b[[#This Row],[Row Index]],Table5b[[#This Row],[Column Index]]),\nIF(Table5b[[#This Row],[Lookup Table Pt1]]=\"ESRefDesign_InsulationU_V11\",INDEX(INDIRECT(Table5b[[#This Row],[Lookup Table Pt1]]),Table5b[[#This Row],[Row Index]],Table5b[[#This Row],[Column Index]]),\nIF(Table5b[[#This Row],[Lookup Table Pt1]]=\"ESRefDesign_InsulationU_V12\",INDEX(INDIRECT(Table5b[[#This Row],[Lookup Table Pt1]]),Table5b[[#This Row],[Row Index]],2),\n\nIF(Table5b[[#This Row],[Lookup Table Pt1]]=\"IECC2009_RU\",INDEX(INDIRECT(Table5b[[#This Row],[Lookup Table Pt2]]),Table5b[[#This Row],[Row Index]],Table5b[[#This Row],[Column Index]]),\nIF(Table5b[[#This Row],[Lookup Table Pt1]]=\"IECC2009_OU\",INDEX(INDIRECT(Table5b[[#This Row],[Lookup Table Pt2]]),Table5b[[#This Row],[Row Index]],Table5b[[#This Row],[Column Index]]),\n\nIF(Table5b[[#This Row],[Lookup Table Pt1]]=\"IECC2012_RU\",INDEX(INDIRECT(Table5b[[#This Row],[Lookup Table Pt2]]),Table5b[[#This Row],[Row Index]],Table5b[[#This Row],[Column Index]]),\nIF(Table5b[[#This Row],[Lookup Table Pt1]]=\"IECC2012_OU\",INDEX(INDIRECT(Table5b[[#This Row],[Lookup Table Pt2]]),Table5b[[#This Row],[Row Index]],Table5b[[#This Row],[Column Index]]),\n\n\"\")))))))),\"\")","v":""},{"$f":"IFERROR(\nIF(LEFT(Table5b[[#This Row],[ENERGY STAR Requirement Values]],2)=\"U-\",Table5b[[#This Row],[ENERGY STAR Requirement Values]],\n\nIF(OR(Table5b[[#This Row],[Building Component]]=\"Slab Insulation\",Table5b[[#This Row],[Building Component]]=\"Slab-On-Grade Floor\",Table5b[[#This Row],[Building Component]]=\"Slab-On-Grade Floors\",Table5b[[#This Row],[Building Component]]=\"On-Grade & Below Grade Slab\",Table5b[[#This Row],[Building Component]]=\"Slab-on-Grade Floors\",Table5b[[#This Row],[Building Component]]=\"Slab-on-Grade Floor\"),\"\",\n\nIF(OR(Table5b[[#This Row],[ENERGY STAR Requirement Values]]=\"R-0\",Table5b[[#This Row],[ENERGY STAR Requirement Values]]=0,Table5b[[#This Row],[ENERGY STAR Requirement Values]]=\"C-1.140\"),\"U-0.36\",\nIF(OR(Table5b[[#This Row],[ENERGY STAR Requirement Values]]=\"R-7.5\",Table5b[[#This Row],[ENERGY STAR Requirement Values]]=7.5,Table5b[[#This Row],[ENERGY STAR Requirement Values]]=\"C-0.119\"),\"U-0.072\",\nIF(OR(Table5b[[#This Row],[ENERGY STAR Requirement Values]]=\"R-10\",Table5b[[#This Row],[ENERGY STAR Requirement Values]]=10,Table5b[[#This Row],[ENERGY STAR Requirement Values]]=\"C-0.092\"),\"U-0.059\",\nIF(OR(Table5b[[#This Row],[ENERGY STAR Requirement Values]]=\"R-15\",Table5b[[#This Row],[ENERGY STAR Requirement Values]]=15,Table5b[[#This Row],[ENERGY STAR Requirement Values]]=\"R-15 continuous or R-21 cavity\"),\"U-0.05\",\nIF(OR(Table5b[[#This Row],[ENERGY STAR Requirement Values]]=\"R-12.5\",Table5b[[#This Row],[ENERGY STAR Requirement Values]]=12.5,Table5b[[#This Row],[ENERGY STAR Requirement Values]]=\"C-0.075\"),\"U-0.054\",\nIF(OR(Table5b[[#This Row],[ENERGY STAR Requirement Values]]=\"R-21\",Table5b[[#This Row],[ENERGY STAR Requirement Values]]=21),\"U-0.056\",\nIF(OR(Table5b[[#This Row],[ENERGY STAR Requirement Values]]=\"R-38\",Table5b[[#This Row],[ENERGY STAR Requirement Values]]=38),\"U-0.028\",\nIF(OR(Table5b[[#This Row],[ENERGY STAR Requirement Values]]=\"R-49\",Table5b[[#This Row],[ENERGY STAR Requirement Values]]=49),\"U-0.026\",\n\nIF(LEFT(Table5b[[#This Row],[ENERGY STAR Requirement Values]],2)=\"F-\",\"\",\n\nIF(LEFT(Table5b[[#This Row],[ENERGY STAR Requirement Values]],1)=\"0\",CONCATENATE(\"U-\",Table5b[[#This Row],[ENERGY STAR Requirement Values]]),\n\nTable5b[[#This Row],[ENERGY STAR Requirement Values]])))))))))))),\"\")","v":""},null,null,null,null,null,null,null,{"$f":"IF(AND(Table5b[[#This Row],[Dwelling or Common?]]=\"Dwelling\",$D$4=\"Prescriptive\",OR($F$4=\"Version 1\", $F$4=\"Version 1.1\")),\"BuildingComponents_ESRefList\",\nIF(AND(Table5b[[#This Row],[Dwelling or Common?]]=\"Dwelling\",$D$4=\"Prescriptive\",$F$4=\"Version 1.2 OR+WA\"),\"BuildingComponents_ESRefListV12\",\nIF(Table5b[[#This Row],[Dwelling or Common?]]=\"Dwelling\",\"BuildingComponents_IECCList\",\n\nIF(AND(Table5b[[#This Row],[Dwelling or Common?]]=\"Common\",$F$4=\"Version 1.2 OR+WA\",OR($D$4=\"Prescriptive\",$D$4=\"ERI\",$D$4=\"Title 24 - Dwelling Unit Models\")),\"BuildingComponents_ESRefListV12\",\n\nIF(AND(Table5b[[#This Row],[Dwelling or Common?]]=\"Common\",$D$4=\"Prescriptive\"),\"BuildingComponents_IECCList\",\nIF(AND(Table5b[[#This Row],[Dwelling or Common?]]=\"Common\",OR($D$4=\"ERI\",$D$4=\"Title 24 - Dwelling Unit Models\")),\"BuildingComponents_IECCList\",\n\nIF(AND(Table5b[[#This Row],[Dwelling or Common?]]=\"Common\",OR($D$4=\"ASHRAE\",$D$4=\"Title 24 - Whole Building Models\")),\"BuildingComponents_IECCList\",\n\"\")))))))","v":""},{"$f":"IF(OR(Table5b[[#This Row],[Building_Component_Lookup]]=\"BuildingComponents_ESRefList\",Table5b[[#This Row],[Building_Component_Lookup]]=\"BuildingComponents_ESRefListV12\"),\"ESRefNoCom\",\nIF(Table5b[[#This Row],[Building Component]]=\"Roofs\",\"Roof\",\nIF(Table5b[[#This Row],[Building Component]]=\"Walls, Above Grade\",\"WallAboveGrade\",\nIF(Table5b[[#This Row],[Building Component]]=\"Walls, Below Grade\",\"WallBelowGrade\",\nIF(Table5b[[#This Row],[Building Component]]=\"Floors\",\"Floor\",\nIF(Table5b[[#This Row],[Building Component]]=\"Slab-on-Grade Floors\",\"SlabOnGradeFloor\",\nIF(Table5b[[#This Row],[Building Component]]=\"Opaque Doors\",\"OpaqueDoor\",\"\")))))))","v":""},{"$f":"IF(AND(Table5b[[#This Row],[Dwelling or Common?]]=\"Dwelling\",$F$4=\"Version 1\",$D$4=\"Prescriptive\"),\"ESRefDesign_InsulationU_V1\",\nIF(AND(Table5b[[#This Row],[Dwelling or Common?]]=\"Dwelling\",$F$4=\"Version 1.1\",$D$4=\"Prescriptive\"),\"ESRefDesign_InsulationU_V11\",\nIF(AND(Table5b[[#This Row],[Dwelling or Common?]]=\"Dwelling\",$F$4=\"Version 1.2 OR+WA\",$D$4=\"Prescriptive\"),\"ESRefDesign_InsulationU_V12\",\n\nIF(AND(Table5b[[#This Row],[Dwelling or Common?]]=\"Dwelling\",OR($F$4=\"Version 1\",$F$4=\"Version 1.1\",$F$4=\"Version 1.2 OR+WA\"),OR($D$4=\"ERI\",$D$4=\"ASHRAE\",$D$4=\"Title 24 - Whole Building Models\",$D$4=\"Title 24 - Dwelling Unit Models\")),\"IECC2009_RU\",\n\nIF(AND(Table5b[[#This Row],[Dwelling or Common?]]=\"Common\",$F$4=\"Version 1\",OR($D$4=\"Prescriptive\",$D$4=\"ERI\",$D$4=\"Title 24 - Dwelling Unit Models\",)),\"IECC2009_OU\",\nIF(AND(Table5b[[#This Row],[Dwelling or Common?]]=\"Common\",$F$4=\"Version 1.1\",OR($D$4=\"Prescriptive\",$D$4=\"ERI\",$D$4=\"Title 24 - Dwelling Unit Models\")),\"IECC2012_OU\",\nIF(AND(Table5b[[#This Row],[Dwelling or Common?]]=\"Common\",$F$4=\"Version 1.2 OR+WA\",OR($D$4=\"Prescriptive\",$D$4=\"ERI\",$D$4=\"Title 24 - Dwelling Unit Models\")),\"ESRefDesign_InsulationU_V12\",\n\nIF(AND(Table5b[[#This Row],[Dwelling or Common?]]=\"Common\",OR($D$4=\"ASHRAE\",$D$4=\"Title 24 - Whole Building Models\")),\"IECC2009_OU\",\n\n\"\"))))))))","v":""},{"$f":"IF(Table5b[[#This Row],[Building Component]]=\"Slab Insulation\",\"Slab Insulation R-Value:\",\nIF(Table5b[[#This Row],[Building Component]]=\"Basement Wall Continuous Insulation\",\"Basement Wall Continuous Insulation R-Value:\",\nIF(Table5b[[#This Row],[Building Component]]=\"Floor Assembly\", \"Floor Assembly U-Factor:\",\nIF(Table5b[[#This Row],[Building Component]]=\"Wall Assembly\", \"Wall Assembly U-Factor:\",\nIF(Table5b[[#This Row],[Building Component]]=\"Ceiling Assembly\", \"Ceiling Assembly U-Factor:\",\n\nTable5b[[#This Row],[Lookup Table Pt1]]&\"_\"&Table5b[[#This Row],[Component_Lookup]])\n))))","v":"_"},{"$f":"IF(Table5b[[#This Row],[Lookup Table Pt2]]=\"Slab Insulation R-Value:\",1,\nIF(Table5b[[#This Row],[Lookup Table Pt2]]=\"Slab Insulation Depth (ft):\",2,\nIF(Table5b[[#This Row],[Lookup Table Pt2]]=\"Basement Wall Continuous Insulation R-Value:\",3,\nIF(Table5b[[#This Row],[Lookup Table Pt2]]=\"Floor Assembly U-Factor:\",4,\nIF(Table5b[[#This Row],[Lookup Table Pt2]]=\"Wall Assembly U-Factor:\",5,\nIF(Table5b[[#This Row],[Lookup Table Pt2]]=\"Ceiling Assembly U-Factor:\",6,\n\nIF(Table5b[[#This Row],[Building Component]]=\"Above-Grade Wall\",1,\nIF(Table5b[[#This Row],[Building Component]]=\"Ceiling\",2,\nIF(Table5b[[#This Row],[Building Component]]=\"Floor\",3,\nIF(Table5b[[#This Row],[Building Component]]=\"Basement Wall\",4,\nIF(Table5b[[#This Row],[Building Component]]=\"On-Grade & Below Grade Slab\",5,\n\nIF(Table5b[[#This Row],[Component Type\n(N/A for Prescriptive Path Dwelling Unit)]]=\"Insulation entirely above deck\",1,\nIF(Table5b[[#This Row],[Component Type\n(N/A for Prescriptive Path Dwelling Unit)]]=\"Metal buildings\",2,\nIF(Table5b[[#This Row],[Component Type\n(N/A for Prescriptive Path Dwelling Unit)]]=\"Attic and other\",3,\n\nIF(Table5b[[#This Row],[Component Type\n(N/A for Prescriptive Path Dwelling Unit)]]=\"Mass\",1,\nIF(Table5b[[#This Row],[Component Type\n(N/A for Prescriptive Path Dwelling Unit)]]=\"Metal building\",2,\nIF(Table5b[[#This Row],[Component Type\n(N/A for Prescriptive Path Dwelling Unit)]]=\"Metal framed\",3,\nIF(Table5b[[#This Row],[Component Type\n(N/A for Prescriptive Path Dwelling Unit)]]=\"Wood framed and other\",4,\n\nIF(Table5b[[#This Row],[Component Type\n(N/A for Prescriptive Path Dwelling Unit)]]=\"Below grade wall\",1,\n\nIF(Table5b[[#This Row],[Component Type\n(N/A for Prescriptive Path Dwelling Unit)]]=\"Mass\",1,\nIF(Table5b[[#This Row],[Component Type\n(N/A for Prescriptive Path Dwelling Unit)]]=\"Joist/framing\",2,\n\nIF(Table5b[[#This Row],[Component Type\n(N/A for Prescriptive Path Dwelling Unit)]]=\"Unheated slabs\",1,\nIF(Table5b[[#This Row],[Component Type\n(N/A for Prescriptive Path Dwelling Unit)]]=\"Heated slabs\",2,\n\nIF(Table5b[[#This Row],[Component Type\n(N/A for Prescriptive Path Dwelling Unit)]]=\"Swinging\",1,\nIF(Table5b[[#This Row],[Component Type\n(N/A for Prescriptive Path Dwelling Unit)]]=\"Roll-up or sliding\",2,\n\n\"ADD IN IECC TABLE INDEX VALUES\")))))))))))))))))))))))))","v":"ADD IN IECC TABLE INDEX VALUES"},""]
[null,null,null,null,null,null,{"$f":"IFERROR(IF(AND($F$4=\"Version 1.2 OR+WA\",OR($I$4=\"CZ 1\",$I$4=\"CZ 2\",$I$4=\"CZ 3\",$I$4=\"CZ 4\",$I$4=\"CZ 7\",$I$4=\"CZ 8\")),\"N/A - Update CZ\",\n\nIF(Table5b[[#This Row],[Lookup Table Pt1]]=\"ESRefDesign_InsulationU_V1\",INDEX(INDIRECT(Table5b[[#This Row],[Lookup Table Pt1]]),Table5b[[#This Row],[Row Index]],Table5b[[#This Row],[Column Index]]),\nIF(Table5b[[#This Row],[Lookup Table Pt1]]=\"ESRefDesign_InsulationU_V11\",INDEX(INDIRECT(Table5b[[#This Row],[Lookup Table Pt1]]),Table5b[[#This Row],[Row Index]],Table5b[[#This Row],[Column Index]]),\nIF(Table5b[[#This Row],[Lookup Table Pt1]]=\"ESRefDesign_InsulationU_V12\",INDEX(INDIRECT(Table5b[[#This Row],[Lookup Table Pt1]]),Table5b[[#This Row],[Row Index]],2),\n\nIF(Table5b[[#This Row],[Lookup Table Pt1]]=\"IECC2009_RU\",INDEX(INDIRECT(Table5b[[#This Row],[Lookup Table Pt2]]),Table5b[[#This Row],[Row Index]],Table5b[[#This Row],[Column Index]]),\nIF(Table5b[[#This Row],[Lookup Table Pt1]]=\"IECC2009_OU\",INDEX(INDIRECT(Table5b[[#This Row],[Lookup Table Pt2]]),Table5b[[#This Row],[Row Index]],Table5b[[#This Row],[Column Index]]),\n\nIF(Table5b[[#This Row],[Lookup Table Pt1]]=\"IECC2012_RU\",INDEX(INDIRECT(Table5b[[#This Row],[Lookup Table Pt2]]),Table5b[[#This Row],[Row Index]],Table5b[[#This Row],[Column Index]]),\nIF(Table5b[[#This Row],[Lookup Table Pt1]]=\"IECC2012_OU\",INDEX(INDIRECT(Table5b[[#This Row],[Lookup Table Pt2]]),Table5b[[#This Row],[Row Index]],Table5b[[#This Row],[Column Index]]),\n\n\"\")))))))),\"\")","v":""},{"$f":"IFERROR(\nIF(LEFT(Table5b[[#This Row],[ENERGY STAR Requirement Values]],2)=\"U-\",Table5b[[#This Row],[ENERGY STAR Requirement Values]],\n\nIF(OR(Table5b[[#This Row],[Building Component]]=\"Slab Insulation\",Table5b[[#This Row],[Building Component]]=\"Slab-On-Grade Floor\",Table5b[[#This Row],[Building Component]]=\"Slab-On-Grade Floors\",Table5b[[#This Row],[Building Component]]=\"On-Grade & Below Grade Slab\",Table5b[[#This Row],[Building Component]]=\"Slab-on-Grade Floors\",Table5b[[#This Row],[Building Component]]=\"Slab-on-Grade Floor\"),\"\",\n\nIF(OR(Table5b[[#This Row],[ENERGY STAR Requirement Values]]=\"R-0\",Table5b[[#This Row],[ENERGY STAR Requirement Values]]=0,Table5b[[#This Row],[ENERGY STAR Requirement Values]]=\"C-1.140\"),\"U-0.36\",\nIF(OR(Table5b[[#This Row],[ENERGY STAR Requirement Values]]=\"R-7.5\",Table5b[[#This Row],[ENERGY STAR Requirement Values]]=7.5,Table5b[[#This Row],[ENERGY STAR Requirement Values]]=\"C-0.119\"),\"U-0.072\",\nIF(OR(Table5b[[#This Row],[ENERGY STAR Requirement Values]]=\"R-10\",Table5b[[#This Row],[ENERGY STAR Requirement Values]]=10,Table5b[[#This Row],[ENERGY STAR Requirement Values]]=\"C-0.092\"),\"U-0.059\",\nIF(OR(Table5b[[#This Row],[ENERGY STAR Requirement Values]]=\"R-15\",Table5b[[#This Row],[ENERGY STAR Requirement Values]]=15,Table5b[[#This Row],[ENERGY STAR Requirement Values]]=\"R-15 continuous or R-21 cavity\"),\"U-0.05\",\nIF(OR(Table5b[[#This Row],[ENERGY STAR Requirement Values]]=\"R-12.5\",Table5b[[#This Row],[ENERGY STAR Requirement Values]]=12.5,Table5b[[#This Row],[ENERGY STAR Requirement Values]]=\"C-0.075\"),\"U-0.054\",\nIF(OR(Table5b[[#This Row],[ENERGY STAR Requirement Values]]=\"R-21\",Table5b[[#This Row],[ENERGY STAR Requirement Values]]=21),\"U-0.056\",\nIF(OR(Table5b[[#This Row],[ENERGY STAR Requirement Values]]=\"R-38\",Table5b[[#This Row],[ENERGY STAR Requirement Values]]=38),\"U-0.028\",\nIF(OR(Table5b[[#This Row],[ENERGY STAR Requirement Values]]=\"R-49\",Table5b[[#This Row],[ENERGY STAR Requirement Values]]=49),\"U-0.026\",\n\nIF(LEFT(Table5b[[#This Row],[ENERGY STAR Requirement Values]],2)=\"F-\",\"\",\n\nIF(LEFT(Table5b[[#This Row],[ENERGY STAR Requirement Values]],1)=\"0\",CONCATENATE(\"U-\",Table5b[[#This Row],[ENERGY STAR Requirement Values]]),\n\nTable5b[[#This Row],[ENERGY STAR Requirement Values]])))))))))))),\"\")","v":""},null,null,null,null,null,null,null,{"$f":"IF(AND(Table5b[[#This Row],[Dwelling or Common?]]=\"Dwelling\",$D$4=\"Prescriptive\",OR($F$4=\"Version 1\", $F$4=\"Version 1.1\")),\"BuildingComponents_ESRefList\",\nIF(AND(Table5b[[#This Row],[Dwelling or Common?]]=\"Dwelling\",$D$4=\"Prescriptive\",$F$4=\"Version 1.2 OR+WA\"),\"BuildingComponents_ESRefListV12\",\nIF(Table5b[[#This Row],[Dwelling or Common?]]=\"Dwelling\",\"BuildingComponents_IECCList\",\n\nIF(AND(Table5b[[#This Row],[Dwelling or Common?]]=\"Common\",$F$4=\"Version 1.2 OR+WA\",OR($D$4=\"Prescriptive\",$D$4=\"ERI\",$D$4=\"Title 24 - Dwelling Unit Models\")),\"BuildingComponents_ESRefListV12\",\n\nIF(AND(Table5b[[#This Row],[Dwelling or Common?]]=\"Common\",$D$4=\"Prescriptive\"),\"BuildingComponents_IECCList\",\nIF(AND(Table5b[[#This Row],[Dwelling or Common?]]=\"Common\",OR($D$4=\"ERI\",$D$4=\"Title 24 - Dwelling Unit Models\")),\"BuildingComponents_IECCList\",\n\nIF(AND(Table5b[[#This Row],[Dwelling or Common?]]=\"Common\",OR($D$4=\"ASHRAE\",$D$4=\"Title 24 - Whole Building Models\")),\"BuildingComponents_IECCList\",\n\"\")))))))","v":""},{"$f":"IF(OR(Table5b[[#This Row],[Building_Component_Lookup]]=\"BuildingComponents_ESRefList\",Table5b[[#This Row],[Building_Component_Lookup]]=\"BuildingComponents_ESRefListV12\"),\"ESRefNoCom\",\nIF(Table5b[[#This Row],[Building Component]]=\"Roofs\",\"Roof\",\nIF(Table5b[[#This Row],[Building Component]]=\"Walls, Above Grade\",\"WallAboveGrade\",\nIF(Table5b[[#This Row],[Building Component]]=\"Walls, Below Grade\",\"WallBelowGrade\",\nIF(Table5b[[#This Row],[Building Component]]=\"Floors\",\"Floor\",\nIF(Table5b[[#This Row],[Building Component]]=\"Slab-on-Grade Floors\",\"SlabOnGradeFloor\",\nIF(Table5b[[#This Row],[Building Component]]=\"Opaque Doors\",\"OpaqueDoor\",\"\")))))))","v":""},{"$f":"IF(AND(Table5b[[#This Row],[Dwelling or Common?]]=\"Dwelling\",$F$4=\"Version 1\",$D$4=\"Prescriptive\"),\"ESRefDesign_InsulationU_V1\",\nIF(AND(Table5b[[#This Row],[Dwelling or Common?]]=\"Dwelling\",$F$4=\"Version 1.1\",$D$4=\"Prescriptive\"),\"ESRefDesign_InsulationU_V11\",\nIF(AND(Table5b[[#This Row],[Dwelling or Common?]]=\"Dwelling\",$F$4=\"Version 1.2 OR+WA\",$D$4=\"Prescriptive\"),\"ESRefDesign_InsulationU_V12\",\n\nIF(AND(Table5b[[#This Row],[Dwelling or Common?]]=\"Dwelling\",OR($F$4=\"Version 1\",$F$4=\"Version 1.1\",$F$4=\"Version 1.2 OR+WA\"),OR($D$4=\"ERI\",$D$4=\"ASHRAE\",$D$4=\"Title 24 - Whole Building Models\",$D$4=\"Title 24 - Dwelling Unit Models\")),\"IECC2009_RU\",\n\nIF(AND(Table5b[[#This Row],[Dwelling or Common?]]=\"Common\",$F$4=\"Version 1\",OR($D$4=\"Prescriptive\",$D$4=\"ERI\",$D$4=\"Title 24 - Dwelling Unit Models\",)),\"IECC2009_OU\",\nIF(AND(Table5b[[#This Row],[Dwelling or Common?]]=\"Common\",$F$4=\"Version 1.1\",OR($D$4=\"Prescriptive\",$D$4=\"ERI\",$D$4=\"Title 24 - Dwelling Unit Models\")),\"IECC2012_OU\",\nIF(AND(Table5b[[#This Row],[Dwelling or Common?]]=\"Common\",$F$4=\"Version 1.2 OR+WA\",OR($D$4=\"Prescriptive\",$D$4=\"ERI\",$D$4=\"Title 24 - Dwelling Unit Models\")),\"ESRefDesign_InsulationU_V12\",\n\nIF(AND(Table5b[[#This Row],[Dwelling or Common?]]=\"Common\",OR($D$4=\"ASHRAE\",$D$4=\"Title 24 - Whole Building Models\")),\"IECC2009_OU\",\n\n\"\"))))))))","v":""},{"$f":"IF(Table5b[[#This Row],[Building Component]]=\"Slab Insulation\",\"Slab Insulation R-Value:\",\nIF(Table5b[[#This Row],[Building Component]]=\"Basement Wall Continuous Insulation\",\"Basement Wall Continuous Insulation R-Value:\",\nIF(Table5b[[#This Row],[Building Component]]=\"Floor Assembly\", \"Floor Assembly U-Factor:\",\nIF(Table5b[[#This Row],[Building Component]]=\"Wall Assembly\", \"Wall Assembly U-Factor:\",\nIF(Table5b[[#This Row],[Building Component]]=\"Ceiling Assembly\", \"Ceiling Assembly U-Factor:\",\n\nTable5b[[#This Row],[Lookup Table Pt1]]&\"_\"&Table5b[[#This Row],[Component_Lookup]])\n))))","v":"_"},{"$f":"IF(Table5b[[#This Row],[Lookup Table Pt2]]=\"Slab Insulation R-Value:\",1,\nIF(Table5b[[#This Row],[Lookup Table Pt2]]=\"Slab Insulation Depth (ft):\",2,\nIF(Table5b[[#This Row],[Lookup Table Pt2]]=\"Basement Wall Continuous Insulation R-Value:\",3,\nIF(Table5b[[#This Row],[Lookup Table Pt2]]=\"Floor Assembly U-Factor:\",4,\nIF(Table5b[[#This Row],[Lookup Table Pt2]]=\"Wall Assembly U-Factor:\",5,\nIF(Table5b[[#This Row],[Lookup Table Pt2]]=\"Ceiling Assembly U-Factor:\",6,\n\nIF(Table5b[[#This Row],[Building Component]]=\"Above-Grade Wall\",1,\nIF(Table5b[[#This Row],[Building Component]]=\"Ceiling\",2,\nIF(Table5b[[#This Row],[Building Component]]=\"Floor\",3,\nIF(Table5b[[#This Row],[Building Component]]=\"Basement Wall\",4,\nIF(Table5b[[#This Row],[Building Component]]=\"On-Grade & Below Grade Slab\",5,\n\nIF(Table5b[[#This Row],[Component Type\n(N/A for Prescriptive Path Dwelling Unit)]]=\"Insulation entirely above deck\",1,\nIF(Table5b[[#This Row],[Component Type\n(N/A for Prescriptive Path Dwelling Unit)]]=\"Metal buildings\",2,\nIF(Table5b[[#This Row],[Component Type\n(N/A for Prescriptive Path Dwelling Unit)]]=\"Attic and other\",3,\n\nIF(Table5b[[#This Row],[Component Type\n(N/A for Prescriptive Path Dwelling Unit)]]=\"Mass\",1,\nIF(Table5b[[#This Row],[Component Type\n(N/A for Prescriptive Path Dwelling Unit)]]=\"Metal building\",2,\nIF(Table5b[[#This Row],[Component Type\n(N/A for Prescriptive Path Dwelling Unit)]]=\"Metal framed\",3,\nIF(Table5b[[#This Row],[Component Type\n(N/A for Prescriptive Path Dwelling Unit)]]=\"Wood framed and other\",4,\n\nIF(Table5b[[#This Row],[Component Type\n(N/A for Prescriptive Path Dwelling Unit)]]=\"Below grade wall\",1,\n\nIF(Table5b[[#This Row],[Component Type\n(N/A for Prescriptive Path Dwelling Unit)]]=\"Mass\",1,\nIF(Table5b[[#This Row],[Component Type\n(N/A for Prescriptive Path Dwelling Unit)]]=\"Joist/framing\",2,\n\nIF(Table5b[[#This Row],[Component Type\n(N/A for Prescriptive Path Dwelling Unit)]]=\"Unheated slabs\",1,\nIF(Table5b[[#This Row],[Component Type\n(N/A for Prescriptive Path Dwelling Unit)]]=\"Heated slabs\",2,\n\nIF(Table5b[[#This Row],[Component Type\n(N/A for Prescriptive Path Dwelling Unit)]]=\"Swinging\",1,\nIF(Table5b[[#This Row],[Component Type\n(N/A for Prescriptive Path Dwelling Unit)]]=\"Roll-up or sliding\",2,\n\n\"ADD IN IECC TABLE INDEX VALUES\")))))))))))))))))))))))))","v":"ADD IN IECC TABLE INDEX VALUES"},""]

{"sheet":"5c. Total UA Compliance","index":12,"n_rows":43,"n_cols":26,"rows_kept":43,"cut":false,"hidden":true,"merged":[[36,25,37,27],[42,3,42,4],[32,3,32,4],[32,5,34,11],[38,5,42,11],[40,3,40,4],[41,3,41,4],[38,3,38,4],[39,3,39,4],[36,1,36,11],[33,3,33,4],[9,25,10,27],[23,25,24,27],[30,25,31,27],[21,1,21,11],[23,1,23,11],[25,3,25,4],[18,1,18,4],[28,3,28,4],[27,3,27,4],[26,3,26,4],[25,5,28,11],[1,2,1,11],[30,1,30,11],[5,5,6,9],[4,5,4,9],[4,1,4,3],[5,2,5,3],[6,2,6,3],[7,2,7,3]]}
[]
[null,"Instructions: ","Using Tables: Complete all orange and yellow cells prior to the Proposed Design submittal. The 'Additional Component Details' column will be blank in most instances. Apply de-rate according to the footnotes below if needed.\n\nWarning: If during the course of design or construction, the certification path changes, you will need to re-select the Building Component and Component Type drop-down options.\n\nPrior to As-Built submittal, update the Installed U-factor to match as-built conditions, if different from design. \n\nNote: All door calculations are included on the fenestration tab.\n\nPrinting: Optimized for Landscape view."]
[]
[]
[null,"Select ENERGY STAR:",null,null,null,"Total UA Meets ENERGY STAR Requirements?"]
[null,"Pathway",{"$f":"IF('Project Information'!$C$8=\"\",\"Complete Project Information Tab\",'Project Information'!$C$8)","v":"Complete Project Information Tab"},null,null,{"$f":"IF(SUM(Table5ca[Total UA])<SUM(Table5ca[Required UA]),\"PASS\",\nIF(SUM(Table5ca[Total UA])>SUM(Table5ca[Required UA]),\"FAIL\",\n\"COMPLETE TABLE BELOW\"))","v":"COMPLETE TABLE BELOW"}]
[null,"Climate Zone",{"$f":"IF('Project Information'!$F$9=\"\",\"Complete Project Information Tab\",'Project Information'!$F$9)","v":"Complete Project Information Tab"}]
[null,"Version",{"$f":"IF('Project Information'!$F$8=\"\",\"Complete Project Information Tab\",'Project Information'!$F$8)","v":"Complete Project Information Tab"}]
[]
[null,"Total UA Compliance?",null,null,null,null,null,null,null,null,null,null,null,null,null,null,null,null,null,null,null,null,null,null,null,"NOTES"]
[null,null,null,null,null,null,null,null,null,null,null,null,null,null,null,null,null,"*hide","*hide","*hide","*hide","*hide","*hide","*hide"]
[null,"Dwelling or Common?","Building Component","Component Type","Additional Component Details","Specified/Installed U-Factor","Area","Total UA","ENERGY STAR Requirement Values","Required U-factor","Required UA","Derate applied?","Description of Layers","Location\n(dwg/spec)\n(Optional)","Plan Review\n(Optional)","Inspection?\n(Optional)","Inspection Comments\n(Optional)","Building_Component_Lookup","Component_Lookup","AdditionalDetails_Lookup2","Lookup Table Pt1","Lookup Table Pt2","Row Index","Column Index"]
[null,null,null,null,null,null,null,{"$f":"IF(Table5ca[[#This Row],[Specified/Installed U-Factor]]*Table5ca[[#This Row],[Area]]=0,\"\",Table5ca[[#This Row],[Specified/Installed U-Factor]]*Table5ca[[#This Row],[Area]])","v":""},{"$f":"IFERROR(IF(AND($C$8=\"Version 1.2 OR+WA\",OR($C$7=\"CZ 1\",$C$7=\"CZ 2\",$C$7=\"CZ 3\",$C$7=\"CZ 4\",$C$7=\"CZ 7\",$C$7=\"CZ 8\")),\"N/A - Update CZ\",\n\nIF(Table5ca[[#This Row],[Building Component]]=\"Balcony\",\"0.20\",\n\nIF(OR(Table5ca[[#This Row],[Lookup Table Pt1]]=\"ESRefDesign_Insulation_V1\",Table5ca[[#This Row],[Lookup Table Pt1]]=\"ESRefDesign_Insulation_V11\",Table5ca[[#This Row],[Lookup Table Pt1]]=\"ESRefDesign_Insulation_V12\",Table5ca[[#This Row],[Lookup Table Pt1]]=\"ESRefDesign_FenestrationAW_V1\",Table5ca[[#This Row],[Lookup Table Pt1]]=\"ESRefDesign_FenestrationAW_V11\",Table5ca[[#This Row],[Lookup Table Pt1]]=\"ESRefDesign_Fenestration_V1\",Table5ca[[#This Row],[Lookup Table Pt1]]=\"ESRefDesign_Fenestration_V11\",Table5ca[[#This Row],[Lookup Table Pt1]]=\"ESRefDesign_Fenestration_V12\",Table5ca[[#This Row],[Lookup Table Pt1]]=\"ESRefDesign_FenestrationAW_V12\",Table5ca[[#This Row],[Lookup Table Pt1]]=\"IECC2009_Fenestration_NotAW_Windows\",Table5ca[[#This Row],[Lookup Table Pt1]]=\"IECC2009_Fenestration_AW_Windows\"),INDEX(INDIRECT(Table5ca[[#This Row],[Lookup Table Pt1]]),Table5ca[[#This Row],[Row Index]],Table5ca[[#This Row],[Column Index]]),\n\nINDEX(INDIRECT(Table5ca[[#This Row],[Lookup Table Pt2]]),Table5ca[[#This Row],[Row Index]],Table5ca[[#This Row],[Column Index]])))),\"\")","v":""},{"$f":"IFERROR(\n\nIF(LEFT(Table5ca[[#This Row],[ENERGY STAR Requirement Values]],2)=\"U-\",Table5ca[[#This Row],[ENERGY STAR Requirement Values]],\n\nIF(OR(Table5ca[[#This Row],[Building Component]]=\"Slab Insulation\",Table5ca[[#This Row],[Building Component]]=\"Slab-On-Grade Floor\",Table5ca[[#This Row],[Building Component]]=\"Slab-On-Grade Floors\",Table5ca[[#This Row],[Building Component]]=\"On-Grade & Below Grade Slab\",Table5ca[[#This Row],[Building Component]]=\"Slab-on-Grade Floors\",Table5ca[[#This Row],[Building Component]]=\"Slab-on-Grade Floor\"),\"\",\n\nIF(OR(Table5ca[[#This Row],[ENERGY STAR Requirement Values]]=\"R-0\",Table5ca[[#This Row],[ENERGY STAR Requirement Values]]=0,Table5ca[[#This Row],[ENERGY STAR Requirement Values]]=\"C-1.140\"),\"U-0.36\",\nIF(OR(Table5ca[[#This Row],[ENERGY STAR Requirement Values]]=\"R-7.5\",Table5ca[[#This Row],[ENERGY STAR Requirement Values]]=7.5,Table5ca[[#This Row],[ENERGY STAR Requirement Values]]=\"C-0.119\"),\"U-0.072\",\nIF(OR(Table5ca[[#This Row],[ENERGY STAR Requirement Values]]=\"R-10\",Table5ca[[#This Row],[ENERGY STAR Requirement Values]]=10,Table5ca[[#This Row],[ENERGY STAR Requirement Values]]=\"C-0.092\"),\"U-0.059\",\nIF(OR(Table5ca[[#This Row],[ENERGY STAR Requirement Values]]=\"R-15\",Table5ca[[#This Row],[ENERGY STAR Requirement Values]]=15,Table5ca[[#This Row],[ENERGY STAR Requirement Values]]=\"R-15 continuous or R-21 cavity\"),\"U-0.05\",\nIF(OR(Table5ca[[#This Row],[ENERGY STAR Requirement Values]]=\"R-12.5\",Table5ca[[#This Row],[ENERGY STAR Requirement Values]]=12.5,Table5ca[[#This Row],[ENERGY STAR Requirement Values]]=\"C-0.075\"),\"U-0.054\",\nIF(OR(Table5ca[[#This Row],[ENERGY STAR Requirement Values]]=\"R-21\",Table5ca[[#This Row],[ENERGY STAR Requirement Values]]=21),\"U-0.056\",\nIF(OR(Table5ca[[#This Row],[ENERGY STAR Requirement Values]]=\"R-38\",Table5ca[[#This Row],[ENERGY STAR Requirement Values]]=38),\"U-0.028\",\nIF(OR(Table5ca[[#This Row],[ENERGY STAR Requirement Values]]=\"R-49\",Table5ca[[#This Row],[ENERGY STAR Requirement Values]]=49),\"U-0.026\",\n\nIF(LEFT(Table5ca[[#This Row],[ENERGY STAR Requirement Values]],2)=\"F-\",\"\",\n\nIF(LEFT(Table5ca[[#This Row],[ENERGY STAR Requirement Values]],1)=\"0\",CONCATENATE(\"U-\",Table5ca[[#This Row],[ENERGY STAR Requirement Values]]),\n\nTable5ca[[#This Row],[ENERGY STAR Requirement Values]])))))))))))),\"\")","v":""},{"$f":"IFERROR(IF(Table5ca[[#This Row],[Area]]=\"\",\"\",\nIF(Table5ca[[#This Row],[Required U-factor]]=\"\",\"\",\nIFERROR(Table5ca[[#This Row],[Area]]*Table5ca[[#This Row],[Required U-factor]],RIGHT(Table5ca[[#This Row],[Required U-factor]],LEN(Table5ca[[#This Row],[Required U-factor]])-2)*Table5ca[[#This Row],[Area]]))),\"\")","v":""},{"$f":"IF(Table5ca[[#This Row],[Building Component]]=\"\",\"\",\nIF(OR(Table5ca[[#This Row],[Building Component]]=\"Wall, Above Grade\",Table5ca[[#This Row],[Building Component]]=\"Wall, Below Grade\"),\"If there is continuous insulation interrupted by fasteners, ensure that the U-factor has been de-rated per Footnote 6. See below for further details.\",\nIF(Table5ca[[#This Row],[Building Component]]=\"Wall Assembly\",\"Apply a derate per Footnote 6 below.\",\nIF(Table5ca[[#This Row],[Building Component]]=\"Balcony\",\"Use the table below to de-rate balconies per Footnote 14.\",\nIF(OR(Table5ca[[#This Row],[Building Component]]=\"Floor Above Garage\",Table5ca[[#This Row],[Building Component]]=\"Floor Above Garage Columns\"),\"Use the table below to De-Rate floors above garages per Footnote 15.\",\n\"Not Applicable\")))))","v":""},null,null,null,null,null,{"$f":"IF(AND(Table5ca[[#This Row],[Dwelling or Common?]]=\"Dwelling\",$C$6=\"Prescriptive\",$C$8=\"Version 1.2 OR+WA\"),\"BuildingComponents_ESRefListV12_UABuildingComponents\",\nIF(AND($C$8=\"Version 1.2 OR+WA\",OR($C$6=\"Prescriptive\",$C$6=\"ERI\",$C$6=\"Title 24 - Dwelling Units Models\"),Table5ca[[#This Row],[Dwelling or Common?]]=\"Common\"),\"BuildingComponents_ESRefListV12_UABuildingComponents\",\n\nIF(AND($C$6=\"Prescriptive\",Table5ca[[#This Row],[Dwelling or Common?]]=\"Dwelling\"),\"PrescriptivePath_UABuildingComponents\",\n\n\"ERI_AHSRAE_UABuildingComponents\")))","v":"ERI_AHSRAE_UABuildingComponents"},{"$f":"IF(AND($C$6<>\"Prescriptive\",OR(Table5ca[[#This Row],[Building Component]]=\"Floor Assembly\",Table5ca[[#This Row],[Building Component]]=\"Floor Above Garage\",Table5ca[[#This Row],[Building Component]]=\"Floor Above Garage Columns\")),\"Floor\",\nIF(AND($C$6=\"Prescriptive\",Table5ca[[#This Row],[Dwelling or Common?]]=\"Common\",OR(Table5ca[[#This Row],[Building Component]]=\"Floor Assembly\",Table5ca[[#This Row],[Building Component]]=\"Floor Above Garage\",Table5ca[[#This Row],[Building Component]]=\"Floor Above Garage Columns\")),\"Floor\",\n\nIF(Table5ca[[#This Row],[Building Component]]=\"Roofs\",\"Roof\",\nIF(Table5ca[[#This Row],[Building Component]]=\"Walls, Above Grade\",\"WallAboveGrade\",\nIF(Table5ca[[#This Row],[Building Component]]=\"Walls, Below Grade\",\"WallBelowGrade\",\nIF(AND(Table5ca[[#This Row],[Building Component]]=\"Floor Assembly\",$C$6<>\"Prescriptive\"),\"Floor\",\nIF(Table5ca[[#This Row],[Building Component]]=\"Slab-on-Grade Floors\",\"SlabOnGradeFloor\",\nIF(Table5ca[[#This Row],[Building Component]]=\"Opaque Doors\",\"OpaqueDoor\",\nIF(Table5ca[[#This Row],[Building Component]]=\"Balcony\",\"Balcony\",\nIF(AND(Table5ca[[#This Row],[Building Component]]=\"Floor Above Garage\",$C$6=\"Prescriptive\"),\"FloorAssembly\",\nIF(Table5ca[[#This Row],[Building Component]]=\"Floor Above Garage\",\"FloorAboveGarage\",\nIF(Table5ca[[#This Row],[Building Component]]=\"Wall Assembly\",\"WallAssembly\",\nIF(Table5ca[[#This Row],[Building Component]]=\"Ceiling Assembly\",\"CeilingAssembly\",\nIF(OR(Table5ca[[#This Row],[Building Component]]=\"Floor Assembly\",Table5ca[[#This Row],[Building Component]]=\"Floor Above Garage\",Table5ca[[#This Row],[Building Component]]=\"Floor Above Garage Columns\"),\"FloorAssembly\",\n\nIF(AND(Table5ca[[#This Row],[Building Component]]=\"Fenestration\",Table5ca[[#This Row],[Dwelling or Common?]]=\"Dwelling\"),\"ClassAW?\",\n\nIF(AND(Table5ca[[#This Row],[Building Component]]=\"Fenestration\",Table5ca[[#This Row],[Dwelling or Common?]]=\"Common\",OR($C$6=\"ERI\",$C$6=\"Title 24 - Dwelling Unit Models\",$C$6=\"Prescriptive\")),\"ESRefClassAW\",\nIF(AND(Table5ca[[#This Row],[Building Component]]=\"Fenestration\",Table5ca[[#This Row],[Dwelling or Common?]]=\"Common\",OR($C$6=\"ASHRAE\",$C$6=\"Title 24 - Whole Building Models\")),\"Fenestration\",\n\n\"NotApplicable\")))))))))))))))))","v":"NotApplicable"},{"$f":"IF(AND(OR($C$6=\"ERI\",$C$6=\"Title 24 - Dwelling Unit Models\"),Table5ca[[#This Row],[Dwelling or Common?]]=\"Dwelling\",Table5ca[[#This Row],[Component Type]]=\"Class AW\"),\"Fenestration\",\nIF(AND(OR($C$6=\"ERI\",$C$6=\"Title 24 - Dwelling Unit Models\"),Table5ca[[#This Row],[Dwelling or Common?]]=\"Dwelling\",Table5ca[[#This Row],[Component Type]]=\"Not Class AW\"),\"NotApplicable\",\n\nIF(AND(OR($C$6=\"ASHRAE\",$C$6=\"Title 24 - Whole Building Models\"),Table5ca[[#This Row],[Dwelling or Common?]]=\"Dwelling\",Table5ca[[#This Row],[Component Type]]=\"Class AW\"),\"Fenestration\",\nIF(AND(OR($C$6=\"ASHRAE\",$C$6=\"Title 24 - Whole Building Models\"),Table5ca[[#This Row],[Dwelling or Common?]]=\"Dwelling\",Table5ca[[#This Row],[Component Type]]=\"Not Class AW\"),\"NotApplicable\",\n\nIF(AND($C$6=\"Prescriptive\",Table5ca[[#This Row],[Dwelling or Common?]]=\"Dwelling\",Table5ca[[#This Row],[Component Type]]=\"Class AW\"),\"ESRefClassAW\",\nIF(AND($C$6=\"Prescriptive\",Table5ca[[#This Row],[Dwelling or Common?]]=\"Dwelling\",Table5ca[[#This Row],[Component Type]]=\"Not Class AW\"),\"ESRefNotClassAW\",\n\nIF(Table5ca[[#This Row],[Component Type]]=\"Class AW\",\"Fenestration\",\n\n\"NotApplicable\")))))))","v":"NotApplicable"},{"$f":"IF(AND(Table5ca[[#This Row],[Dwelling or Common?]]=\"Dwelling\",$C$8=\"Version 1\",$C$6=\"Prescriptive\",Table5ca[[#This Row],[Building Component]]<>\"Fenestration\"),\"ESRefDesign_Insulation_V1\",\nIF(AND(Table5ca[[#This Row],[Dwelling or Common?]]=\"Dwelling\",$C$8=\"Version 1.1\",$C$6=\"Prescriptive\",Table5ca[[#This Row],[Building Component]]<>\"Fenestration\"),\"ESRefDesign_Insulation_V11\",\nIF(AND($C$8=\"Version 1.2 OR+WA\",$C$6=\"Prescriptive\",Table5ca[[#This Row],[Building Component]]<>\"Fenestration\"),\"ESRefDesign_Insulation_V12\",\n\nIF(AND(Table5ca[[#This Row],[Dwelling or Common?]]=\"Common\",$C$8=\"Version 1.2 OR+WA\",OR($C$6=\"ERI\",$C$6=\"Title 24 - Dwelling Unit Models\"),Table5ca[[#This Row],[Building Component]]<>\"Fenestration\"),\"ESRefDesign_Insulation_V12\",\nIF(AND(Table5ca[[#This Row],[Dwelling or Common?]]=\"Common\",$C$8=\"Version 1.2 OR+WA\",OR($C$6=\"ASHRAE\",$C$6=\"Title 24 - Whole Building Models\"),Table5ca[[#This Row],[Building Component]]<>\"Fenestration\"),\"IECC2009_OU\",\nIF(AND(Table5ca[[#This Row],[Dwelling or Common?]]=\"Dwelling\",$C$8=\"Version 1.2 OR+WA\",OR($C$6=\"ERI\",$C$6=\"Title 24 - Dwelling Unit Models\",$C$6=\"ASHRAE\",$C$6=\"Title 24 - Whole Building Models\"),Table5ca[[#This Row],[Building Component]]<>\"Fenestration\"),\"IECC2009_RU\",\n\nIF(AND(Table5ca[[#This Row],[Dwelling or Common?]]=\"Common\",$C$8=\"Version 1\",Table5ca[[#This Row],[Building Component]]<>\"Fenestration\"),\"IECC2009_OU\",\nIF(AND(Table5ca[[#This Row],[Dwelling or Common?]]=\"Common\",$C$8=\"Version 1.1\",OR($C$6=\"ASHRAE\",$C$6=\"Title 24 - Whole Building Models\"),Table5ca[[#This Row],[Building Component]]<>\"Fenestration\"),\"IECC2009_OU\",\nIF(AND(Table5ca[[#This Row],[Dwelling or Common?]]=\"Common\",$C$8=\"Version 1.1\",OR($C$6=\"Prescriptive\",$C$6=\"ERI\",$C$6=\"Title 24 - Dwelling Unit Models\"),Table5ca[[#This Row],[Building Component]]<>\"Fenestration\"),\"IECC2012_OU\",\n\nIF(AND(Table5ca[[#This Row],[Dwelling or Common?]]=\"Dwelling\",OR($C$8=\"Version 1\",$C$8=\"Version 1.1\",),OR($C$6=\"ERI\",$C$6=\"ASHRAE\",$C$6=\"Title 24 - Whole Building Models\",$C$6=\"Title 24 - Dwelling Unit Models\"),Table5ca[[#This Row],[Building Component]]<>\"Fenestration\"),\"IECC2009_RU\",\n\n\nIF(AND(Table5ca[[#This Row],[Building Component]]=\"Fenestration\",Table5ca[[#This Row],[Dwelling or Common?]]=\"Common\",OR($C$6=\"Prescriptive\",$C$6=\"ERI\",$C$6=\"Title 24 - Dwelling Unit Models\"),$C$8=\"Version 1\"),\"ESRefDesign_FenestrationAW_V1\",\nIF(AND(Table5ca[[#This Row],[Building Component]]=\"Fenestration\",Table5ca[[#This Row],[Dwelling or Common?]]=\"Common\",OR($C$6=\"Prescriptive\",$C$6=\"ERI\",$C$6=\"Title 24 - Dwelling Unit Models\"),$C$8=\"Version 1.1\"),\"ESRefDesign_FenestrationAW_V11\",\nIF(AND(Table5ca[[#This Row],[Building Component]]=\"Fenestration\",Table5ca[[#This Row],[Dwelling or Common?]]=\"Common\",OR($C$6=\"Prescriptive\",$C$6=\"ERI\",$C$6=\"Title 24 - Dwelling Unit Models\"),$C$8=\"Version 1.2 OR+WA\"),\"ESRefDesign_FenestrationAW_V12\",\n\nIF(AND(Table5ca[[#This Row],[Building Component]]=\"Fenestration\",Table5ca[[#This Row],[Dwelling or Common?]]=\"Common\",OR($C$6=\"ASHRAE\",$C$6=\"Title 24 - Whole Building Models\")),\"IECC2009_Fenestration_AW_Windows\",\nIF(AND(Table5ca[[#This Row],[Building Component]]=\"Fenestration\",Table5ca[[#This Row],[Dwelling or Common?]]=\"Dwelling\",Table5ca[[#This Row],[Component Type]]=\"Class AW\",OR($C$6=\"ASHRAE\",$C$6=\"Title 24 - Whole Building Models\",$C$6=\"ERI\",$C$6=\"Title 24 - Dwelling Unit Models\")),\"IECC2009_Fenestration_AW_Windows\",\n\nIF(AND(Table5ca[[#This Row],[Building Component]]=\"Fenestration\",Table5ca[[#This Row],[Dwelling or Common?]]=\"Dwelling\",$C$6=\"Prescriptive\",$C$8=\"Version 1\",Table5ca[[#This Row],[Component Type]]=\"Class AW\"),\"ESRefDesign_FenestrationAW_V1\",\nIF(AND(Table5ca[[#This Row],[Building Component]]=\"Fenestration\",Table5ca[[#This Row],[Dwelling or Common?]]=\"Dwelling\",$C$6=\"Prescriptive\",$C$8=\"Version 1.1\",Table5ca[[#This Row],[Component Type]]=\"Class AW\"),\"ESRefDesign_FenestrationAW_V11\",\nIF(AND(Table5ca[[#This Row],[Building Component]]=\"Fenestration\",Table5ca[[#This Row],[Dwelling or Common?]]=\"Dwelling\",$C$6=\"Prescriptive\",$C$8=\"Version 1.2 OR+WA\",Table5ca[[#This Row],[Component Type]]=\"Class AW\"),\"ESRefDesign_FenestrationAW_V12\",\n\nIF(AND(Table5ca[[#This Row],[Building Component]]=\"Fenestration\",Table5ca[[#This Row],[Dwelling or Common?]]=\"Dwelling\",$C$6=\"Prescriptive\",$C$8=\"Version 1\",Table5ca[[#This Row],[Component Type]]=\"Not Class AW\"),\"ESRefDesign_Fenestration_V1\",\nIF(AND(Table5ca[[#This Row],[Building Component]]=\"Fenestration\",Table5ca[[#This Row],[Dwelling or Common?]]=\"Dwelling\",$C$6=\"Prescriptive\",$C$8=\"Version 1.1\",Table5ca[[#This Row],[Component Type]]=\"Not Class AW\"),\"ESRefDesign_Fenestration_V11\",\nIF(AND(Table5ca[[#This Row],[Building Component]]=\"Fenestration\",Table5ca[[#This Row],[Dwelling or Common?]]=\"Dwelling\",$C$6=\"Prescriptive\",$C$8=\"Version 1.2 OR+WA\",Table5ca[[#This Row],[Component Type]]=\"Not Class AW\"),\"ESRefDesign_Fenestration_V12\",\n\nIF(AND(Table5ca[[#This Row],[Building Component]]=\"Fenestration\",Table5ca[[#This Row],[Dwelling or Common?]]=\"Dwelling\"),\"IECC2009_Fenestration_NotAW_Windows\",\n\n\"\"))))))))))))))))))))))","v":""},{"$f":"IF(OR(Table5ca[[#This Row],[Lookup Table Pt1]]=\"ESRefDesign_Insulation_V1\",Table5ca[[#This Row],[Lookup Table Pt1]]=\"ESRefDesign_Insulation_V11\",Table5ca[[#This Row],[Lookup Table Pt1]]=\"IECC2009_Fenestration_NotAW_Windows\",Table5ca[[#This Row],[Lookup Table Pt1]]=\"IECC2009_Fenestration_AW_Windows\",Table5ca[[#This Row],[Lookup Table Pt1]]=\"ESRefDesign_FenestrationAW_V1\",Table5ca[[#This Row],[Lookup Table Pt1]]=\"ESRefDesign_FenestrationAW_V11\",Table5ca[[#This Row],[Lookup Table Pt1]]=\"ESRefDesign_Fenestration_V1\",Table5ca[[#This Row],[Lookup Table Pt1]]=\"ESRefDesign_Fenestration_V11\"),Table5ca[[#This Row],[Lookup Table Pt1]],\n\nIF(Table5ca[[#This Row],[Component_Lookup]]=\"FloorAboveGarage\",Table5ca[[#This Row],[Lookup Table Pt1]]&\"_Floor\",\n\nTable5ca[[#This Row],[Lookup Table Pt1]]&\"_\"&Table5ca[[#This Row],[Component_Lookup]]))","v":"_NotApplicable"},{"$f":"IF(AND($C$8=\"Version 1.2 OR+WA\",$C$6=\"Prescriptive\",Table5ca[[#This Row],[Building Component]]=\"Above-Grade Wall\"),1,\nIF(AND($C$8=\"Version 1.2 OR+WA\",$C$6=\"Prescriptive\",Table5ca[[#This Row],[Building Component]]=\"Ceiling\"),2,\nIF(AND($C$8=\"Version 1.2 OR+WA\",$C$6=\"Prescriptive\",Table5ca[[#This Row],[Building Component]]=\"Basement Wall\"),4,\nIF(AND($C$8=\"Version 1.2 OR+WA\",$C$6=\"Prescriptive\",Table5ca[[#This Row],[Building Component]]=\"On-Grade & Below Grade Slab\"),5,\nIF(AND($C$8=\"Version 1.2 OR+WA\",$C$6=\"Prescriptive\",OR(Table5ca[[#This Row],[Building Component]]=\"Floor Assembly\",Table5ca[[#This Row],[Building Component]]=\"Floor Above Garage\",Table5ca[[#This Row],[Building Component]]=\"Floor Above Garage Columns\")),3,\n\nIF(AND($C$8=\"Version 1.2 OR+WA\",OR($C$6=\"Prescriptive\",$C$6=\"ERI\",$C$6=\"Title 24 - Dwelling Units Models\"),Table5ca[[#This Row],[Dwelling or Common?]]=\"Common\",Table5ca[[#This Row],[Building Component]]=\"Above-Grade Wall\"),1,\nIF(AND($C$8=\"Version 1.2 OR+WA\",OR($C$6=\"Prescriptive\",$C$6=\"ERI\",$C$6=\"Title 24 - Dwelling Units Models\"),Table5ca[[#This Row],[Dwelling or Common?]]=\"Common\",Table5ca[[#This Row],[Building Component]]=\"Ceiling\"),2,\nIF(AND($C$8=\"Version 1.2 OR+WA\",OR($C$6=\"Prescriptive\",$C$6=\"ERI\",$C$6=\"Title 24 - Dwelling Units Models\"),Table5ca[[#This Row],[Dwelling or Common?]]=\"Common\",Table5ca[[#This Row],[Building Component]]=\"Basement Wall\"),4,\nIF(AND($C$8=\"Version 1.2 OR+WA\",OR($C$6=\"Prescriptive\",$C$6=\"ERI\",$C$6=\"Title 24 - Dwelling Units Models\"),Table5ca[[#This Row],[Dwelling or Common?]]=\"Common\",Table5ca[[#This Row],[Building Component]]=\"On-Grade & Below Grade Slab\"),5,\nIF(AND($C$8=\"Version 1.2 OR+WA\",OR($C$6=\"Prescriptive\",$C$6=\"ERI\",$C$6=\"Title 24 - Dwelling Units Models\"),Table5ca[[#This Row],[Dwelling or Common?]]=\"Common\",OR(Table5ca[[#This Row],[Building Component]]=\"Floor Assembly\",Table5ca[[#This Row],[Building Component]]=\"Floor Above Garage\",Table5ca[[#This Row],[Building Component]]=\"Floor Above Garage Columns\")),3,\n\nIF(AND($C$6=\"Prescriptive\",OR($C$8=\"Version 1\",$C$8=\"Version 1.1\"),Table5ca[[#This Row],[Building Component]]=\"Basement Wall Continuous Insulation\"),3,\nIF(AND($C$6=\"Prescriptive\",OR($C$8=\"Version 1\",$C$8=\"Version 1.1\"),Table5ca[[#This Row],[Building Component]]=\"Slab Insulation\"),1,\n\nIF(OR(Table5ca[[#This Row],[Component Type]]=\"Insulation entirely above deck\",Table5ca[[#This Row],[Component Type]]=\"Mass\",Table5ca[[#This Row],[Component Type]]=\"Below grade wall\",Table5ca[[#This Row],[Component Type]]=\"Unheated slabs\",Table5ca[[#This Row],[Component Type]]=\"Floor Above Garage\"),1,\nIF(OR(Table5ca[[#This Row],[Component Type]]=\"Metal buildings\",Table5ca[[#This Row],[Component Type]]=\"Metal building\",Table5ca[[#This Row],[Component Type]]=\"Joist/framing\",Table5ca[[#This Row],[Component Type]]=\"Heated slabs\",Table5ca[[#This Row],[Component Type]]=\"Floor Above Garage\"),2,\nIF(OR(Table5ca[[#This Row],[Component Type]]=\"Attic and other\",Table5ca[[#This Row],[Component Type]]=\"Metal framed\"),3,\nIF(OR(Table5ca[[#This Row],[Component Type]]=\"Wood framed and other\",Table5ca[[#This Row],[Building Component]]=\"Floor Assembly\",Table5ca[[#This Row],[Building Component]]=\"Floor Above Garage\",Table5ca[[#This Row],[Building Component]]=\"Floor Above Garage Columns\"),4,\nIF(Table5ca[[#This Row],[Building Component]]=\"Wall Assembly\",5,\nIF(Table5ca[[#This Row],[Building Component]]=\"Ceiling Assembly\",6,\n\nIF(Table5ca[[#This Row],[Lookup Table Pt2]]=\"IECC2009_Fenestration_NotAW_Windows\",1,\nIF(AND(Table5ca[[#This Row],[Lookup Table Pt2]]=\"IECC2009_Fenestration_AW_Windows\",OR(Table5ca[[#This Row],[Additional Component Details]]=\"Non-Metal\",Table5ca[[#This Row],[Component Type]]=\"Non-Metal\")),1,\nIF(AND(Table5ca[[#This Row],[Lookup Table Pt2]]=\"IECC2009_Fenestration_AW_Windows\",OR(Table5ca[[#This Row],[Additional Component Details]]=\"Metal - Curtainwall/storefront\",Table5ca[[#This Row],[Component Type]]=\"Metal - Curtainwall/storefront\")),2,\nIF(AND(Table5ca[[#This Row],[Lookup Table Pt2]]=\"IECC2009_Fenestration_AW_Windows\",OR(Table5ca[[#This Row],[Additional Component Details]]=\"Metal - Entrance door\",Table5ca[[#This Row],[Component Type]]=\"Metal - Entrance door\")),3,\nIF(AND(Table5ca[[#This Row],[Lookup Table Pt2]]=\"IECC2009_Fenestration_AW_Windows\",OR(Table5ca[[#This Row],[Additional Component Details]]=\"Metal - Other\",Table5ca[[#This Row],[Component Type]]=\"Metal - Entrance door\")),4,\nIF(AND(Table5ca[[#This Row],[Lookup Table Pt2]]=\"IECC2009_Fenestration_AW_Windows\",Table5ca[[#This Row],[Component Type]]=\"Metal - Other\"),4,\n\nIF(AND(OR(Table5ca[[#This Row],[Lookup Table Pt1]]=\"ESRefDesign_FenestrationAW_V1\",Table5ca[[#This Row],[Lookup Table Pt1]]=\"ESRefDesign_FenestrationAW_V11\",Table5ca[[#This Row],[Lookup Table Pt1]]=\"ESRefDesign_FenestrationAW_V12\"),OR(Table5ca[[#This Row],[Component Type]]=\"Fixed\",Table5ca[[#This Row],[Additional Component Details]]=\"Fixed\")),1,\nIF(AND(OR(Table5ca[[#This Row],[Lookup Table Pt1]]=\"ESRefDesign_FenestrationAW_V1\",Table5ca[[#This Row],[Lookup Table Pt1]]=\"ESRefDesign_FenestrationAW_V11\",Table5ca[[#This Row],[Lookup Table Pt1]]=\"ESRefDesign_FenestrationAW_V12\"),OR(Table5ca[[#This Row],[Component Type]]=\"Operable\",Table5ca[[#This Row],[Additional Component Details]]=\"Operable\")),2,\n\nIF(AND(OR(Table5ca[[#This Row],[Lookup Table Pt1]]=\"ESRefDesign_Fenestration_V1\",Table5ca[[#This Row],[Lookup Table Pt1]]=\"ESRefDesign_Fenestration_V11\",Table5ca[[#This Row],[Lookup Table Pt1]]=\"ESRefDesign_Fenestration_V12\"),Table5ca[[#This Row],[Additional Component Details]]=\"Window\"),1,\nIF(AND(OR(Table5ca[[#This Row],[Lookup Table Pt1]]=\"ESRefDesign_Fenestration_V1\",Table5ca[[#This Row],[Lookup Table Pt1]]=\"ESRefDesign_Fenestration_V11\",Table5ca[[#This Row],[Lookup Table Pt1]]=\"ESRefDesign_Fenestration_V12\"),Table5ca[[#This Row],[Additional Component Details]]=\"Opaque Door\"),3,\nIF(AND(OR(Table5ca[[#This Row],[Lookup Table Pt1]]=\"ESRefDesign_Fenestration_V1\",Table5ca[[#This Row],[Lookup Table Pt1]]=\"ESRefDesign_Fenestration_V11\",Table5ca[[#This Row],[Lookup Table Pt1]]=\"ESRefDesign_Fenestration_V12\"),Table5ca[[#This Row],[Additional Component Details]]=\"≤½ lite Door\"),4,\nIF(AND(OR(Table5ca[[#This Row],[Lookup Table Pt1]]=\"ESRefDesign_Fenestration_V1\",Table5ca[[#This Row],[Lookup Table Pt1]]=\"ESRefDesign_Fenestration_V11\",Table5ca[[#This Row],[Lookup Table Pt1]]=\"ESRefDesign_Fenestration_V12\"),Table5ca[[#This Row],[Additional Component Details]]=\">½ lite Door\"),5,\n\n\n\"\"))))))))))))))))))))))))))))))","v":""},{"$f":"IF(AND($C$8=\"Version 1.2 OR+WA\",$C$6=\"Prescriptive\",Table5ca[[#This Row],[Building Component]]<>\"Fenestration\"),2,\n\nIF(AND($C$8=\"Version 1.2 OR+WA\",$C$6=\"Prescriptive\",$C$7=\"CZ 4 C\"),2,\nIF(AND($C$8=\"Version 1.2 OR+WA\",$C$6=\"Prescriptive\",$C$7=\"CZ 5\"),3,\nIF(AND($C$8=\"Version 1.2 OR+WA\",$C$6=\"Prescriptive\",$C$7=\"CZ 6\"),4,\n\nIF(AND($C$8=\"Version 1.2 OR+WA\",Table5ca[[#This Row],[Dwelling or Common?]]=\"Common\",OR($C$6=\"ERI\",$C$6=\"Title 24 - Dwelling Unit Models\"),$C$7=\"CZ 4 C\"),2,\nIF(AND($C$8=\"Version 1.2 OR+WA\",Table5ca[[#This Row],[Dwelling or Common?]]=\"Common\",OR($C$6=\"ERI\",$C$6=\"Title 24 - Dwelling Unit Models\"),$C$7=\"CZ 5\"),3,\nIF(AND($C$8=\"Version 1.2 OR+WA\",Table5ca[[#This Row],[Dwelling or Common?]]=\"Common\",OR($C$6=\"ERI\",$C$6=\"Title 24 - Dwelling Unit Models\"),$C$7=\"CZ 6\"),4,\n\nIF($C$7=\"CZ 1\",2,\nIF($C$7=\"CZ 2\",3,\nIF($C$7=\"CZ 3\",4,\nIF($C$7=\"CZ 4\",5,\nIF($C$7=\"CZ 4 C\",6,\nIF($C$7=\"CZ 5\",7,\nIF($C$7=\"CZ 6\",8,\nIF($C$7=\"CZ 7\",9,\nIF($C$7=\"CZ 8\",10,\"\"))))))))))))))))","v":""}]
[null,null,null,null,null,null,null,{"$f":"IF(Table5ca[[#This Row],[Specified/Installed U-Factor]]*Table5ca[[#This Row],[Area]]=0,\"\",Table5ca[[#This Row],[Specified/Installed U-Factor]]*Table5ca[[#This Row],[Area]])","v":""},{"$f":"IFERROR(IF(AND($C$8=\"Version 1.2 OR+WA\",OR($C$7=\"CZ 1\",$C$7=\"CZ 2\",$C$7=\"CZ 3\",$C$7=\"CZ 4\",$C$7=\"CZ 7\",$C$7=\"CZ 8\")),\"N/A - Update CZ\",\n\nIF(Table5ca[[#This Row],[Building Component]]=\"Balcony\",\"0.20\",\n\nIF(OR(Table5ca[[#This Row],[Lookup Table Pt1]]=\"ESRefDesign_Insulation_V1\",Table5ca[[#This Row],[Lookup Table Pt1]]=\"ESRefDesign_Insulation_V11\",Table5ca[[#This Row],[Lookup Table Pt1]]=\"ESRefDesign_Insulation_V12\",Table5ca[[#This Row],[Lookup Table Pt1]]=\"ESRefDesign_FenestrationAW_V1\",Table5ca[[#This Row],[Lookup Table Pt1]]=\"ESRefDesign_FenestrationAW_V11\",Table5ca[[#This Row],[Lookup Table Pt1]]=\"ESRefDesign_Fenestration_V1\",Table5ca[[#This Row],[Lookup Table Pt1]]=\"ESRefDesign_Fenestration_V11\",Table5ca[[#This Row],[Lookup Table Pt1]]=\"ESRefDesign_Fenestration_V12\",Table5ca[[#This Row],[Lookup Table Pt1]]=\"ESRefDesign_FenestrationAW_V12\",Table5ca[[#This Row],[Lookup Table Pt1]]=\"IECC2009_Fenestration_NotAW_Windows\",Table5ca[[#This Row],[Lookup Table Pt1]]=\"IECC2009_Fenestration_AW_Windows\"),INDEX(INDIRECT(Table5ca[[#This Row],[Lookup Table Pt1]]),Table5ca[[#This Row],[Row Index]],Table5ca[[#This Row],[Column Index]]),\n\nINDEX(INDIRECT(Table5ca[[#This Row],[Lookup Table Pt2]]),Table5ca[[#This Row],[Row Index]],Table5ca[[#This Row],[Column Index]])))),\"\")","v":""},{"$f":"IFERROR(\n\nIF(LEFT(Table5ca[[#This Row],[ENERGY STAR Requirement Values]],2)=\"U-\",Table5ca[[#This Row],[ENERGY STAR Requirement Values]],\n\nIF(OR(Table5ca[[#This Row],[Building Component]]=\"Slab Insulation\",Table5ca[[#This Row],[Building Component]]=\"Slab-On-Grade Floor\",Table5ca[[#This Row],[Building Component]]=\"Slab-On-Grade Floors\",Table5ca[[#This Row],[Building Component]]=\"On-Grade & Below Grade Slab\",Table5ca[[#This Row],[Building Component]]=\"Slab-on-Grade Floors\",Table5ca[[#This Row],[Building Component]]=\"Slab-on-Grade Floor\"),\"\",\n\nIF(OR(Table5ca[[#This Row],[ENERGY STAR Requirement Values]]=\"R-0\",Table5ca[[#This Row],[ENERGY STAR Requirement Values]]=0,Table5ca[[#This Row],[ENERGY STAR Requirement Values]]=\"C-1.140\"),\"U-0.36\",\nIF(OR(Table5ca[[#This Row],[ENERGY STAR Requirement Values]]=\"R-7.5\",Table5ca[[#This Row],[ENERGY STAR Requirement Values]]=7.5,Table5ca[[#This Row],[ENERGY STAR Requirement Values]]=\"C-0.119\"),\"U-0.072\",\nIF(OR(Table5ca[[#This Row],[ENERGY STAR Requirement Values]]=\"R-10\",Table5ca[[#This Row],[ENERGY STAR Requirement Values]]=10,Table5ca[[#This Row],[ENERGY STAR Requirement Values]]=\"C-0.092\"),\"U-0.059\",\nIF(OR(Table5ca[[#This Row],[ENERGY STAR Requirement Values]]=\"R-15\",Table5ca[[#This Row],[ENERGY STAR Requirement Values]]=15,Table5ca[[#This Row],[ENERGY STAR Requirement Values]]=\"R-15 continuous or R-21 cavity\"),\"U-0.05\",\nIF(OR(Table5ca[[#This Row],[ENERGY STAR Requirement Values]]=\"R-12.5\",Table5ca[[#This Row],[ENERGY STAR Requirement Values]]=12.5,Table5ca[[#This Row],[ENERGY STAR Requirement Values]]=\"C-0.075\"),\"U-0.054\",\nIF(OR(Table5ca[[#This Row],[ENERGY STAR Requirement Values]]=\"R-21\",Table5ca[[#This Row],[ENERGY STAR Requirement Values]]=21),\"U-0.056\",\nIF(OR(Table5ca[[#This Row],[ENERGY STAR Requirement Values]]=\"R-38\",Table5ca[[#This Row],[ENERGY STAR Requirement Values]]=38),\"U-0.028\",\nIF(OR(Table5ca[[#This Row],[ENERGY STAR Requirement Values]]=\"R-49\",Table5ca[[#This Row],[ENERGY STAR Requirement Values]]=49),\"U-0.026\",\n\nIF(LEFT(Table5ca[[#This Row],[ENERGY STAR Requirement Values]],2)=\"F-\",\"\",\n\nIF(LEFT(Table5ca[[#This Row],[ENERGY STAR Requirement Values]],1)=\"0\",CONCATENATE(\"U-\",Table5ca[[#This Row],[ENERGY STAR Requirement Values]]),\n\nTable5ca[[#This Row],[ENERGY STAR Requirement Values]])))))))))))),\"\")","v":""},{"$f":"IFERROR(IF(Table5ca[[#This Row],[Area]]=\"\",\"\",\nIF(Table5ca[[#This Row],[Required U-factor]]=\"\",\"\",\nIFERROR(Table5ca[[#This Row],[Area]]*Table5ca[[#This Row],[Required U-factor]],RIGHT(Table5ca[[#This Row],[Required U-factor]],LEN(Table5ca[[#This Row],[Required U-factor]])-2)*Table5ca[[#This Row],[Area]]))),\"\")","v":""},{"$f":"IF(Table5ca[[#This Row],[Building Component]]=\"\",\"\",\nIF(OR(Table5ca[[#This Row],[Building Component]]=\"Wall, Above Grade\",Table5ca[[#This Row],[Building Component]]=\"Wall, Below Grade\"),\"If there is continuous insulation interrupted by fasteners, ensure that the U-factor has been de-rated per Footnote 6. See below for further details.\",\nIF(Table5ca[[#This Row],[Building Component]]=\"Wall Assembly\",\"Apply a derate per Footnote 6 below.\",\nIF(Table5ca[[#This Row],[Building Component]]=\"Balcony\",\"Use the table below to de-rate balconies per Footnote 14.\",\nIF(OR(Table5ca[[#This Row],[Building Component]]=\"Floor Above Garage\",Table5ca[[#This Row],[Building Component]]=\"Floor Above Garage Columns\"),\"Use the table below to De-Rate floors above garages per Footnote 15.\",\n\"Not Applicable\")))))","v":""},null,null,null,null,null,{"$f":"IF(AND(Table5ca[[#This Row],[Dwelling or Common?]]=\"Dwelling\",$C$6=\"Prescriptive\",$C$8=\"Version 1.2 OR+WA\"),\"BuildingComponents_ESRefListV12_UABuildingComponents\",\nIF(AND($C$8=\"Version 1.2 OR+WA\",OR($C$6=\"Prescriptive\",$C$6=\"ERI\",$C$6=\"Title 24 - Dwelling Units Models\"),Table5ca[[#This Row],[Dwelling or Common?]]=\"Common\"),\"BuildingComponents_ESRefListV12_UABuildingComponents\",\n\nIF(AND($C$6=\"Prescriptive\",Table5ca[[#This Row],[Dwelling or Common?]]=\"Dwelling\"),\"PrescriptivePath_UABuildingComponents\",\n\n\"ERI_AHSRAE_UABuildingComponents\")))","v":"ERI_AHSRAE_UABuildingComponents"},{"$f":"IF(AND($C$6<>\"Prescriptive\",OR(Table5ca[[#This Row],[Building Component]]=\"Floor Assembly\",Table5ca[[#This Row],[Building Component]]=\"Floor Above Garage\",Table5ca[[#This Row],[Building Component]]=\"Floor Above Garage Columns\")),\"Floor\",\nIF(AND($C$6=\"Prescriptive\",Table5ca[[#This Row],[Dwelling or Common?]]=\"Common\",OR(Table5ca[[#This Row],[Building Component]]=\"Floor Assembly\",Table5ca[[#This Row],[Building Component]]=\"Floor Above Garage\",Table5ca[[#This Row],[Building Component]]=\"Floor Above Garage Columns\")),\"Floor\",\n\nIF(Table5ca[[#This Row],[Building Component]]=\"Roofs\",\"Roof\",\nIF(Table5ca[[#This Row],[Building Component]]=\"Walls, Above Grade\",\"WallAboveGrade\",\nIF(Table5ca[[#This Row],[Building Component]]=\"Walls, Below Grade\",\"WallBelowGrade\",\nIF(AND(Table5ca[[#This Row],[Building Component]]=\"Floor Assembly\",$C$6<>\"Prescriptive\"),\"Floor\",\nIF(Table5ca[[#This Row],[Building Component]]=\"Slab-on-Grade Floors\",\"SlabOnGradeFloor\",\nIF(Table5ca[[#This Row],[Building Component]]=\"Opaque Doors\",\"OpaqueDoor\",\nIF(Table5ca[[#This Row],[Building Component]]=\"Balcony\",\"Balcony\",\nIF(AND(Table5ca[[#This Row],[Building Component]]=\"Floor Above Garage\",$C$6=\"Prescriptive\"),\"FloorAssembly\",\nIF(Table5ca[[#This Row],[Building Component]]=\"Floor Above Garage\",\"FloorAboveGarage\",\nIF(Table5ca[[#This Row],[Building Component]]=\"Wall Assembly\",\"WallAssembly\",\nIF(Table5ca[[#This Row],[Building Component]]=\"Ceiling Assembly\",\"CeilingAssembly\",\nIF(OR(Table5ca[[#This Row],[Building Component]]=\"Floor Assembly\",Table5ca[[#This Row],[Building Component]]=\"Floor Above Garage\",Table5ca[[#This Row],[Building Component]]=\"Floor Above Garage Columns\"),\"FloorAssembly\",\n\nIF(AND(Table5ca[[#This Row],[Building Component]]=\"Fenestration\",Table5ca[[#This Row],[Dwelling or Common?]]=\"Dwelling\"),\"ClassAW?\",\n\nIF(AND(Table5ca[[#This Row],[Building Component]]=\"Fenestration\",Table5ca[[#This Row],[Dwelling or Common?]]=\"Common\",OR($C$6=\"ERI\",$C$6=\"Title 24 - Dwelling Unit Models\",$C$6=\"Prescriptive\")),\"ESRefClassAW\",\nIF(AND(Table5ca[[#This Row],[Building Component]]=\"Fenestration\",Table5ca[[#This Row],[Dwelling or Common?]]=\"Common\",OR($C$6=\"ASHRAE\",$C$6=\"Title 24 - Whole Building Models\")),\"Fenestration\",\n\n\"NotApplicable\")))))))))))))))))","v":"NotApplicable"},{"$f":"IF(AND(OR($C$6=\"ERI\",$C$6=\"Title 24 - Dwelling Unit Models\"),Table5ca[[#This Row],[Dwelling or Common?]]=\"Dwelling\",Table5ca[[#This Row],[Component Type]]=\"Class AW\"),\"Fenestration\",\nIF(AND(OR($C$6=\"ERI\",$C$6=\"Title 24 - Dwelling Unit Models\"),Table5ca[[#This Row],[Dwelling or Common?]]=\"Dwelling\",Table5ca[[#This Row],[Component Type]]=\"Not Class AW\"),\"NotApplicable\",\n\nIF(AND(OR($C$6=\"ASHRAE\",$C$6=\"Title 24 - Whole Building Models\"),Table5ca[[#This Row],[Dwelling or Common?]]=\"Dwelling\",Table5ca[[#This Row],[Component Type]]=\"Class AW\"),\"Fenestration\",\nIF(AND(OR($C$6=\"ASHRAE\",$C$6=\"Title 24 - Whole Building Models\"),Table5ca[[#This Row],[Dwelling or Common?]]=\"Dwelling\",Table5ca[[#This Row],[Component Type]]=\"Not Class AW\"),\"NotApplicable\",\n\nIF(AND($C$6=\"Prescriptive\",Table5ca[[#This Row],[Dwelling or Common?]]=\"Dwelling\",Table5ca[[#This Row],[Component Type]]=\"Class AW\"),\"ESRefClassAW\",\nIF(AND($C$6=\"Prescriptive\",Table5ca[[#This Row],[Dwelling or Common?]]=\"Dwelling\",Table5ca[[#This Row],[Component Type]]=\"Not Class AW\"),\"ESRefNotClassAW\",\n\nIF(Table5ca[[#This Row],[Component Type]]=\"Class AW\",\"Fenestration\",\n\n\"NotApplicable\")))))))","v":"NotApplicable"},{"$f":"IF(AND(Table5ca[[#This Row],[Dwelling or Common?]]=\"Dwelling\",$C$8=\"Version 1\",$C$6=\"Prescriptive\",Table5ca[[#This Row],[Building Component]]<>\"Fenestration\"),\"ESRefDesign_Insulation_V1\",\nIF(AND(Table5ca[[#This Row],[Dwelling or Common?]]=\"Dwelling\",$C$8=\"Version 1.1\",$C$6=\"Prescriptive\",Table5ca[[#This Row],[Building Component]]<>\"Fenestration\"),\"ESRefDesign_Insulation_V11\",\nIF(AND($C$8=\"Version 1.2 OR+WA\",$C$6=\"Prescriptive\",Table5ca[[#This Row],[Building Component]]<>\"Fenestration\"),\"ESRefDesign_Insulation_V12\",\n\nIF(AND(Table5ca[[#This Row],[Dwelling or Common?]]=\"Common\",$C$8=\"Version 1.2 OR+WA\",OR($C$6=\"ERI\",$C$6=\"Title 24 - Dwelling Unit Models\"),Table5ca[[#This Row],[Building Component]]<>\"Fenestration\"),\"ESRefDesign_Insulation_V12\",\nIF(AND(Table5ca[[#This Row],[Dwelling or Common?]]=\"Common\",$C$8=\"Version 1.2 OR+WA\",OR($C$6=\"ASHRAE\",$C$6=\"Title 24 - Whole Building Models\"),Table5ca[[#This Row],[Building Component]]<>\"Fenestration\"),\"IECC2009_OU\",\nIF(AND(Table5ca[[#This Row],[Dwelling or Common?]]=\"Dwelling\",$C$8=\"Version 1.2 OR+WA\",OR($C$6=\"ERI\",$C$6=\"Title 24 - Dwelling Unit Models\",$C$6=\"ASHRAE\",$C$6=\"Title 24 - Whole Building Models\"),Table5ca[[#This Row],[Building Component]]<>\"Fenestration\"),\"IECC2009_RU\",\n\nIF(AND(Table5ca[[#This Row],[Dwelling or Common?]]=\"Common\",$C$8=\"Version 1\",Table5ca[[#This Row],[Building Component]]<>\"Fenestration\"),\"IECC2009_OU\",\nIF(AND(Table5ca[[#This Row],[Dwelling or Common?]]=\"Common\",$C$8=\"Version 1.1\",OR($C$6=\"ASHRAE\",$C$6=\"Title 24 - Whole Building Models\"),Table5ca[[#This Row],[Building Component]]<>\"Fenestration\"),\"IECC2009_OU\",\nIF(AND(Table5ca[[#This Row],[Dwelling or Common?]]=\"Common\",$C$8=\"Version 1.1\",OR($C$6=\"Prescriptive\",$C$6=\"ERI\",$C$6=\"Title 24 - Dwelling Unit Models\"),Table5ca[[#This Row],[Building Component]]<>\"Fenestration\"),\"IECC2012_OU\",\n\nIF(AND(Table5ca[[#This Row],[Dwelling or Common?]]=\"Dwelling\",OR($C$8=\"Version 1\",$C$8=\"Version 1.1\",),OR($C$6=\"ERI\",$C$6=\"ASHRAE\",$C$6=\"Title 24 - Whole Building Models\",$C$6=\"Title 24 - Dwelling Unit Models\"),Table5ca[[#This Row],[Building Component]]<>\"Fenestration\"),\"IECC2009_RU\",\n\n\nIF(AND(Table5ca[[#This Row],[Building Component]]=\"Fenestration\",Table5ca[[#This Row],[Dwelling or Common?]]=\"Common\",OR($C$6=\"Prescriptive\",$C$6=\"ERI\",$C$6=\"Title 24 - Dwelling Unit Models\"),$C$8=\"Version 1\"),\"ESRefDesign_FenestrationAW_V1\",\nIF(AND(Table5ca[[#This Row],[Building Component]]=\"Fenestration\",Table5ca[[#This Row],[Dwelling or Common?]]=\"Common\",OR($C$6=\"Prescriptive\",$C$6=\"ERI\",$C$6=\"Title 24 - Dwelling Unit Models\"),$C$8=\"Version 1.1\"),\"ESRefDesign_FenestrationAW_V11\",\nIF(AND(Table5ca[[#This Row],[Building Component]]=\"Fenestration\",Table5ca[[#This Row],[Dwelling or Common?]]=\"Common\",OR($C$6=\"Prescriptive\",$C$6=\"ERI\",$C$6=\"Title 24 - Dwelling Unit Models\"),$C$8=\"Version 1.2 OR+WA\"),\"ESRefDesign_FenestrationAW_V12\",\n\nIF(AND(Table5ca[[#This Row],[Building Component]]=\"Fenestration\",Table5ca[[#This Row],[Dwelling or Common?]]=\"Common\",OR($C$6=\"ASHRAE\",$C$6=\"Title 24 - Whole Building Models\")),\"IECC2009_Fenestration_AW_Windows\",\nIF(AND(Table5ca[[#This Row],[Building Component]]=\"Fenestration\",Table5ca[[#This Row],[Dwelling or Common?]]=\"Dwelling\",Table5ca[[#This Row],[Component Type]]=\"Class AW\",OR($C$6=\"ASHRAE\",$C$6=\"Title 24 - Whole Building Models\",$C$6=\"ERI\",$C$6=\"Title 24 - Dwelling Unit Models\")),\"IECC2009_Fenestration_AW_Windows\",\n\nIF(AND(Table5ca[[#This Row],[Building Component]]=\"Fenestration\",Table5ca[[#This Row],[Dwelling or Common?]]=\"Dwelling\",$C$6=\"Prescriptive\",$C$8=\"Version 1\",Table5ca[[#This Row],[Component Type]]=\"Class AW\"),\"ESRefDesign_FenestrationAW_V1\",\nIF(AND(Table5ca[[#This Row],[Building Component]]=\"Fenestration\",Table5ca[[#This Row],[Dwelling or Common?]]=\"Dwelling\",$C$6=\"Prescriptive\",$C$8=\"Version 1.1\",Table5ca[[#This Row],[Component Type]]=\"Class AW\"),\"ESRefDesign_FenestrationAW_V11\",\nIF(AND(Table5ca[[#This Row],[Building Component]]=\"Fenestration\",Table5ca[[#This Row],[Dwelling or Common?]]=\"Dwelling\",$C$6=\"Prescriptive\",$C$8=\"Version 1.2 OR+WA\",Table5ca[[#This Row],[Component Type]]=\"Class AW\"),\"ESRefDesign_FenestrationAW_V12\",\n\nIF(AND(Table5ca[[#This Row],[Building Component]]=\"Fenestration\",Table5ca[[#This Row],[Dwelling or Common?]]=\"Dwelling\",$C$6=\"Prescriptive\",$C$8=\"Version 1\",Table5ca[[#This Row],[Component Type]]=\"Not Class AW\"),\"ESRefDesign_Fenestration_V1\",\nIF(AND(Table5ca[[#This Row],[Building Component]]=\"Fenestration\",Table5ca[[#This Row],[Dwelling or Common?]]=\"Dwelling\",$C$6=\"Prescriptive\",$C$8=\"Version 1.1\",Table5ca[[#This Row],[Component Type]]=\"Not Class AW\"),\"ESRefDesign_Fenestration_V11\",\nIF(AND(Table5ca[[#This Row],[Building Component]]=\"Fenestration\",Table5ca[[#This Row],[Dwelling or Common?]]=\"Dwelling\",$C$6=\"Prescriptive\",$C$8=\"Version 1.2 OR+WA\",Table5ca[[#This Row],[Component Type]]=\"Not Class AW\"),\"ESRefDesign_Fenestration_V12\",\n\nIF(AND(Table5ca[[#This Row],[Building Component]]=\"Fenestration\",Table5ca[[#This Row],[Dwelling or Common?]]=\"Dwelling\"),\"IECC2009_Fenestration_NotAW_Windows\",\n\n\"\"))))))))))))))))))))))","v":""},{"$f":"IF(OR(Table5ca[[#This Row],[Lookup Table Pt1]]=\"ESRefDesign_Insulation_V1\",Table5ca[[#This Row],[Lookup Table Pt1]]=\"ESRefDesign_Insulation_V11\",Table5ca[[#This Row],[Lookup Table Pt1]]=\"IECC2009_Fenestration_NotAW_Windows\",Table5ca[[#This Row],[Lookup Table Pt1]]=\"IECC2009_Fenestration_AW_Windows\",Table5ca[[#This Row],[Lookup Table Pt1]]=\"ESRefDesign_FenestrationAW_V1\",Table5ca[[#This Row],[Lookup Table Pt1]]=\"ESRefDesign_FenestrationAW_V11\",Table5ca[[#This Row],[Lookup Table Pt1]]=\"ESRefDesign_Fenestration_V1\",Table5ca[[#This Row],[Lookup Table Pt1]]=\"ESRefDesign_Fenestration_V11\"),Table5ca[[#This Row],[Lookup Table Pt1]],\n\nIF(Table5ca[[#This Row],[Component_Lookup]]=\"FloorAboveGarage\",Table5ca[[#This Row],[Lookup Table Pt1]]&\"_Floor\",\n\nTable5ca[[#This Row],[Lookup Table Pt1]]&\"_\"&Table5ca[[#This Row],[Component_Lookup]]))","v":"_NotApplicable"},{"$f":"IF(AND($C$8=\"Version 1.2 OR+WA\",$C$6=\"Prescriptive\",Table5ca[[#This Row],[Building Component]]=\"Above-Grade Wall\"),1,\nIF(AND($C$8=\"Version 1.2 OR+WA\",$C$6=\"Prescriptive\",Table5ca[[#This Row],[Building Component]]=\"Ceiling\"),2,\nIF(AND($C$8=\"Version 1.2 OR+WA\",$C$6=\"Prescriptive\",Table5ca[[#This Row],[Building Component]]=\"Basement Wall\"),4,\nIF(AND($C$8=\"Version 1.2 OR+WA\",$C$6=\"Prescriptive\",Table5ca[[#This Row],[Building Component]]=\"On-Grade & Below Grade Slab\"),5,\nIF(AND($C$8=\"Version 1.2 OR+WA\",$C$6=\"Prescriptive\",OR(Table5ca[[#This Row],[Building Component]]=\"Floor Assembly\",Table5ca[[#This Row],[Building Component]]=\"Floor Above Garage\",Table5ca[[#This Row],[Building Component]]=\"Floor Above Garage Columns\")),3,\n\nIF(AND($C$8=\"Version 1.2 OR+WA\",OR($C$6=\"Prescriptive\",$C$6=\"ERI\",$C$6=\"Title 24 - Dwelling Units Models\"),Table5ca[[#This Row],[Dwelling or Common?]]=\"Common\",Table5ca[[#This Row],[Building Component]]=\"Above-Grade Wall\"),1,\nIF(AND($C$8=\"Version 1.2 OR+WA\",OR($C$6=\"Prescriptive\",$C$6=\"ERI\",$C$6=\"Title 24 - Dwelling Units Models\"),Table5ca[[#This Row],[Dwelling or Common?]]=\"Common\",Table5ca[[#This Row],[Building Component]]=\"Ceiling\"),2,\nIF(AND($C$8=\"Version 1.2 OR+WA\",OR($C$6=\"Prescriptive\",$C$6=\"ERI\",$C$6=\"Title 24 - Dwelling Units Models\"),Table5ca[[#This Row],[Dwelling or Common?]]=\"Common\",Table5ca[[#This Row],[Building Component]]=\"Basement Wall\"),4,\nIF(AND($C$8=\"Version 1.2 OR+WA\",OR($C$6=\"Prescriptive\",$C$6=\"ERI\",$C$6=\"Title 24 - Dwelling Units Models\"),Table5ca[[#This Row],[Dwelling or Common?]]=\"Common\",Table5ca[[#This Row],[Building Component]]=\"On-Grade & Below Grade Slab\"),5,\nIF(AND($C$8=\"Version 1.2 OR+WA\",OR($C$6=\"Prescriptive\",$C$6=\"ERI\",$C$6=\"Title 24 - Dwelling Units Models\"),Table5ca[[#This Row],[Dwelling or Common?]]=\"Common\",OR(Table5ca[[#This Row],[Building Component]]=\"Floor Assembly\",Table5ca[[#This Row],[Building Component]]=\"Floor Above Garage\",Table5ca[[#This Row],[Building Component]]=\"Floor Above Garage Columns\")),3,\n\nIF(AND($C$6=\"Prescriptive\",OR($C$8=\"Version 1\",$C$8=\"Version 1.1\"),Table5ca[[#This Row],[Building Component]]=\"Basement Wall Continuous Insulation\"),3,\nIF(AND($C$6=\"Prescriptive\",OR($C$8=\"Version 1\",$C$8=\"Version 1.1\"),Table5ca[[#This Row],[Building Component]]=\"Slab Insulation\"),1,\n\nIF(OR(Table5ca[[#This Row],[Component Type]]=\"Insulation entirely above deck\",Table5ca[[#This Row],[Component Type]]=\"Mass\",Table5ca[[#This Row],[Component Type]]=\"Below grade wall\",Table5ca[[#This Row],[Component Type]]=\"Unheated slabs\",Table5ca[[#This Row],[Component Type]]=\"Floor Above Garage\"),1,\nIF(OR(Table5ca[[#This Row],[Component Type]]=\"Metal buildings\",Table5ca[[#This Row],[Component Type]]=\"Metal building\",Table5ca[[#This Row],[Component Type]]=\"Joist/framing\",Table5ca[[#This Row],[Component Type]]=\"Heated slabs\",Table5ca[[#This Row],[Component Type]]=\"Floor Above Garage\"),2,\nIF(OR(Table5ca[[#This Row],[Component Type]]=\"Attic and other\",Table5ca[[#This Row],[Component Type]]=\"Metal framed\"),3,\nIF(OR(Table5ca[[#This Row],[Component Type]]=\"Wood framed and other\",Table5ca[[#This Row],[Building Component]]=\"Floor Assembly\",Table5ca[[#This Row],[Building Component]]=\"Floor Above Garage\",Table5ca[[#This Row],[Building Component]]=\"Floor Above Garage Columns\"),4,\nIF(Table5ca[[#This Row],[Building Component]]=\"Wall Assembly\",5,\nIF(Table5ca[[#This Row],[Building Component]]=\"Ceiling Assembly\",6,\n\nIF(Table5ca[[#This Row],[Lookup Table Pt2]]=\"IECC2009_Fenestration_NotAW_Windows\",1,\nIF(AND(Table5ca[[#This Row],[Lookup Table Pt2]]=\"IECC2009_Fenestration_AW_Windows\",OR(Table5ca[[#This Row],[Additional Component Details]]=\"Non-Metal\",Table5ca[[#This Row],[Component Type]]=\"Non-Metal\")),1,\nIF(AND(Table5ca[[#This Row],[Lookup Table Pt2]]=\"IECC2009_Fenestration_AW_Windows\",OR(Table5ca[[#This Row],[Additional Component Details]]=\"Metal - Curtainwall/storefront\",Table5ca[[#This Row],[Component Type]]=\"Metal - Curtainwall/storefront\")),2,\nIF(AND(Table5ca[[#This Row],[Lookup Table Pt2]]=\"IECC2009_Fenestration_AW_Windows\",OR(Table5ca[[#This Row],[Additional Component Details]]=\"Metal - Entrance door\",Table5ca[[#This Row],[Component Type]]=\"Metal - Entrance door\")),3,\nIF(AND(Table5ca[[#This Row],[Lookup Table Pt2]]=\"IECC2009_Fenestration_AW_Windows\",OR(Table5ca[[#This Row],[Additional Component Details]]=\"Metal - Other\",Table5ca[[#This Row],[Component Type]]=\"Metal - Entrance door\")),4,\nIF(AND(Table5ca[[#This Row],[Lookup Table Pt2]]=\"IECC2009_Fenestration_AW_Windows\",Table5ca[[#This Row],[Component Type]]=\"Metal - Other\"),4,\n\nIF(AND(OR(Table5ca[[#This Row],[Lookup Table Pt1]]=\"ESRefDesign_FenestrationAW_V1\",Table5ca[[#This Row],[Lookup Table Pt1]]=\"ESRefDesign_FenestrationAW_V11\",Table5ca[[#This Row],[Lookup Table Pt1]]=\"ESRefDesign_FenestrationAW_V12\"),OR(Table5ca[[#This Row],[Component Type]]=\"Fixed\",Table5ca[[#This Row],[Additional Component Details]]=\"Fixed\")),1,\nIF(AND(OR(Table5ca[[#This Row],[Lookup Table Pt1]]=\"ESRefDesign_FenestrationAW_V1\",Table5ca[[#This Row],[Lookup Table Pt1]]=\"ESRefDesign_FenestrationAW_V11\",Table5ca[[#This Row],[Lookup Table Pt1]]=\"ESRefDesign_FenestrationAW_V12\"),OR(Table5ca[[#This Row],[Component Type]]=\"Operable\",Table5ca[[#This Row],[Additional Component Details]]=\"Operable\")),2,\n\nIF(AND(OR(Table5ca[[#This Row],[Lookup Table Pt1]]=\"ESRefDesign_Fenestration_V1\",Table5ca[[#This Row],[Lookup Table Pt1]]=\"ESRefDesign_Fenestration_V11\",Table5ca[[#This Row],[Lookup Table Pt1]]=\"ESRefDesign_Fenestration_V12\"),Table5ca[[#This Row],[Additional Component Details]]=\"Window\"),1,\nIF(AND(OR(Table5ca[[#This Row],[Lookup Table Pt1]]=\"ESRefDesign_Fenestration_V1\",Table5ca[[#This Row],[Lookup Table Pt1]]=\"ESRefDesign_Fenestration_V11\",Table5ca[[#This Row],[Lookup Table Pt1]]=\"ESRefDesign_Fenestration_V12\"),Table5ca[[#This Row],[Additional Component Details]]=\"Opaque Door\"),3,\nIF(AND(OR(Table5ca[[#This Row],[Lookup Table Pt1]]=\"ESRefDesign_Fenestration_V1\",Table5ca[[#This Row],[Lookup Table Pt1]]=\"ESRefDesign_Fenestration_V11\",Table5ca[[#This Row],[Lookup Table Pt1]]=\"ESRefDesign_Fenestration_V12\"),Table5ca[[#This Row],[Additional Component Details]]=\"≤½ lite Door\"),4,\nIF(AND(OR(Table5ca[[#This Row],[Lookup Table Pt1]]=\"ESRefDesign_Fenestration_V1\",Table5ca[[#This Row],[Lookup Table Pt1]]=\"ESRefDesign_Fenestration_V11\",Table5ca[[#This Row],[Lookup Table Pt1]]=\"ESRefDesign_Fenestration_V12\"),Table5ca[[#This Row],[Additional Component Details]]=\">½ lite Door\"),5,\n\n\n\"\"))))))))))))))))))))))))))))))","v":""},{"$f":"IF(AND($C$8=\"Version 1.2 OR+WA\",$C$6=\"Prescriptive\",Table5ca[[#This Row],[Building Component]]<>\"Fenestration\"),2,\n\nIF(AND($C$8=\"Version 1.2 OR+WA\",$C$6=\"Prescriptive\",$C$7=\"CZ 4 C\"),2,\nIF(AND($C$8=\"Version 1.2 OR+WA\",$C$6=\"Prescriptive\",$C$7=\"CZ 5\"),3,\nIF(AND($C$8=\"Version 1.2 OR+WA\",$C$6=\"Prescriptive\",$C$7=\"CZ 6\"),4,\n\nIF(AND($C$8=\"Version 1.2 OR+WA\",Table5ca[[#This Row],[Dwelling or Common?]]=\"Common\",OR($C$6=\"ERI\",$C$6=\"Title 24 - Dwelling Unit Models\"),$C$7=\"CZ 4 C\"),2,\nIF(AND($C$8=\"Version 1.2 OR+WA\",Table5ca[[#This Row],[Dwelling or Common?]]=\"Common\",OR($C$6=\"ERI\",$C$6=\"Title 24 - Dwelling Unit Models\"),$C$7=\"CZ 5\"),3,\nIF(AND($C$8=\"Version 1.2 OR+WA\",Table5ca[[#This Row],[Dwelling or Common?]]=\"Common\",OR($C$6=\"ERI\",$C$6=\"Title 24 - Dwelling Unit Models\"),$C$7=\"CZ 6\"),4,\n\nIF($C$7=\"CZ 1\",2,\nIF($C$7=\"CZ 2\",3,\nIF($C$7=\"CZ 3\",4,\nIF($C$7=\"CZ 4\",5,\nIF($C$7=\"CZ 4 C\",6,\nIF($C$7=\"CZ 5\",7,\nIF($C$7=\"CZ 6\",8,\nIF($C$7=\"CZ 7\",9,\nIF($C$7=\"CZ 8\",10,\"\"))))))))))))))))","v":""}]
[null,null,null,null,null,null,null,{"$f":"IF(Table5ca[[#This Row],[Specified/Installed U-Factor]]*Table5ca[[#This Row],[Area]]=0,\"\",Table5ca[[#This Row],[Specified/Installed U-Factor]]*Table5ca[[#This Row],[Area]])","v":""},{"$f":"IFERROR(IF(AND($C$8=\"Version 1.2 OR+WA\",OR($C$7=\"CZ 1\",$C$7=\"CZ 2\",$C$7=\"CZ 3\",$C$7=\"CZ 4\",$C$7=\"CZ 7\",$C$7=\"CZ 8\")),\"N/A - Update CZ\",\n\nIF(Table5ca[[#This Row],[Building Component]]=\"Balcony\",\"0.20\",\n\nIF(OR(Table5ca[[#This Row],[Lookup Table Pt1]]=\"ESRefDesign_Insulation_V1\",Table5ca[[#This Row],[Lookup Table Pt1]]=\"ESRefDesign_Insulation_V11\",Table5ca[[#This Row],[Lookup Table Pt1]]=\"ESRefDesign_Insulation_V12\",Table5ca[[#This Row],[Lookup Table Pt1]]=\"ESRefDesign_FenestrationAW_V1\",Table5ca[[#This Row],[Lookup Table Pt1]]=\"ESRefDesign_FenestrationAW_V11\",Table5ca[[#This Row],[Lookup Table Pt1]]=\"ESRefDesign_Fenestration_V1\",Table5ca[[#This Row],[Lookup Table Pt1]]=\"ESRefDesign_Fenestration_V11\",Table5ca[[#This Row],[Lookup Table Pt1]]=\"ESRefDesign_Fenestration_V12\",Table5ca[[#This Row],[Lookup Table Pt1]]=\"ESRefDesign_FenestrationAW_V12\",Table5ca[[#This Row],[Lookup Table Pt1]]=\"IECC2009_Fenestration_NotAW_Windows\",Table5ca[[#This Row],[Lookup Table Pt1]]=\"IECC2009_Fenestration_AW_Windows\"),INDEX(INDIRECT(Table5ca[[#This Row],[Lookup Table Pt1]]),Table5ca[[#This Row],[Row Index]],Table5ca[[#This Row],[Column Index]]),\n\nINDEX(INDIRECT(Table5ca[[#This Row],[Lookup Table Pt2]]),Table5ca[[#This Row],[Row Index]],Table5ca[[#This Row],[Column Index]])))),\"\")","v":""},{"$f":"IFERROR(\n\nIF(LEFT(Table5ca[[#This Row],[ENERGY STAR Requirement Values]],2)=\"U-\",Table5ca[[#This Row],[ENERGY STAR Requirement Values]],\n\nIF(OR(Table5ca[[#This Row],[Building Component]]=\"Slab Insulation\",Table5ca[[#This Row],[Building Component]]=\"Slab-On-Grade Floor\",Table5ca[[#This Row],[Building Component]]=\"Slab-On-Grade Floors\",Table5ca[[#This Row],[Building Component]]=\"On-Grade & Below Grade Slab\",Table5ca[[#This Row],[Building Component]]=\"Slab-on-Grade Floors\",Table5ca[[#This Row],[Building Component]]=\"Slab-on-Grade Floor\"),\"\",\n\nIF(OR(Table5ca[[#This Row],[ENERGY STAR Requirement Values]]=\"R-0\",Table5ca[[#This Row],[ENERGY STAR Requirement Values]]=0,Table5ca[[#This Row],[ENERGY STAR Requirement Values]]=\"C-1.140\"),\"U-0.36\",\nIF(OR(Table5ca[[#This Row],[ENERGY STAR Requirement Values]]=\"R-7.5\",Table5ca[[#This Row],[ENERGY STAR Requirement Values]]=7.5,Table5ca[[#This Row],[ENERGY STAR Requirement Values]]=\"C-0.119\"),\"U-0.072\",\nIF(OR(Table5ca[[#This Row],[ENERGY STAR Requirement Values]]=\"R-10\",Table5ca[[#This Row],[ENERGY STAR Requirement Values]]=10,Table5ca[[#This Row],[ENERGY STAR Requirement Values]]=\"C-0.092\"),\"U-0.059\",\nIF(OR(Table5ca[[#This Row],[ENERGY STAR Requirement Values]]=\"R-15\",Table5ca[[#This Row],[ENERGY STAR Requirement Values]]=15,Table5ca[[#This Row],[ENERGY STAR Requirement Values]]=\"R-15 continuous or R-21 cavity\"),\"U-0.05\",\nIF(OR(Table5ca[[#This Row],[ENERGY STAR Requirement Values]]=\"R-12.5\",Table5ca[[#This Row],[ENERGY STAR Requirement Values]]=12.5,Table5ca[[#This Row],[ENERGY STAR Requirement Values]]=\"C-0.075\"),\"U-0.054\",\nIF(OR(Table5ca[[#This Row],[ENERGY STAR Requirement Values]]=\"R-21\",Table5ca[[#This Row],[ENERGY STAR Requirement Values]]=21),\"U-0.056\",\nIF(OR(Table5ca[[#This Row],[ENERGY STAR Requirement Values]]=\"R-38\",Table5ca[[#This Row],[ENERGY STAR Requirement Values]]=38),\"U-0.028\",\nIF(OR(Table5ca[[#This Row],[ENERGY STAR Requirement Values]]=\"R-49\",Table5ca[[#This Row],[ENERGY STAR Requirement Values]]=49),\"U-0.026\",\n\nIF(LEFT(Table5ca[[#This Row],[ENERGY STAR Requirement Values]],2)=\"F-\",\"\",\n\nIF(LEFT(Table5ca[[#This Row],[ENERGY STAR Requirement Values]],1)=\"0\",CONCATENATE(\"U-\",Table5ca[[#This Row],[ENERGY STAR Requirement Values]]),\n\nTable5ca[[#This Row],[ENERGY STAR Requirement Values]])))))))))))),\"\")","v":""},{"$f":"IFERROR(IF(Table5ca[[#This Row],[Area]]=\"\",\"\",\nIF(Table5ca[[#This Row],[Required U-factor]]=\"\",\"\",\nIFERROR(Table5ca[[#This Row],[Area]]*Table5ca[[#This Row],[Required U-factor]],RIGHT(Table5ca[[#This Row],[Required U-factor]],LEN(Table5ca[[#This Row],[Required U-factor]])-2)*Table5ca[[#This Row],[Area]]))),\"\")","v":""},{"$f":"IF(Table5ca[[#This Row],[Building Component]]=\"\",\"\",\nIF(OR(Table5ca[[#This Row],[Building Component]]=\"Wall, Above Grade\",Table5ca[[#This Row],[Building Component]]=\"Wall, Below Grade\"),\"If there is continuous insulation interrupted by fasteners, ensure that the U-factor has been de-rated per Footnote 6. See below for further details.\",\nIF(Table5ca[[#This Row],[Building Component]]=\"Wall Assembly\",\"Apply a derate per Footnote 6 below.\",\nIF(Table5ca[[#This Row],[Building Component]]=\"Balcony\",\"Use the table below to de-rate balconies per Footnote 14.\",\nIF(OR(Table5ca[[#This Row],[Building Component]]=\"Floor Above Garage\",Table5ca[[#This Row],[Building Component]]=\"Floor Above Garage Columns\"),\"Use the table below to De-Rate floors above garages per Footnote 15.\",\n\"Not Applicable\")))))","v":""},null,null,null,null,null,{"$f":"IF(AND(Table5ca[[#This Row],[Dwelling or Common?]]=\"Dwelling\",$C$6=\"Prescriptive\",$C$8=\"Version 1.2 OR+WA\"),\"BuildingComponents_ESRefListV12_UABuildingComponents\",\nIF(AND($C$8=\"Version 1.2 OR+WA\",OR($C$6=\"Prescriptive\",$C$6=\"ERI\",$C$6=\"Title 24 - Dwelling Units Models\"),Table5ca[[#This Row],[Dwelling or Common?]]=\"Common\"),\"BuildingComponents_ESRefListV12_UABuildingComponents\",\n\nIF(AND($C$6=\"Prescriptive\",Table5ca[[#This Row],[Dwelling or Common?]]=\"Dwelling\"),\"PrescriptivePath_UABuildingComponents\",\n\n\"ERI_AHSRAE_UABuildingComponents\")))","v":"ERI_AHSRAE_UABuildingComponents"},{"$f":"IF(AND($C$6<>\"Prescriptive\",OR(Table5ca[[#This Row],[Building Component]]=\"Floor Assembly\",Table5ca[[#This Row],[Building Component]]=\"Floor Above Garage\",Table5ca[[#This Row],[Building Component]]=\"Floor Above Garage Columns\")),\"Floor\",\nIF(AND($C$6=\"Prescriptive\",Table5ca[[#This Row],[Dwelling or Common?]]=\"Common\",OR(Table5ca[[#This Row],[Building Component]]=\"Floor Assembly\",Table5ca[[#This Row],[Building Component]]=\"Floor Above Garage\",Table5ca[[#This Row],[Building Component]]=\"Floor Above Garage Columns\")),\"Floor\",\n\nIF(Table5ca[[#This Row],[Building Component]]=\"Roofs\",\"Roof\",\nIF(Table5ca[[#This Row],[Building Component]]=\"Walls, Above Grade\",\"WallAboveGrade\",\nIF(Table5ca[[#This Row],[Building Component]]=\"Walls, Below Grade\",\"WallBelowGrade\",\nIF(AND(Table5ca[[#This Row],[Building Component]]=\"Floor Assembly\",$C$6<>\"Prescriptive\"),\"Floor\",\nIF(Table5ca[[#This Row],[Building Component]]=\"Slab-on-Grade Floors\",\"SlabOnGradeFloor\",\nIF(Table5ca[[#This Row],[Building Component]]=\"Opaque Doors\",\"OpaqueDoor\",\nIF(Table5ca[[#This Row],[Building Component]]=\"Balcony\",\"Balcony\",\nIF(AND(Table5ca[[#This Row],[Building Component]]=\"Floor Above Garage\",$C$6=\"Prescriptive\"),\"FloorAssembly\",\nIF(Table5ca[[#This Row],[Building Component]]=\"Floor Above Garage\",\"FloorAboveGarage\",\nIF(Table5ca[[#This Row],[Building Component]]=\"Wall Assembly\",\"WallAssembly\",\nIF(Table5ca[[#This Row],[Building Component]]=\"Ceiling Assembly\",\"CeilingAssembly\",\nIF(OR(Table5ca[[#This Row],[Building Component]]=\"Floor Assembly\",Table5ca[[#This Row],[Building Component]]=\"Floor Above Garage\",Table5ca[[#This Row],[Building Component]]=\"Floor Above Garage Columns\"),\"FloorAssembly\",\n\nIF(AND(Table5ca[[#This Row],[Building Component]]=\"Fenestration\",Table5ca[[#This Row],[Dwelling or Common?]]=\"Dwelling\"),\"ClassAW?\",\n\nIF(AND(Table5ca[[#This Row],[Building Component]]=\"Fenestration\",Table5ca[[#This Row],[Dwelling or Common?]]=\"Common\",OR($C$6=\"ERI\",$C$6=\"Title 24 - Dwelling Unit Models\",$C$6=\"Prescriptive\")),\"ESRefClassAW\",\nIF(AND(Table5ca[[#This Row],[Building Component]]=\"Fenestration\",Table5ca[[#This Row],[Dwelling or Common?]]=\"Common\",OR($C$6=\"ASHRAE\",$C$6=\"Title 24 - Whole Building Models\")),\"Fenestration\",\n\n\"NotApplicable\")))))))))))))))))","v":"NotApplicable"},{"$f":"IF(AND(OR($C$6=\"ERI\",$C$6=\"Title 24 - Dwelling Unit Models\"),Table5ca[[#This Row],[Dwelling or Common?]]=\"Dwelling\",Table5ca[[#This Row],[Component Type]]=\"Class AW\"),\"Fenestration\",\nIF(AND(OR($C$6=\"ERI\",$C$6=\"Title 24 - Dwelling Unit Models\"),Table5ca[[#This Row],[Dwelling or Common?]]=\"Dwelling\",Table5ca[[#This Row],[Component Type]]=\"Not Class AW\"),\"NotApplicable\",\n\nIF(AND(OR($C$6=\"ASHRAE\",$C$6=\"Title 24 - Whole Building Models\"),Table5ca[[#This Row],[Dwelling or Common?]]=\"Dwelling\",Table5ca[[#This Row],[Component Type]]=\"Class AW\"),\"Fenestration\",\nIF(AND(OR($C$6=\"ASHRAE\",$C$6=\"Title 24 - Whole Building Models\"),Table5ca[[#This Row],[Dwelling or Common?]]=\"Dwelling\",Table5ca[[#This Row],[Component Type]]=\"Not Class AW\"),\"NotApplicable\",\n\nIF(AND($C$6=\"Prescriptive\",Table5ca[[#This Row],[Dwelling or Common?]]=\"Dwelling\",Table5ca[[#This Row],[Component Type]]=\"Class AW\"),\"ESRefClassAW\",\nIF(AND($C$6=\"Prescriptive\",Table5ca[[#This Row],[Dwelling or Common?]]=\"Dwelling\",Table5ca[[#This Row],[Component Type]]=\"Not Class AW\"),\"ESRefNotClassAW\",\n\nIF(Table5ca[[#This Row],[Component Type]]=\"Class AW\",\"Fenestration\",\n\n\"NotApplicable\")))))))","v":"NotApplicable"},{"$f":"IF(AND(Table5ca[[#This Row],[Dwelling or Common?]]=\"Dwelling\",$C$8=\"Version 1\",$C$6=\"Prescriptive\",Table5ca[[#This Row],[Building Component]]<>\"Fenestration\"),\"ESRefDesign_Insulation_V1\",\nIF(AND(Table5ca[[#This Row],[Dwelling or Common?]]=\"Dwelling\",$C$8=\"Version 1.1\",$C$6=\"Prescriptive\",Table5ca[[#This Row],[Building Component]]<>\"Fenestration\"),\"ESRefDesign_Insulation_V11\",\nIF(AND($C$8=\"Version 1.2 OR+WA\",$C$6=\"Prescriptive\",Table5ca[[#This Row],[Building Component]]<>\"Fenestration\"),\"ESRefDesign_Insulation_V12\",\n\nIF(AND(Table5ca[[#This Row],[Dwelling or Common?]]=\"Common\",$C$8=\"Version 1.2 OR+WA\",OR($C$6=\"ERI\",$C$6=\"Title 24 - Dwelling Unit Models\"),Table5ca[[#This Row],[Building Component]]<>\"Fenestration\"),\"ESRefDesign_Insulation_V12\",\nIF(AND(Table5ca[[#This Row],[Dwelling or Common?]]=\"Common\",$C$8=\"Version 1.2 OR+WA\",OR($C$6=\"ASHRAE\",$C$6=\"Title 24 - Whole Building Models\"),Table5ca[[#This Row],[Building Component]]<>\"Fenestration\"),\"IECC2009_OU\",\nIF(AND(Table5ca[[#This Row],[Dwelling or Common?]]=\"Dwelling\",$C$8=\"Version 1.2 OR+WA\",OR($C$6=\"ERI\",$C$6=\"Title 24 - Dwelling Unit Models\",$C$6=\"ASHRAE\",$C$6=\"Title 24 - Whole Building Models\"),Table5ca[[#This Row],[Building Component]]<>\"Fenestration\"),\"IECC2009_RU\",\n\nIF(AND(Table5ca[[#This Row],[Dwelling or Common?]]=\"Common\",$C$8=\"Version 1\",Table5ca[[#This Row],[Building Component]]<>\"Fenestration\"),\"IECC2009_OU\",\nIF(AND(Table5ca[[#This Row],[Dwelling or Common?]]=\"Common\",$C$8=\"Version 1.1\",OR($C$6=\"ASHRAE\",$C$6=\"Title 24 - Whole Building Models\"),Table5ca[[#This Row],[Building Component]]<>\"Fenestration\"),\"IECC2009_OU\",\nIF(AND(Table5ca[[#This Row],[Dwelling or Common?]]=\"Common\",$C$8=\"Version 1.1\",OR($C$6=\"Prescriptive\",$C$6=\"ERI\",$C$6=\"Title 24 - Dwelling Unit Models\"),Table5ca[[#This Row],[Building Component]]<>\"Fenestration\"),\"IECC2012_OU\",\n\nIF(AND(Table5ca[[#This Row],[Dwelling or Common?]]=\"Dwelling\",OR($C$8=\"Version 1\",$C$8=\"Version 1.1\",),OR($C$6=\"ERI\",$C$6=\"ASHRAE\",$C$6=\"Title 24 - Whole Building Models\",$C$6=\"Title 24 - Dwelling Unit Models\"),Table5ca[[#This Row],[Building Component]]<>\"Fenestration\"),\"IECC2009_RU\",\n\n\nIF(AND(Table5ca[[#This Row],[Building Component]]=\"Fenestration\",Table5ca[[#This Row],[Dwelling or Common?]]=\"Common\",OR($C$6=\"Prescriptive\",$C$6=\"ERI\",$C$6=\"Title 24 - Dwelling Unit Models\"),$C$8=\"Version 1\"),\"ESRefDesign_FenestrationAW_V1\",\nIF(AND(Table5ca[[#This Row],[Building Component]]=\"Fenestration\",Table5ca[[#This Row],[Dwelling or Common?]]=\"Common\",OR($C$6=\"Prescriptive\",$C$6=\"ERI\",$C$6=\"Title 24 - Dwelling Unit Models\"),$C$8=\"Version 1.1\"),\"ESRefDesign_FenestrationAW_V11\",\nIF(AND(Table5ca[[#This Row],[Building Component]]=\"Fenestration\",Table5ca[[#This Row],[Dwelling or Common?]]=\"Common\",OR($C$6=\"Prescriptive\",$C$6=\"ERI\",$C$6=\"Title 24 - Dwelling Unit Models\"),$C$8=\"Version 1.2 OR+WA\"),\"ESRefDesign_FenestrationAW_V12\",\n\nIF(AND(Table5ca[[#This Row],[Building Component]]=\"Fenestration\",Table5ca[[#This Row],[Dwelling or Common?]]=\"Common\",OR($C$6=\"ASHRAE\",$C$6=\"Title 24 - Whole Building Models\")),\"IECC2009_Fenestration_AW_Windows\",\nIF(AND(Table5ca[[#This Row],[Building Component]]=\"Fenestration\",Table5ca[[#This Row],[Dwelling or Common?]]=\"Dwelling\",Table5ca[[#This Row],[Component Type]]=\"Class AW\",OR($C$6=\"ASHRAE\",$C$6=\"Title 24 - Whole Building Models\",$C$6=\"ERI\",$C$6=\"Title 24 - Dwelling Unit Models\")),\"IECC2009_Fenestration_AW_Windows\",\n\nIF(AND(Table5ca[[#This Row],[Building Component]]=\"Fenestration\",Table5ca[[#This Row],[Dwelling or Common?]]=\"Dwelling\",$C$6=\"Prescriptive\",$C$8=\"Version 1\",Table5ca[[#This Row],[Component Type]]=\"Class AW\"),\"ESRefDesign_FenestrationAW_V1\",\nIF(AND(Table5ca[[#This Row],[Building Component]]=\"Fenestration\",Table5ca[[#This Row],[Dwelling or Common?]]=\"Dwelling\",$C$6=\"Prescriptive\",$C$8=\"Version 1.1\",Table5ca[[#This Row],[Component Type]]=\"Class AW\"),\"ESRefDesign_FenestrationAW_V11\",\nIF(AND(Table5ca[[#This Row],[Building Component]]=\"Fenestration\",Table5ca[[#This Row],[Dwelling or Common?]]=\"Dwelling\",$C$6=\"Prescriptive\",$C$8=\"Version 1.2 OR+WA\",Table5ca[[#This Row],[Component Type]]=\"Class AW\"),\"ESRefDesign_FenestrationAW_V12\",\n\nIF(AND(Table5ca[[#This Row],[Building Component]]=\"Fenestration\",Table5ca[[#This Row],[Dwelling or Common?]]=\"Dwelling\",$C$6=\"Prescriptive\",$C$8=\"Version 1\",Table5ca[[#This Row],[Component Type]]=\"Not Class AW\"),\"ESRefDesign_Fenestration_V1\",\nIF(AND(Table5ca[[#This Row],[Building Component]]=\"Fenestration\",Table5ca[[#This Row],[Dwelling or Common?]]=\"Dwelling\",$C$6=\"Prescriptive\",$C$8=\"Version 1.1\",Table5ca[[#This Row],[Component Type]]=\"Not Class AW\"),\"ESRefDesign_Fenestration_V11\",\nIF(AND(Table5ca[[#This Row],[Building Component]]=\"Fenestration\",Table5ca[[#This Row],[Dwelling or Common?]]=\"Dwelling\",$C$6=\"Prescriptive\",$C$8=\"Version 1.2 OR+WA\",Table5ca[[#This Row],[Component Type]]=\"Not Class AW\"),\"ESRefDesign_Fenestration_V12\",\n\nIF(AND(Table5ca[[#This Row],[Building Component]]=\"Fenestration\",Table5ca[[#This Row],[Dwelling or Common?]]=\"Dwelling\"),\"IECC2009_Fenestration_NotAW_Windows\",\n\n\"\"))))))))))))))))))))))","v":""},{"$f":"IF(OR(Table5ca[[#This Row],[Lookup Table Pt1]]=\"ESRefDesign_Insulation_V1\",Table5ca[[#This Row],[Lookup Table Pt1]]=\"ESRefDesign_Insulation_V11\",Table5ca[[#This Row],[Lookup Table Pt1]]=\"IECC2009_Fenestration_NotAW_Windows\",Table5ca[[#This Row],[Lookup Table Pt1]]=\"IECC2009_Fenestration_AW_Windows\",Table5ca[[#This Row],[Lookup Table Pt1]]=\"ESRefDesign_FenestrationAW_V1\",Table5ca[[#This Row],[Lookup Table Pt1]]=\"ESRefDesign_FenestrationAW_V11\",Table5ca[[#This Row],[Lookup Table Pt1]]=\"ESRefDesign_Fenestration_V1\",Table5ca[[#This Row],[Lookup Table Pt1]]=\"ESRefDesign_Fenestration_V11\"),Table5ca[[#This Row],[Lookup Table Pt1]],\n\nIF(Table5ca[[#This Row],[Component_Lookup]]=\"FloorAboveGarage\",Table5ca[[#This Row],[Lookup Table Pt1]]&\"_Floor\",\n\nTable5ca[[#This Row],[Lookup Table Pt1]]&\"_\"&Table5ca[[#This Row],[Component_Lookup]]))","v":"_NotApplicable"},{"$f":"IF(AND($C$8=\"Version 1.2 OR+WA\",$C$6=\"Prescriptive\",Table5ca[[#This Row],[Building Component]]=\"Above-Grade Wall\"),1,\nIF(AND($C$8=\"Version 1.2 OR+WA\",$C$6=\"Prescriptive\",Table5ca[[#This Row],[Building Component]]=\"Ceiling\"),2,\nIF(AND($C$8=\"Version 1.2 OR+WA\",$C$6=\"Prescriptive\",Table5ca[[#This Row],[Building Component]]=\"Basement Wall\"),4,\nIF(AND($C$8=\"Version 1.2 OR+WA\",$C$6=\"Prescriptive\",Table5ca[[#This Row],[Building Component]]=\"On-Grade & Below Grade Slab\"),5,\nIF(AND($C$8=\"Version 1.2 OR+WA\",$C$6=\"Prescriptive\",OR(Table5ca[[#This Row],[Building Component]]=\"Floor Assembly\",Table5ca[[#This Row],[Building Component]]=\"Floor Above Garage\",Table5ca[[#This Row],[Building Component]]=\"Floor Above Garage Columns\")),3,\n\nIF(AND($C$8=\"Version 1.2 OR+WA\",OR($C$6=\"Prescriptive\",$C$6=\"ERI\",$C$6=\"Title 24 - Dwelling Units Models\"),Table5ca[[#This Row],[Dwelling or Common?]]=\"Common\",Table5ca[[#This Row],[Building Component]]=\"Above-Grade Wall\"),1,\nIF(AND($C$8=\"Version 1.2 OR+WA\",OR($C$6=\"Prescriptive\",$C$6=\"ERI\",$C$6=\"Title 24 - Dwelling Units Models\"),Table5ca[[#This Row],[Dwelling or Common?]]=\"Common\",Table5ca[[#This Row],[Building Component]]=\"Ceiling\"),2,\nIF(AND($C$8=\"Version 1.2 OR+WA\",OR($C$6=\"Prescriptive\",$C$6=\"ERI\",$C$6=\"Title 24 - Dwelling Units Models\"),Table5ca[[#This Row],[Dwelling or Common?]]=\"Common\",Table5ca[[#This Row],[Building Component]]=\"Basement Wall\"),4,\nIF(AND($C$8=\"Version 1.2 OR+WA\",OR($C$6=\"Prescriptive\",$C$6=\"ERI\",$C$6=\"Title 24 - Dwelling Units Models\"),Table5ca[[#This Row],[Dwelling or Common?]]=\"Common\",Table5ca[[#This Row],[Building Component]]=\"On-Grade & Below Grade Slab\"),5,\nIF(AND($C$8=\"Version 1.2 OR+WA\",OR($C$6=\"Prescriptive\",$C$6=\"ERI\",$C$6=\"Title 24 - Dwelling Units Models\"),Table5ca[[#This Row],[Dwelling or Common?]]=\"Common\",OR(Table5ca[[#This Row],[Building Component]]=\"Floor Assembly\",Table5ca[[#This Row],[Building Component]]=\"Floor Above Garage\",Table5ca[[#This Row],[Building Component]]=\"Floor Above Garage Columns\")),3,\n\nIF(AND($C$6=\"Prescriptive\",OR($C$8=\"Version 1\",$C$8=\"Version 1.1\"),Table5ca[[#This Row],[Building Component]]=\"Basement Wall Continuous Insulation\"),3,\nIF(AND($C$6=\"Prescriptive\",OR($C$8=\"Version 1\",$C$8=\"Version 1.1\"),Table5ca[[#This Row],[Building Component]]=\"Slab Insulation\"),1,\n\nIF(OR(Table5ca[[#This Row],[Component Type]]=\"Insulation entirely above deck\",Table5ca[[#This Row],[Component Type]]=\"Mass\",Table5ca[[#This Row],[Component Type]]=\"Below grade wall\",Table5ca[[#This Row],[Component Type]]=\"Unheated slabs\",Table5ca[[#This Row],[Component Type]]=\"Floor Above Garage\"),1,\nIF(OR(Table5ca[[#This Row],[Component Type]]=\"Metal buildings\",Table5ca[[#This Row],[Component Type]]=\"Metal building\",Table5ca[[#This Row],[Component Type]]=\"Joist/framing\",Table5ca[[#This Row],[Component Type]]=\"Heated slabs\",Table5ca[[#This Row],[Component Type]]=\"Floor Above Garage\"),2,\nIF(OR(Table5ca[[#This Row],[Component Type]]=\"Attic and other\",Table5ca[[#This Row],[Component Type]]=\"Metal framed\"),3,\nIF(OR(Table5ca[[#This Row],[Component Type]]=\"Wood framed and other\",Table5ca[[#This Row],[Building Component]]=\"Floor Assembly\",Table5ca[[#This Row],[Building Component]]=\"Floor Above Garage\",Table5ca[[#This Row],[Building Component]]=\"Floor Above Garage Columns\"),4,\nIF(Table5ca[[#This Row],[Building Component]]=\"Wall Assembly\",5,\nIF(Table5ca[[#This Row],[Building Component]]=\"Ceiling Assembly\",6,\n\nIF(Table5ca[[#This Row],[Lookup Table Pt2]]=\"IECC2009_Fenestration_NotAW_Windows\",1,\nIF(AND(Table5ca[[#This Row],[Lookup Table Pt2]]=\"IECC2009_Fenestration_AW_Windows\",OR(Table5ca[[#This Row],[Additional Component Details]]=\"Non-Metal\",Table5ca[[#This Row],[Component Type]]=\"Non-Metal\")),1,\nIF(AND(Table5ca[[#This Row],[Lookup Table Pt2]]=\"IECC2009_Fenestration_AW_Windows\",OR(Table5ca[[#This Row],[Additional Component Details]]=\"Metal - Curtainwall/storefront\",Table5ca[[#This Row],[Component Type]]=\"Metal - Curtainwall/storefront\")),2,\nIF(AND(Table5ca[[#This Row],[Lookup Table Pt2]]=\"IECC2009_Fenestration_AW_Windows\",OR(Table5ca[[#This Row],[Additional Component Details]]=\"Metal - Entrance door\",Table5ca[[#This Row],[Component Type]]=\"Metal - Entrance door\")),3,\nIF(AND(Table5ca[[#This Row],[Lookup Table Pt2]]=\"IECC2009_Fenestration_AW_Windows\",OR(Table5ca[[#This Row],[Additional Component Details]]=\"Metal - Other\",Table5ca[[#This Row],[Component Type]]=\"Metal - Entrance door\")),4,\nIF(AND(Table5ca[[#This Row],[Lookup Table Pt2]]=\"IECC2009_Fenestration_AW_Windows\",Table5ca[[#This Row],[Component Type]]=\"Metal - Other\"),4,\n\nIF(AND(OR(Table5ca[[#This Row],[Lookup Table Pt1]]=\"ESRefDesign_FenestrationAW_V1\",Table5ca[[#This Row],[Lookup Table Pt1]]=\"ESRefDesign_FenestrationAW_V11\",Table5ca[[#This Row],[Lookup Table Pt1]]=\"ESRefDesign_FenestrationAW_V12\"),OR(Table5ca[[#This Row],[Component Type]]=\"Fixed\",Table5ca[[#This Row],[Additional Component Details]]=\"Fixed\")),1,\nIF(AND(OR(Table5ca[[#This Row],[Lookup Table Pt1]]=\"ESRefDesign_FenestrationAW_V1\",Table5ca[[#This Row],[Lookup Table Pt1]]=\"ESRefDesign_FenestrationAW_V11\",Table5ca[[#This Row],[Lookup Table Pt1]]=\"ESRefDesign_FenestrationAW_V12\"),OR(Table5ca[[#This Row],[Component Type]]=\"Operable\",Table5ca[[#This Row],[Additional Component Details]]=\"Operable\")),2,\n\nIF(AND(OR(Table5ca[[#This Row],[Lookup Table Pt1]]=\"ESRefDesign_Fenestration_V1\",Table5ca[[#This Row],[Lookup Table Pt1]]=\"ESRefDesign_Fenestration_V11\",Table5ca[[#This Row],[Lookup Table Pt1]]=\"ESRefDesign_Fenestration_V12\"),Table5ca[[#This Row],[Additional Component Details]]=\"Window\"),1,\nIF(AND(OR(Table5ca[[#This Row],[Lookup Table Pt1]]=\"ESRefDesign_Fenestration_V1\",Table5ca[[#This Row],[Lookup Table Pt1]]=\"ESRefDesign_Fenestration_V11\",Table5ca[[#This Row],[Lookup Table Pt1]]=\"ESRefDesign_Fenestration_V12\"),Table5ca[[#This Row],[Additional Component Details]]=\"Opaque Door\"),3,\nIF(AND(OR(Table5ca[[#This Row],[Lookup Table Pt1]]=\"ESRefDesign_Fenestration_V1\",Table5ca[[#This Row],[Lookup Table Pt1]]=\"ESRefDesign_Fenestration_V11\",Table5ca[[#This Row],[Lookup Table Pt1]]=\"ESRefDesign_Fenestration_V12\"),Table5ca[[#This Row],[Additional Component Details]]=\"≤½ lite Door\"),4,\nIF(AND(OR(Table5ca[[#This Row],[Lookup Table Pt1]]=\"ESRefDesign_Fenestration_V1\",Table5ca[[#This Row],[Lookup Table Pt1]]=\"ESRefDesign_Fenestration_V11\",Table5ca[[#This Row],[Lookup Table Pt1]]=\"ESRefDesign_Fenestration_V12\"),Table5ca[[#This Row],[Additional Component Details]]=\">½ lite Door\"),5,\n\n\n\"\"))))))))))))))))))))))))))))))","v":""},{"$f":"IF(AND($C$8=\"Version 1.2 OR+WA\",$C$6=\"Prescriptive\",Table5ca[[#This Row],[Building Component]]<>\"Fenestration\"),2,\n\nIF(AND($C$8=\"Version 1.2 OR+WA\",$C$6=\"Prescriptive\",$C$7=\"CZ 4 C\"),2,\nIF(AND($C$8=\"Version 1.2 OR+WA\",$C$6=\"Prescriptive\",$C$7=\"CZ 5\"),3,\nIF(AND($C$8=\"Version 1.2 OR+WA\",$C$6=\"Prescriptive\",$C$7=\"CZ 6\"),4,\n\nIF(AND($C$8=\"Version 1.2 OR+WA\",Table5ca[[#This Row],[Dwelling or Common?]]=\"Common\",OR($C$6=\"ERI\",$C$6=\"Title 24 - Dwelling Unit Models\"),$C$7=\"CZ 4 C\"),2,\nIF(AND($C$8=\"Version 1.2 OR+WA\",Table5ca[[#This Row],[Dwelling or Common?]]=\"Common\",OR($C$6=\"ERI\",$C$6=\"Title 24 - Dwelling Unit Models\"),$C$7=\"CZ 5\"),3,\nIF(AND($C$8=\"Version 1.2 OR+WA\",Table5ca[[#This Row],[Dwelling or Common?]]=\"Common\",OR($C$6=\"ERI\",$C$6=\"Title 24 - Dwelling Unit Models\"),$C$7=\"CZ 6\"),4,\n\nIF($C$7=\"CZ 1\",2,\nIF($C$7=\"CZ 2\",3,\nIF($C$7=\"CZ 3\",4,\nIF($C$7=\"CZ 4\",5,\nIF($C$7=\"CZ 4 C\",6,\nIF($C$7=\"CZ 5\",7,\nIF($C$7=\"CZ 6\",8,\nIF($C$7=\"CZ 7\",9,\nIF($C$7=\"CZ 8\",10,\"\"))))))))))))))))","v":""}]
[null,null,null,null,null,null,null,{"$f":"IF(Table5ca[[#This Row],[Specified/Installed U-Factor]]*Table5ca[[#This Row],[Area]]=0,\"\",Table5ca[[#This Row],[Specified/Installed U-Factor]]*Table5ca[[#This Row],[Area]])","v":""},{"$f":"IFERROR(IF(AND($C$8=\"Version 1.2 OR+WA\",OR($C$7=\"CZ 1\",$C$7=\"CZ 2\",$C$7=\"CZ 3\",$C$7=\"CZ 4\",$C$7=\"CZ 7\",$C$7=\"CZ 8\")),\"N/A - Update CZ\",\n\nIF(Table5ca[[#This Row],[Building Component]]=\"Balcony\",\"0.20\",\n\nIF(OR(Table5ca[[#This Row],[Lookup Table Pt1]]=\"ESRefDesign_Insulation_V1\",Table5ca[[#This Row],[Lookup Table Pt1]]=\"ESRefDesign_Insulation_V11\",Table5ca[[#This Row],[Lookup Table Pt1]]=\"ESRefDesign_Insulation_V12\",Table5ca[[#This Row],[Lookup Table Pt1]]=\"ESRefDesign_FenestrationAW_V1\",Table5ca[[#This Row],[Lookup Table Pt1]]=\"ESRefDesign_FenestrationAW_V11\",Table5ca[[#This Row],[Lookup Table Pt1]]=\"ESRefDesign_Fenestration_V1\",Table5ca[[#This Row],[Lookup Table Pt1]]=\"ESRefDesign_Fenestration_V11\",Table5ca[[#This Row],[Lookup Table Pt1]]=\"ESRefDesign_Fenestration_V12\",Table5ca[[#This Row],[Lookup Table Pt1]]=\"ESRefDesign_FenestrationAW_V12\",Table5ca[[#This Row],[Lookup Table Pt1]]=\"IECC2009_Fenestration_NotAW_Windows\",Table5ca[[#This Row],[Lookup Table Pt1]]=\"IECC2009_Fenestration_AW_Windows\"),INDEX(INDIRECT(Table5ca[[#This Row],[Lookup Table Pt1]]),Table5ca[[#This Row],[Row Index]],Table5ca[[#This Row],[Column Index]]),\n\nINDEX(INDIRECT(Table5ca[[#This Row],[Lookup Table Pt2]]),Table5ca[[#This Row],[Row Index]],Table5ca[[#This Row],[Column Index]])))),\"\")","v":""},{"$f":"IFERROR(\n\nIF(LEFT(Table5ca[[#This Row],[ENERGY STAR Requirement Values]],2)=\"U-\",Table5ca[[#This Row],[ENERGY STAR Requirement Values]],\n\nIF(OR(Table5ca[[#This Row],[Building Component]]=\"Slab Insulation\",Table5ca[[#This Row],[Building Component]]=\"Slab-On-Grade Floor\",Table5ca[[#This Row],[Building Component]]=\"Slab-On-Grade Floors\",Table5ca[[#This Row],[Building Component]]=\"On-Grade & Below Grade Slab\",Table5ca[[#This Row],[Building Component]]=\"Slab-on-Grade Floors\",Table5ca[[#This Row],[Building Component]]=\"Slab-on-Grade Floor\"),\"\",\n\nIF(OR(Table5ca[[#This Row],[ENERGY STAR Requirement Values]]=\"R-0\",Table5ca[[#This Row],[ENERGY STAR Requirement Values]]=0,Table5ca[[#This Row],[ENERGY STAR Requirement Values]]=\"C-1.140\"),\"U-0.36\",\nIF(OR(Table5ca[[#This Row],[ENERGY STAR Requirement Values]]=\"R-7.5\",Table5ca[[#This Row],[ENERGY STAR Requirement Values]]=7.5,Table5ca[[#This Row],[ENERGY STAR Requirement Values]]=\"C-0.119\"),\"U-0.072\",\nIF(OR(Table5ca[[#This Row],[ENERGY STAR Requirement Values]]=\"R-10\",Table5ca[[#This Row],[ENERGY STAR Requirement Values]]=10,Table5ca[[#This Row],[ENERGY STAR Requirement Values]]=\"C-0.092\"),\"U-0.059\",\nIF(OR(Table5ca[[#This Row],[ENERGY STAR Requirement Values]]=\"R-15\",Table5ca[[#This Row],[ENERGY STAR Requirement Values]]=15,Table5ca[[#This Row],[ENERGY STAR Requirement Values]]=\"R-15 continuous or R-21 cavity\"),\"U-0.05\",\nIF(OR(Table5ca[[#This Row],[ENERGY STAR Requirement Values]]=\"R-12.5\",Table5ca[[#This Row],[ENERGY STAR Requirement Values]]=12.5,Table5ca[[#This Row],[ENERGY STAR Requirement Values]]=\"C-0.075\"),\"U-0.054\",\nIF(OR(Table5ca[[#This Row],[ENERGY STAR Requirement Values]]=\"R-21\",Table5ca[[#This Row],[ENERGY STAR Requirement Values]]=21),\"U-0.056\",\nIF(OR(Table5ca[[#This Row],[ENERGY STAR Requirement Values]]=\"R-38\",Table5ca[[#This Row],[ENERGY STAR Requirement Values]]=38),\"U-0.028\",\nIF(OR(Table5ca[[#This Row],[ENERGY STAR Requirement Values]]=\"R-49\",Table5ca[[#This Row],[ENERGY STAR Requirement Values]]=49),\"U-0.026\",\n\nIF(LEFT(Table5ca[[#This Row],[ENERGY STAR Requirement Values]],2)=\"F-\",\"\",\n\nIF(LEFT(Table5ca[[#This Row],[ENERGY STAR Requirement Values]],1)=\"0\",CONCATENATE(\"U-\",Table5ca[[#This Row],[ENERGY STAR Requirement Values]]),\n\nTable5ca[[#This Row],[ENERGY STAR Requirement Values]])))))))))))),\"\")","v":""},{"$f":"IFERROR(IF(Table5ca[[#This Row],[Area]]=\"\",\"\",\nIF(Table5ca[[#This Row],[Required U-factor]]=\"\",\"\",\nIFERROR(Table5ca[[#This Row],[Area]]*Table5ca[[#This Row],[Required U-factor]],RIGHT(Table5ca[[#This Row],[Required U-factor]],LEN(Table5ca[[#This Row],[Required U-factor]])-2)*Table5ca[[#This Row],[Area]]))),\"\")","v":""},{"$f":"IF(Table5ca[[#This Row],[Building Component]]=\"\",\"\",\nIF(OR(Table5ca[[#This Row],[Building Component]]=\"Wall, Above Grade\",Table5ca[[#This Row],[Building Component]]=\"Wall, Below Grade\"),\"If there is continuous insulation interrupted by fasteners, ensure that the U-factor has been de-rated per Footnote 6. See below for further details.\",\nIF(Table5ca[[#This Row],[Building Component]]=\"Wall Assembly\",\"Apply a derate per Footnote 6 below.\",\nIF(Table5ca[[#This Row],[Building Component]]=\"Balcony\",\"Use the table below to de-rate balconies per Footnote 14.\",\nIF(OR(Table5ca[[#This Row],[Building Component]]=\"Floor Above Garage\",Table5ca[[#This Row],[Building Component]]=\"Floor Above Garage Columns\"),\"Use the table below to De-Rate floors above garages per Footnote 15.\",\n\"Not Applicable\")))))","v":""},null,null,null,null,null,{"$f":"IF(AND(Table5ca[[#This Row],[Dwelling or Common?]]=\"Dwelling\",$C$6=\"Prescriptive\",$C$8=\"Version 1.2 OR+WA\"),\"BuildingComponents_ESRefListV12_UABuildingComponents\",\nIF(AND($C$8=\"Version 1.2 OR+WA\",OR($C$6=\"Prescriptive\",$C$6=\"ERI\",$C$6=\"Title 24 - Dwelling Units Models\"),Table5ca[[#This Row],[Dwelling or Common?]]=\"Common\"),\"BuildingComponents_ESRefListV12_UABuildingComponents\",\n\nIF(AND($C$6=\"Prescriptive\",Table5ca[[#This Row],[Dwelling or Common?]]=\"Dwelling\"),\"PrescriptivePath_UABuildingComponents\",\n\n\"ERI_AHSRAE_UABuildingComponents\")))","v":"ERI_AHSRAE_UABuildingComponents"},{"$f":"IF(AND($C$6<>\"Prescriptive\",OR(Table5ca[[#This Row],[Building Component]]=\"Floor Assembly\",Table5ca[[#This Row],[Building Component]]=\"Floor Above Garage\",Table5ca[[#This Row],[Building Component]]=\"Floor Above Garage Columns\")),\"Floor\",\nIF(AND($C$6=\"Prescriptive\",Table5ca[[#This Row],[Dwelling or Common?]]=\"Common\",OR(Table5ca[[#This Row],[Building Component]]=\"Floor Assembly\",Table5ca[[#This Row],[Building Component]]=\"Floor Above Garage\",Table5ca[[#This Row],[Building Component]]=\"Floor Above Garage Columns\")),\"Floor\",\n\nIF(Table5ca[[#This Row],[Building Component]]=\"Roofs\",\"Roof\",\nIF(Table5ca[[#This Row],[Building Component]]=\"Walls, Above Grade\",\"WallAboveGrade\",\nIF(Table5ca[[#This Row],[Building Component]]=\"Walls, Below Grade\",\"WallBelowGrade\",\nIF(AND(Table5ca[[#This Row],[Building Component]]=\"Floor Assembly\",$C$6<>\"Prescriptive\"),\"Floor\",\nIF(Table5ca[[#This Row],[Building Component]]=\"Slab-on-Grade Floors\",\"SlabOnGradeFloor\",\nIF(Table5ca[[#This Row],[Building Component]]=\"Opaque Doors\",\"OpaqueDoor\",\nIF(Table5ca[[#This Row],[Building Component]]=\"Balcony\",\"Balcony\",\nIF(AND(Table5ca[[#This Row],[Building Component]]=\"Floor Above Garage\",$C$6=\"Prescriptive\"),\"FloorAssembly\",\nIF(Table5ca[[#This Row],[Building Component]]=\"Floor Above Garage\",\"FloorAboveGarage\",\nIF(Table5ca[[#This Row],[Building Component]]=\"Wall Assembly\",\"WallAssembly\",\nIF(Table5ca[[#This Row],[Building Component]]=\"Ceiling Assembly\",\"CeilingAssembly\",\nIF(OR(Table5ca[[#This Row],[Building Component]]=\"Floor Assembly\",Table5ca[[#This Row],[Building Component]]=\"Floor Above Garage\",Table5ca[[#This Row],[Building Component]]=\"Floor Above Garage Columns\"),\"FloorAssembly\",\n\nIF(AND(Table5ca[[#This Row],[Building Component]]=\"Fenestration\",Table5ca[[#This Row],[Dwelling or Common?]]=\"Dwelling\"),\"ClassAW?\",\n\nIF(AND(Table5ca[[#This Row],[Building Component]]=\"Fenestration\",Table5ca[[#This Row],[Dwelling or Common?]]=\"Common\",OR($C$6=\"ERI\",$C$6=\"Title 24 - Dwelling Unit Models\",$C$6=\"Prescriptive\")),\"ESRefClassAW\",\nIF(AND(Table5ca[[#This Row],[Building Component]]=\"Fenestration\",Table5ca[[#This Row],[Dwelling or Common?]]=\"Common\",OR($C$6=\"ASHRAE\",$C$6=\"Title 24 - Whole Building Models\")),\"Fenestration\",\n\n\"NotApplicable\")))))))))))))))))","v":"NotApplicable"},{"$f":"IF(AND(OR($C$6=\"ERI\",$C$6=\"Title 24 - Dwelling Unit Models\"),Table5ca[[#This Row],[Dwelling or Common?]]=\"Dwelling\",Table5ca[[#This Row],[Component Type]]=\"Class AW\"),\"Fenestration\",\nIF(AND(OR($C$6=\"ERI\",$C$6=\"Title 24 - Dwelling Unit Models\"),Table5ca[[#This Row],[Dwelling or Common?]]=\"Dwelling\",Table5ca[[#This Row],[Component Type]]=\"Not Class AW\"),\"NotApplicable\",\n\nIF(AND(OR($C$6=\"ASHRAE\",$C$6=\"Title 24 - Whole Building Models\"),Table5ca[[#This Row],[Dwelling or Common?]]=\"Dwelling\",Table5ca[[#This Row],[Component Type]]=\"Class AW\"),\"Fenestration\",\nIF(AND(OR($C$6=\"ASHRAE\",$C$6=\"Title 24 - Whole Building Models\"),Table5ca[[#This Row],[Dwelling or Common?]]=\"Dwelling\",Table5ca[[#This Row],[Component Type]]=\"Not Class AW\"),\"NotApplicable\",\n\nIF(AND($C$6=\"Prescriptive\",Table5ca[[#This Row],[Dwelling or Common?]]=\"Dwelling\",Table5ca[[#This Row],[Component Type]]=\"Class AW\"),\"ESRefClassAW\",\nIF(AND($C$6=\"Prescriptive\",Table5ca[[#This Row],[Dwelling or Common?]]=\"Dwelling\",Table5ca[[#This Row],[Component Type]]=\"Not Class AW\"),\"ESRefNotClassAW\",\n\nIF(Table5ca[[#This Row],[Component Type]]=\"Class AW\",\"Fenestration\",\n\n\"NotApplicable\")))))))","v":"NotApplicable"},{"$f":"IF(AND(Table5ca[[#This Row],[Dwelling or Common?]]=\"Dwelling\",$C$8=\"Version 1\",$C$6=\"Prescriptive\",Table5ca[[#This Row],[Building Component]]<>\"Fenestration\"),\"ESRefDesign_Insulation_V1\",\nIF(AND(Table5ca[[#This Row],[Dwelling or Common?]]=\"Dwelling\",$C$8=\"Version 1.1\",$C$6=\"Prescriptive\",Table5ca[[#This Row],[Building Component]]<>\"Fenestration\"),\"ESRefDesign_Insulation_V11\",\nIF(AND($C$8=\"Version 1.2 OR+WA\",$C$6=\"Prescriptive\",Table5ca[[#This Row],[Building Component]]<>\"Fenestration\"),\"ESRefDesign_Insulation_V12\",\n\nIF(AND(Table5ca[[#This Row],[Dwelling or Common?]]=\"Common\",$C$8=\"Version 1.2 OR+WA\",OR($C$6=\"ERI\",$C$6=\"Title 24 - Dwelling Unit Models\"),Table5ca[[#This Row],[Building Component]]<>\"Fenestration\"),\"ESRefDesign_Insulation_V12\",\nIF(AND(Table5ca[[#This Row],[Dwelling or Common?]]=\"Common\",$C$8=\"Version 1.2 OR+WA\",OR($C$6=\"ASHRAE\",$C$6=\"Title 24 - Whole Building Models\"),Table5ca[[#This Row],[Building Component]]<>\"Fenestration\"),\"IECC2009_OU\",\nIF(AND(Table5ca[[#This Row],[Dwelling or Common?]]=\"Dwelling\",$C$8=\"Version 1.2 OR+WA\",OR($C$6=\"ERI\",$C$6=\"Title 24 - Dwelling Unit Models\",$C$6=\"ASHRAE\",$C$6=\"Title 24 - Whole Building Models\"),Table5ca[[#This Row],[Building Component]]<>\"Fenestration\"),\"IECC2009_RU\",\n\nIF(AND(Table5ca[[#This Row],[Dwelling or Common?]]=\"Common\",$C$8=\"Version 1\",Table5ca[[#This Row],[Building Component]]<>\"Fenestration\"),\"IECC2009_OU\",\nIF(AND(Table5ca[[#This Row],[Dwelling or Common?]]=\"Common\",$C$8=\"Version 1.1\",OR($C$6=\"ASHRAE\",$C$6=\"Title 24 - Whole Building Models\"),Table5ca[[#This Row],[Building Component]]<>\"Fenestration\"),\"IECC2009_OU\",\nIF(AND(Table5ca[[#This Row],[Dwelling or Common?]]=\"Common\",$C$8=\"Version 1.1\",OR($C$6=\"Prescriptive\",$C$6=\"ERI\",$C$6=\"Title 24 - Dwelling Unit Models\"),Table5ca[[#This Row],[Building Component]]<>\"Fenestration\"),\"IECC2012_OU\",\n\nIF(AND(Table5ca[[#This Row],[Dwelling or Common?]]=\"Dwelling\",OR($C$8=\"Version 1\",$C$8=\"Version 1.1\",),OR($C$6=\"ERI\",$C$6=\"ASHRAE\",$C$6=\"Title 24 - Whole Building Models\",$C$6=\"Title 24 - Dwelling Unit Models\"),Table5ca[[#This Row],[Building Component]]<>\"Fenestration\"),\"IECC2009_RU\",\n\n\nIF(AND(Table5ca[[#This Row],[Building Component]]=\"Fenestration\",Table5ca[[#This Row],[Dwelling or Common?]]=\"Common\",OR($C$6=\"Prescriptive\",$C$6=\"ERI\",$C$6=\"Title 24 - Dwelling Unit Models\"),$C$8=\"Version 1\"),\"ESRefDesign_FenestrationAW_V1\",\nIF(AND(Table5ca[[#This Row],[Building Component]]=\"Fenestration\",Table5ca[[#This Row],[Dwelling or Common?]]=\"Common\",OR($C$6=\"Prescriptive\",$C$6=\"ERI\",$C$6=\"Title 24 - Dwelling Unit Models\"),$C$8=\"Version 1.1\"),\"ESRefDesign_FenestrationAW_V11\",\nIF(AND(Table5ca[[#This Row],[Building Component]]=\"Fenestration\",Table5ca[[#This Row],[Dwelling or Common?]]=\"Common\",OR($C$6=\"Prescriptive\",$C$6=\"ERI\",$C$6=\"Title 24 - Dwelling Unit Models\"),$C$8=\"Version 1.2 OR+WA\"),\"ESRefDesign_FenestrationAW_V12\",\n\nIF(AND(Table5ca[[#This Row],[Building Component]]=\"Fenestration\",Table5ca[[#This Row],[Dwelling or Common?]]=\"Common\",OR($C$6=\"ASHRAE\",$C$6=\"Title 24 - Whole Building Models\")),\"IECC2009_Fenestration_AW_Windows\",\nIF(AND(Table5ca[[#This Row],[Building Component]]=\"Fenestration\",Table5ca[[#This Row],[Dwelling or Common?]]=\"Dwelling\",Table5ca[[#This Row],[Component Type]]=\"Class AW\",OR($C$6=\"ASHRAE\",$C$6=\"Title 24 - Whole Building Models\",$C$6=\"ERI\",$C$6=\"Title 24 - Dwelling Unit Models\")),\"IECC2009_Fenestration_AW_Windows\",\n\nIF(AND(Table5ca[[#This Row],[Building Component]]=\"Fenestration\",Table5ca[[#This Row],[Dwelling or Common?]]=\"Dwelling\",$C$6=\"Prescriptive\",$C$8=\"Version 1\",Table5ca[[#This Row],[Component Type]]=\"Class AW\"),\"ESRefDesign_FenestrationAW_V1\",\nIF(AND(Table5ca[[#This Row],[Building Component]]=\"Fenestration\",Table5ca[[#This Row],[Dwelling or Common?]]=\"Dwelling\",$C$6=\"Prescriptive\",$C$8=\"Version 1.1\",Table5ca[[#This Row],[Component Type]]=\"Class AW\"),\"ESRefDesign_FenestrationAW_V11\",\nIF(AND(Table5ca[[#This Row],[Building Component]]=\"Fenestration\",Table5ca[[#This Row],[Dwelling or Common?]]=\"Dwelling\",$C$6=\"Prescriptive\",$C$8=\"Version 1.2 OR+WA\",Table5ca[[#This Row],[Component Type]]=\"Class AW\"),\"ESRefDesign_FenestrationAW_V12\",\n\nIF(AND(Table5ca[[#This Row],[Building Component]]=\"Fenestration\",Table5ca[[#This Row],[Dwelling or Common?]]=\"Dwelling\",$C$6=\"Prescriptive\",$C$8=\"Version 1\",Table5ca[[#This Row],[Component Type]]=\"Not Class AW\"),\"ESRefDesign_Fenestration_V1\",\nIF(AND(Table5ca[[#This Row],[Building Component]]=\"Fenestration\",Table5ca[[#This Row],[Dwelling or Common?]]=\"Dwelling\",$C$6=\"Prescriptive\",$C$8=\"Version 1.1\",Table5ca[[#This Row],[Component Type]]=\"Not Class AW\"),\"ESRefDesign_Fenestration_V11\",\nIF(AND(Table5ca[[#This Row],[Building Component]]=\"Fenestration\",Table5ca[[#This Row],[Dwelling or Common?]]=\"Dwelling\",$C$6=\"Prescriptive\",$C$8=\"Version 1.2 OR+WA\",Table5ca[[#This Row],[Component Type]]=\"Not Class AW\"),\"ESRefDesign_Fenestration_V12\",\n\nIF(AND(Table5ca[[#This Row],[Building Component]]=\"Fenestration\",Table5ca[[#This Row],[Dwelling or Common?]]=\"Dwelling\"),\"IECC2009_Fenestration_NotAW_Windows\",\n\n\"\"))))))))))))))))))))))","v":""},{"$f":"IF(OR(Table5ca[[#This Row],[Lookup Table Pt1]]=\"ESRefDesign_Insulation_V1\",Table5ca[[#This Row],[Lookup Table Pt1]]=\"ESRefDesign_Insulation_V11\",Table5ca[[#This Row],[Lookup Table Pt1]]=\"IECC2009_Fenestration_NotAW_Windows\",Table5ca[[#This Row],[Lookup Table Pt1]]=\"IECC2009_Fenestration_AW_Windows\",Table5ca[[#This Row],[Lookup Table Pt1]]=\"ESRefDesign_FenestrationAW_V1\",Table5ca[[#This Row],[Lookup Table Pt1]]=\"ESRefDesign_FenestrationAW_V11\",Table5ca[[#This Row],[Lookup Table Pt1]]=\"ESRefDesign_Fenestration_V1\",Table5ca[[#This Row],[Lookup Table Pt1]]=\"ESRefDesign_Fenestration_V11\"),Table5ca[[#This Row],[Lookup Table Pt1]],\n\nIF(Table5ca[[#This Row],[Component_Lookup]]=\"FloorAboveGarage\",Table5ca[[#This Row],[Lookup Table Pt1]]&\"_Floor\",\n\nTable5ca[[#This Row],[Lookup Table Pt1]]&\"_\"&Table5ca[[#This Row],[Component_Lookup]]))","v":"_NotApplicable"},{"$f":"IF(AND($C$8=\"Version 1.2 OR+WA\",$C$6=\"Prescriptive\",Table5ca[[#This Row],[Building Component]]=\"Above-Grade Wall\"),1,\nIF(AND($C$8=\"Version 1.2 OR+WA\",$C$6=\"Prescriptive\",Table5ca[[#This Row],[Building Component]]=\"Ceiling\"),2,\nIF(AND($C$8=\"Version 1.2 OR+WA\",$C$6=\"Prescriptive\",Table5ca[[#This Row],[Building Component]]=\"Basement Wall\"),4,\nIF(AND($C$8=\"Version 1.2 OR+WA\",$C$6=\"Prescriptive\",Table5ca[[#This Row],[Building Component]]=\"On-Grade & Below Grade Slab\"),5,\nIF(AND($C$8=\"Version 1.2 OR+WA\",$C$6=\"Prescriptive\",OR(Table5ca[[#This Row],[Building Component]]=\"Floor Assembly\",Table5ca[[#This Row],[Building Component]]=\"Floor Above Garage\",Table5ca[[#This Row],[Building Component]]=\"Floor Above Garage Columns\")),3,\n\nIF(AND($C$8=\"Version 1.2 OR+WA\",OR($C$6=\"Prescriptive\",$C$6=\"ERI\",$C$6=\"Title 24 - Dwelling Units Models\"),Table5ca[[#This Row],[Dwelling or Common?]]=\"Common\",Table5ca[[#This Row],[Building Component]]=\"Above-Grade Wall\"),1,\nIF(AND($C$8=\"Version 1.2 OR+WA\",OR($C$6=\"Prescriptive\",$C$6=\"ERI\",$C$6=\"Title 24 - Dwelling Units Models\"),Table5ca[[#This Row],[Dwelling or Common?]]=\"Common\",Table5ca[[#This Row],[Building Component]]=\"Ceiling\"),2,\nIF(AND($C$8=\"Version 1.2 OR+WA\",OR($C$6=\"Prescriptive\",$C$6=\"ERI\",$C$6=\"Title 24 - Dwelling Units Models\"),Table5ca[[#This Row],[Dwelling or Common?]]=\"Common\",Table5ca[[#This Row],[Building Component]]=\"Basement Wall\"),4,\nIF(AND($C$8=\"Version 1.2 OR+WA\",OR($C$6=\"Prescriptive\",$C$6=\"ERI\",$C$6=\"Title 24 - Dwelling Units Models\"),Table5ca[[#This Row],[Dwelling or Common?]]=\"Common\",Table5ca[[#This Row],[Building Component]]=\"On-Grade & Below Grade Slab\"),5,\nIF(AND($C$8=\"Version 1.2 OR+WA\",OR($C$6=\"Prescriptive\",$C$6=\"ERI\",$C$6=\"Title 24 - Dwelling Units Models\"),Table5ca[[#This Row],[Dwelling or Common?]]=\"Common\",OR(Table5ca[[#This Row],[Building Component]]=\"Floor Assembly\",Table5ca[[#This Row],[Building Component]]=\"Floor Above Garage\",Table5ca[[#This Row],[Building Component]]=\"Floor Above Garage Columns\")),3,\n\nIF(AND($C$6=\"Prescriptive\",OR($C$8=\"Version 1\",$C$8=\"Version 1.1\"),Table5ca[[#This Row],[Building Component]]=\"Basement Wall Continuous Insulation\"),3,\nIF(AND($C$6=\"Prescriptive\",OR($C$8=\"Version 1\",$C$8=\"Version 1.1\"),Table5ca[[#This Row],[Building Component]]=\"Slab Insulation\"),1,\n\nIF(OR(Table5ca[[#This Row],[Component Type]]=\"Insulation entirely above deck\",Table5ca[[#This Row],[Component Type]]=\"Mass\",Table5ca[[#This Row],[Component Type]]=\"Below grade wall\",Table5ca[[#This Row],[Component Type]]=\"Unheated slabs\",Table5ca[[#This Row],[Component Type]]=\"Floor Above Garage\"),1,\nIF(OR(Table5ca[[#This Row],[Component Type]]=\"Metal buildings\",Table5ca[[#This Row],[Component Type]]=\"Metal building\",Table5ca[[#This Row],[Component Type]]=\"Joist/framing\",Table5ca[[#This Row],[Component Type]]=\"Heated slabs\",Table5ca[[#This Row],[Component Type]]=\"Floor Above Garage\"),2,\nIF(OR(Table5ca[[#This Row],[Component Type]]=\"Attic and other\",Table5ca[[#This Row],[Component Type]]=\"Metal framed\"),3,\nIF(OR(Table5ca[[#This Row],[Component Type]]=\"Wood framed and other\",Table5ca[[#This Row],[Building Component]]=\"Floor Assembly\",Table5ca[[#This Row],[Building Component]]=\"Floor Above Garage\",Table5ca[[#This Row],[Building Component]]=\"Floor Above Garage Columns\"),4,\nIF(Table5ca[[#This Row],[Building Component]]=\"Wall Assembly\",5,\nIF(Table5ca[[#This Row],[Building Component]]=\"Ceiling Assembly\",6,\n\nIF(Table5ca[[#This Row],[Lookup Table Pt2]]=\"IECC2009_Fenestration_NotAW_Windows\",1,\nIF(AND(Table5ca[[#This Row],[Lookup Table Pt2]]=\"IECC2009_Fenestration_AW_Windows\",OR(Table5ca[[#This Row],[Additional Component Details]]=\"Non-Metal\",Table5ca[[#This Row],[Component Type]]=\"Non-Metal\")),1,\nIF(AND(Table5ca[[#This Row],[Lookup Table Pt2]]=\"IECC2009_Fenestration_AW_Windows\",OR(Table5ca[[#This Row],[Additional Component Details]]=\"Metal - Curtainwall/storefront\",Table5ca[[#This Row],[Component Type]]=\"Metal - Curtainwall/storefront\")),2,\nIF(AND(Table5ca[[#This Row],[Lookup Table Pt2]]=\"IECC2009_Fenestration_AW_Windows\",OR(Table5ca[[#This Row],[Additional Component Details]]=\"Metal - Entrance door\",Table5ca[[#This Row],[Component Type]]=\"Metal - Entrance door\")),3,\nIF(AND(Table5ca[[#This Row],[Lookup Table Pt2]]=\"IECC2009_Fenestration_AW_Windows\",OR(Table5ca[[#This Row],[Additional Component Details]]=\"Metal - Other\",Table5ca[[#This Row],[Component Type]]=\"Metal - Entrance door\")),4,\nIF(AND(Table5ca[[#This Row],[Lookup Table Pt2]]=\"IECC2009_Fenestration_AW_Windows\",Table5ca[[#This Row],[Component Type]]=\"Metal - Other\"),4,\n\nIF(AND(OR(Table5ca[[#This Row],[Lookup Table Pt1]]=\"ESRefDesign_FenestrationAW_V1\",Table5ca[[#This Row],[Lookup Table Pt1]]=\"ESRefDesign_FenestrationAW_V11\",Table5ca[[#This Row],[Lookup Table Pt1]]=\"ESRefDesign_FenestrationAW_V12\"),OR(Table5ca[[#This Row],[Component Type]]=\"Fixed\",Table5ca[[#This Row],[Additional Component Details]]=\"Fixed\")),1,\nIF(AND(OR(Table5ca[[#This Row],[Lookup Table Pt1]]=\"ESRefDesign_FenestrationAW_V1\",Table5ca[[#This Row],[Lookup Table Pt1]]=\"ESRefDesign_FenestrationAW_V11\",Table5ca[[#This Row],[Lookup Table Pt1]]=\"ESRefDesign_FenestrationAW_V12\"),OR(Table5ca[[#This Row],[Component Type]]=\"Operable\",Table5ca[[#This Row],[Additional Component Details]]=\"Operable\")),2,\n\nIF(AND(OR(Table5ca[[#This Row],[Lookup Table Pt1]]=\"ESRefDesign_Fenestration_V1\",Table5ca[[#This Row],[Lookup Table Pt1]]=\"ESRefDesign_Fenestration_V11\",Table5ca[[#This Row],[Lookup Table Pt1]]=\"ESRefDesign_Fenestration_V12\"),Table5ca[[#This Row],[Additional Component Details]]=\"Window\"),1,\nIF(AND(OR(Table5ca[[#This Row],[Lookup Table Pt1]]=\"ESRefDesign_Fenestration_V1\",Table5ca[[#This Row],[Lookup Table Pt1]]=\"ESRefDesign_Fenestration_V11\",Table5ca[[#This Row],[Lookup Table Pt1]]=\"ESRefDesign_Fenestration_V12\"),Table5ca[[#This Row],[Additional Component Details]]=\"Opaque Door\"),3,\nIF(AND(OR(Table5ca[[#This Row],[Lookup Table Pt1]]=\"ESRefDesign_Fenestration_V1\",Table5ca[[#This Row],[Lookup Table Pt1]]=\"ESRefDesign_Fenestration_V11\",Table5ca[[#This Row],[Lookup Table Pt1]]=\"ESRefDesign_Fenestration_V12\"),Table5ca[[#This Row],[Additional Component Details]]=\"≤½ lite Door\"),4,\nIF(AND(OR(Table5ca[[#This Row],[Lookup Table Pt1]]=\"ESRefDesign_Fenestration_V1\",Table5ca[[#This Row],[Lookup Table Pt1]]=\"ESRefDesign_Fenestration_V11\",Table5ca[[#This Row],[Lookup Table Pt1]]=\"ESRefDesign_Fenestration_V12\"),Table5ca[[#This Row],[Additional Component Details]]=\">½ lite Door\"),5,\n\n\n\"\"))))))))))))))))))))))))))))))","v":""},{"$f":"IF(AND($C$8=\"Version 1.2 OR+WA\",$C$6=\"Prescriptive\",Table5ca[[#This Row],[Building Component]]<>\"Fenestration\"),2,\n\nIF(AND($C$8=\"Version 1.2 OR+WA\",$C$6=\"Prescriptive\",$C$7=\"CZ 4 C\"),2,\nIF(AND($C$8=\"Version 1.2 OR+WA\",$C$6=\"Prescriptive\",$C$7=\"CZ 5\"),3,\nIF(AND($C$8=\"Version 1.2 OR+WA\",$C$6=\"Prescriptive\",$C$7=\"CZ 6\"),4,\n\nIF(AND($C$8=\"Version 1.2 OR+WA\",Table5ca[[#This Row],[Dwelling or Common?]]=\"Common\",OR($C$6=\"ERI\",$C$6=\"Title 24 - Dwelling Unit Models\"),$C$7=\"CZ 4 C\"),2,\nIF(AND($C$8=\"Version 1.2 OR+WA\",Table5ca[[#This Row],[Dwelling or Common?]]=\"Common\",OR($C$6=\"ERI\",$C$6=\"Title 24 - Dwelling Unit Models\"),$C$7=\"CZ 5\"),3,\nIF(AND($C$8=\"Version 1.2 OR+WA\",Table5ca[[#This Row],[Dwelling or Common?]]=\"Common\",OR($C$6=\"ERI\",$C$6=\"Title 24 - Dwelling Unit Models\"),$C$7=\"CZ 6\"),4,\n\nIF($C$7=\"CZ 1\",2,\nIF($C$7=\"CZ 2\",3,\nIF($C$7=\"CZ 3\",4,\nIF($C$7=\"CZ 4\",5,\nIF($C$7=\"CZ 4 C\",6,\nIF($C$7=\"CZ 5\",7,\nIF($C$7=\"CZ 6\",8,\nIF($C$7=\"CZ 7\",9,\nIF($C$7=\"CZ 8\",10,\"\"))))))))))))))))","v":""}]
[null,null,null,null,null,null,null,{"$f":"IF(Table5ca[[#This Row],[Specified/Installed U-Factor]]*Table5ca[[#This Row],[Area]]=0,\"\",Table5ca[[#This Row],[Specified/Installed U-Factor]]*Table5ca[[#This Row],[Area]])","v":""},{"$f":"IFERROR(IF(AND($C$8=\"Version 1.2 OR+WA\",OR($C$7=\"CZ 1\",$C$7=\"CZ 2\",$C$7=\"CZ 3\",$C$7=\"CZ 4\",$C$7=\"CZ 7\",$C$7=\"CZ 8\")),\"N/A - Update CZ\",\n\nIF(Table5ca[[#This Row],[Building Component]]=\"Balcony\",\"0.20\",\n\nIF(OR(Table5ca[[#This Row],[Lookup Table Pt1]]=\"ESRefDesign_Insulation_V1\",Table5ca[[#This Row],[Lookup Table Pt1]]=\"ESRefDesign_Insulation_V11\",Table5ca[[#This Row],[Lookup Table Pt1]]=\"ESRefDesign_Insulation_V12\",Table5ca[[#This Row],[Lookup Table Pt1]]=\"ESRefDesign_FenestrationAW_V1\",Table5ca[[#This Row],[Lookup Table Pt1]]=\"ESRefDesign_FenestrationAW_V11\",Table5ca[[#This Row],[Lookup Table Pt1]]=\"ESRefDesign_Fenestration_V1\",Table5ca[[#This Row],[Lookup Table Pt1]]=\"ESRefDesign_Fenestration_V11\",Table5ca[[#This Row],[Lookup Table Pt1]]=\"ESRefDesign_Fenestration_V12\",Table5ca[[#This Row],[Lookup Table Pt1]]=\"ESRefDesign_FenestrationAW_V12\",Table5ca[[#This Row],[Lookup Table Pt1]]=\"IECC2009_Fenestration_NotAW_Windows\",Table5ca[[#This Row],[Lookup Table Pt1]]=\"IECC2009_Fenestration_AW_Windows\"),INDEX(INDIRECT(Table5ca[[#This Row],[Lookup Table Pt1]]),Table5ca[[#This Row],[Row Index]],Table5ca[[#This Row],[Column Index]]),\n\nINDEX(INDIRECT(Table5ca[[#This Row],[Lookup Table Pt2]]),Table5ca[[#This Row],[Row Index]],Table5ca[[#This Row],[Column Index]])))),\"\")","v":""},{"$f":"IFERROR(\n\nIF(LEFT(Table5ca[[#This Row],[ENERGY STAR Requirement Values]],2)=\"U-\",Table5ca[[#This Row],[ENERGY STAR Requirement Values]],\n\nIF(OR(Table5ca[[#This Row],[Building Component]]=\"Slab Insulation\",Table5ca[[#This Row],[Building Component]]=\"Slab-On-Grade Floor\",Table5ca[[#This Row],[Building Component]]=\"Slab-On-Grade Floors\",Table5ca[[#This Row],[Building Component]]=\"On-Grade & Below Grade Slab\",Table5ca[[#This Row],[Building Component]]=\"Slab-on-Grade Floors\",Table5ca[[#This Row],[Building Component]]=\"Slab-on-Grade Floor\"),\"\",\n\nIF(OR(Table5ca[[#This Row],[ENERGY STAR Requirement Values]]=\"R-0\",Table5ca[[#This Row],[ENERGY STAR Requirement Values]]=0,Table5ca[[#This Row],[ENERGY STAR Requirement Values]]=\"C-1.140\"),\"U-0.36\",\nIF(OR(Table5ca[[#This Row],[ENERGY STAR Requirement Values]]=\"R-7.5\",Table5ca[[#This Row],[ENERGY STAR Requirement Values]]=7.5,Table5ca[[#This Row],[ENERGY STAR Requirement Values]]=\"C-0.119\"),\"U-0.072\",\nIF(OR(Table5ca[[#This Row],[ENERGY STAR Requirement Values]]=\"R-10\",Table5ca[[#This Row],[ENERGY STAR Requirement Values]]=10,Table5ca[[#This Row],[ENERGY STAR Requirement Values]]=\"C-0.092\"),\"U-0.059\",\nIF(OR(Table5ca[[#This Row],[ENERGY STAR Requirement Values]]=\"R-15\",Table5ca[[#This Row],[ENERGY STAR Requirement Values]]=15,Table5ca[[#This Row],[ENERGY STAR Requirement Values]]=\"R-15 continuous or R-21 cavity\"),\"U-0.05\",\nIF(OR(Table5ca[[#This Row],[ENERGY STAR Requirement Values]]=\"R-12.5\",Table5ca[[#This Row],[ENERGY STAR Requirement Values]]=12.5,Table5ca[[#This Row],[ENERGY STAR Requirement Values]]=\"C-0.075\"),\"U-0.054\",\nIF(OR(Table5ca[[#This Row],[ENERGY STAR Requirement Values]]=\"R-21\",Table5ca[[#This Row],[ENERGY STAR Requirement Values]]=21),\"U-0.056\",\nIF(OR(Table5ca[[#This Row],[ENERGY STAR Requirement Values]]=\"R-38\",Table5ca[[#This Row],[ENERGY STAR Requirement Values]]=38),\"U-0.028\",\nIF(OR(Table5ca[[#This Row],[ENERGY STAR Requirement Values]]=\"R-49\",Table5ca[[#This Row],[ENERGY STAR Requirement Values]]=49),\"U-0.026\",\n\nIF(LEFT(Table5ca[[#This Row],[ENERGY STAR Requirement Values]],2)=\"F-\",\"\",\n\nIF(LEFT(Table5ca[[#This Row],[ENERGY STAR Requirement Values]],1)=\"0\",CONCATENATE(\"U-\",Table5ca[[#This Row],[ENERGY STAR Requirement Values]]),\n\nTable5ca[[#This Row],[ENERGY STAR Requirement Values]])))))))))))),\"\")","v":""},{"$f":"IFERROR(IF(Table5ca[[#This Row],[Area]]=\"\",\"\",\nIF(Table5ca[[#This Row],[Required U-factor]]=\"\",\"\",\nIFERROR(Table5ca[[#This Row],[Area]]*Table5ca[[#This Row],[Required U-factor]],RIGHT(Table5ca[[#This Row],[Required U-factor]],LEN(Table5ca[[#This Row],[Required U-factor]])-2)*Table5ca[[#This Row],[Area]]))),\"\")","v":""},{"$f":"IF(Table5ca[[#This Row],[Building Component]]=\"\",\"\",\nIF(OR(Table5ca[[#This Row],[Building Component]]=\"Wall, Above Grade\",Table5ca[[#This Row],[Building Component]]=\"Wall, Below Grade\"),\"If there is continuous insulation interrupted by fasteners, ensure that the U-factor has been de-rated per Footnote 6. See below for further details.\",\nIF(Table5ca[[#This Row],[Building Component]]=\"Wall Assembly\",\"Apply a derate per Footnote 6 below.\",\nIF(Table5ca[[#This Row],[Building Component]]=\"Balcony\",\"Use the table below to de-rate balconies per Footnote 14.\",\nIF(OR(Table5ca[[#This Row],[Building Component]]=\"Floor Above Garage\",Table5ca[[#This Row],[Building Component]]=\"Floor Above Garage Columns\"),\"Use the table below to De-Rate floors above garages per Footnote 15.\",\n\"Not Applicable\")))))","v":""},null,null,null,null,null,{"$f":"IF(AND(Table5ca[[#This Row],[Dwelling or Common?]]=\"Dwelling\",$C$6=\"Prescriptive\",$C$8=\"Version 1.2 OR+WA\"),\"BuildingComponents_ESRefListV12_UABuildingComponents\",\nIF(AND($C$8=\"Version 1.2 OR+WA\",OR($C$6=\"Prescriptive\",$C$6=\"ERI\",$C$6=\"Title 24 - Dwelling Units Models\"),Table5ca[[#This Row],[Dwelling or Common?]]=\"Common\"),\"BuildingComponents_ESRefListV12_UABuildingComponents\",\n\nIF(AND($C$6=\"Prescriptive\",Table5ca[[#This Row],[Dwelling or Common?]]=\"Dwelling\"),\"PrescriptivePath_UABuildingComponents\",\n\n\"ERI_AHSRAE_UABuildingComponents\")))","v":"ERI_AHSRAE_UABuildingComponents"},{"$f":"IF(AND($C$6<>\"Prescriptive\",OR(Table5ca[[#This Row],[Building Component]]=\"Floor Assembly\",Table5ca[[#This Row],[Building Component]]=\"Floor Above Garage\",Table5ca[[#This Row],[Building Component]]=\"Floor Above Garage Columns\")),\"Floor\",\nIF(AND($C$6=\"Prescriptive\",Table5ca[[#This Row],[Dwelling or Common?]]=\"Common\",OR(Table5ca[[#This Row],[Building Component]]=\"Floor Assembly\",Table5ca[[#This Row],[Building Component]]=\"Floor Above Garage\",Table5ca[[#This Row],[Building Component]]=\"Floor Above Garage Columns\")),\"Floor\",\n\nIF(Table5ca[[#This Row],[Building Component]]=\"Roofs\",\"Roof\",\nIF(Table5ca[[#This Row],[Building Component]]=\"Walls, Above Grade\",\"WallAboveGrade\",\nIF(Table5ca[[#This Row],[Building Component]]=\"Walls, Below Grade\",\"WallBelowGrade\",\nIF(AND(Table5ca[[#This Row],[Building Component]]=\"Floor Assembly\",$C$6<>\"Prescriptive\"),\"Floor\",\nIF(Table5ca[[#This Row],[Building Component]]=\"Slab-on-Grade Floors\",\"SlabOnGradeFloor\",\nIF(Table5ca[[#This Row],[Building Component]]=\"Opaque Doors\",\"OpaqueDoor\",\nIF(Table5ca[[#This Row],[Building Component]]=\"Balcony\",\"Balcony\",\nIF(AND(Table5ca[[#This Row],[Building Component]]=\"Floor Above Garage\",$C$6=\"Prescriptive\"),\"FloorAssembly\",\nIF(Table5ca[[#This Row],[Building Component]]=\"Floor Above Garage\",\"FloorAboveGarage\",\nIF(Table5ca[[#This Row],[Building Component]]=\"Wall Assembly\",\"WallAssembly\",\nIF(Table5ca[[#This Row],[Building Component]]=\"Ceiling Assembly\",\"CeilingAssembly\",\nIF(OR(Table5ca[[#This Row],[Building Component]]=\"Floor Assembly\",Table5ca[[#This Row],[Building Component]]=\"Floor Above Garage\",Table5ca[[#This Row],[Building Component]]=\"Floor Above Garage Columns\"),\"FloorAssembly\",\n\nIF(AND(Table5ca[[#This Row],[Building Component]]=\"Fenestration\",Table5ca[[#This Row],[Dwelling or Common?]]=\"Dwelling\"),\"ClassAW?\",\n\nIF(AND(Table5ca[[#This Row],[Building Component]]=\"Fenestration\",Table5ca[[#This Row],[Dwelling or Common?]]=\"Common\",OR($C$6=\"ERI\",$C$6=\"Title 24 - Dwelling Unit Models\",$C$6=\"Prescriptive\")),\"ESRefClassAW\",\nIF(AND(Table5ca[[#This Row],[Building Component]]=\"Fenestration\",Table5ca[[#This Row],[Dwelling or Common?]]=\"Common\",OR($C$6=\"ASHRAE\",$C$6=\"Title 24 - Whole Building Models\")),\"Fenestration\",\n\n\"NotApplicable\")))))))))))))))))","v":"NotApplicable"},{"$f":"IF(AND(OR($C$6=\"ERI\",$C$6=\"Title 24 - Dwelling Unit Models\"),Table5ca[[#This Row],[Dwelling or Common?]]=\"Dwelling\",Table5ca[[#This Row],[Component Type]]=\"Class AW\"),\"Fenestration\",\nIF(AND(OR($C$6=\"ERI\",$C$6=\"Title 24 - Dwelling Unit Models\"),Table5ca[[#This Row],[Dwelling or Common?]]=\"Dwelling\",Table5ca[[#This Row],[Component Type]]=\"Not Class AW\"),\"NotApplicable\",\n\nIF(AND(OR($C$6=\"ASHRAE\",$C$6=\"Title 24 - Whole Building Models\"),Table5ca[[#This Row],[Dwelling or Common?]]=\"Dwelling\",Table5ca[[#This Row],[Component Type]]=\"Class AW\"),\"Fenestration\",\nIF(AND(OR($C$6=\"ASHRAE\",$C$6=\"Title 24 - Whole Building Models\"),Table5ca[[#This Row],[Dwelling or Common?]]=\"Dwelling\",Table5ca[[#This Row],[Component Type]]=\"Not Class AW\"),\"NotApplicable\",\n\nIF(AND($C$6=\"Prescriptive\",Table5ca[[#This Row],[Dwelling or Common?]]=\"Dwelling\",Table5ca[[#This Row],[Component Type]]=\"Class AW\"),\"ESRefClassAW\",\nIF(AND($C$6=\"Prescriptive\",Table5ca[[#This Row],[Dwelling or Common?]]=\"Dwelling\",Table5ca[[#This Row],[Component Type]]=\"Not Class AW\"),\"ESRefNotClassAW\",\n\nIF(Table5ca[[#This Row],[Component Type]]=\"Class AW\",\"Fenestration\",\n\n\"NotApplicable\")))))))","v":"NotApplicable"},{"$f":"IF(AND(Table5ca[[#This Row],[Dwelling or Common?]]=\"Dwelling\",$C$8=\"Version 1\",$C$6=\"Prescriptive\",Table5ca[[#This Row],[Building Component]]<>\"Fenestration\"),\"ESRefDesign_Insulation_V1\",\nIF(AND(Table5ca[[#This Row],[Dwelling or Common?]]=\"Dwelling\",$C$8=\"Version 1.1\",$C$6=\"Prescriptive\",Table5ca[[#This Row],[Building Component]]<>\"Fenestration\"),\"ESRefDesign_Insulation_V11\",\nIF(AND($C$8=\"Version 1.2 OR+WA\",$C$6=\"Prescriptive\",Table5ca[[#This Row],[Building Component]]<>\"Fenestration\"),\"ESRefDesign_Insulation_V12\",\n\nIF(AND(Table5ca[[#This Row],[Dwelling or Common?]]=\"Common\",$C$8=\"Version 1.2 OR+WA\",OR($C$6=\"ERI\",$C$6=\"Title 24 - Dwelling Unit Models\"),Table5ca[[#This Row],[Building Component]]<>\"Fenestration\"),\"ESRefDesign_Insulation_V12\",\nIF(AND(Table5ca[[#This Row],[Dwelling or Common?]]=\"Common\",$C$8=\"Version 1.2 OR+WA\",OR($C$6=\"ASHRAE\",$C$6=\"Title 24 - Whole Building Models\"),Table5ca[[#This Row],[Building Component]]<>\"Fenestration\"),\"IECC2009_OU\",\nIF(AND(Table5ca[[#This Row],[Dwelling or Common?]]=\"Dwelling\",$C$8=\"Version 1.2 OR+WA\",OR($C$6=\"ERI\",$C$6=\"Title 24 - Dwelling Unit Models\",$C$6=\"ASHRAE\",$C$6=\"Title 24 - Whole Building Models\"),Table5ca[[#This Row],[Building Component]]<>\"Fenestration\"),\"IECC2009_RU\",\n\nIF(AND(Table5ca[[#This Row],[Dwelling or Common?]]=\"Common\",$C$8=\"Version 1\",Table5ca[[#This Row],[Building Component]]<>\"Fenestration\"),\"IECC2009_OU\",\nIF(AND(Table5ca[[#This Row],[Dwelling or Common?]]=\"Common\",$C$8=\"Version 1.1\",OR($C$6=\"ASHRAE\",$C$6=\"Title 24 - Whole Building Models\"),Table5ca[[#This Row],[Building Component]]<>\"Fenestration\"),\"IECC2009_OU\",\nIF(AND(Table5ca[[#This Row],[Dwelling or Common?]]=\"Common\",$C$8=\"Version 1.1\",OR($C$6=\"Prescriptive\",$C$6=\"ERI\",$C$6=\"Title 24 - Dwelling Unit Models\"),Table5ca[[#This Row],[Building Component]]<>\"Fenestration\"),\"IECC2012_OU\",\n\nIF(AND(Table5ca[[#This Row],[Dwelling or Common?]]=\"Dwelling\",OR($C$8=\"Version 1\",$C$8=\"Version 1.1\",),OR($C$6=\"ERI\",$C$6=\"ASHRAE\",$C$6=\"Title 24 - Whole Building Models\",$C$6=\"Title 24 - Dwelling Unit Models\"),Table5ca[[#This Row],[Building Component]]<>\"Fenestration\"),\"IECC2009_RU\",\n\n\nIF(AND(Table5ca[[#This Row],[Building Component]]=\"Fenestration\",Table5ca[[#This Row],[Dwelling or Common?]]=\"Common\",OR($C$6=\"Prescriptive\",$C$6=\"ERI\",$C$6=\"Title 24 - Dwelling Unit Models\"),$C$8=\"Version 1\"),\"ESRefDesign_FenestrationAW_V1\",\nIF(AND(Table5ca[[#This Row],[Building Component]]=\"Fenestration\",Table5ca[[#This Row],[Dwelling or Common?]]=\"Common\",OR($C$6=\"Prescriptive\",$C$6=\"ERI\",$C$6=\"Title 24 - Dwelling Unit Models\"),$C$8=\"Version 1.1\"),\"ESRefDesign_FenestrationAW_V11\",\nIF(AND(Table5ca[[#This Row],[Building Component]]=\"Fenestration\",Table5ca[[#This Row],[Dwelling or Common?]]=\"Common\",OR($C$6=\"Prescriptive\",$C$6=\"ERI\",$C$6=\"Title 24 - Dwelling Unit Models\"),$C$8=\"Version 1.2 OR+WA\"),\"ESRefDesign_FenestrationAW_V12\",\n\nIF(AND(Table5ca[[#This Row],[Building Component]]=\"Fenestration\",Table5ca[[#This Row],[Dwelling or Common?]]=\"Common\",OR($C$6=\"ASHRAE\",$C$6=\"Title 24 - Whole Building Models\")),\"IECC2009_Fenestration_AW_Windows\",\nIF(AND(Table5ca[[#This Row],[Building Component]]=\"Fenestration\",Table5ca[[#This Row],[Dwelling or Common?]]=\"Dwelling\",Table5ca[[#This Row],[Component Type]]=\"Class AW\",OR($C$6=\"ASHRAE\",$C$6=\"Title 24 - Whole Building Models\",$C$6=\"ERI\",$C$6=\"Title 24 - Dwelling Unit Models\")),\"IECC2009_Fenestration_AW_Windows\",\n\nIF(AND(Table5ca[[#This Row],[Building Component]]=\"Fenestration\",Table5ca[[#This Row],[Dwelling or Common?]]=\"Dwelling\",$C$6=\"Prescriptive\",$C$8=\"Version 1\",Table5ca[[#This Row],[Component Type]]=\"Class AW\"),\"ESRefDesign_FenestrationAW_V1\",\nIF(AND(Table5ca[[#This Row],[Building Component]]=\"Fenestration\",Table5ca[[#This Row],[Dwelling or Common?]]=\"Dwelling\",$C$6=\"Prescriptive\",$C$8=\"Version 1.1\",Table5ca[[#This Row],[Component Type]]=\"Class AW\"),\"ESRefDesign_FenestrationAW_V11\",\nIF(AND(Table5ca[[#This Row],[Building Component]]=\"Fenestration\",Table5ca[[#This Row],[Dwelling or Common?]]=\"Dwelling\",$C$6=\"Prescriptive\",$C$8=\"Version 1.2 OR+WA\",Table5ca[[#This Row],[Component Type]]=\"Class AW\"),\"ESRefDesign_FenestrationAW_V12\",\n\nIF(AND(Table5ca[[#This Row],[Building Component]]=\"Fenestration\",Table5ca[[#This Row],[Dwelling or Common?]]=\"Dwelling\",$C$6=\"Prescriptive\",$C$8=\"Version 1\",Table5ca[[#This Row],[Component Type]]=\"Not Class AW\"),\"ESRefDesign_Fenestration_V1\",\nIF(AND(Table5ca[[#This Row],[Building Component]]=\"Fenestration\",Table5ca[[#This Row],[Dwelling or Common?]]=\"Dwelling\",$C$6=\"Prescriptive\",$C$8=\"Version 1.1\",Table5ca[[#This Row],[Component Type]]=\"Not Class AW\"),\"ESRefDesign_Fenestration_V11\",\nIF(AND(Table5ca[[#This Row],[Building Component]]=\"Fenestration\",Table5ca[[#This Row],[Dwelling or Common?]]=\"Dwelling\",$C$6=\"Prescriptive\",$C$8=\"Version 1.2 OR+WA\",Table5ca[[#This Row],[Component Type]]=\"Not Class AW\"),\"ESRefDesign_Fenestration_V12\",\n\nIF(AND(Table5ca[[#This Row],[Building Component]]=\"Fenestration\",Table5ca[[#This Row],[Dwelling or Common?]]=\"Dwelling\"),\"IECC2009_Fenestration_NotAW_Windows\",\n\n\"\"))))))))))))))))))))))","v":""},{"$f":"IF(OR(Table5ca[[#This Row],[Lookup Table Pt1]]=\"ESRefDesign_Insulation_V1\",Table5ca[[#This Row],[Lookup Table Pt1]]=\"ESRefDesign_Insulation_V11\",Table5ca[[#This Row],[Lookup Table Pt1]]=\"IECC2009_Fenestration_NotAW_Windows\",Table5ca[[#This Row],[Lookup Table Pt1]]=\"IECC2009_Fenestration_AW_Windows\",Table5ca[[#This Row],[Lookup Table Pt1]]=\"ESRefDesign_FenestrationAW_V1\",Table5ca[[#This Row],[Lookup Table Pt1]]=\"ESRefDesign_FenestrationAW_V11\",Table5ca[[#This Row],[Lookup Table Pt1]]=\"ESRefDesign_Fenestration_V1\",Table5ca[[#This Row],[Lookup Table Pt1]]=\"ESRefDesign_Fenestration_V11\"),Table5ca[[#This Row],[Lookup Table Pt1]],\n\nIF(Table5ca[[#This Row],[Component_Lookup]]=\"FloorAboveGarage\",Table5ca[[#This Row],[Lookup Table Pt1]]&\"_Floor\",\n\nTable5ca[[#This Row],[Lookup Table Pt1]]&\"_\"&Table5ca[[#This Row],[Component_Lookup]]))","v":"_NotApplicable"},{"$f":"IF(AND($C$8=\"Version 1.2 OR+WA\",$C$6=\"Prescriptive\",Table5ca[[#This Row],[Building Component]]=\"Above-Grade Wall\"),1,\nIF(AND($C$8=\"Version 1.2 OR+WA\",$C$6=\"Prescriptive\",Table5ca[[#This Row],[Building Component]]=\"Ceiling\"),2,\nIF(AND($C$8=\"Version 1.2 OR+WA\",$C$6=\"Prescriptive\",Table5ca[[#This Row],[Building Component]]=\"Basement Wall\"),4,\nIF(AND($C$8=\"Version 1.2 OR+WA\",$C$6=\"Prescriptive\",Table5ca[[#This Row],[Building Component]]=\"On-Grade & Below Grade Slab\"),5,\nIF(AND($C$8=\"Version 1.2 OR+WA\",$C$6=\"Prescriptive\",OR(Table5ca[[#This Row],[Building Component]]=\"Floor Assembly\",Table5ca[[#This Row],[Building Component]]=\"Floor Above Garage\",Table5ca[[#This Row],[Building Component]]=\"Floor Above Garage Columns\")),3,\n\nIF(AND($C$8=\"Version 1.2 OR+WA\",OR($C$6=\"Prescriptive\",$C$6=\"ERI\",$C$6=\"Title 24 - Dwelling Units Models\"),Table5ca[[#This Row],[Dwelling or Common?]]=\"Common\",Table5ca[[#This Row],[Building Component]]=\"Above-Grade Wall\"),1,\nIF(AND($C$8=\"Version 1.2 OR+WA\",OR($C$6=\"Prescriptive\",$C$6=\"ERI\",$C$6=\"Title 24 - Dwelling Units Models\"),Table5ca[[#This Row],[Dwelling or Common?]]=\"Common\",Table5ca[[#This Row],[Building Component]]=\"Ceiling\"),2,\nIF(AND($C$8=\"Version 1.2 OR+WA\",OR($C$6=\"Prescriptive\",$C$6=\"ERI\",$C$6=\"Title 24 - Dwelling Units Models\"),Table5ca[[#This Row],[Dwelling or Common?]]=\"Common\",Table5ca[[#This Row],[Building Component]]=\"Basement Wall\"),4,\nIF(AND($C$8=\"Version 1.2 OR+WA\",OR($C$6=\"Prescriptive\",$C$6=\"ERI\",$C$6=\"Title 24 - Dwelling Units Models\"),Table5ca[[#This Row],[Dwelling or Common?]]=\"Common\",Table5ca[[#This Row],[Building Component]]=\"On-Grade & Below Grade Slab\"),5,\nIF(AND($C$8=\"Version 1.2 OR+WA\",OR($C$6=\"Prescriptive\",$C$6=\"ERI\",$C$6=\"Title 24 - Dwelling Units Models\"),Table5ca[[#This Row],[Dwelling or Common?]]=\"Common\",OR(Table5ca[[#This Row],[Building Component]]=\"Floor Assembly\",Table5ca[[#This Row],[Building Component]]=\"Floor Above Garage\",Table5ca[[#This Row],[Building Component]]=\"Floor Above Garage Columns\")),3,\n\nIF(AND($C$6=\"Prescriptive\",OR($C$8=\"Version 1\",$C$8=\"Version 1.1\"),Table5ca[[#This Row],[Building Component]]=\"Basement Wall Continuous Insulation\"),3,\nIF(AND($C$6=\"Prescriptive\",OR($C$8=\"Version 1\",$C$8=\"Version 1.1\"),Table5ca[[#This Row],[Building Component]]=\"Slab Insulation\"),1,\n\nIF(OR(Table5ca[[#This Row],[Component Type]]=\"Insulation entirely above deck\",Table5ca[[#This Row],[Component Type]]=\"Mass\",Table5ca[[#This Row],[Component Type]]=\"Below grade wall\",Table5ca[[#This Row],[Component Type]]=\"Unheated slabs\",Table5ca[[#This Row],[Component Type]]=\"Floor Above Garage\"),1,\nIF(OR(Table5ca[[#This Row],[Component Type]]=\"Metal buildings\",Table5ca[[#This Row],[Component Type]]=\"Metal building\",Table5ca[[#This Row],[Component Type]]=\"Joist/framing\",Table5ca[[#This Row],[Component Type]]=\"Heated slabs\",Table5ca[[#This Row],[Component Type]]=\"Floor Above Garage\"),2,\nIF(OR(Table5ca[[#This Row],[Component Type]]=\"Attic and other\",Table5ca[[#This Row],[Component Type]]=\"Metal framed\"),3,\nIF(OR(Table5ca[[#This Row],[Component Type]]=\"Wood framed and other\",Table5ca[[#This Row],[Building Component]]=\"Floor Assembly\",Table5ca[[#This Row],[Building Component]]=\"Floor Above Garage\",Table5ca[[#This Row],[Building Component]]=\"Floor Above Garage Columns\"),4,\nIF(Table5ca[[#This Row],[Building Component]]=\"Wall Assembly\",5,\nIF(Table5ca[[#This Row],[Building Component]]=\"Ceiling Assembly\",6,\n\nIF(Table5ca[[#This Row],[Lookup Table Pt2]]=\"IECC2009_Fenestration_NotAW_Windows\",1,\nIF(AND(Table5ca[[#This Row],[Lookup Table Pt2]]=\"IECC2009_Fenestration_AW_Windows\",OR(Table5ca[[#This Row],[Additional Component Details]]=\"Non-Metal\",Table5ca[[#This Row],[Component Type]]=\"Non-Metal\")),1,\nIF(AND(Table5ca[[#This Row],[Lookup Table Pt2]]=\"IECC2009_Fenestration_AW_Windows\",OR(Table5ca[[#This Row],[Additional Component Details]]=\"Metal - Curtainwall/storefront\",Table5ca[[#This Row],[Component Type]]=\"Metal - Curtainwall/storefront\")),2,\nIF(AND(Table5ca[[#This Row],[Lookup Table Pt2]]=\"IECC2009_Fenestration_AW_Windows\",OR(Table5ca[[#This Row],[Additional Component Details]]=\"Metal - Entrance door\",Table5ca[[#This Row],[Component Type]]=\"Metal - Entrance door\")),3,\nIF(AND(Table5ca[[#This Row],[Lookup Table Pt2]]=\"IECC2009_Fenestration_AW_Windows\",OR(Table5ca[[#This Row],[Additional Component Details]]=\"Metal - Other\",Table5ca[[#This Row],[Component Type]]=\"Metal - Entrance door\")),4,\nIF(AND(Table5ca[[#This Row],[Lookup Table Pt2]]=\"IECC2009_Fenestration_AW_Windows\",Table5ca[[#This Row],[Component Type]]=\"Metal - Other\"),4,\n\nIF(AND(OR(Table5ca[[#This Row],[Lookup Table Pt1]]=\"ESRefDesign_FenestrationAW_V1\",Table5ca[[#This Row],[Lookup Table Pt1]]=\"ESRefDesign_FenestrationAW_V11\",Table5ca[[#This Row],[Lookup Table Pt1]]=\"ESRefDesign_FenestrationAW_V12\"),OR(Table5ca[[#This Row],[Component Type]]=\"Fixed\",Table5ca[[#This Row],[Additional Component Details]]=\"Fixed\")),1,\nIF(AND(OR(Table5ca[[#This Row],[Lookup Table Pt1]]=\"ESRefDesign_FenestrationAW_V1\",Table5ca[[#This Row],[Lookup Table Pt1]]=\"ESRefDesign_FenestrationAW_V11\",Table5ca[[#This Row],[Lookup Table Pt1]]=\"ESRefDesign_FenestrationAW_V12\"),OR(Table5ca[[#This Row],[Component Type]]=\"Operable\",Table5ca[[#This Row],[Additional Component Details]]=\"Operable\")),2,\n\nIF(AND(OR(Table5ca[[#This Row],[Lookup Table Pt1]]=\"ESRefDesign_Fenestration_V1\",Table5ca[[#This Row],[Lookup Table Pt1]]=\"ESRefDesign_Fenestration_V11\",Table5ca[[#This Row],[Lookup Table Pt1]]=\"ESRefDesign_Fenestration_V12\"),Table5ca[[#This Row],[Additional Component Details]]=\"Window\"),1,\nIF(AND(OR(Table5ca[[#This Row],[Lookup Table Pt1]]=\"ESRefDesign_Fenestration_V1\",Table5ca[[#This Row],[Lookup Table Pt1]]=\"ESRefDesign_Fenestration_V11\",Table5ca[[#This Row],[Lookup Table Pt1]]=\"ESRefDesign_Fenestration_V12\"),Table5ca[[#This Row],[Additional Component Details]]=\"Opaque Door\"),3,\nIF(AND(OR(Table5ca[[#This Row],[Lookup Table Pt1]]=\"ESRefDesign_Fenestration_V1\",Table5ca[[#This Row],[Lookup Table Pt1]]=\"ESRefDesign_Fenestration_V11\",Table5ca[[#This Row],[Lookup Table Pt1]]=\"ESRefDesign_Fenestration_V12\"),Table5ca[[#This Row],[Additional Component Details]]=\"≤½ lite Door\"),4,\nIF(AND(OR(Table5ca[[#This Row],[Lookup Table Pt1]]=\"ESRefDesign_Fenestration_V1\",Table5ca[[#This Row],[Lookup Table Pt1]]=\"ESRefDesign_Fenestration_V11\",Table5ca[[#This Row],[Lookup Table Pt1]]=\"ESRefDesign_Fenestration_V12\"),Table5ca[[#This Row],[Additional Component Details]]=\">½ lite Door\"),5,\n\n\n\"\"))))))))))))))))))))))))))))))","v":""},{"$f":"IF(AND($C$8=\"Version 1.2 OR+WA\",$C$6=\"Prescriptive\",Table5ca[[#This Row],[Building Component]]<>\"Fenestration\"),2,\n\nIF(AND($C$8=\"Version 1.2 OR+WA\",$C$6=\"Prescriptive\",$C$7=\"CZ 4 C\"),2,\nIF(AND($C$8=\"Version 1.2 OR+WA\",$C$6=\"Prescriptive\",$C$7=\"CZ 5\"),3,\nIF(AND($C$8=\"Version 1.2 OR+WA\",$C$6=\"Prescriptive\",$C$7=\"CZ 6\"),4,\n\nIF(AND($C$8=\"Version 1.2 OR+WA\",Table5ca[[#This Row],[Dwelling or Common?]]=\"Common\",OR($C$6=\"ERI\",$C$6=\"Title 24 - Dwelling Unit Models\"),$C$7=\"CZ 4 C\"),2,\nIF(AND($C$8=\"Version 1.2 OR+WA\",Table5ca[[#This Row],[Dwelling or Common?]]=\"Common\",OR($C$6=\"ERI\",$C$6=\"Title 24 - Dwelling Unit Models\"),$C$7=\"CZ 5\"),3,\nIF(AND($C$8=\"Version 1.2 OR+WA\",Table5ca[[#This Row],[Dwelling or Common?]]=\"Common\",OR($C$6=\"ERI\",$C$6=\"Title 24 - Dwelling Unit Models\"),$C$7=\"CZ 6\"),4,\n\nIF($C$7=\"CZ 1\",2,\nIF($C$7=\"CZ 2\",3,\nIF($C$7=\"CZ 3\",4,\nIF($C$7=\"CZ 4\",5,\nIF($C$7=\"CZ 4 C\",6,\nIF($C$7=\"CZ 5\",7,\nIF($C$7=\"CZ 6\",8,\nIF($C$7=\"CZ 7\",9,\nIF($C$7=\"CZ 8\",10,\"\"))))))))))))))))","v":""}]
[null,null,null,null,null,null,null,{"$f":"IF(Table5ca[[#This Row],[Specified/Installed U-Factor]]*Table5ca[[#This Row],[Area]]=0,\"\",Table5ca[[#This Row],[Specified/Installed U-Factor]]*Table5ca[[#This Row],[Area]])","v":""},{"$f":"IFERROR(IF(AND($C$8=\"Version 1.2 OR+WA\",OR($C$7=\"CZ 1\",$C$7=\"CZ 2\",$C$7=\"CZ 3\",$C$7=\"CZ 4\",$C$7=\"CZ 7\",$C$7=\"CZ 8\")),\"N/A - Update CZ\",\n\nIF(Table5ca[[#This Row],[Building Component]]=\"Balcony\",\"0.20\",\n\nIF(OR(Table5ca[[#This Row],[Lookup Table Pt1]]=\"ESRefDesign_Insulation_V1\",Table5ca[[#This Row],[Lookup Table Pt1]]=\"ESRefDesign_Insulation_V11\",Table5ca[[#This Row],[Lookup Table Pt1]]=\"ESRefDesign_Insulation_V12\",Table5ca[[#This Row],[Lookup Table Pt1]]=\"ESRefDesign_FenestrationAW_V1\",Table5ca[[#This Row],[Lookup Table Pt1]]=\"ESRefDesign_FenestrationAW_V11\",Table5ca[[#This Row],[Lookup Table Pt1]]=\"ESRefDesign_Fenestration_V1\",Table5ca[[#This Row],[Lookup Table Pt1]]=\"ESRefDesign_Fenestration_V11\",Table5ca[[#This Row],[Lookup Table Pt1]]=\"ESRefDesign_Fenestration_V12\",Table5ca[[#This Row],[Lookup Table Pt1]]=\"ESRefDesign_FenestrationAW_V12\",Table5ca[[#This Row],[Lookup Table Pt1]]=\"IECC2009_Fenestration_NotAW_Windows\",Table5ca[[#This Row],[Lookup Table Pt1]]=\"IECC2009_Fenestration_AW_Windows\"),INDEX(INDIRECT(Table5ca[[#This Row],[Lookup Table Pt1]]),Table5ca[[#This Row],[Row Index]],Table5ca[[#This Row],[Column Index]]),\n\nINDEX(INDIRECT(Table5ca[[#This Row],[Lookup Table Pt2]]),Table5ca[[#This Row],[Row Index]],Table5ca[[#This Row],[Column Index]])))),\"\")","v":""},{"$f":"IFERROR(\n\nIF(LEFT(Table5ca[[#This Row],[ENERGY STAR Requirement Values]],2)=\"U-\",Table5ca[[#This Row],[ENERGY STAR Requirement Values]],\n\nIF(OR(Table5ca[[#This Row],[Building Component]]=\"Slab Insulation\",Table5ca[[#This Row],[Building Component]]=\"Slab-On-Grade Floor\",Table5ca[[#This Row],[Building Component]]=\"Slab-On-Grade Floors\",Table5ca[[#This Row],[Building Component]]=\"On-Grade & Below Grade Slab\",Table5ca[[#This Row],[Building Component]]=\"Slab-on-Grade Floors\",Table5ca[[#This Row],[Building Component]]=\"Slab-on-Grade Floor\"),\"\",\n\nIF(OR(Table5ca[[#This Row],[ENERGY STAR Requirement Values]]=\"R-0\",Table5ca[[#This Row],[ENERGY STAR Requirement Values]]=0,Table5ca[[#This Row],[ENERGY STAR Requirement Values]]=\"C-1.140\"),\"U-0.36\",\nIF(OR(Table5ca[[#This Row],[ENERGY STAR Requirement Values]]=\"R-7.5\",Table5ca[[#This Row],[ENERGY STAR Requirement Values]]=7.5,Table5ca[[#This Row],[ENERGY STAR Requirement Values]]=\"C-0.119\"),\"U-0.072\",\nIF(OR(Table5ca[[#This Row],[ENERGY STAR Requirement Values]]=\"R-10\",Table5ca[[#This Row],[ENERGY STAR Requirement Values]]=10,Table5ca[[#This Row],[ENERGY STAR Requirement Values]]=\"C-0.092\"),\"U-0.059\",\nIF(OR(Table5ca[[#This Row],[ENERGY STAR Requirement Values]]=\"R-15\",Table5ca[[#This Row],[ENERGY STAR Requirement Values]]=15,Table5ca[[#This Row],[ENERGY STAR Requirement Values]]=\"R-15 continuous or R-21 cavity\"),\"U-0.05\",\nIF(OR(Table5ca[[#This Row],[ENERGY STAR Requirement Values]]=\"R-12.5\",Table5ca[[#This Row],[ENERGY STAR Requirement Values]]=12.5,Table5ca[[#This Row],[ENERGY STAR Requirement Values]]=\"C-0.075\"),\"U-0.054\",\nIF(OR(Table5ca[[#This Row],[ENERGY STAR Requirement Values]]=\"R-21\",Table5ca[[#This Row],[ENERGY STAR Requirement Values]]=21),\"U-0.056\",\nIF(OR(Table5ca[[#This Row],[ENERGY STAR Requirement Values]]=\"R-38\",Table5ca[[#This Row],[ENERGY STAR Requirement Values]]=38),\"U-0.028\",\nIF(OR(Table5ca[[#This Row],[ENERGY STAR Requirement Values]]=\"R-49\",Table5ca[[#This Row],[ENERGY STAR Requirement Values]]=49),\"U-0.026\",\n\nIF(LEFT(Table5ca[[#This Row],[ENERGY STAR Requirement Values]],2)=\"F-\",\"\",\n\nIF(LEFT(Table5ca[[#This Row],[ENERGY STAR Requirement Values]],1)=\"0\",CONCATENATE(\"U-\",Table5ca[[#This Row],[ENERGY STAR Requirement Values]]),\n\nTable5ca[[#This Row],[ENERGY STAR Requirement Values]])))))))))))),\"\")","v":""},{"$f":"IFERROR(IF(Table5ca[[#This Row],[Area]]=\"\",\"\",\nIF(Table5ca[[#This Row],[Required U-factor]]=\"\",\"\",\nIFERROR(Table5ca[[#This Row],[Area]]*Table5ca[[#This Row],[Required U-factor]],RIGHT(Table5ca[[#This Row],[Required U-factor]],LEN(Table5ca[[#This Row],[Required U-factor]])-2)*Table5ca[[#This Row],[Area]]))),\"\")","v":""},{"$f":"IF(Table5ca[[#This Row],[Building Component]]=\"\",\"\",\nIF(OR(Table5ca[[#This Row],[Building Component]]=\"Wall, Above Grade\",Table5ca[[#This Row],[Building Component]]=\"Wall, Below Grade\"),\"If there is continuous insulation interrupted by fasteners, ensure that the U-factor has been de-rated per Footnote 6. See below for further details.\",\nIF(Table5ca[[#This Row],[Building Component]]=\"Wall Assembly\",\"Apply a derate per Footnote 6 below.\",\nIF(Table5ca[[#This Row],[Building Component]]=\"Balcony\",\"Use the table below to de-rate balconies per Footnote 14.\",\nIF(OR(Table5ca[[#This Row],[Building Component]]=\"Floor Above Garage\",Table5ca[[#This Row],[Building Component]]=\"Floor Above Garage Columns\"),\"Use the table below to De-Rate floors above garages per Footnote 15.\",\n\"Not Applicable\")))))","v":""},null,null,null,null,null,{"$f":"IF(AND(Table5ca[[#This Row],[Dwelling or Common?]]=\"Dwelling\",$C$6=\"Prescriptive\",$C$8=\"Version 1.2 OR+WA\"),\"BuildingComponents_ESRefListV12_UABuildingComponents\",\nIF(AND($C$8=\"Version 1.2 OR+WA\",OR($C$6=\"Prescriptive\",$C$6=\"ERI\",$C$6=\"Title 24 - Dwelling Units Models\"),Table5ca[[#This Row],[Dwelling or Common?]]=\"Common\"),\"BuildingComponents_ESRefListV12_UABuildingComponents\",\n\nIF(AND($C$6=\"Prescriptive\",Table5ca[[#This Row],[Dwelling or Common?]]=\"Dwelling\"),\"PrescriptivePath_UABuildingComponents\",\n\n\"ERI_AHSRAE_UABuildingComponents\")))","v":"ERI_AHSRAE_UABuildingComponents"},{"$f":"IF(AND($C$6<>\"Prescriptive\",OR(Table5ca[[#This Row],[Building Component]]=\"Floor Assembly\",Table5ca[[#This Row],[Building Component]]=\"Floor Above Garage\",Table5ca[[#This Row],[Building Component]]=\"Floor Above Garage Columns\")),\"Floor\",\nIF(AND($C$6=\"Prescriptive\",Table5ca[[#This Row],[Dwelling or Common?]]=\"Common\",OR(Table5ca[[#This Row],[Building Component]]=\"Floor Assembly\",Table5ca[[#This Row],[Building Component]]=\"Floor Above Garage\",Table5ca[[#This Row],[Building Component]]=\"Floor Above Garage Columns\")),\"Floor\",\n\nIF(Table5ca[[#This Row],[Building Component]]=\"Roofs\",\"Roof\",\nIF(Table5ca[[#This Row],[Building Component]]=\"Walls, Above Grade\",\"WallAboveGrade\",\nIF(Table5ca[[#This Row],[Building Component]]=\"Walls, Below Grade\",\"WallBelowGrade\",\nIF(AND(Table5ca[[#This Row],[Building Component]]=\"Floor Assembly\",$C$6<>\"Prescriptive\"),\"Floor\",\nIF(Table5ca[[#This Row],[Building Component]]=\"Slab-on-Grade Floors\",\"SlabOnGradeFloor\",\nIF(Table5ca[[#This Row],[Building Component]]=\"Opaque Doors\",\"OpaqueDoor\",\nIF(Table5ca[[#This Row],[Building Component]]=\"Balcony\",\"Balcony\",\nIF(AND(Table5ca[[#This Row],[Building Component]]=\"Floor Above Garage\",$C$6=\"Prescriptive\"),\"FloorAssembly\",\nIF(Table5ca[[#This Row],[Building Component]]=\"Floor Above Garage\",\"FloorAboveGarage\",\nIF(Table5ca[[#This Row],[Building Component]]=\"Wall Assembly\",\"WallAssembly\",\nIF(Table5ca[[#This Row],[Building Component]]=\"Ceiling Assembly\",\"CeilingAssembly\",\nIF(OR(Table5ca[[#This Row],[Building Component]]=\"Floor Assembly\",Table5ca[[#This Row],[Building Component]]=\"Floor Above Garage\",Table5ca[[#This Row],[Building Component]]=\"Floor Above Garage Columns\"),\"FloorAssembly\",\n\nIF(AND(Table5ca[[#This Row],[Building Component]]=\"Fenestration\",Table5ca[[#This Row],[Dwelling or Common?]]=\"Dwelling\"),\"ClassAW?\",\n\nIF(AND(Table5ca[[#This Row],[Building Component]]=\"Fenestration\",Table5ca[[#This Row],[Dwelling or Common?]]=\"Common\",OR($C$6=\"ERI\",$C$6=\"Title 24 - Dwelling Unit Models\",$C$6=\"Prescriptive\")),\"ESRefClassAW\",\nIF(AND(Table5ca[[#This Row],[Building Component]]=\"Fenestration\",Table5ca[[#This Row],[Dwelling or Common?]]=\"Common\",OR($C$6=\"ASHRAE\",$C$6=\"Title 24 - Whole Building Models\")),\"Fenestration\",\n\n\"NotApplicable\")))))))))))))))))","v":"NotApplicable"},{"$f":"IF(AND(OR($C$6=\"ERI\",$C$6=\"Title 24 - Dwelling Unit Models\"),Table5ca[[#This Row],[Dwelling or Common?]]=\"Dwelling\",Table5ca[[#This Row],[Component Type]]=\"Class AW\"),\"Fenestration\",\nIF(AND(OR($C$6=\"ERI\",$C$6=\"Title 24 - Dwelling Unit Models\"),Table5ca[[#This Row],[Dwelling or Common?]]=\"Dwelling\",Table5ca[[#This Row],[Component Type]]=\"Not Class AW\"),\"NotApplicable\",\n\nIF(AND(OR($C$6=\"ASHRAE\",$C$6=\"Title 24 - Whole Building Models\"),Table5ca[[#This Row],[Dwelling or Common?]]=\"Dwelling\",Table5ca[[#This Row],[Component Type]]=\"Class AW\"),\"Fenestration\",\nIF(AND(OR($C$6=\"ASHRAE\",$C$6=\"Title 24 - Whole Building Models\"),Table5ca[[#This Row],[Dwelling or Common?]]=\"Dwelling\",Table5ca[[#This Row],[Component Type]]=\"Not Class AW\"),\"NotApplicable\",\n\nIF(AND($C$6=\"Prescriptive\",Table5ca[[#This Row],[Dwelling or Common?]]=\"Dwelling\",Table5ca[[#This Row],[Component Type]]=\"Class AW\"),\"ESRefClassAW\",\nIF(AND($C$6=\"Prescriptive\",Table5ca[[#This Row],[Dwelling or Common?]]=\"Dwelling\",Table5ca[[#This Row],[Component Type]]=\"Not Class AW\"),\"ESRefNotClassAW\",\n\nIF(Table5ca[[#This Row],[Component Type]]=\"Class AW\",\"Fenestration\",\n\n\"NotApplicable\")))))))","v":"NotApplicable"},{"$f":"IF(AND(Table5ca[[#This Row],[Dwelling or Common?]]=\"Dwelling\",$C$8=\"Version 1\",$C$6=\"Prescriptive\",Table5ca[[#This Row],[Building Component]]<>\"Fenestration\"),\"ESRefDesign_Insulation_V1\",\nIF(AND(Table5ca[[#This Row],[Dwelling or Common?]]=\"Dwelling\",$C$8=\"Version 1.1\",$C$6=\"Prescriptive\",Table5ca[[#This Row],[Building Component]]<>\"Fenestration\"),\"ESRefDesign_Insulation_V11\",\nIF(AND($C$8=\"Version 1.2 OR+WA\",$C$6=\"Prescriptive\",Table5ca[[#This Row],[Building Component]]<>\"Fenestration\"),\"ESRefDesign_Insulation_V12\",\n\nIF(AND(Table5ca[[#This Row],[Dwelling or Common?]]=\"Common\",$C$8=\"Version 1.2 OR+WA\",OR($C$6=\"ERI\",$C$6=\"Title 24 - Dwelling Unit Models\"),Table5ca[[#This Row],[Building Component]]<>\"Fenestration\"),\"ESRefDesign_Insulation_V12\",\nIF(AND(Table5ca[[#This Row],[Dwelling or Common?]]=\"Common\",$C$8=\"Version 1.2 OR+WA\",OR($C$6=\"ASHRAE\",$C$6=\"Title 24 - Whole Building Models\"),Table5ca[[#This Row],[Building Component]]<>\"Fenestration\"),\"IECC2009_OU\",\nIF(AND(Table5ca[[#This Row],[Dwelling or Common?]]=\"Dwelling\",$C$8=\"Version 1.2 OR+WA\",OR($C$6=\"ERI\",$C$6=\"Title 24 - Dwelling Unit Models\",$C$6=\"ASHRAE\",$C$6=\"Title 24 - Whole Building Models\"),Table5ca[[#This Row],[Building Component]]<>\"Fenestration\"),\"IECC2009_RU\",\n\nIF(AND(Table5ca[[#This Row],[Dwelling or Common?]]=\"Common\",$C$8=\"Version 1\",Table5ca[[#This Row],[Building Component]]<>\"Fenestration\"),\"IECC2009_OU\",\nIF(AND(Table5ca[[#This Row],[Dwelling or Common?]]=\"Common\",$C$8=\"Version 1.1\",OR($C$6=\"ASHRAE\",$C$6=\"Title 24 - Whole Building Models\"),Table5ca[[#This Row],[Building Component]]<>\"Fenestration\"),\"IECC2009_OU\",\nIF(AND(Table5ca[[#This Row],[Dwelling or Common?]]=\"Common\",$C$8=\"Version 1.1\",OR($C$6=\"Prescriptive\",$C$6=\"ERI\",$C$6=\"Title 24 - Dwelling Unit Models\"),Table5ca[[#This Row],[Building Component]]<>\"Fenestration\"),\"IECC2012_OU\",\n\nIF(AND(Table5ca[[#This Row],[Dwelling or Common?]]=\"Dwelling\",OR($C$8=\"Version 1\",$C$8=\"Version 1.1\",),OR($C$6=\"ERI\",$C$6=\"ASHRAE\",$C$6=\"Title 24 - Whole Building Models\",$C$6=\"Title 24 - Dwelling Unit Models\"),Table5ca[[#This Row],[Building Component]]<>\"Fenestration\"),\"IECC2009_RU\",\n\n\nIF(AND(Table5ca[[#This Row],[Building Component]]=\"Fenestration\",Table5ca[[#This Row],[Dwelling or Common?]]=\"Common\",OR($C$6=\"Prescriptive\",$C$6=\"ERI\",$C$6=\"Title 24 - Dwelling Unit Models\"),$C$8=\"Version 1\"),\"ESRefDesign_FenestrationAW_V1\",\nIF(AND(Table5ca[[#This Row],[Building Component]]=\"Fenestration\",Table5ca[[#This Row],[Dwelling or Common?]]=\"Common\",OR($C$6=\"Prescriptive\",$C$6=\"ERI\",$C$6=\"Title 24 - Dwelling Unit Models\"),$C$8=\"Version 1.1\"),\"ESRefDesign_FenestrationAW_V11\",\nIF(AND(Table5ca[[#This Row],[Building Component]]=\"Fenestration\",Table5ca[[#This Row],[Dwelling or Common?]]=\"Common\",OR($C$6=\"Prescriptive\",$C$6=\"ERI\",$C$6=\"Title 24 - Dwelling Unit Models\"),$C$8=\"Version 1.2 OR+WA\"),\"ESRefDesign_FenestrationAW_V12\",\n\nIF(AND(Table5ca[[#This Row],[Building Component]]=\"Fenestration\",Table5ca[[#This Row],[Dwelling or Common?]]=\"Common\",OR($C$6=\"ASHRAE\",$C$6=\"Title 24 - Whole Building Models\")),\"IECC2009_Fenestration_AW_Windows\",\nIF(AND(Table5ca[[#This Row],[Building Component]]=\"Fenestration\",Table5ca[[#This Row],[Dwelling or Common?]]=\"Dwelling\",Table5ca[[#This Row],[Component Type]]=\"Class AW\",OR($C$6=\"ASHRAE\",$C$6=\"Title 24 - Whole Building Models\",$C$6=\"ERI\",$C$6=\"Title 24 - Dwelling Unit Models\")),\"IECC2009_Fenestration_AW_Windows\",\n\nIF(AND(Table5ca[[#This Row],[Building Component]]=\"Fenestration\",Table5ca[[#This Row],[Dwelling or Common?]]=\"Dwelling\",$C$6=\"Prescriptive\",$C$8=\"Version 1\",Table5ca[[#This Row],[Component Type]]=\"Class AW\"),\"ESRefDesign_FenestrationAW_V1\",\nIF(AND(Table5ca[[#This Row],[Building Component]]=\"Fenestration\",Table5ca[[#This Row],[Dwelling or Common?]]=\"Dwelling\",$C$6=\"Prescriptive\",$C$8=\"Version 1.1\",Table5ca[[#This Row],[Component Type]]=\"Class AW\"),\"ESRefDesign_FenestrationAW_V11\",\nIF(AND(Table5ca[[#This Row],[Building Component]]=\"Fenestration\",Table5ca[[#This Row],[Dwelling or Common?]]=\"Dwelling\",$C$6=\"Prescriptive\",$C$8=\"Version 1.2 OR+WA\",Table5ca[[#This Row],[Component Type]]=\"Class AW\"),\"ESRefDesign_FenestrationAW_V12\",\n\nIF(AND(Table5ca[[#This Row],[Building Component]]=\"Fenestration\",Table5ca[[#This Row],[Dwelling or Common?]]=\"Dwelling\",$C$6=\"Prescriptive\",$C$8=\"Version 1\",Table5ca[[#This Row],[Component Type]]=\"Not Class AW\"),\"ESRefDesign_Fenestration_V1\",\nIF(AND(Table5ca[[#This Row],[Building Component]]=\"Fenestration\",Table5ca[[#This Row],[Dwelling or Common?]]=\"Dwelling\",$C$6=\"Prescriptive\",$C$8=\"Version 1.1\",Table5ca[[#This Row],[Component Type]]=\"Not Class AW\"),\"ESRefDesign_Fenestration_V11\",\nIF(AND(Table5ca[[#This Row],[Building Component]]=\"Fenestration\",Table5ca[[#This Row],[Dwelling or Common?]]=\"Dwelling\",$C$6=\"Prescriptive\",$C$8=\"Version 1.2 OR+WA\",Table5ca[[#This Row],[Component Type]]=\"Not Class AW\"),\"ESRefDesign_Fenestration_V12\",\n\nIF(AND(Table5ca[[#This Row],[Building Component]]=\"Fenestration\",Table5ca[[#This Row],[Dwelling or Common?]]=\"Dwelling\"),\"IECC2009_Fenestration_NotAW_Windows\",\n\n\"\"))))))))))))))))))))))","v":""},{"$f":"IF(OR(Table5ca[[#This Row],[Lookup Table Pt1]]=\"ESRefDesign_Insulation_V1\",Table5ca[[#This Row],[Lookup Table Pt1]]=\"ESRefDesign_Insulation_V11\",Table5ca[[#This Row],[Lookup Table Pt1]]=\"IECC2009_Fenestration_NotAW_Windows\",Table5ca[[#This Row],[Lookup Table Pt1]]=\"IECC2009_Fenestration_AW_Windows\",Table5ca[[#This Row],[Lookup Table Pt1]]=\"ESRefDesign_FenestrationAW_V1\",Table5ca[[#This Row],[Lookup Table Pt1]]=\"ESRefDesign_FenestrationAW_V11\",Table5ca[[#This Row],[Lookup Table Pt1]]=\"ESRefDesign_Fenestration_V1\",Table5ca[[#This Row],[Lookup Table Pt1]]=\"ESRefDesign_Fenestration_V11\"),Table5ca[[#This Row],[Lookup Table Pt1]],\n\nIF(Table5ca[[#This Row],[Component_Lookup]]=\"FloorAboveGarage\",Table5ca[[#This Row],[Lookup Table Pt1]]&\"_Floor\",\n\nTable5ca[[#This Row],[Lookup Table Pt1]]&\"_\"&Table5ca[[#This Row],[Component_Lookup]]))","v":"_NotApplicable"},{"$f":"IF(AND($C$8=\"Version 1.2 OR+WA\",$C$6=\"Prescriptive\",Table5ca[[#This Row],[Building Component]]=\"Above-Grade Wall\"),1,\nIF(AND($C$8=\"Version 1.2 OR+WA\",$C$6=\"Prescriptive\",Table5ca[[#This Row],[Building Component]]=\"Ceiling\"),2,\nIF(AND($C$8=\"Version 1.2 OR+WA\",$C$6=\"Prescriptive\",Table5ca[[#This Row],[Building Component]]=\"Basement Wall\"),4,\nIF(AND($C$8=\"Version 1.2 OR+WA\",$C$6=\"Prescriptive\",Table5ca[[#This Row],[Building Component]]=\"On-Grade & Below Grade Slab\"),5,\nIF(AND($C$8=\"Version 1.2 OR+WA\",$C$6=\"Prescriptive\",OR(Table5ca[[#This Row],[Building Component]]=\"Floor Assembly\",Table5ca[[#This Row],[Building Component]]=\"Floor Above Garage\",Table5ca[[#This Row],[Building Component]]=\"Floor Above Garage Columns\")),3,\n\nIF(AND($C$8=\"Version 1.2 OR+WA\",OR($C$6=\"Prescriptive\",$C$6=\"ERI\",$C$6=\"Title 24 - Dwelling Units Models\"),Table5ca[[#This Row],[Dwelling or Common?]]=\"Common\",Table5ca[[#This Row],[Building Component]]=\"Above-Grade Wall\"),1,\nIF(AND($C$8=\"Version 1.2 OR+WA\",OR($C$6=\"Prescriptive\",$C$6=\"ERI\",$C$6=\"Title 24 - Dwelling Units Models\"),Table5ca[[#This Row],[Dwelling or Common?]]=\"Common\",Table5ca[[#This Row],[Building Component]]=\"Ceiling\"),2,\nIF(AND($C$8=\"Version 1.2 OR+WA\",OR($C$6=\"Prescriptive\",$C$6=\"ERI\",$C$6=\"Title 24 - Dwelling Units Models\"),Table5ca[[#This Row],[Dwelling or Common?]]=\"Common\",Table5ca[[#This Row],[Building Component]]=\"Basement Wall\"),4,\nIF(AND($C$8=\"Version 1.2 OR+WA\",OR($C$6=\"Prescriptive\",$C$6=\"ERI\",$C$6=\"Title 24 - Dwelling Units Models\"),Table5ca[[#This Row],[Dwelling or Common?]]=\"Common\",Table5ca[[#This Row],[Building Component]]=\"On-Grade & Below Grade Slab\"),5,\nIF(AND($C$8=\"Version 1.2 OR+WA\",OR($C$6=\"Prescriptive\",$C$6=\"ERI\",$C$6=\"Title 24 - Dwelling Units Models\"),Table5ca[[#This Row],[Dwelling or Common?]]=\"Common\",OR(Table5ca[[#This Row],[Building Component]]=\"Floor Assembly\",Table5ca[[#This Row],[Building Component]]=\"Floor Above Garage\",Table5ca[[#This Row],[Building Component]]=\"Floor Above Garage Columns\")),3,\n\nIF(AND($C$6=\"Prescriptive\",OR($C$8=\"Version 1\",$C$8=\"Version 1.1\"),Table5ca[[#This Row],[Building Component]]=\"Basement Wall Continuous Insulation\"),3,\nIF(AND($C$6=\"Prescriptive\",OR($C$8=\"Version 1\",$C$8=\"Version 1.1\"),Table5ca[[#This Row],[Building Component]]=\"Slab Insulation\"),1,\n\nIF(OR(Table5ca[[#This Row],[Component Type]]=\"Insulation entirely above deck\",Table5ca[[#This Row],[Component Type]]=\"Mass\",Table5ca[[#This Row],[Component Type]]=\"Below grade wall\",Table5ca[[#This Row],[Component Type]]=\"Unheated slabs\",Table5ca[[#This Row],[Component Type]]=\"Floor Above Garage\"),1,\nIF(OR(Table5ca[[#This Row],[Component Type]]=\"Metal buildings\",Table5ca[[#This Row],[Component Type]]=\"Metal building\",Table5ca[[#This Row],[Component Type]]=\"Joist/framing\",Table5ca[[#This Row],[Component Type]]=\"Heated slabs\",Table5ca[[#This Row],[Component Type]]=\"Floor Above Garage\"),2,\nIF(OR(Table5ca[[#This Row],[Component Type]]=\"Attic and other\",Table5ca[[#This Row],[Component Type]]=\"Metal framed\"),3,\nIF(OR(Table5ca[[#This Row],[Component Type]]=\"Wood framed and other\",Table5ca[[#This Row],[Building Component]]=\"Floor Assembly\",Table5ca[[#This Row],[Building Component]]=\"Floor Above Garage\",Table5ca[[#This Row],[Building Component]]=\"Floor Above Garage Columns\"),4,\nIF(Table5ca[[#This Row],[Building Component]]=\"Wall Assembly\",5,\nIF(Table5ca[[#This Row],[Building Component]]=\"Ceiling Assembly\",6,\n\nIF(Table5ca[[#This Row],[Lookup Table Pt2]]=\"IECC2009_Fenestration_NotAW_Windows\",1,\nIF(AND(Table5ca[[#This Row],[Lookup Table Pt2]]=\"IECC2009_Fenestration_AW_Windows\",OR(Table5ca[[#This Row],[Additional Component Details]]=\"Non-Metal\",Table5ca[[#This Row],[Component Type]]=\"Non-Metal\")),1,\nIF(AND(Table5ca[[#This Row],[Lookup Table Pt2]]=\"IECC2009_Fenestration_AW_Windows\",OR(Table5ca[[#This Row],[Additional Component Details]]=\"Metal - Curtainwall/storefront\",Table5ca[[#This Row],[Component Type]]=\"Metal - Curtainwall/storefront\")),2,\nIF(AND(Table5ca[[#This Row],[Lookup Table Pt2]]=\"IECC2009_Fenestration_AW_Windows\",OR(Table5ca[[#This Row],[Additional Component Details]]=\"Metal - Entrance door\",Table5ca[[#This Row],[Component Type]]=\"Metal - Entrance door\")),3,\nIF(AND(Table5ca[[#This Row],[Lookup Table Pt2]]=\"IECC2009_Fenestration_AW_Windows\",OR(Table5ca[[#This Row],[Additional Component Details]]=\"Metal - Other\",Table5ca[[#This Row],[Component Type]]=\"Metal - Entrance door\")),4,\nIF(AND(Table5ca[[#This Row],[Lookup Table Pt2]]=\"IECC2009_Fenestration_AW_Windows\",Table5ca[[#This Row],[Component Type]]=\"Metal - Other\"),4,\n\nIF(AND(OR(Table5ca[[#This Row],[Lookup Table Pt1]]=\"ESRefDesign_FenestrationAW_V1\",Table5ca[[#This Row],[Lookup Table Pt1]]=\"ESRefDesign_FenestrationAW_V11\",Table5ca[[#This Row],[Lookup Table Pt1]]=\"ESRefDesign_FenestrationAW_V12\"),OR(Table5ca[[#This Row],[Component Type]]=\"Fixed\",Table5ca[[#This Row],[Additional Component Details]]=\"Fixed\")),1,\nIF(AND(OR(Table5ca[[#This Row],[Lookup Table Pt1]]=\"ESRefDesign_FenestrationAW_V1\",Table5ca[[#This Row],[Lookup Table Pt1]]=\"ESRefDesign_FenestrationAW_V11\",Table5ca[[#This Row],[Lookup Table Pt1]]=\"ESRefDesign_FenestrationAW_V12\"),OR(Table5ca[[#This Row],[Component Type]]=\"Operable\",Table5ca[[#This Row],[Additional Component Details]]=\"Operable\")),2,\n\nIF(AND(OR(Table5ca[[#This Row],[Lookup Table Pt1]]=\"ESRefDesign_Fenestration_V1\",Table5ca[[#This Row],[Lookup Table Pt1]]=\"ESRefDesign_Fenestration_V11\",Table5ca[[#This Row],[Lookup Table Pt1]]=\"ESRefDesign_Fenestration_V12\"),Table5ca[[#This Row],[Additional Component Details]]=\"Window\"),1,\nIF(AND(OR(Table5ca[[#This Row],[Lookup Table Pt1]]=\"ESRefDesign_Fenestration_V1\",Table5ca[[#This Row],[Lookup Table Pt1]]=\"ESRefDesign_Fenestration_V11\",Table5ca[[#This Row],[Lookup Table Pt1]]=\"ESRefDesign_Fenestration_V12\"),Table5ca[[#This Row],[Additional Component Details]]=\"Opaque Door\"),3,\nIF(AND(OR(Table5ca[[#This Row],[Lookup Table Pt1]]=\"ESRefDesign_Fenestration_V1\",Table5ca[[#This Row],[Lookup Table Pt1]]=\"ESRefDesign_Fenestration_V11\",Table5ca[[#This Row],[Lookup Table Pt1]]=\"ESRefDesign_Fenestration_V12\"),Table5ca[[#This Row],[Additional Component Details]]=\"≤½ lite Door\"),4,\nIF(AND(OR(Table5ca[[#This Row],[Lookup Table Pt1]]=\"ESRefDesign_Fenestration_V1\",Table5ca[[#This Row],[Lookup Table Pt1]]=\"ESRefDesign_Fenestration_V11\",Table5ca[[#This Row],[Lookup Table Pt1]]=\"ESRefDesign_Fenestration_V12\"),Table5ca[[#This Row],[Additional Component Details]]=\">½ lite Door\"),5,\n\n\n\"\"))))))))))))))))))))))))))))))","v":""},{"$f":"IF(AND($C$8=\"Version 1.2 OR+WA\",$C$6=\"Prescriptive\",Table5ca[[#This Row],[Building Component]]<>\"Fenestration\"),2,\n\nIF(AND($C$8=\"Version 1.2 OR+WA\",$C$6=\"Prescriptive\",$C$7=\"CZ 4 C\"),2,\nIF(AND($C$8=\"Version 1.2 OR+WA\",$C$6=\"Prescriptive\",$C$7=\"CZ 5\"),3,\nIF(AND($C$8=\"Version 1.2 OR+WA\",$C$6=\"Prescriptive\",$C$7=\"CZ 6\"),4,\n\nIF(AND($C$8=\"Version 1.2 OR+WA\",Table5ca[[#This Row],[Dwelling or Common?]]=\"Common\",OR($C$6=\"ERI\",$C$6=\"Title 24 - Dwelling Unit Models\"),$C$7=\"CZ 4 C\"),2,\nIF(AND($C$8=\"Version 1.2 OR+WA\",Table5ca[[#This Row],[Dwelling or Common?]]=\"Common\",OR($C$6=\"ERI\",$C$6=\"Title 24 - Dwelling Unit Models\"),$C$7=\"CZ 5\"),3,\nIF(AND($C$8=\"Version 1.2 OR+WA\",Table5ca[[#This Row],[Dwelling or Common?]]=\"Common\",OR($C$6=\"ERI\",$C$6=\"Title 24 - Dwelling Unit Models\"),$C$7=\"CZ 6\"),4,\n\nIF($C$7=\"CZ 1\",2,\nIF($C$7=\"CZ 2\",3,\nIF($C$7=\"CZ 3\",4,\nIF($C$7=\"CZ 4\",5,\nIF($C$7=\"CZ 4 C\",6,\nIF($C$7=\"CZ 5\",7,\nIF($C$7=\"CZ 6\",8,\nIF($C$7=\"CZ 7\",9,\nIF($C$7=\"CZ 8\",10,\"\"))))))))))))))))","v":""}]
[null,"Total",null,null,null,null,null,{"$f":"SUM(Table5ca[Total UA])","v":0},null,null,{"$f":"SUM(Table5ca[Required UA])","v":0}]
[]
[]
[null,"Assembly De-rate & Total UA Compliance Verification"]
[]
[null,"Concrete Balconies?",null,null,null,null,null,null,null,null,null,null,null,null,null,null,null,null,null,null,null,null,null,null,null,"NOTES"]
[]
[null,null,null,"Does building include projected balconies?",null,"Rater Field, Footnote 14: For projected balconies, install a minimum of R-5 slab edge insulation to provide a thermal break between conditioned space and the unconditioned projected balcony slab. Alternatively, a UA calculation for the wall assembly that accounts for this uninsulated projected slab must be performed to demonstrate compliance with Item 1.2. For the purpose of this UA calculation, the area of the wall that is uninsulated due to the projected balcony is required to be calculated as 400% of that actual area. For example, for a projected balcony that is 20 feet wide, and has a thickness of 1 foot, the area to be used in the UA calculation is 80 ft2 instead of 20 ft2. The distance the balcony projects from the building is not used in this calculation"]
[null,null,null,"If yes, are they insulated to R-5?"]
[null,null,null,"If no, report total uninsulated area of 'wall' due to uninsulated balcony edge here."]
[null,null,{"$f":"$C$28*4","v":0},"Enter this modified area in Table above for “Balcony” to calculate building envelope Total UA. If used in multiple rows, distribute the area proportionally."]
[]
[null,"Continuous Insulation?",null,null,null,null,null,null,null,null,null,null,null,null,null,null,null,null,null,null,null,null,null,null,null,"NOTES"]
[]
[null,null,null,"Does building include continuous insulation?",null,"Rater Design, Footnote 6: Where the wall assembly includes continuous insulation that is interrupted by fasteners or service openings, an assembly U-factor must be calculated. For the interrupted portions, the continuous insulation cannot contribute to the assembly U-factor and an overall U-factor shall be calculated based on an area weighted ratio. Thermally broken shelf-angles are exempt from de-rating"]
[null,null,null,"If yes, is it interrupted by fasteners or service openings (ie. PTACs)?"]
[]
[]
[null,"Floor above Garage?",null,null,null,null,null,null,null,null,null,null,null,null,null,null,null,null,null,null,null,null,null,null,null,"NOTES"]
[]
[null,null,null,"Does building include floor above garage, where garage ceiling is insulated?",null,"Rater Field, Footnote 15: Whether insulating from above or below the slab, thermal breaks must be accounted for when determining compliance with floor U-factors. Where structural columns cause a discontinuity in the installed floor insulation, the UA calculation for the floor assembly must account for this uninsulated area of the floor. For the purpose of this UA calculation, the area of the floor that is uninsulated due to the structural columns is required to be calculated as 400% of that actual area. For example, for a 4’x4’ column, the area to be used in the UA calculation is 64 ft2 instead of 16 ft2. The height of the column is not used in this calculation. Alternatively, if the structural column is insulated for a minimum of 4 vertical feet, the modification to the UA calculation is not required, and the U-factor of the column insulation shall be associated with the uninsulated area of the floor due to the column"]
[null,null,null,"If yes, is it interrupted by support columns?"]
[null,null,null,"If yes, are support columns insulated at least 4ft vertically per Rater Field footnote 15?"]
[null,null,null,"If no, report total uninsulated area of 'floor' due to columns here."]
[null,null,{"$f":"$C$42*4","v":0},"Enter this modified area in Table above for “Floors above Garage Columns” to calculate building envelope Total UA. If used in multiple rows, distribute the area proportionally."]

{"sheet":"6. Fenestration","index":13,"n_rows":57,"n_cols":24,"rows_kept":57,"cut":false,"hidden":false,"merged":[[9,23,10,25],[21,23,22,25],[33,23,34,25],[1,2,1,20],[5,1,5,2],[6,4,6,8],[7,4,7,6],[8,4,8,6],[6,10,6,14],[7,10,8,14],[44,1,44,19],[45,13,45,15],[20,4,20,5],[32,4,32,5],[42,4,42,5],[45,7,45,9],[45,2,45,6],[56,1,56,19],[46,13,46,15],[47,13,47,15],[48,13,48,15],[49,1,49,15],[50,1,50,15],[46,7,46,9],[47,7,47,9],[48,7,48,9],[46,2,46,6],[47,2,47,6],[48,2,48,6],[53,1,53,19],[54,1,54,19],[55,1,55,19]]}
[]
[null,"Instructions: ","Using Tables: Providing data in yellow and orange cells on this tab prior to the Proposed Design submittal is optional, but recommended. \n\nPrior to As-Built submittal, complete all orange and yellow cells based on installed fenestration. If Prescriptive Path or utilizing weighted average for U-factor compliance, complete Qty & Area for each window.\n\nPrinting: Optimized for Landscape view."]
[]
[]
[null,"Fenestration Verification"]
[null,"Select ENERGY STAR:"]
[null,"Pathway",{"$f":"IF('Project Information'!$C$8=\"\",\"Complete Project Information Tab\",'Project Information'!$C$8)","v":"Complete Project Information Tab"},null,"Prescriptive Path only",null,null,null,null,null,"Total UA Meets ENERGY STAR Requirements?"]
[null,"Climate Zone",{"$f":"IF('Project Information'!$F$9=\"\",\"Complete Project Information Tab\",'Project Information'!$F$9)","v":"Complete Project Information Tab"},null,"Wall Area",null,null,"Window Area","Window-to-Wall Ratio",null,{"$f":"IF((SUM(Table6a[Total UA])+SUM(Table6b[Total UA])+SUM(Table6c[Total UA]))<(SUM(Table6a[ENERGY STAR Requirement UA])+SUM(Table6b[ENERGY STAR Requirement UA])+SUM(Table6c[ENERGY STAR Requirement UA])),\"PASS\",\n\nIF((SUM(Table6a[Total UA])+SUM(Table6b[Total UA])+SUM(Table6c[Total UA]))>(SUM(Table6a[ENERGY STAR Requirement UA])+SUM(Table6b[ENERGY STAR Requirement UA])+SUM(Table6c[ENERGY STAR Requirement UA])),\"FAIL\",\n\n\"COMPLETE TABLES BELOW\"))","v":"COMPLETE TABLES BELOW"}]
[null,"Version",{"$f":"IF('Project Information'!$F$8=\"\",\"Complete Project Information Tab\",'Project Information'!$F$8)","v":"Complete Project Information Tab"},null,null,null,null,{"$f":"IF(SUM(Table6a[Total Area],Table6b[Total Area],Table6c[Total Area])=0,\"\",SUM(Table6a[Total Area],Table6b[Total Area],Table6c[Total Area]))","v":""},{"$f":"IF($E$9=\"\",\"\",$H$9/$E$9)","v":""}]
[null,null,null,null,null,null,null,null,null,null,null,null,null,null,null,null,null,null,null,null,null,null,null,"NOTES"]
[null,"Windows - Dwelling Units",null,null,null,null,null,null,null,null,null,"hide","hide","hide"]
[null,"ID","WINDOW TYPE","Fixed or Operable?\n(Prescriptive & Class AW Only)","Qty","Area","Total Area","Window Frame\n(ERI/ASHRAE & Class AW only)","ENERGY STAR Requirement\nU-FACTOR","ENERGY STAR Requirement UA","ENERGY STAR Requirement\nSHGC","WindowFrame_UIndex","WindowFrame_SHGCIndex","CZ_Index","PROJECTION FACTOR (PF)\n(ERI/ASHRAE & Class AW only)","ASSEMBLY\nU-FACTOR","Total UA","SHGC ","LOCATION\n(dwg/spec)","PLAN REVIEW","INSPECTION?","INSPECTION COMMENTS"]
[null,null,null,null,null,null,{"$f":"IF(Table6a[[#This Row],[Qty]]=\"\",\"\",Table6a[[#This Row],[Qty]]*Table6a[[#This Row],[Area]])","v":""},null,{"$f":"IFERROR(IF(AND($C$9=\"Version 1.2 OR+WA\",OR($C$8=\"CZ 1\",$C$8=\"CZ 2\",$C$8=\"CZ 3\",$C$8=\"CZ 4\",$C$8=\"CZ 7\",$C$8=\"CZ 8\")),\"N/A - Update CZ\",\n\nIF(AND(OR($C$7=\"ERI\",$C$7=\"ASHRAE\",$C$7=\"Title 24 - Dwelling Unit Models\",$C$7=\"Title 24 - Whole Building Models\"),Table6a[[#This Row],[WINDOW TYPE]]=\"Class AW\"),INDEX(IECC2009_Fenestration_AW_Windows[#All],Table6a[[#This Row],[WindowFrame_UIndex]],Table6a[[#This Row],[CZ_Index]]),\nIF(AND(OR($C$7=\"ERI\",$C$7=\"ASHRAE\",$C$7=\"Title 24 - Dwelling Unit Models\",$C$7=\"Title 24 - Whole Building Models\"),Table6a[[#This Row],[WINDOW TYPE]]=\"Not Class AW\"),INDEX(IECC2009_Fenestration_NotAW_Windows[#All],Table6a[[#This Row],[WindowFrame_UIndex]],Table6a[[#This Row],[CZ_Index]]),\n\nIF(AND($C$7=\"Prescriptive\",Table6a[[#This Row],[WINDOW TYPE]]=\"Class AW\",$C$9=\"Version 1\"),INDEX(ESRefDesign_FenestrationAW_V1[#All],Table6a[[#This Row],[WindowFrame_UIndex]],Table6a[[#This Row],[CZ_Index]]),\nIF(AND($C$7=\"Prescriptive\",Table6a[[#This Row],[WINDOW TYPE]]=\"Not Class AW\",$C$9=\"Version 1\"),INDEX(ESRefDesign_Fenestration_V1[#All],Table6a[[#This Row],[WindowFrame_UIndex]],Table6a[[#This Row],[CZ_Index]]),\n\nIF(AND($C$7=\"Prescriptive\",Table6a[[#This Row],[WINDOW TYPE]]=\"Class AW\",$C$9=\"Version 1.1\"),INDEX(ESRefDesign_FenestrationAW_V11[#All],Table6a[[#This Row],[WindowFrame_UIndex]],Table6a[[#This Row],[CZ_Index]]),\nIF(AND($C$7=\"Prescriptive\",Table6a[[#This Row],[WINDOW TYPE]]=\"Not Class AW\",$C$9=\"Version 1.1\"),INDEX(ESRefDesign_Fenestration_V11[#All],Table6a[[#This Row],[WindowFrame_UIndex]],Table6a[[#This Row],[CZ_Index]]),\n\nIF(AND($C$7=\"Prescriptive\",Table6a[[#This Row],[WINDOW TYPE]]=\"Class AW\",$C$9=\"Version 1.2 OR+WA\"),INDEX(ESRefDesign_FenestrationAW_V12[#All],Table6a[[#This Row],[WindowFrame_UIndex]],Table6a[[#This Row],[CZ_Index]]),\nIF(AND($C$7=\"Prescriptive\",Table6a[[#This Row],[WINDOW TYPE]]=\"Not Class AW\",$C$9=\"Version 1.2 OR+WA\"),INDEX(ESRefDesign_Fenestration_V12[#All],Table6a[[#This Row],[WindowFrame_UIndex]],Table6a[[#This Row],[CZ_Index]]),\n\n\"\"))))))))),\"\")","v":""},{"$f":"IF(Table6a[[#This Row],[Total Area]]=\"\",\"\",Table6a[[#This Row],[Total Area]]*Table6a[[#This Row],[ENERGY STAR Requirement\nU-FACTOR]])","v":""},{"$f":"IFERROR(IF(AND(Table6a[[#This Row],[PROJECTION FACTOR (PF)\n(ERI/ASHRAE & Class AW only)]]=\"\",OR($C$7=\"ERI\",$C$7=\"ASHRAE\",$C$7=\"Title 24 - Dwelling Unit Models\",$C$7=\"Title 24 - Whole Building Models\"),Table6a[[#This Row],[WINDOW TYPE]]=\"Class AW\"),\"Enter PF\",\n\nIF(AND($C$9=\"Version 1.2 OR+WA\",OR($C$8=\"CZ 1\",$C$8=\"CZ 2\",$C$8=\"CZ 3\",$C$8=\"CZ 4\",$C$8=\"CZ 7\",$C$8=\"CZ 8\")),\"N/A - Update CZ\",\n\nIF(AND(OR($C$7=\"ERI\",$C$7=\"ASHRAE\",$C$7=\"Title 24 - Dwelling Unit Models\",$C$7=\"Title 24 - Whole Building Models\"),Table6a[[#This Row],[WINDOW TYPE]]=\"Class AW\"),INDEX(IECC2009_Fenestration_AW_Windows[#All],Table6a[[#This Row],[WindowFrame_SHGCIndex]],Table6a[[#This Row],[CZ_Index]]),\nIF(AND(OR($C$7=\"ERI\",$C$7=\"ASHRAE\",$C$7=\"Title 24 - Dwelling Unit Models\",$C$7=\"Title 24 - Whole Building Models\"),Table6a[[#This Row],[WINDOW TYPE]]=\"Not Class AW\"),INDEX(IECC2009_Fenestration_NotAW_Windows[#All],Table6a[[#This Row],[WindowFrame_SHGCIndex]],Table6a[[#This Row],[CZ_Index]]),\n\nIF(AND($C$7=\"Prescriptive\",Table6a[[#This Row],[WINDOW TYPE]]=\"Class AW\",$C$9=\"Version 1\"),INDEX(ESRefDesign_FenestrationAW_V1[#All],Table6a[[#This Row],[WindowFrame_SHGCIndex]],Table6a[[#This Row],[CZ_Index]]),\nIF(AND($C$7=\"Prescriptive\",Table6a[[#This Row],[WINDOW TYPE]]=\"Not Class AW\",$C$9=\"Version 1\"),INDEX(ESRefDesign_Fenestration_V1[#All],Table6a[[#This Row],[WindowFrame_SHGCIndex]],Table6a[[#This Row],[CZ_Index]]),\n\nIF(AND($C$7=\"Prescriptive\",Table6a[[#This Row],[WINDOW TYPE]]=\"Class AW\",$C$9=\"Version 1.1\"),INDEX(ESRefDesign_FenestrationAW_V11[#All],Table6a[[#This Row],[WindowFrame_SHGCIndex]],Table6a[[#This Row],[CZ_Index]]),\nIF(AND($C$7=\"Prescriptive\",Table6a[[#This Row],[WINDOW TYPE]]=\"Not Class AW\",$C$9=\"Version 1.1\"),INDEX(ESRefDesign_Fenestration_V11[#All],Table6a[[#This Row],[WindowFrame_SHGCIndex]],Table6a[[#This Row],[CZ_Index]]),\n\nIF(AND($C$7=\"Prescriptive\",Table6a[[#This Row],[WINDOW TYPE]]=\"Class AW\",$C$9=\"Version 1.2 OR+WA\"),INDEX(ESRefDesign_FenestrationAW_V12[#All],Table6a[[#This Row],[WindowFrame_SHGCIndex]],Table6a[[#This Row],[CZ_Index]]),\nIF(AND($C$7=\"Prescriptive\",Table6a[[#This Row],[WINDOW TYPE]]=\"Not Class AW\",$C$9=\"Version 1.2 OR+WA\"),INDEX(ESRefDesign_Fenestration_V12[#All],Table6a[[#This Row],[WindowFrame_SHGCIndex]],Table6a[[#This Row],[CZ_Index]]),\n\"\")))))))))),\"\")","v":""},{"$f":"IF(Table6a[[#This Row],[WINDOW TYPE]]=\"Not Class AW\",2,\n\nIF(AND($C$7=\"Prescriptive\",Table6a[[#This Row],[Fixed or Operable?\n(Prescriptive & Class AW Only)]]=\"Fixed\"),2,\nIF(AND($C$7=\"Prescriptive\",Table6a[[#This Row],[Fixed or Operable?\n(Prescriptive & Class AW Only)]]=\"Operable\"),3,\n\nIF(Table6a[[#This Row],[Window Frame\n(ERI/ASHRAE & Class AW only)]]=\"Non-Metal\",2,\nIF(Table6a[[#This Row],[Window Frame\n(ERI/ASHRAE & Class AW only)]]=\"Metal - Curtainwall/storefront\",3,\nIF(Table6a[[#This Row],[Window Frame\n(ERI/ASHRAE & Class AW only)]]=\"Metal - Entrance door\",4,\nIF(Table6a[[#This Row],[Window Frame\n(ERI/ASHRAE & Class AW only)]]=\"Metal - Other\",5,\n\n\"\")))))))","v":""},{"$f":"IF(AND(Table6a[[#This Row],[WINDOW TYPE]]=\"Not Class AW\",$C$7=\"Prescriptive\"),3,\nIF(Table6a[[#This Row],[WINDOW TYPE]]=\"Not Class AW\",4,\n\nIF(AND(OR($C$7=\"ASHRAE\",$C$7=\"Title 24 - Whole Building Models\",$C$7=\"ERI\",$C$7=\"Title 24 - Dwelling Unit Models\"),$O13=\"< 0.25\"),7,\nIF(AND(OR($C$7=\"ASHRAE\",$C$7=\"Title 24 - Whole Building Models\",$C$7=\"ERI\",$C$7=\"Title 24 - Dwelling Unit Models\"),$O13=\"0.25 < PF < 0.5\"),8,\nIF(AND(OR($C$7=\"ASHRAE\",$C$7=\"Title 24 - Whole Building Models\",$C$7=\"ERI\",$C$7=\"Title 24 - Dwelling Unit Models\"),$O13=\">= 0.5\"),9,\n\nIF(AND(Table6a[[#This Row],[WINDOW TYPE]]=\"Class AW\",$C$7=\"Prescriptive\"),4,\n\nIF(Table6a[[#This Row],[WINDOW TYPE]]=\"Class AW\",6,\n\n\"\")))))))","v":""},{"$f":"IF(AND($C$9=\"Version 1.2 OR+WA\",$C$7=\"Prescriptive\",$C$8=\"CZ 4 C\"),2,\nIF(AND($C$9=\"Version 1.2 OR+WA\",$C$7=\"Prescriptive\",$C$8=\"CZ 5\"),3,\nIF(AND($C$9=\"Version 1.2 OR+WA\",$C$7=\"Prescriptive\",$C$8=\"CZ 6\"),4,\n\nIF($C$8=\"CZ 1\",2,\nIF($C$8=\"CZ 2\",3,\nIF($C$8=\"CZ 3\",4,\nIF($C$8=\"CZ 4\",5,\nIF($C$8=\"CZ 4 C\",6,\nIF($C$8=\"CZ 5\",7,\nIF($C$8=\"CZ 6\",8,\nIF($C$8=\"CZ 7\",9,\nIF($C$8=\"CZ 8\",10,\"\"))))))))))))","v":""},null,null,{"$f":"IF(Table6a[[#This Row],[Total Area]]=\"\",\"\",Table6a[[#This Row],[Total Area]]*Table6a[[#This Row],[ASSEMBLY\nU-FACTOR]])","v":""}]
[null,null,null,null,null,null,{"$f":"IF(Table6a[[#This Row],[Qty]]=\"\",\"\",Table6a[[#This Row],[Qty]]*Table6a[[#This Row],[Area]])","v":""},null,{"$f":"IFERROR(IF(AND($C$9=\"Version 1.2 OR+WA\",OR($C$8=\"CZ 1\",$C$8=\"CZ 2\",$C$8=\"CZ 3\",$C$8=\"CZ 4\",$C$8=\"CZ 7\",$C$8=\"CZ 8\")),\"N/A - Update CZ\",\n\nIF(AND(OR($C$7=\"ERI\",$C$7=\"ASHRAE\",$C$7=\"Title 24 - Dwelling Unit Models\",$C$7=\"Title 24 - Whole Building Models\"),Table6a[[#This Row],[WINDOW TYPE]]=\"Class AW\"),INDEX(IECC2009_Fenestration_AW_Windows[#All],Table6a[[#This Row],[WindowFrame_UIndex]],Table6a[[#This Row],[CZ_Index]]),\nIF(AND(OR($C$7=\"ERI\",$C$7=\"ASHRAE\",$C$7=\"Title 24 - Dwelling Unit Models\",$C$7=\"Title 24 - Whole Building Models\"),Table6a[[#This Row],[WINDOW TYPE]]=\"Not Class AW\"),INDEX(IECC2009_Fenestration_NotAW_Windows[#All],Table6a[[#This Row],[WindowFrame_UIndex]],Table6a[[#This Row],[CZ_Index]]),\n\nIF(AND($C$7=\"Prescriptive\",Table6a[[#This Row],[WINDOW TYPE]]=\"Class AW\",$C$9=\"Version 1\"),INDEX(ESRefDesign_FenestrationAW_V1[#All],Table6a[[#This Row],[WindowFrame_UIndex]],Table6a[[#This Row],[CZ_Index]]),\nIF(AND($C$7=\"Prescriptive\",Table6a[[#This Row],[WINDOW TYPE]]=\"Not Class AW\",$C$9=\"Version 1\"),INDEX(ESRefDesign_Fenestration_V1[#All],Table6a[[#This Row],[WindowFrame_UIndex]],Table6a[[#This Row],[CZ_Index]]),\n\nIF(AND($C$7=\"Prescriptive\",Table6a[[#This Row],[WINDOW TYPE]]=\"Class AW\",$C$9=\"Version 1.1\"),INDEX(ESRefDesign_FenestrationAW_V11[#All],Table6a[[#This Row],[WindowFrame_UIndex]],Table6a[[#This Row],[CZ_Index]]),\nIF(AND($C$7=\"Prescriptive\",Table6a[[#This Row],[WINDOW TYPE]]=\"Not Class AW\",$C$9=\"Version 1.1\"),INDEX(ESRefDesign_Fenestration_V11[#All],Table6a[[#This Row],[WindowFrame_UIndex]],Table6a[[#This Row],[CZ_Index]]),\n\nIF(AND($C$7=\"Prescriptive\",Table6a[[#This Row],[WINDOW TYPE]]=\"Class AW\",$C$9=\"Version 1.2 OR+WA\"),INDEX(ESRefDesign_FenestrationAW_V12[#All],Table6a[[#This Row],[WindowFrame_UIndex]],Table6a[[#This Row],[CZ_Index]]),\nIF(AND($C$7=\"Prescriptive\",Table6a[[#This Row],[WINDOW TYPE]]=\"Not Class AW\",$C$9=\"Version 1.2 OR+WA\"),INDEX(ESRefDesign_Fenestration_V12[#All],Table6a[[#This Row],[WindowFrame_UIndex]],Table6a[[#This Row],[CZ_Index]]),\n\n\"\"))))))))),\"\")","v":""},{"$f":"IF(Table6a[[#This Row],[Total Area]]=\"\",\"\",Table6a[[#This Row],[Total Area]]*Table6a[[#This Row],[ENERGY STAR Requirement\nU-FACTOR]])","v":""},{"$f":"IFERROR(IF(AND(Table6a[[#This Row],[PROJECTION FACTOR (PF)\n(ERI/ASHRAE & Class AW only)]]=\"\",OR($C$7=\"ERI\",$C$7=\"ASHRAE\",$C$7=\"Title 24 - Dwelling Unit Models\",$C$7=\"Title 24 - Whole Building Models\"),Table6a[[#This Row],[WINDOW TYPE]]=\"Class AW\"),\"Enter PF\",\n\nIF(AND($C$9=\"Version 1.2 OR+WA\",OR($C$8=\"CZ 1\",$C$8=\"CZ 2\",$C$8=\"CZ 3\",$C$8=\"CZ 4\",$C$8=\"CZ 7\",$C$8=\"CZ 8\")),\"N/A - Update CZ\",\n\nIF(AND(OR($C$7=\"ERI\",$C$7=\"ASHRAE\",$C$7=\"Title 24 - Dwelling Unit Models\",$C$7=\"Title 24 - Whole Building Models\"),Table6a[[#This Row],[WINDOW TYPE]]=\"Class AW\"),INDEX(IECC2009_Fenestration_AW_Windows[#All],Table6a[[#This Row],[WindowFrame_SHGCIndex]],Table6a[[#This Row],[CZ_Index]]),\nIF(AND(OR($C$7=\"ERI\",$C$7=\"ASHRAE\",$C$7=\"Title 24 - Dwelling Unit Models\",$C$7=\"Title 24 - Whole Building Models\"),Table6a[[#This Row],[WINDOW TYPE]]=\"Not Class AW\"),INDEX(IECC2009_Fenestration_NotAW_Windows[#All],Table6a[[#This Row],[WindowFrame_SHGCIndex]],Table6a[[#This Row],[CZ_Index]]),\n\nIF(AND($C$7=\"Prescriptive\",Table6a[[#This Row],[WINDOW TYPE]]=\"Class AW\",$C$9=\"Version 1\"),INDEX(ESRefDesign_FenestrationAW_V1[#All],Table6a[[#This Row],[WindowFrame_SHGCIndex]],Table6a[[#This Row],[CZ_Index]]),\nIF(AND($C$7=\"Prescriptive\",Table6a[[#This Row],[WINDOW TYPE]]=\"Not Class AW\",$C$9=\"Version 1\"),INDEX(ESRefDesign_Fenestration_V1[#All],Table6a[[#This Row],[WindowFrame_SHGCIndex]],Table6a[[#This Row],[CZ_Index]]),\n\nIF(AND($C$7=\"Prescriptive\",Table6a[[#This Row],[WINDOW TYPE]]=\"Class AW\",$C$9=\"Version 1.1\"),INDEX(ESRefDesign_FenestrationAW_V11[#All],Table6a[[#This Row],[WindowFrame_SHGCIndex]],Table6a[[#This Row],[CZ_Index]]),\nIF(AND($C$7=\"Prescriptive\",Table6a[[#This Row],[WINDOW TYPE]]=\"Not Class AW\",$C$9=\"Version 1.1\"),INDEX(ESRefDesign_Fenestration_V11[#All],Table6a[[#This Row],[WindowFrame_SHGCIndex]],Table6a[[#This Row],[CZ_Index]]),\n\nIF(AND($C$7=\"Prescriptive\",Table6a[[#This Row],[WINDOW TYPE]]=\"Class AW\",$C$9=\"Version 1.2 OR+WA\"),INDEX(ESRefDesign_FenestrationAW_V12[#All],Table6a[[#This Row],[WindowFrame_SHGCIndex]],Table6a[[#This Row],[CZ_Index]]),\nIF(AND($C$7=\"Prescriptive\",Table6a[[#This Row],[WINDOW TYPE]]=\"Not Class AW\",$C$9=\"Version 1.2 OR+WA\"),INDEX(ESRefDesign_Fenestration_V12[#All],Table6a[[#This Row],[WindowFrame_SHGCIndex]],Table6a[[#This Row],[CZ_Index]]),\n\"\")))))))))),\"\")","v":""},{"$f":"IF(Table6a[[#This Row],[WINDOW TYPE]]=\"Not Class AW\",2,\n\nIF(AND($C$7=\"Prescriptive\",Table6a[[#This Row],[Fixed or Operable?\n(Prescriptive & Class AW Only)]]=\"Fixed\"),2,\nIF(AND($C$7=\"Prescriptive\",Table6a[[#This Row],[Fixed or Operable?\n(Prescriptive & Class AW Only)]]=\"Operable\"),3,\n\nIF(Table6a[[#This Row],[Window Frame\n(ERI/ASHRAE & Class AW only)]]=\"Non-Metal\",2,\nIF(Table6a[[#This Row],[Window Frame\n(ERI/ASHRAE & Class AW only)]]=\"Metal - Curtainwall/storefront\",3,\nIF(Table6a[[#This Row],[Window Frame\n(ERI/ASHRAE & Class AW only)]]=\"Metal - Entrance door\",4,\nIF(Table6a[[#This Row],[Window Frame\n(ERI/ASHRAE & Class AW only)]]=\"Metal - Other\",5,\n\n\"\")))))))","v":""},{"$f":"IF(AND(Table6a[[#This Row],[WINDOW TYPE]]=\"Not Class AW\",$C$7=\"Prescriptive\"),3,\nIF(Table6a[[#This Row],[WINDOW TYPE]]=\"Not Class AW\",4,\n\nIF(AND(OR($C$7=\"ASHRAE\",$C$7=\"Title 24 - Whole Building Models\",$C$7=\"ERI\",$C$7=\"Title 24 - Dwelling Unit Models\"),$O14=\"< 0.25\"),7,\nIF(AND(OR($C$7=\"ASHRAE\",$C$7=\"Title 24 - Whole Building Models\",$C$7=\"ERI\",$C$7=\"Title 24 - Dwelling Unit Models\"),$O14=\"0.25 < PF < 0.5\"),8,\nIF(AND(OR($C$7=\"ASHRAE\",$C$7=\"Title 24 - Whole Building Models\",$C$7=\"ERI\",$C$7=\"Title 24 - Dwelling Unit Models\"),$O14=\">= 0.5\"),9,\n\nIF(AND(Table6a[[#This Row],[WINDOW TYPE]]=\"Class AW\",$C$7=\"Prescriptive\"),4,\n\nIF(Table6a[[#This Row],[WINDOW TYPE]]=\"Class AW\",6,\n\n\"\")))))))","v":""},{"$f":"IF(AND($C$9=\"Version 1.2 OR+WA\",$C$7=\"Prescriptive\",$C$8=\"CZ 4 C\"),2,\nIF(AND($C$9=\"Version 1.2 OR+WA\",$C$7=\"Prescriptive\",$C$8=\"CZ 5\"),3,\nIF(AND($C$9=\"Version 1.2 OR+WA\",$C$7=\"Prescriptive\",$C$8=\"CZ 6\"),4,\n\nIF($C$8=\"CZ 1\",2,\nIF($C$8=\"CZ 2\",3,\nIF($C$8=\"CZ 3\",4,\nIF($C$8=\"CZ 4\",5,\nIF($C$8=\"CZ 4 C\",6,\nIF($C$8=\"CZ 5\",7,\nIF($C$8=\"CZ 6\",8,\nIF($C$8=\"CZ 7\",9,\nIF($C$8=\"CZ 8\",10,\"\"))))))))))))","v":""},null,null,{"$f":"IF(Table6a[[#This Row],[Total Area]]=\"\",\"\",Table6a[[#This Row],[Total Area]]*Table6a[[#This Row],[ASSEMBLY\nU-FACTOR]])","v":""}]
[null,null,null,null,null,null,{"$f":"IF(Table6a[[#This Row],[Qty]]=\"\",\"\",Table6a[[#This Row],[Qty]]*Table6a[[#This Row],[Area]])","v":""},null,{"$f":"IFERROR(IF(AND($C$9=\"Version 1.2 OR+WA\",OR($C$8=\"CZ 1\",$C$8=\"CZ 2\",$C$8=\"CZ 3\",$C$8=\"CZ 4\",$C$8=\"CZ 7\",$C$8=\"CZ 8\")),\"N/A - Update CZ\",\n\nIF(AND(OR($C$7=\"ERI\",$C$7=\"ASHRAE\",$C$7=\"Title 24 - Dwelling Unit Models\",$C$7=\"Title 24 - Whole Building Models\"),Table6a[[#This Row],[WINDOW TYPE]]=\"Class AW\"),INDEX(IECC2009_Fenestration_AW_Windows[#All],Table6a[[#This Row],[WindowFrame_UIndex]],Table6a[[#This Row],[CZ_Index]]),\nIF(AND(OR($C$7=\"ERI\",$C$7=\"ASHRAE\",$C$7=\"Title 24 - Dwelling Unit Models\",$C$7=\"Title 24 - Whole Building Models\"),Table6a[[#This Row],[WINDOW TYPE]]=\"Not Class AW\"),INDEX(IECC2009_Fenestration_NotAW_Windows[#All],Table6a[[#This Row],[WindowFrame_UIndex]],Table6a[[#This Row],[CZ_Index]]),\n\nIF(AND($C$7=\"Prescriptive\",Table6a[[#This Row],[WINDOW TYPE]]=\"Class AW\",$C$9=\"Version 1\"),INDEX(ESRefDesign_FenestrationAW_V1[#All],Table6a[[#This Row],[WindowFrame_UIndex]],Table6a[[#This Row],[CZ_Index]]),\nIF(AND($C$7=\"Prescriptive\",Table6a[[#This Row],[WINDOW TYPE]]=\"Not Class AW\",$C$9=\"Version 1\"),INDEX(ESRefDesign_Fenestration_V1[#All],Table6a[[#This Row],[WindowFrame_UIndex]],Table6a[[#This Row],[CZ_Index]]),\n\nIF(AND($C$7=\"Prescriptive\",Table6a[[#This Row],[WINDOW TYPE]]=\"Class AW\",$C$9=\"Version 1.1\"),INDEX(ESRefDesign_FenestrationAW_V11[#All],Table6a[[#This Row],[WindowFrame_UIndex]],Table6a[[#This Row],[CZ_Index]]),\nIF(AND($C$7=\"Prescriptive\",Table6a[[#This Row],[WINDOW TYPE]]=\"Not Class AW\",$C$9=\"Version 1.1\"),INDEX(ESRefDesign_Fenestration_V11[#All],Table6a[[#This Row],[WindowFrame_UIndex]],Table6a[[#This Row],[CZ_Index]]),\n\nIF(AND($C$7=\"Prescriptive\",Table6a[[#This Row],[WINDOW TYPE]]=\"Class AW\",$C$9=\"Version 1.2 OR+WA\"),INDEX(ESRefDesign_FenestrationAW_V12[#All],Table6a[[#This Row],[WindowFrame_UIndex]],Table6a[[#This Row],[CZ_Index]]),\nIF(AND($C$7=\"Prescriptive\",Table6a[[#This Row],[WINDOW TYPE]]=\"Not Class AW\",$C$9=\"Version 1.2 OR+WA\"),INDEX(ESRefDesign_Fenestration_V12[#All],Table6a[[#This Row],[WindowFrame_UIndex]],Table6a[[#This Row],[CZ_Index]]),\n\n\"\"))))))))),\"\")","v":""},{"$f":"IF(Table6a[[#This Row],[Total Area]]=\"\",\"\",Table6a[[#This Row],[Total Area]]*Table6a[[#This Row],[ENERGY STAR Requirement\nU-FACTOR]])","v":""},{"$f":"IFERROR(IF(AND(Table6a[[#This Row],[PROJECTION FACTOR (PF)\n(ERI/ASHRAE & Class AW only)]]=\"\",OR($C$7=\"ERI\",$C$7=\"ASHRAE\",$C$7=\"Title 24 - Dwelling Unit Models\",$C$7=\"Title 24 - Whole Building Models\"),Table6a[[#This Row],[WINDOW TYPE]]=\"Class AW\"),\"Enter PF\",\n\nIF(AND($C$9=\"Version 1.2 OR+WA\",OR($C$8=\"CZ 1\",$C$8=\"CZ 2\",$C$8=\"CZ 3\",$C$8=\"CZ 4\",$C$8=\"CZ 7\",$C$8=\"CZ 8\")),\"N/A - Update CZ\",\n\nIF(AND(OR($C$7=\"ERI\",$C$7=\"ASHRAE\",$C$7=\"Title 24 - Dwelling Unit Models\",$C$7=\"Title 24 - Whole Building Models\"),Table6a[[#This Row],[WINDOW TYPE]]=\"Class AW\"),INDEX(IECC2009_Fenestration_AW_Windows[#All],Table6a[[#This Row],[WindowFrame_SHGCIndex]],Table6a[[#This Row],[CZ_Index]]),\nIF(AND(OR($C$7=\"ERI\",$C$7=\"ASHRAE\",$C$7=\"Title 24 - Dwelling Unit Models\",$C$7=\"Title 24 - Whole Building Models\"),Table6a[[#This Row],[WINDOW TYPE]]=\"Not Class AW\"),INDEX(IECC2009_Fenestration_NotAW_Windows[#All],Table6a[[#This Row],[WindowFrame_SHGCIndex]],Table6a[[#This Row],[CZ_Index]]),\n\nIF(AND($C$7=\"Prescriptive\",Table6a[[#This Row],[WINDOW TYPE]]=\"Class AW\",$C$9=\"Version 1\"),INDEX(ESRefDesign_FenestrationAW_V1[#All],Table6a[[#This Row],[WindowFrame_SHGCIndex]],Table6a[[#This Row],[CZ_Index]]),\nIF(AND($C$7=\"Prescriptive\",Table6a[[#This Row],[WINDOW TYPE]]=\"Not Class AW\",$C$9=\"Version 1\"),INDEX(ESRefDesign_Fenestration_V1[#All],Table6a[[#This Row],[WindowFrame_SHGCIndex]],Table6a[[#This Row],[CZ_Index]]),\n\nIF(AND($C$7=\"Prescriptive\",Table6a[[#This Row],[WINDOW TYPE]]=\"Class AW\",$C$9=\"Version 1.1\"),INDEX(ESRefDesign_FenestrationAW_V11[#All],Table6a[[#This Row],[WindowFrame_SHGCIndex]],Table6a[[#This Row],[CZ_Index]]),\nIF(AND($C$7=\"Prescriptive\",Table6a[[#This Row],[WINDOW TYPE]]=\"Not Class AW\",$C$9=\"Version 1.1\"),INDEX(ESRefDesign_Fenestration_V11[#All],Table6a[[#This Row],[WindowFrame_SHGCIndex]],Table6a[[#This Row],[CZ_Index]]),\n\nIF(AND($C$7=\"Prescriptive\",Table6a[[#This Row],[WINDOW TYPE]]=\"Class AW\",$C$9=\"Version 1.2 OR+WA\"),INDEX(ESRefDesign_FenestrationAW_V12[#All],Table6a[[#This Row],[WindowFrame_SHGCIndex]],Table6a[[#This Row],[CZ_Index]]),\nIF(AND($C$7=\"Prescriptive\",Table6a[[#This Row],[WINDOW TYPE]]=\"Not Class AW\",$C$9=\"Version 1.2 OR+WA\"),INDEX(ESRefDesign_Fenestration_V12[#All],Table6a[[#This Row],[WindowFrame_SHGCIndex]],Table6a[[#This Row],[CZ_Index]]),\n\"\")))))))))),\"\")","v":""},{"$f":"IF(Table6a[[#This Row],[WINDOW TYPE]]=\"Not Class AW\",2,\n\nIF(AND($C$7=\"Prescriptive\",Table6a[[#This Row],[Fixed or Operable?\n(Prescriptive & Class AW Only)]]=\"Fixed\"),2,\nIF(AND($C$7=\"Prescriptive\",Table6a[[#This Row],[Fixed or Operable?\n(Prescriptive & Class AW Only)]]=\"Operable\"),3,\n\nIF(Table6a[[#This Row],[Window Frame\n(ERI/ASHRAE & Class AW only)]]=\"Non-Metal\",2,\nIF(Table6a[[#This Row],[Window Frame\n(ERI/ASHRAE & Class AW only)]]=\"Metal - Curtainwall/storefront\",3,\nIF(Table6a[[#This Row],[Window Frame\n(ERI/ASHRAE & Class AW only)]]=\"Metal - Entrance door\",4,\nIF(Table6a[[#This Row],[Window Frame\n(ERI/ASHRAE & Class AW only)]]=\"Metal - Other\",5,\n\n\"\")))))))","v":""},{"$f":"IF(AND(Table6a[[#This Row],[WINDOW TYPE]]=\"Not Class AW\",$C$7=\"Prescriptive\"),3,\nIF(Table6a[[#This Row],[WINDOW TYPE]]=\"Not Class AW\",4,\n\nIF(AND(OR($C$7=\"ASHRAE\",$C$7=\"Title 24 - Whole Building Models\",$C$7=\"ERI\",$C$7=\"Title 24 - Dwelling Unit Models\"),$O15=\"< 0.25\"),7,\nIF(AND(OR($C$7=\"ASHRAE\",$C$7=\"Title 24 - Whole Building Models\",$C$7=\"ERI\",$C$7=\"Title 24 - Dwelling Unit Models\"),$O15=\"0.25 < PF < 0.5\"),8,\nIF(AND(OR($C$7=\"ASHRAE\",$C$7=\"Title 24 - Whole Building Models\",$C$7=\"ERI\",$C$7=\"Title 24 - Dwelling Unit Models\"),$O15=\">= 0.5\"),9,\n\nIF(AND(Table6a[[#This Row],[WINDOW TYPE]]=\"Class AW\",$C$7=\"Prescriptive\"),4,\n\nIF(Table6a[[#This Row],[WINDOW TYPE]]=\"Class AW\",6,\n\n\"\")))))))","v":""},{"$f":"IF(AND($C$9=\"Version 1.2 OR+WA\",$C$7=\"Prescriptive\",$C$8=\"CZ 4 C\"),2,\nIF(AND($C$9=\"Version 1.2 OR+WA\",$C$7=\"Prescriptive\",$C$8=\"CZ 5\"),3,\nIF(AND($C$9=\"Version 1.2 OR+WA\",$C$7=\"Prescriptive\",$C$8=\"CZ 6\"),4,\n\nIF($C$8=\"CZ 1\",2,\nIF($C$8=\"CZ 2\",3,\nIF($C$8=\"CZ 3\",4,\nIF($C$8=\"CZ 4\",5,\nIF($C$8=\"CZ 4 C\",6,\nIF($C$8=\"CZ 5\",7,\nIF($C$8=\"CZ 6\",8,\nIF($C$8=\"CZ 7\",9,\nIF($C$8=\"CZ 8\",10,\"\"))))))))))))","v":""},null,null,{"$f":"IF(Table6a[[#This Row],[Total Area]]=\"\",\"\",Table6a[[#This Row],[Total Area]]*Table6a[[#This Row],[ASSEMBLY\nU-FACTOR]])","v":""}]
[null,null,null,null,null,null,{"$f":"IF(Table6a[[#This Row],[Qty]]=\"\",\"\",Table6a[[#This Row],[Qty]]*Table6a[[#This Row],[Area]])","v":""},null,{"$f":"IFERROR(IF(AND($C$9=\"Version 1.2 OR+WA\",OR($C$8=\"CZ 1\",$C$8=\"CZ 2\",$C$8=\"CZ 3\",$C$8=\"CZ 4\",$C$8=\"CZ 7\",$C$8=\"CZ 8\")),\"N/A - Update CZ\",\n\nIF(AND(OR($C$7=\"ERI\",$C$7=\"ASHRAE\",$C$7=\"Title 24 - Dwelling Unit Models\",$C$7=\"Title 24 - Whole Building Models\"),Table6a[[#This Row],[WINDOW TYPE]]=\"Class AW\"),INDEX(IECC2009_Fenestration_AW_Windows[#All],Table6a[[#This Row],[WindowFrame_UIndex]],Table6a[[#This Row],[CZ_Index]]),\nIF(AND(OR($C$7=\"ERI\",$C$7=\"ASHRAE\",$C$7=\"Title 24 - Dwelling Unit Models\",$C$7=\"Title 24 - Whole Building Models\"),Table6a[[#This Row],[WINDOW TYPE]]=\"Not Class AW\"),INDEX(IECC2009_Fenestration_NotAW_Windows[#All],Table6a[[#This Row],[WindowFrame_UIndex]],Table6a[[#This Row],[CZ_Index]]),\n\nIF(AND($C$7=\"Prescriptive\",Table6a[[#This Row],[WINDOW TYPE]]=\"Class AW\",$C$9=\"Version 1\"),INDEX(ESRefDesign_FenestrationAW_V1[#All],Table6a[[#This Row],[WindowFrame_UIndex]],Table6a[[#This Row],[CZ_Index]]),\nIF(AND($C$7=\"Prescriptive\",Table6a[[#This Row],[WINDOW TYPE]]=\"Not Class AW\",$C$9=\"Version 1\"),INDEX(ESRefDesign_Fenestration_V1[#All],Table6a[[#This Row],[WindowFrame_UIndex]],Table6a[[#This Row],[CZ_Index]]),\n\nIF(AND($C$7=\"Prescriptive\",Table6a[[#This Row],[WINDOW TYPE]]=\"Class AW\",$C$9=\"Version 1.1\"),INDEX(ESRefDesign_FenestrationAW_V11[#All],Table6a[[#This Row],[WindowFrame_UIndex]],Table6a[[#This Row],[CZ_Index]]),\nIF(AND($C$7=\"Prescriptive\",Table6a[[#This Row],[WINDOW TYPE]]=\"Not Class AW\",$C$9=\"Version 1.1\"),INDEX(ESRefDesign_Fenestration_V11[#All],Table6a[[#This Row],[WindowFrame_UIndex]],Table6a[[#This Row],[CZ_Index]]),\n\nIF(AND($C$7=\"Prescriptive\",Table6a[[#This Row],[WINDOW TYPE]]=\"Class AW\",$C$9=\"Version 1.2 OR+WA\"),INDEX(ESRefDesign_FenestrationAW_V12[#All],Table6a[[#This Row],[WindowFrame_UIndex]],Table6a[[#This Row],[CZ_Index]]),\nIF(AND($C$7=\"Prescriptive\",Table6a[[#This Row],[WINDOW TYPE]]=\"Not Class AW\",$C$9=\"Version 1.2 OR+WA\"),INDEX(ESRefDesign_Fenestration_V12[#All],Table6a[[#This Row],[WindowFrame_UIndex]],Table6a[[#This Row],[CZ_Index]]),\n\n\"\"))))))))),\"\")","v":""},{"$f":"IF(Table6a[[#This Row],[Total Area]]=\"\",\"\",Table6a[[#This Row],[Total Area]]*Table6a[[#This Row],[ENERGY STAR Requirement\nU-FACTOR]])","v":""},{"$f":"IFERROR(IF(AND(Table6a[[#This Row],[PROJECTION FACTOR (PF)\n(ERI/ASHRAE & Class AW only)]]=\"\",OR($C$7=\"ERI\",$C$7=\"ASHRAE\",$C$7=\"Title 24 - Dwelling Unit Models\",$C$7=\"Title 24 - Whole Building Models\"),Table6a[[#This Row],[WINDOW TYPE]]=\"Class AW\"),\"Enter PF\",\n\nIF(AND($C$9=\"Version 1.2 OR+WA\",OR($C$8=\"CZ 1\",$C$8=\"CZ 2\",$C$8=\"CZ 3\",$C$8=\"CZ 4\",$C$8=\"CZ 7\",$C$8=\"CZ 8\")),\"N/A - Update CZ\",\n\nIF(AND(OR($C$7=\"ERI\",$C$7=\"ASHRAE\",$C$7=\"Title 24 - Dwelling Unit Models\",$C$7=\"Title 24 - Whole Building Models\"),Table6a[[#This Row],[WINDOW TYPE]]=\"Class AW\"),INDEX(IECC2009_Fenestration_AW_Windows[#All],Table6a[[#This Row],[WindowFrame_SHGCIndex]],Table6a[[#This Row],[CZ_Index]]),\nIF(AND(OR($C$7=\"ERI\",$C$7=\"ASHRAE\",$C$7=\"Title 24 - Dwelling Unit Models\",$C$7=\"Title 24 - Whole Building Models\"),Table6a[[#This Row],[WINDOW TYPE]]=\"Not Class AW\"),INDEX(IECC2009_Fenestration_NotAW_Windows[#All],Table6a[[#This Row],[WindowFrame_SHGCIndex]],Table6a[[#This Row],[CZ_Index]]),\n\nIF(AND($C$7=\"Prescriptive\",Table6a[[#This Row],[WINDOW TYPE]]=\"Class AW\",$C$9=\"Version 1\"),INDEX(ESRefDesign_FenestrationAW_V1[#All],Table6a[[#This Row],[WindowFrame_SHGCIndex]],Table6a[[#This Row],[CZ_Index]]),\nIF(AND($C$7=\"Prescriptive\",Table6a[[#This Row],[WINDOW TYPE]]=\"Not Class AW\",$C$9=\"Version 1\"),INDEX(ESRefDesign_Fenestration_V1[#All],Table6a[[#This Row],[WindowFrame_SHGCIndex]],Table6a[[#This Row],[CZ_Index]]),\n\nIF(AND($C$7=\"Prescriptive\",Table6a[[#This Row],[WINDOW TYPE]]=\"Class AW\",$C$9=\"Version 1.1\"),INDEX(ESRefDesign_FenestrationAW_V11[#All],Table6a[[#This Row],[WindowFrame_SHGCIndex]],Table6a[[#This Row],[CZ_Index]]),\nIF(AND($C$7=\"Prescriptive\",Table6a[[#This Row],[WINDOW TYPE]]=\"Not Class AW\",$C$9=\"Version 1.1\"),INDEX(ESRefDesign_Fenestration_V11[#All],Table6a[[#This Row],[WindowFrame_SHGCIndex]],Table6a[[#This Row],[CZ_Index]]),\n\nIF(AND($C$7=\"Prescriptive\",Table6a[[#This Row],[WINDOW TYPE]]=\"Class AW\",$C$9=\"Version 1.2 OR+WA\"),INDEX(ESRefDesign_FenestrationAW_V12[#All],Table6a[[#This Row],[WindowFrame_SHGCIndex]],Table6a[[#This Row],[CZ_Index]]),\nIF(AND($C$7=\"Prescriptive\",Table6a[[#This Row],[WINDOW TYPE]]=\"Not Class AW\",$C$9=\"Version 1.2 OR+WA\"),INDEX(ESRefDesign_Fenestration_V12[#All],Table6a[[#This Row],[WindowFrame_SHGCIndex]],Table6a[[#This Row],[CZ_Index]]),\n\"\")))))))))),\"\")","v":""},{"$f":"IF(Table6a[[#This Row],[WINDOW TYPE]]=\"Not Class AW\",2,\n\nIF(AND($C$7=\"Prescriptive\",Table6a[[#This Row],[Fixed or Operable?\n(Prescriptive & Class AW Only)]]=\"Fixed\"),2,\nIF(AND($C$7=\"Prescriptive\",Table6a[[#This Row],[Fixed or Operable?\n(Prescriptive & Class AW Only)]]=\"Operable\"),3,\n\nIF(Table6a[[#This Row],[Window Frame\n(ERI/ASHRAE & Class AW only)]]=\"Non-Metal\",2,\nIF(Table6a[[#This Row],[Window Frame\n(ERI/ASHRAE & Class AW only)]]=\"Metal - Curtainwall/storefront\",3,\nIF(Table6a[[#This Row],[Window Frame\n(ERI/ASHRAE & Class AW only)]]=\"Metal - Entrance door\",4,\nIF(Table6a[[#This Row],[Window Frame\n(ERI/ASHRAE & Class AW only)]]=\"Metal - Other\",5,\n\n\"\")))))))","v":""},{"$f":"IF(AND(Table6a[[#This Row],[WINDOW TYPE]]=\"Not Class AW\",$C$7=\"Prescriptive\"),3,\nIF(Table6a[[#This Row],[WINDOW TYPE]]=\"Not Class AW\",4,\n\nIF(AND(OR($C$7=\"ASHRAE\",$C$7=\"Title 24 - Whole Building Models\",$C$7=\"ERI\",$C$7=\"Title 24 - Dwelling Unit Models\"),$O16=\"< 0.25\"),7,\nIF(AND(OR($C$7=\"ASHRAE\",$C$7=\"Title 24 - Whole Building Models\",$C$7=\"ERI\",$C$7=\"Title 24 - Dwelling Unit Models\"),$O16=\"0.25 < PF < 0.5\"),8,\nIF(AND(OR($C$7=\"ASHRAE\",$C$7=\"Title 24 - Whole Building Models\",$C$7=\"ERI\",$C$7=\"Title 24 - Dwelling Unit Models\"),$O16=\">= 0.5\"),9,\n\nIF(AND(Table6a[[#This Row],[WINDOW TYPE]]=\"Class AW\",$C$7=\"Prescriptive\"),4,\n\nIF(Table6a[[#This Row],[WINDOW TYPE]]=\"Class AW\",6,\n\n\"\")))))))","v":""},"",null,null,{"$f":"IF(Table6a[[#This Row],[Total Area]]=\"\",\"\",Table6a[[#This Row],[Total Area]]*Table6a[[#This Row],[ASSEMBLY\nU-FACTOR]])","v":""}]
[null,null,null,null,null,null,{"$f":"IF(Table6a[[#This Row],[Qty]]=\"\",\"\",Table6a[[#This Row],[Qty]]*Table6a[[#This Row],[Area]])","v":""},null,{"$f":"IFERROR(IF(AND($C$9=\"Version 1.2 OR+WA\",OR($C$8=\"CZ 1\",$C$8=\"CZ 2\",$C$8=\"CZ 3\",$C$8=\"CZ 4\",$C$8=\"CZ 7\",$C$8=\"CZ 8\")),\"N/A - Update CZ\",\n\nIF(AND(OR($C$7=\"ERI\",$C$7=\"ASHRAE\",$C$7=\"Title 24 - Dwelling Unit Models\",$C$7=\"Title 24 - Whole Building Models\"),Table6a[[#This Row],[WINDOW TYPE]]=\"Class AW\"),INDEX(IECC2009_Fenestration_AW_Windows[#All],Table6a[[#This Row],[WindowFrame_UIndex]],Table6a[[#This Row],[CZ_Index]]),\nIF(AND(OR($C$7=\"ERI\",$C$7=\"ASHRAE\",$C$7=\"Title 24 - Dwelling Unit Models\",$C$7=\"Title 24 - Whole Building Models\"),Table6a[[#This Row],[WINDOW TYPE]]=\"Not Class AW\"),INDEX(IECC2009_Fenestration_NotAW_Windows[#All],Table6a[[#This Row],[WindowFrame_UIndex]],Table6a[[#This Row],[CZ_Index]]),\n\nIF(AND($C$7=\"Prescriptive\",Table6a[[#This Row],[WINDOW TYPE]]=\"Class AW\",$C$9=\"Version 1\"),INDEX(ESRefDesign_FenestrationAW_V1[#All],Table6a[[#This Row],[WindowFrame_UIndex]],Table6a[[#This Row],[CZ_Index]]),\nIF(AND($C$7=\"Prescriptive\",Table6a[[#This Row],[WINDOW TYPE]]=\"Not Class AW\",$C$9=\"Version 1\"),INDEX(ESRefDesign_Fenestration_V1[#All],Table6a[[#This Row],[WindowFrame_UIndex]],Table6a[[#This Row],[CZ_Index]]),\n\nIF(AND($C$7=\"Prescriptive\",Table6a[[#This Row],[WINDOW TYPE]]=\"Class AW\",$C$9=\"Version 1.1\"),INDEX(ESRefDesign_FenestrationAW_V11[#All],Table6a[[#This Row],[WindowFrame_UIndex]],Table6a[[#This Row],[CZ_Index]]),\nIF(AND($C$7=\"Prescriptive\",Table6a[[#This Row],[WINDOW TYPE]]=\"Not Class AW\",$C$9=\"Version 1.1\"),INDEX(ESRefDesign_Fenestration_V11[#All],Table6a[[#This Row],[WindowFrame_UIndex]],Table6a[[#This Row],[CZ_Index]]),\n\nIF(AND($C$7=\"Prescriptive\",Table6a[[#This Row],[WINDOW TYPE]]=\"Class AW\",$C$9=\"Version 1.2 OR+WA\"),INDEX(ESRefDesign_FenestrationAW_V12[#All],Table6a[[#This Row],[WindowFrame_UIndex]],Table6a[[#This Row],[CZ_Index]]),\nIF(AND($C$7=\"Prescriptive\",Table6a[[#This Row],[WINDOW TYPE]]=\"Not Class AW\",$C$9=\"Version 1.2 OR+WA\"),INDEX(ESRefDesign_Fenestration_V12[#All],Table6a[[#This Row],[WindowFrame_UIndex]],Table6a[[#This Row],[CZ_Index]]),\n\n\"\"))))))))),\"\")","v":""},{"$f":"IF(Table6a[[#This Row],[Total Area]]=\"\",\"\",Table6a[[#This Row],[Total Area]]*Table6a[[#This Row],[ENERGY STAR Requirement\nU-FACTOR]])","v":""},{"$f":"IFERROR(IF(AND(Table6a[[#This Row],[PROJECTION FACTOR (PF)\n(ERI/ASHRAE & Class AW only)]]=\"\",OR($C$7=\"ERI\",$C$7=\"ASHRAE\",$C$7=\"Title 24 - Dwelling Unit Models\",$C$7=\"Title 24 - Whole Building Models\"),Table6a[[#This Row],[WINDOW TYPE]]=\"Class AW\"),\"Enter PF\",\n\nIF(AND($C$9=\"Version 1.2 OR+WA\",OR($C$8=\"CZ 1\",$C$8=\"CZ 2\",$C$8=\"CZ 3\",$C$8=\"CZ 4\",$C$8=\"CZ 7\",$C$8=\"CZ 8\")),\"N/A - Update CZ\",\n\nIF(AND(OR($C$7=\"ERI\",$C$7=\"ASHRAE\",$C$7=\"Title 24 - Dwelling Unit Models\",$C$7=\"Title 24 - Whole Building Models\"),Table6a[[#This Row],[WINDOW TYPE]]=\"Class AW\"),INDEX(IECC2009_Fenestration_AW_Windows[#All],Table6a[[#This Row],[WindowFrame_SHGCIndex]],Table6a[[#This Row],[CZ_Index]]),\nIF(AND(OR($C$7=\"ERI\",$C$7=\"ASHRAE\",$C$7=\"Title 24 - Dwelling Unit Models\",$C$7=\"Title 24 - Whole Building Models\"),Table6a[[#This Row],[WINDOW TYPE]]=\"Not Class AW\"),INDEX(IECC2009_Fenestration_NotAW_Windows[#All],Table6a[[#This Row],[WindowFrame_SHGCIndex]],Table6a[[#This Row],[CZ_Index]]),\n\nIF(AND($C$7=\"Prescriptive\",Table6a[[#This Row],[WINDOW TYPE]]=\"Class AW\",$C$9=\"Version 1\"),INDEX(ESRefDesign_FenestrationAW_V1[#All],Table6a[[#This Row],[WindowFrame_SHGCIndex]],Table6a[[#This Row],[CZ_Index]]),\nIF(AND($C$7=\"Prescriptive\",Table6a[[#This Row],[WINDOW TYPE]]=\"Not Class AW\",$C$9=\"Version 1\"),INDEX(ESRefDesign_Fenestration_V1[#All],Table6a[[#This Row],[WindowFrame_SHGCIndex]],Table6a[[#This Row],[CZ_Index]]),\n\nIF(AND($C$7=\"Prescriptive\",Table6a[[#This Row],[WINDOW TYPE]]=\"Class AW\",$C$9=\"Version 1.1\"),INDEX(ESRefDesign_FenestrationAW_V11[#All],Table6a[[#This Row],[WindowFrame_SHGCIndex]],Table6a[[#This Row],[CZ_Index]]),\nIF(AND($C$7=\"Prescriptive\",Table6a[[#This Row],[WINDOW TYPE]]=\"Not Class AW\",$C$9=\"Version 1.1\"),INDEX(ESRefDesign_Fenestration_V11[#All],Table6a[[#This Row],[WindowFrame_SHGCIndex]],Table6a[[#This Row],[CZ_Index]]),\n\nIF(AND($C$7=\"Prescriptive\",Table6a[[#This Row],[WINDOW TYPE]]=\"Class AW\",$C$9=\"Version 1.2 OR+WA\"),INDEX(ESRefDesign_FenestrationAW_V12[#All],Table6a[[#This Row],[WindowFrame_SHGCIndex]],Table6a[[#This Row],[CZ_Index]]),\nIF(AND($C$7=\"Prescriptive\",Table6a[[#This Row],[WINDOW TYPE]]=\"Not Class AW\",$C$9=\"Version 1.2 OR+WA\"),INDEX(ESRefDesign_Fenestration_V12[#All],Table6a[[#This Row],[WindowFrame_SHGCIndex]],Table6a[[#This Row],[CZ_Index]]),\n\"\")))))))))),\"\")","v":""},{"$f":"IF(Table6a[[#This Row],[WINDOW TYPE]]=\"Not Class AW\",2,\n\nIF(AND($C$7=\"Prescriptive\",Table6a[[#This Row],[Fixed or Operable?\n(Prescriptive & Class AW Only)]]=\"Fixed\"),2,\nIF(AND($C$7=\"Prescriptive\",Table6a[[#This Row],[Fixed or Operable?\n(Prescriptive & Class AW Only)]]=\"Operable\"),3,\n\nIF(Table6a[[#This Row],[Window Frame\n(ERI/ASHRAE & Class AW only)]]=\"Non-Metal\",2,\nIF(Table6a[[#This Row],[Window Frame\n(ERI/ASHRAE & Class AW only)]]=\"Metal - Curtainwall/storefront\",3,\nIF(Table6a[[#This Row],[Window Frame\n(ERI/ASHRAE & Class AW only)]]=\"Metal - Entrance door\",4,\nIF(Table6a[[#This Row],[Window Frame\n(ERI/ASHRAE & Class AW only)]]=\"Metal - Other\",5,\n\n\"\")))))))","v":""},{"$f":"IF(AND(Table6a[[#This Row],[WINDOW TYPE]]=\"Not Class AW\",$C$7=\"Prescriptive\"),3,\nIF(Table6a[[#This Row],[WINDOW TYPE]]=\"Not Class AW\",4,\n\nIF(AND(OR($C$7=\"ASHRAE\",$C$7=\"Title 24 - Whole Building Models\",$C$7=\"ERI\",$C$7=\"Title 24 - Dwelling Unit Models\"),$O17=\"< 0.25\"),7,\nIF(AND(OR($C$7=\"ASHRAE\",$C$7=\"Title 24 - Whole Building Models\",$C$7=\"ERI\",$C$7=\"Title 24 - Dwelling Unit Models\"),$O17=\"0.25 < PF < 0.5\"),8,\nIF(AND(OR($C$7=\"ASHRAE\",$C$7=\"Title 24 - Whole Building Models\",$C$7=\"ERI\",$C$7=\"Title 24 - Dwelling Unit Models\"),$O17=\">= 0.5\"),9,\n\nIF(AND(Table6a[[#This Row],[WINDOW TYPE]]=\"Class AW\",$C$7=\"Prescriptive\"),4,\n\nIF(Table6a[[#This Row],[WINDOW TYPE]]=\"Class AW\",6,\n\n\"\")))))))","v":""},"",null,null,{"$f":"IF(Table6a[[#This Row],[Total Area]]=\"\",\"\",Table6a[[#This Row],[Total Area]]*Table6a[[#This Row],[ASSEMBLY\nU-FACTOR]])","v":""}]
[null,null,null,null,null,null,{"$f":"IF(Table6a[[#This Row],[Qty]]=\"\",\"\",Table6a[[#This Row],[Qty]]*Table6a[[#This Row],[Area]])","v":""},null,{"$f":"IFERROR(IF(AND($C$9=\"Version 1.2 OR+WA\",OR($C$8=\"CZ 1\",$C$8=\"CZ 2\",$C$8=\"CZ 3\",$C$8=\"CZ 4\",$C$8=\"CZ 7\",$C$8=\"CZ 8\")),\"N/A - Update CZ\",\n\nIF(AND(OR($C$7=\"ERI\",$C$7=\"ASHRAE\",$C$7=\"Title 24 - Dwelling Unit Models\",$C$7=\"Title 24 - Whole Building Models\"),Table6a[[#This Row],[WINDOW TYPE]]=\"Class AW\"),INDEX(IECC2009_Fenestration_AW_Windows[#All],Table6a[[#This Row],[WindowFrame_UIndex]],Table6a[[#This Row],[CZ_Index]]),\nIF(AND(OR($C$7=\"ERI\",$C$7=\"ASHRAE\",$C$7=\"Title 24 - Dwelling Unit Models\",$C$7=\"Title 24 - Whole Building Models\"),Table6a[[#This Row],[WINDOW TYPE]]=\"Not Class AW\"),INDEX(IECC2009_Fenestration_NotAW_Windows[#All],Table6a[[#This Row],[WindowFrame_UIndex]],Table6a[[#This Row],[CZ_Index]]),\n\nIF(AND($C$7=\"Prescriptive\",Table6a[[#This Row],[WINDOW TYPE]]=\"Class AW\",$C$9=\"Version 1\"),INDEX(ESRefDesign_FenestrationAW_V1[#All],Table6a[[#This Row],[WindowFrame_UIndex]],Table6a[[#This Row],[CZ_Index]]),\nIF(AND($C$7=\"Prescriptive\",Table6a[[#This Row],[WINDOW TYPE]]=\"Not Class AW\",$C$9=\"Version 1\"),INDEX(ESRefDesign_Fenestration_V1[#All],Table6a[[#This Row],[WindowFrame_UIndex]],Table6a[[#This Row],[CZ_Index]]),\n\nIF(AND($C$7=\"Prescriptive\",Table6a[[#This Row],[WINDOW TYPE]]=\"Class AW\",$C$9=\"Version 1.1\"),INDEX(ESRefDesign_FenestrationAW_V11[#All],Table6a[[#This Row],[WindowFrame_UIndex]],Table6a[[#This Row],[CZ_Index]]),\nIF(AND($C$7=\"Prescriptive\",Table6a[[#This Row],[WINDOW TYPE]]=\"Not Class AW\",$C$9=\"Version 1.1\"),INDEX(ESRefDesign_Fenestration_V11[#All],Table6a[[#This Row],[WindowFrame_UIndex]],Table6a[[#This Row],[CZ_Index]]),\n\nIF(AND($C$7=\"Prescriptive\",Table6a[[#This Row],[WINDOW TYPE]]=\"Class AW\",$C$9=\"Version 1.2 OR+WA\"),INDEX(ESRefDesign_FenestrationAW_V12[#All],Table6a[[#This Row],[WindowFrame_UIndex]],Table6a[[#This Row],[CZ_Index]]),\nIF(AND($C$7=\"Prescriptive\",Table6a[[#This Row],[WINDOW TYPE]]=\"Not Class AW\",$C$9=\"Version 1.2 OR+WA\"),INDEX(ESRefDesign_Fenestration_V12[#All],Table6a[[#This Row],[WindowFrame_UIndex]],Table6a[[#This Row],[CZ_Index]]),\n\n\"\"))))))))),\"\")","v":""},{"$f":"IF(Table6a[[#This Row],[Total Area]]=\"\",\"\",Table6a[[#This Row],[Total Area]]*Table6a[[#This Row],[ENERGY STAR Requirement\nU-FACTOR]])","v":""},{"$f":"IFERROR(IF(AND(Table6a[[#This Row],[PROJECTION FACTOR (PF)\n(ERI/ASHRAE & Class AW only)]]=\"\",OR($C$7=\"ERI\",$C$7=\"ASHRAE\",$C$7=\"Title 24 - Dwelling Unit Models\",$C$7=\"Title 24 - Whole Building Models\"),Table6a[[#This Row],[WINDOW TYPE]]=\"Class AW\"),\"Enter PF\",\n\nIF(AND($C$9=\"Version 1.2 OR+WA\",OR($C$8=\"CZ 1\",$C$8=\"CZ 2\",$C$8=\"CZ 3\",$C$8=\"CZ 4\",$C$8=\"CZ 7\",$C$8=\"CZ 8\")),\"N/A - Update CZ\",\n\nIF(AND(OR($C$7=\"ERI\",$C$7=\"ASHRAE\",$C$7=\"Title 24 - Dwelling Unit Models\",$C$7=\"Title 24 - Whole Building Models\"),Table6a[[#This Row],[WINDOW TYPE]]=\"Class AW\"),INDEX(IECC2009_Fenestration_AW_Windows[#All],Table6a[[#This Row],[WindowFrame_SHGCIndex]],Table6a[[#This Row],[CZ_Index]]),\nIF(AND(OR($C$7=\"ERI\",$C$7=\"ASHRAE\",$C$7=\"Title 24 - Dwelling Unit Models\",$C$7=\"Title 24 - Whole Building Models\"),Table6a[[#This Row],[WINDOW TYPE]]=\"Not Class AW\"),INDEX(IECC2009_Fenestration_NotAW_Windows[#All],Table6a[[#This Row],[WindowFrame_SHGCIndex]],Table6a[[#This Row],[CZ_Index]]),\n\nIF(AND($C$7=\"Prescriptive\",Table6a[[#This Row],[WINDOW TYPE]]=\"Class AW\",$C$9=\"Version 1\"),INDEX(ESRefDesign_FenestrationAW_V1[#All],Table6a[[#This Row],[WindowFrame_SHGCIndex]],Table6a[[#This Row],[CZ_Index]]),\nIF(AND($C$7=\"Prescriptive\",Table6a[[#This Row],[WINDOW TYPE]]=\"Not Class AW\",$C$9=\"Version 1\"),INDEX(ESRefDesign_Fenestration_V1[#All],Table6a[[#This Row],[WindowFrame_SHGCIndex]],Table6a[[#This Row],[CZ_Index]]),\n\nIF(AND($C$7=\"Prescriptive\",Table6a[[#This Row],[WINDOW TYPE]]=\"Class AW\",$C$9=\"Version 1.1\"),INDEX(ESRefDesign_FenestrationAW_V11[#All],Table6a[[#This Row],[WindowFrame_SHGCIndex]],Table6a[[#This Row],[CZ_Index]]),\nIF(AND($C$7=\"Prescriptive\",Table6a[[#This Row],[WINDOW TYPE]]=\"Not Class AW\",$C$9=\"Version 1.1\"),INDEX(ESRefDesign_Fenestration_V11[#All],Table6a[[#This Row],[WindowFrame_SHGCIndex]],Table6a[[#This Row],[CZ_Index]]),\n\nIF(AND($C$7=\"Prescriptive\",Table6a[[#This Row],[WINDOW TYPE]]=\"Class AW\",$C$9=\"Version 1.2 OR+WA\"),INDEX(ESRefDesign_FenestrationAW_V12[#All],Table6a[[#This Row],[WindowFrame_SHGCIndex]],Table6a[[#This Row],[CZ_Index]]),\nIF(AND($C$7=\"Prescriptive\",Table6a[[#This Row],[WINDOW TYPE]]=\"Not Class AW\",$C$9=\"Version 1.2 OR+WA\"),INDEX(ESRefDesign_Fenestration_V12[#All],Table6a[[#This Row],[WindowFrame_SHGCIndex]],Table6a[[#This Row],[CZ_Index]]),\n\"\")))))))))),\"\")","v":""},{"$f":"IF(Table6a[[#This Row],[WINDOW TYPE]]=\"Not Class AW\",2,\n\nIF(AND($C$7=\"Prescriptive\",Table6a[[#This Row],[Fixed or Operable?\n(Prescriptive & Class AW Only)]]=\"Fixed\"),2,\nIF(AND($C$7=\"Prescriptive\",Table6a[[#This Row],[Fixed or Operable?\n(Prescriptive & Class AW Only)]]=\"Operable\"),3,\n\nIF(Table6a[[#This Row],[Window Frame\n(ERI/ASHRAE & Class AW only)]]=\"Non-Metal\",2,\nIF(Table6a[[#This Row],[Window Frame\n(ERI/ASHRAE & Class AW only)]]=\"Metal - Curtainwall/storefront\",3,\nIF(Table6a[[#This Row],[Window Frame\n(ERI/ASHRAE & Class AW only)]]=\"Metal - Entrance door\",4,\nIF(Table6a[[#This Row],[Window Frame\n(ERI/ASHRAE & Class AW only)]]=\"Metal - Other\",5,\n\n\"\")))))))","v":""},{"$f":"IF(AND(Table6a[[#This Row],[WINDOW TYPE]]=\"Not Class AW\",$C$7=\"Prescriptive\"),3,\nIF(Table6a[[#This Row],[WINDOW TYPE]]=\"Not Class AW\",4,\n\nIF(AND(OR($C$7=\"ASHRAE\",$C$7=\"Title 24 - Whole Building Models\",$C$7=\"ERI\",$C$7=\"Title 24 - Dwelling Unit Models\"),$O18=\"< 0.25\"),7,\nIF(AND(OR($C$7=\"ASHRAE\",$C$7=\"Title 24 - Whole Building Models\",$C$7=\"ERI\",$C$7=\"Title 24 - Dwelling Unit Models\"),$O18=\"0.25 < PF < 0.5\"),8,\nIF(AND(OR($C$7=\"ASHRAE\",$C$7=\"Title 24 - Whole Building Models\",$C$7=\"ERI\",$C$7=\"Title 24 - Dwelling Unit Models\"),$O18=\">= 0.5\"),9,\n\nIF(AND(Table6a[[#This Row],[WINDOW TYPE]]=\"Class AW\",$C$7=\"Prescriptive\"),4,\n\nIF(Table6a[[#This Row],[WINDOW TYPE]]=\"Class AW\",6,\n\n\"\")))))))","v":""},"",null,null,{"$f":"IF(Table6a[[#This Row],[Total Area]]=\"\",\"\",Table6a[[#This Row],[Total Area]]*Table6a[[#This Row],[ASSEMBLY\nU-FACTOR]])","v":""}]
[null,null,null,null,null,null,{"$f":"IF(Table6a[[#This Row],[Qty]]=\"\",\"\",Table6a[[#This Row],[Qty]]*Table6a[[#This Row],[Area]])","v":""},null,{"$f":"IFERROR(IF(AND($C$9=\"Version 1.2 OR+WA\",OR($C$8=\"CZ 1\",$C$8=\"CZ 2\",$C$8=\"CZ 3\",$C$8=\"CZ 4\",$C$8=\"CZ 7\",$C$8=\"CZ 8\")),\"N/A - Update CZ\",\n\nIF(AND(OR($C$7=\"ERI\",$C$7=\"ASHRAE\",$C$7=\"Title 24 - Dwelling Unit Models\",$C$7=\"Title 24 - Whole Building Models\"),Table6a[[#This Row],[WINDOW TYPE]]=\"Class AW\"),INDEX(IECC2009_Fenestration_AW_Windows[#All],Table6a[[#This Row],[WindowFrame_UIndex]],Table6a[[#This Row],[CZ_Index]]),\nIF(AND(OR($C$7=\"ERI\",$C$7=\"ASHRAE\",$C$7=\"Title 24 - Dwelling Unit Models\",$C$7=\"Title 24 - Whole Building Models\"),Table6a[[#This Row],[WINDOW TYPE]]=\"Not Class AW\"),INDEX(IECC2009_Fenestration_NotAW_Windows[#All],Table6a[[#This Row],[WindowFrame_UIndex]],Table6a[[#This Row],[CZ_Index]]),\n\nIF(AND($C$7=\"Prescriptive\",Table6a[[#This Row],[WINDOW TYPE]]=\"Class AW\",$C$9=\"Version 1\"),INDEX(ESRefDesign_FenestrationAW_V1[#All],Table6a[[#This Row],[WindowFrame_UIndex]],Table6a[[#This Row],[CZ_Index]]),\nIF(AND($C$7=\"Prescriptive\",Table6a[[#This Row],[WINDOW TYPE]]=\"Not Class AW\",$C$9=\"Version 1\"),INDEX(ESRefDesign_Fenestration_V1[#All],Table6a[[#This Row],[WindowFrame_UIndex]],Table6a[[#This Row],[CZ_Index]]),\n\nIF(AND($C$7=\"Prescriptive\",Table6a[[#This Row],[WINDOW TYPE]]=\"Class AW\",$C$9=\"Version 1.1\"),INDEX(ESRefDesign_FenestrationAW_V11[#All],Table6a[[#This Row],[WindowFrame_UIndex]],Table6a[[#This Row],[CZ_Index]]),\nIF(AND($C$7=\"Prescriptive\",Table6a[[#This Row],[WINDOW TYPE]]=\"Not Class AW\",$C$9=\"Version 1.1\"),INDEX(ESRefDesign_Fenestration_V11[#All],Table6a[[#This Row],[WindowFrame_UIndex]],Table6a[[#This Row],[CZ_Index]]),\n\nIF(AND($C$7=\"Prescriptive\",Table6a[[#This Row],[WINDOW TYPE]]=\"Class AW\",$C$9=\"Version 1.2 OR+WA\"),INDEX(ESRefDesign_FenestrationAW_V12[#All],Table6a[[#This Row],[WindowFrame_UIndex]],Table6a[[#This Row],[CZ_Index]]),\nIF(AND($C$7=\"Prescriptive\",Table6a[[#This Row],[WINDOW TYPE]]=\"Not Class AW\",$C$9=\"Version 1.2 OR+WA\"),INDEX(ESRefDesign_Fenestration_V12[#All],Table6a[[#This Row],[WindowFrame_UIndex]],Table6a[[#This Row],[CZ_Index]]),\n\n\"\"))))))))),\"\")","v":""},{"$f":"IF(Table6a[[#This Row],[Total Area]]=\"\",\"\",Table6a[[#This Row],[Total Area]]*Table6a[[#This Row],[ENERGY STAR Requirement\nU-FACTOR]])","v":""},{"$f":"IFERROR(IF(AND(Table6a[[#This Row],[PROJECTION FACTOR (PF)\n(ERI/ASHRAE & Class AW only)]]=\"\",OR($C$7=\"ERI\",$C$7=\"ASHRAE\",$C$7=\"Title 24 - Dwelling Unit Models\",$C$7=\"Title 24 - Whole Building Models\"),Table6a[[#This Row],[WINDOW TYPE]]=\"Class AW\"),\"Enter PF\",\n\nIF(AND($C$9=\"Version 1.2 OR+WA\",OR($C$8=\"CZ 1\",$C$8=\"CZ 2\",$C$8=\"CZ 3\",$C$8=\"CZ 4\",$C$8=\"CZ 7\",$C$8=\"CZ 8\")),\"N/A - Update CZ\",\n\nIF(AND(OR($C$7=\"ERI\",$C$7=\"ASHRAE\",$C$7=\"Title 24 - Dwelling Unit Models\",$C$7=\"Title 24 - Whole Building Models\"),Table6a[[#This Row],[WINDOW TYPE]]=\"Class AW\"),INDEX(IECC2009_Fenestration_AW_Windows[#All],Table6a[[#This Row],[WindowFrame_SHGCIndex]],Table6a[[#This Row],[CZ_Index]]),\nIF(AND(OR($C$7=\"ERI\",$C$7=\"ASHRAE\",$C$7=\"Title 24 - Dwelling Unit Models\",$C$7=\"Title 24 - Whole Building Models\"),Table6a[[#This Row],[WINDOW TYPE]]=\"Not Class AW\"),INDEX(IECC2009_Fenestration_NotAW_Windows[#All],Table6a[[#This Row],[WindowFrame_SHGCIndex]],Table6a[[#This Row],[CZ_Index]]),\n\nIF(AND($C$7=\"Prescriptive\",Table6a[[#This Row],[WINDOW TYPE]]=\"Class AW\",$C$9=\"Version 1\"),INDEX(ESRefDesign_FenestrationAW_V1[#All],Table6a[[#This Row],[WindowFrame_SHGCIndex]],Table6a[[#This Row],[CZ_Index]]),\nIF(AND($C$7=\"Prescriptive\",Table6a[[#This Row],[WINDOW TYPE]]=\"Not Class AW\",$C$9=\"Version 1\"),INDEX(ESRefDesign_Fenestration_V1[#All],Table6a[[#This Row],[WindowFrame_SHGCIndex]],Table6a[[#This Row],[CZ_Index]]),\n\nIF(AND($C$7=\"Prescriptive\",Table6a[[#This Row],[WINDOW TYPE]]=\"Class AW\",$C$9=\"Version 1.1\"),INDEX(ESRefDesign_FenestrationAW_V11[#All],Table6a[[#This Row],[WindowFrame_SHGCIndex]],Table6a[[#This Row],[CZ_Index]]),\nIF(AND($C$7=\"Prescriptive\",Table6a[[#This Row],[WINDOW TYPE]]=\"Not Class AW\",$C$9=\"Version 1.1\"),INDEX(ESRefDesign_Fenestration_V11[#All],Table6a[[#This Row],[WindowFrame_SHGCIndex]],Table6a[[#This Row],[CZ_Index]]),\n\nIF(AND($C$7=\"Prescriptive\",Table6a[[#This Row],[WINDOW TYPE]]=\"Class AW\",$C$9=\"Version 1.2 OR+WA\"),INDEX(ESRefDesign_FenestrationAW_V12[#All],Table6a[[#This Row],[WindowFrame_SHGCIndex]],Table6a[[#This Row],[CZ_Index]]),\nIF(AND($C$7=\"Prescriptive\",Table6a[[#This Row],[WINDOW TYPE]]=\"Not Class AW\",$C$9=\"Version 1.2 OR+WA\"),INDEX(ESRefDesign_Fenestration_V12[#All],Table6a[[#This Row],[WindowFrame_SHGCIndex]],Table6a[[#This Row],[CZ_Index]]),\n\"\")))))))))),\"\")","v":""},{"$f":"IF(Table6a[[#This Row],[WINDOW TYPE]]=\"Not Class AW\",2,\n\nIF(AND($C$7=\"Prescriptive\",Table6a[[#This Row],[Fixed or Operable?\n(Prescriptive & Class AW Only)]]=\"Fixed\"),2,\nIF(AND($C$7=\"Prescriptive\",Table6a[[#This Row],[Fixed or Operable?\n(Prescriptive & Class AW Only)]]=\"Operable\"),3,\n\nIF(Table6a[[#This Row],[Window Frame\n(ERI/ASHRAE & Class AW only)]]=\"Non-Metal\",2,\nIF(Table6a[[#This Row],[Window Frame\n(ERI/ASHRAE & Class AW only)]]=\"Metal - Curtainwall/storefront\",3,\nIF(Table6a[[#This Row],[Window Frame\n(ERI/ASHRAE & Class AW only)]]=\"Metal - Entrance door\",4,\nIF(Table6a[[#This Row],[Window Frame\n(ERI/ASHRAE & Class AW only)]]=\"Metal - Other\",5,\n\n\"\")))))))","v":""},{"$f":"IF(AND(Table6a[[#This Row],[WINDOW TYPE]]=\"Not Class AW\",$C$7=\"Prescriptive\"),3,\nIF(Table6a[[#This Row],[WINDOW TYPE]]=\"Not Class AW\",4,\n\nIF(AND(OR($C$7=\"ASHRAE\",$C$7=\"Title 24 - Whole Building Models\",$C$7=\"ERI\",$C$7=\"Title 24 - Dwelling Unit Models\"),$O19=\"< 0.25\"),7,\nIF(AND(OR($C$7=\"ASHRAE\",$C$7=\"Title 24 - Whole Building Models\",$C$7=\"ERI\",$C$7=\"Title 24 - Dwelling Unit Models\"),$O19=\"0.25 < PF < 0.5\"),8,\nIF(AND(OR($C$7=\"ASHRAE\",$C$7=\"Title 24 - Whole Building Models\",$C$7=\"ERI\",$C$7=\"Title 24 - Dwelling Unit Models\"),$O19=\">= 0.5\"),9,\n\nIF(AND(Table6a[[#This Row],[WINDOW TYPE]]=\"Class AW\",$C$7=\"Prescriptive\"),4,\n\nIF(Table6a[[#This Row],[WINDOW TYPE]]=\"Class AW\",6,\n\n\"\")))))))","v":""},"",null,null,{"$f":"IF(Table6a[[#This Row],[Total Area]]=\"\",\"\",Table6a[[#This Row],[Total Area]]*Table6a[[#This Row],[ASSEMBLY\nU-FACTOR]])","v":""}]
[null,null,null,null,null,{"$f":"SUM(Table6a[Area])","v":0},{"$f":"SUM(Table6a[Total Area])","v":0},null,null,{"$f":"SUM(Table6a[ENERGY STAR Requirement UA])","v":0},null,null,null,null,null,null,{"$f":"SUM(Table6a[Total UA])","v":0}]
[null,null,null,"Weighted U-factor:",{"$f":"IFERROR(SUM(Table6a[Total UA])/SUM(Table6a[Total Area]),\"\")","v":""}]
[null,null,null,null,null,null,null,null,null,null,null,null,null,null,null,null,null,null,null,null,null,null,null,"NOTES"]
[null,"Windows - Common Spaces",null,null,null,null,null,null,null,null,null,"hide","hide","hide"]
[null,"ID","WINDOW TYPE\n(optional)","Fixed or Operable?\n(ERI & Prescriptive Only)","Qty","Area","Total Area","Window Frame\n(ASHRAE only)","ENERGY STAR Requirement\nU-FACTOR","ENERGY STAR Requirement UA","ENERGY STAR Requirement\nSHGC","WindowFrame_UIndex","WindowFrame_SHGCIndex","CZ_Index","PROJECTION FACTOR (PF)\n(ASHRAE only)","ASSEMBLY\nU-FACTOR","Total UA","SHGC ","LOCATION\n(dwg/spec)","PLAN REVIEW","INSPECTION?","INSPECTION COMMENTS"]
[null,null,null,null,null,null,{"$f":"IF(Table6b[[#This Row],[Qty]]=\"\",\"\",Table6b[[#This Row],[Qty]]*Table6b[[#This Row],[Area]])","v":""},null,{"$f":"IFERROR(IF(AND($C$9=\"Version 1.2 OR+WA\",OR($C$8=\"CZ 1\",$C$8=\"CZ 2\",$C$8=\"CZ 3\",$C$8=\"CZ 4\",$C$8=\"CZ 7\",$C$8=\"CZ 8\")),\"N/A - Update CZ\",\n\nIF(AND($C$9=\"Version 1\",OR($C$7=\"ERI\",$C$7=\"Title 24 - Dwelling Unit Models\",$C$7=\"Prescriptive\")),INDEX(ESRefDesign_FenestrationAW_V1[#All],Table6b[[#This Row],[WindowFrame_UIndex]],Table6b[[#This Row],[CZ_Index]]),\nIF(AND($C$9=\"Version 1.1\",OR($C$7=\"ERI\",$C$7=\"Title 24 - Dwelling Unit Models\",$C$7=\"Prescriptive\")),INDEX(ESRefDesign_FenestrationAW_V11[#All],Table6b[[#This Row],[WindowFrame_UIndex]],Table6b[[#This Row],[CZ_Index]]),\nIF(AND($C$9=\"Version 1.2 OR+WA\",OR($C$7=\"ERI\",$C$7=\"Title 24 - Dwelling Unit Models\",$C$7=\"Prescriptive\")),INDEX(ESRefDesign_FenestrationAW_V12[#All],Table6b[[#This Row],[WindowFrame_UIndex]],Table6b[[#This Row],[CZ_Index]]),\n\nIF(OR($C$7=\"ASHRAE\",$C$7=\"Title 24 - Whole Building Models\"),INDEX(IECC2009_Fenestration_AW_Windows[#All],Table6b[[#This Row],[WindowFrame_UIndex]],Table6b[[#This Row],[CZ_Index]]),\n\"\"))))),\"\")","v":""},{"$f":"IF(Table6b[[#This Row],[Total Area]]=\"\",\"\",Table6b[[#This Row],[Total Area]]*Table6b[[#This Row],[ENERGY STAR Requirement\nU-FACTOR]])","v":""},{"$f":"IFERROR(IF(Table6b[[#This Row],[ID]]=\"\",\"\",\n\nIF(AND(Table6b[[#This Row],[PROJECTION FACTOR (PF)\n(ASHRAE only)]]=\"\",Table6b[[#This Row],[ID]]<>\"\",OR($C$7=\"ASHRAE\",$C$7=\"Title 24 - Whole Building Models\")),\"Enter PF\",\n\nIF(AND($C$9=\"Version 1.2 OR+WA\",OR($C$8=\"CZ 1\",$C$8=\"CZ 2\",$C$8=\"CZ 3\",$C$8=\"CZ 4\",$C$8=\"CZ 7\",$C$8=\"CZ 8\")),\"N/A - Update CZ\",\n\nIF(AND($C$9=\"Version 1\",OR($C$7=\"ERI\",$C$7=\"Title 24 - Dwelling Unit Models\",$C$7=\"Prescriptive\")),INDEX(ESRefDesign_FenestrationAW_V1[#All],Table6b[[#This Row],[WindowFrame_SHGCIndex]],Table6b[[#This Row],[CZ_Index]]),\nIF(AND($C$9=\"Version 1.1\",OR($C$7=\"ERI\",$C$7=\"Title 24 - Dwelling Unit Models\",$C$7=\"Prescriptive\")),INDEX(ESRefDesign_FenestrationAW_V11[#All],Table6b[[#This Row],[WindowFrame_SHGCIndex]],Table6b[[#This Row],[CZ_Index]]),\nIF(AND($C$9=\"Version 1.2 OR+WA\",OR($C$7=\"ERI\",$C$7=\"Title 24 - Dwelling Unit Models\",$C$7=\"Prescriptive\")),INDEX(ESRefDesign_FenestrationAW_V12[#All],Table6b[[#This Row],[WindowFrame_SHGCIndex]],Table6b[[#This Row],[CZ_Index]]),\n\nIF(OR($C$7=\"ASHRAE\",$C$7=\"Title 24 - Whole Building Models\"),INDEX(IECC2009_Fenestration_AW_Windows[#All],Table6b[[#This Row],[WindowFrame_SHGCIndex]],Table6b[[#This Row],[CZ_Index]]),\n\"\"))))))),\"\")","v":""},{"$f":"IF(AND(OR($C$7=\"Prescriptive\",$C$7=\"ERI\",$C$7=\"Title 24 - Dwelling Unit Models\"),Table6b[[#This Row],[Fixed or Operable?\n(ERI & Prescriptive Only)]]=\"Fixed\"),2,\nIF(AND(OR($C$7=\"Prescriptive\",$C$7=\"ERI\",$C$7=\"Title 24 - Dwelling Unit Models\"),Table6b[[#This Row],[Fixed or Operable?\n(ERI & Prescriptive Only)]]=\"Operable\"),3,\n\nIF(AND(OR($C$7=\"ASHRAE\",$C$7=\"Title 24 - Whole Building Models\"),Table6b[[#This Row],[Window Frame\n(ASHRAE only)]]=\"Non-Metal\"),2,\nIF(AND(OR($C$7=\"ASHRAE\",$C$7=\"Title 24 - Whole Building Models\"),Table6b[[#This Row],[Window Frame\n(ASHRAE only)]]=\"Metal - Curtainwall/storefront\"),3,\nIF(AND(OR($C$7=\"ASHRAE\",$C$7=\"Title 24 - Whole Building Models\"),Table6b[[#This Row],[Window Frame\n(ASHRAE only)]]=\"Metal - Entrance door\"),4,\nIF(AND(OR($C$7=\"ASHRAE\",$C$7=\"Title 24 - Whole Building Models\"),Table6b[[#This Row],[Window Frame\n(ASHRAE only)]]=\"Metal - Other\"),5,\n\n\"\"))))))","v":""},{"$f":"IF(OR($C$7=\"Prescriptive\",$C$7=\"ERI\",$C$7=\"Title 24 - Dwelling Unit Models\"),4,\n\nIF(AND(OR($C$7=\"ASHRAE\",$C$7=\"Title 24 - Whole Building Models\"),$O25=\"< 0.25\"),7,\nIF(AND(OR($C$7=\"ASHRAE\",$C$7=\"Title 24 - Whole Building Models\"),$O25=\"0.25 < PF < 0.5\"),8,\nIF(AND(OR($C$7=\"ASHRAE\",$C$7=\"Title 24 - Whole Building Models\"),$O25=\">= 0.5\"),9,\n\nIF($C$7=\"\",\"\",\"\")))))","v":""},{"$f":"IF(AND($C$9=\"Version 1.2 OR+WA\",OR($C$7=\"Prescriptive\",$C$7=\"ERI\",$C$7=\"Title 24 - Dwelling Unit Models\"),$C$8=\"CZ 4 C\"),2,\nIF(AND($C$9=\"Version 1.2 OR+WA\",OR($C$7=\"Prescriptive\",$C$7=\"ERI\",$C$7=\"Title 24 - Dwelling Unit Models\"),$C$8=\"CZ 5\"),3,\nIF(AND($C$9=\"Version 1.2 OR+WA\",OR($C$7=\"Prescriptive\",$C$7=\"ERI\",$C$7=\"Title 24 - Dwelling Unit Models\"),$C$8=\"CZ 6\"),4,\n\nIF($C$8=\"CZ 1\",2,\nIF($C$8=\"CZ 2\",3,\nIF($C$8=\"CZ 3\",4,\nIF($C$8=\"CZ 4\",5,\nIF($C$8=\"CZ 4 C\",6,\nIF($C$8=\"CZ 5\",7,\nIF($C$8=\"CZ 6\",8,\nIF($C$8=\"CZ 7\",9,\nIF($C$8=\"CZ 8\",10,\"\"))))))))))))","v":""},null,null,{"$f":"IF(Table6b[[#This Row],[Total Area]]=\"\",\"\",Table6b[[#This Row],[Total Area]]*Table6b[[#This Row],[ASSEMBLY\nU-FACTOR]])","v":""}]
[null,null,null,null,null,null,{"$f":"IF(Table6b[[#This Row],[Qty]]=\"\",\"\",Table6b[[#This Row],[Qty]]*Table6b[[#This Row],[Area]])","v":""},null,{"$f":"IFERROR(IF(AND($C$9=\"Version 1.2 OR+WA\",OR($C$8=\"CZ 1\",$C$8=\"CZ 2\",$C$8=\"CZ 3\",$C$8=\"CZ 4\",$C$8=\"CZ 7\",$C$8=\"CZ 8\")),\"N/A - Update CZ\",\n\nIF(AND($C$9=\"Version 1\",OR($C$7=\"ERI\",$C$7=\"Title 24 - Dwelling Unit Models\",$C$7=\"Prescriptive\")),INDEX(ESRefDesign_FenestrationAW_V1[#All],Table6b[[#This Row],[WindowFrame_UIndex]],Table6b[[#This Row],[CZ_Index]]),\nIF(AND($C$9=\"Version 1.1\",OR($C$7=\"ERI\",$C$7=\"Title 24 - Dwelling Unit Models\",$C$7=\"Prescriptive\")),INDEX(ESRefDesign_FenestrationAW_V11[#All],Table6b[[#This Row],[WindowFrame_UIndex]],Table6b[[#This Row],[CZ_Index]]),\nIF(AND($C$9=\"Version 1.2 OR+WA\",OR($C$7=\"ERI\",$C$7=\"Title 24 - Dwelling Unit Models\",$C$7=\"Prescriptive\")),INDEX(ESRefDesign_FenestrationAW_V12[#All],Table6b[[#This Row],[WindowFrame_UIndex]],Table6b[[#This Row],[CZ_Index]]),\n\nIF(OR($C$7=\"ASHRAE\",$C$7=\"Title 24 - Whole Building Models\"),INDEX(IECC2009_Fenestration_AW_Windows[#All],Table6b[[#This Row],[WindowFrame_UIndex]],Table6b[[#This Row],[CZ_Index]]),\n\"\"))))),\"\")","v":""},{"$f":"IF(Table6b[[#This Row],[Total Area]]=\"\",\"\",Table6b[[#This Row],[Total Area]]*Table6b[[#This Row],[ENERGY STAR Requirement\nU-FACTOR]])","v":""},{"$f":"IFERROR(IF(Table6b[[#This Row],[ID]]=\"\",\"\",\n\nIF(AND(Table6b[[#This Row],[PROJECTION FACTOR (PF)\n(ASHRAE only)]]=\"\",Table6b[[#This Row],[ID]]<>\"\",OR($C$7=\"ASHRAE\",$C$7=\"Title 24 - Whole Building Models\")),\"Enter PF\",\n\nIF(AND($C$9=\"Version 1.2 OR+WA\",OR($C$8=\"CZ 1\",$C$8=\"CZ 2\",$C$8=\"CZ 3\",$C$8=\"CZ 4\",$C$8=\"CZ 7\",$C$8=\"CZ 8\")),\"N/A - Update CZ\",\n\nIF(AND($C$9=\"Version 1\",OR($C$7=\"ERI\",$C$7=\"Title 24 - Dwelling Unit Models\",$C$7=\"Prescriptive\")),INDEX(ESRefDesign_FenestrationAW_V1[#All],Table6b[[#This Row],[WindowFrame_SHGCIndex]],Table6b[[#This Row],[CZ_Index]]),\nIF(AND($C$9=\"Version 1.1\",OR($C$7=\"ERI\",$C$7=\"Title 24 - Dwelling Unit Models\",$C$7=\"Prescriptive\")),INDEX(ESRefDesign_FenestrationAW_V11[#All],Table6b[[#This Row],[WindowFrame_SHGCIndex]],Table6b[[#This Row],[CZ_Index]]),\nIF(AND($C$9=\"Version 1.2 OR+WA\",OR($C$7=\"ERI\",$C$7=\"Title 24 - Dwelling Unit Models\",$C$7=\"Prescriptive\")),INDEX(ESRefDesign_FenestrationAW_V12[#All],Table6b[[#This Row],[WindowFrame_SHGCIndex]],Table6b[[#This Row],[CZ_Index]]),\n\nIF(OR($C$7=\"ASHRAE\",$C$7=\"Title 24 - Whole Building Models\"),INDEX(IECC2009_Fenestration_AW_Windows[#All],Table6b[[#This Row],[WindowFrame_SHGCIndex]],Table6b[[#This Row],[CZ_Index]]),\n\"\"))))))),\"\")","v":""},{"$f":"IF(AND(OR($C$7=\"Prescriptive\",$C$7=\"ERI\",$C$7=\"Title 24 - Dwelling Unit Models\"),Table6b[[#This Row],[Fixed or Operable?\n(ERI & Prescriptive Only)]]=\"Fixed\"),2,\nIF(AND(OR($C$7=\"Prescriptive\",$C$7=\"ERI\",$C$7=\"Title 24 - Dwelling Unit Models\"),Table6b[[#This Row],[Fixed or Operable?\n(ERI & Prescriptive Only)]]=\"Operable\"),3,\n\nIF(AND(OR($C$7=\"ASHRAE\",$C$7=\"Title 24 - Whole Building Models\"),Table6b[[#This Row],[Window Frame\n(ASHRAE only)]]=\"Non-Metal\"),2,\nIF(AND(OR($C$7=\"ASHRAE\",$C$7=\"Title 24 - Whole Building Models\"),Table6b[[#This Row],[Window Frame\n(ASHRAE only)]]=\"Metal - Curtainwall/storefront\"),3,\nIF(AND(OR($C$7=\"ASHRAE\",$C$7=\"Title 24 - Whole Building Models\"),Table6b[[#This Row],[Window Frame\n(ASHRAE only)]]=\"Metal - Entrance door\"),4,\nIF(AND(OR($C$7=\"ASHRAE\",$C$7=\"Title 24 - Whole Building Models\"),Table6b[[#This Row],[Window Frame\n(ASHRAE only)]]=\"Metal - Other\"),5,\n\n\"\"))))))","v":""},"","",null,null,{"$f":"IF(Table6b[[#This Row],[Total Area]]=\"\",\"\",Table6b[[#This Row],[Total Area]]*Table6b[[#This Row],[ASSEMBLY\nU-FACTOR]])","v":""}]
[null,null,null,null,null,null,{"$f":"IF(Table6b[[#This Row],[Qty]]=\"\",\"\",Table6b[[#This Row],[Qty]]*Table6b[[#This Row],[Area]])","v":""},null,{"$f":"IFERROR(IF(AND($C$9=\"Version 1.2 OR+WA\",OR($C$8=\"CZ 1\",$C$8=\"CZ 2\",$C$8=\"CZ 3\",$C$8=\"CZ 4\",$C$8=\"CZ 7\",$C$8=\"CZ 8\")),\"N/A - Update CZ\",\n\nIF(AND($C$9=\"Version 1\",OR($C$7=\"ERI\",$C$7=\"Title 24 - Dwelling Unit Models\",$C$7=\"Prescriptive\")),INDEX(ESRefDesign_FenestrationAW_V1[#All],Table6b[[#This Row],[WindowFrame_UIndex]],Table6b[[#This Row],[CZ_Index]]),\nIF(AND($C$9=\"Version 1.1\",OR($C$7=\"ERI\",$C$7=\"Title 24 - Dwelling Unit Models\",$C$7=\"Prescriptive\")),INDEX(ESRefDesign_FenestrationAW_V11[#All],Table6b[[#This Row],[WindowFrame_UIndex]],Table6b[[#This Row],[CZ_Index]]),\nIF(AND($C$9=\"Version 1.2 OR+WA\",OR($C$7=\"ERI\",$C$7=\"Title 24 - Dwelling Unit Models\",$C$7=\"Prescriptive\")),INDEX(ESRefDesign_FenestrationAW_V12[#All],Table6b[[#This Row],[WindowFrame_UIndex]],Table6b[[#This Row],[CZ_Index]]),\n\nIF(OR($C$7=\"ASHRAE\",$C$7=\"Title 24 - Whole Building Models\"),INDEX(IECC2009_Fenestration_AW_Windows[#All],Table6b[[#This Row],[WindowFrame_UIndex]],Table6b[[#This Row],[CZ_Index]]),\n\"\"))))),\"\")","v":""},{"$f":"IF(Table6b[[#This Row],[Total Area]]=\"\",\"\",Table6b[[#This Row],[Total Area]]*Table6b[[#This Row],[ENERGY STAR Requirement\nU-FACTOR]])","v":""},{"$f":"IFERROR(IF(Table6b[[#This Row],[ID]]=\"\",\"\",\n\nIF(AND(Table6b[[#This Row],[PROJECTION FACTOR (PF)\n(ASHRAE only)]]=\"\",Table6b[[#This Row],[ID]]<>\"\",OR($C$7=\"ASHRAE\",$C$7=\"Title 24 - Whole Building Models\")),\"Enter PF\",\n\nIF(AND($C$9=\"Version 1.2 OR+WA\",OR($C$8=\"CZ 1\",$C$8=\"CZ 2\",$C$8=\"CZ 3\",$C$8=\"CZ 4\",$C$8=\"CZ 7\",$C$8=\"CZ 8\")),\"N/A - Update CZ\",\n\nIF(AND($C$9=\"Version 1\",OR($C$7=\"ERI\",$C$7=\"Title 24 - Dwelling Unit Models\",$C$7=\"Prescriptive\")),INDEX(ESRefDesign_FenestrationAW_V1[#All],Table6b[[#This Row],[WindowFrame_SHGCIndex]],Table6b[[#This Row],[CZ_Index]]),\nIF(AND($C$9=\"Version 1.1\",OR($C$7=\"ERI\",$C$7=\"Title 24 - Dwelling Unit Models\",$C$7=\"Prescriptive\")),INDEX(ESRefDesign_FenestrationAW_V11[#All],Table6b[[#This Row],[WindowFrame_SHGCIndex]],Table6b[[#This Row],[CZ_Index]]),\nIF(AND($C$9=\"Version 1.2 OR+WA\",OR($C$7=\"ERI\",$C$7=\"Title 24 - Dwelling Unit Models\",$C$7=\"Prescriptive\")),INDEX(ESRefDesign_FenestrationAW_V12[#All],Table6b[[#This Row],[WindowFrame_SHGCIndex]],Table6b[[#This Row],[CZ_Index]]),\n\nIF(OR($C$7=\"ASHRAE\",$C$7=\"Title 24 - Whole Building Models\"),INDEX(IECC2009_Fenestration_AW_Windows[#All],Table6b[[#This Row],[WindowFrame_SHGCIndex]],Table6b[[#This Row],[CZ_Index]]),\n\"\"))))))),\"\")","v":""},{"$f":"IF(AND(OR($C$7=\"Prescriptive\",$C$7=\"ERI\",$C$7=\"Title 24 - Dwelling Unit Models\"),Table6b[[#This Row],[Fixed or Operable?\n(ERI & Prescriptive Only)]]=\"Fixed\"),2,\nIF(AND(OR($C$7=\"Prescriptive\",$C$7=\"ERI\",$C$7=\"Title 24 - Dwelling Unit Models\"),Table6b[[#This Row],[Fixed or Operable?\n(ERI & Prescriptive Only)]]=\"Operable\"),3,\n\nIF(AND(OR($C$7=\"ASHRAE\",$C$7=\"Title 24 - Whole Building Models\"),Table6b[[#This Row],[Window Frame\n(ASHRAE only)]]=\"Non-Metal\"),2,\nIF(AND(OR($C$7=\"ASHRAE\",$C$7=\"Title 24 - Whole Building Models\"),Table6b[[#This Row],[Window Frame\n(ASHRAE only)]]=\"Metal - Curtainwall/storefront\"),3,\nIF(AND(OR($C$7=\"ASHRAE\",$C$7=\"Title 24 - Whole Building Models\"),Table6b[[#This Row],[Window Frame\n(ASHRAE only)]]=\"Metal - Entrance door\"),4,\nIF(AND(OR($C$7=\"ASHRAE\",$C$7=\"Title 24 - Whole Building Models\"),Table6b[[#This Row],[Window Frame\n(ASHRAE only)]]=\"Metal - Other\"),5,\n\n\"\"))))))","v":""},"","",null,null,{"$f":"IF(Table6b[[#This Row],[Total Area]]=\"\",\"\",Table6b[[#This Row],[Total Area]]*Table6b[[#This Row],[ASSEMBLY\nU-FACTOR]])","v":""}]
[null,null,null,null,null,null,{"$f":"IF(Table6b[[#This Row],[Qty]]=\"\",\"\",Table6b[[#This Row],[Qty]]*Table6b[[#This Row],[Area]])","v":""},null,{"$f":"IFERROR(IF(AND($C$9=\"Version 1.2 OR+WA\",OR($C$8=\"CZ 1\",$C$8=\"CZ 2\",$C$8=\"CZ 3\",$C$8=\"CZ 4\",$C$8=\"CZ 7\",$C$8=\"CZ 8\")),\"N/A - Update CZ\",\n\nIF(AND($C$9=\"Version 1\",OR($C$7=\"ERI\",$C$7=\"Title 24 - Dwelling Unit Models\",$C$7=\"Prescriptive\")),INDEX(ESRefDesign_FenestrationAW_V1[#All],Table6b[[#This Row],[WindowFrame_UIndex]],Table6b[[#This Row],[CZ_Index]]),\nIF(AND($C$9=\"Version 1.1\",OR($C$7=\"ERI\",$C$7=\"Title 24 - Dwelling Unit Models\",$C$7=\"Prescriptive\")),INDEX(ESRefDesign_FenestrationAW_V11[#All],Table6b[[#This Row],[WindowFrame_UIndex]],Table6b[[#This Row],[CZ_Index]]),\nIF(AND($C$9=\"Version 1.2 OR+WA\",OR($C$7=\"ERI\",$C$7=\"Title 24 - Dwelling Unit Models\",$C$7=\"Prescriptive\")),INDEX(ESRefDesign_FenestrationAW_V12[#All],Table6b[[#This Row],[WindowFrame_UIndex]],Table6b[[#This Row],[CZ_Index]]),\n\nIF(OR($C$7=\"ASHRAE\",$C$7=\"Title 24 - Whole Building Models\"),INDEX(IECC2009_Fenestration_AW_Windows[#All],Table6b[[#This Row],[WindowFrame_UIndex]],Table6b[[#This Row],[CZ_Index]]),\n\"\"))))),\"\")","v":""},{"$f":"IF(Table6b[[#This Row],[Total Area]]=\"\",\"\",Table6b[[#This Row],[Total Area]]*Table6b[[#This Row],[ENERGY STAR Requirement\nU-FACTOR]])","v":""},{"$f":"IFERROR(IF(Table6b[[#This Row],[ID]]=\"\",\"\",\n\nIF(AND(Table6b[[#This Row],[PROJECTION FACTOR (PF)\n(ASHRAE only)]]=\"\",Table6b[[#This Row],[ID]]<>\"\",OR($C$7=\"ASHRAE\",$C$7=\"Title 24 - Whole Building Models\")),\"Enter PF\",\n\nIF(AND($C$9=\"Version 1.2 OR+WA\",OR($C$8=\"CZ 1\",$C$8=\"CZ 2\",$C$8=\"CZ 3\",$C$8=\"CZ 4\",$C$8=\"CZ 7\",$C$8=\"CZ 8\")),\"N/A - Update CZ\",\n\nIF(AND($C$9=\"Version 1\",OR($C$7=\"ERI\",$C$7=\"Title 24 - Dwelling Unit Models\",$C$7=\"Prescriptive\")),INDEX(ESRefDesign_FenestrationAW_V1[#All],Table6b[[#This Row],[WindowFrame_SHGCIndex]],Table6b[[#This Row],[CZ_Index]]),\nIF(AND($C$9=\"Version 1.1\",OR($C$7=\"ERI\",$C$7=\"Title 24 - Dwelling Unit Models\",$C$7=\"Prescriptive\")),INDEX(ESRefDesign_FenestrationAW_V11[#All],Table6b[[#This Row],[WindowFrame_SHGCIndex]],Table6b[[#This Row],[CZ_Index]]),\nIF(AND($C$9=\"Version 1.2 OR+WA\",OR($C$7=\"ERI\",$C$7=\"Title 24 - Dwelling Unit Models\",$C$7=\"Prescriptive\")),INDEX(ESRefDesign_FenestrationAW_V12[#All],Table6b[[#This Row],[WindowFrame_SHGCIndex]],Table6b[[#This Row],[CZ_Index]]),\n\nIF(OR($C$7=\"ASHRAE\",$C$7=\"Title 24 - Whole Building Models\"),INDEX(IECC2009_Fenestration_AW_Windows[#All],Table6b[[#This Row],[WindowFrame_SHGCIndex]],Table6b[[#This Row],[CZ_Index]]),\n\"\"))))))),\"\")","v":""},{"$f":"IF(AND(OR($C$7=\"Prescriptive\",$C$7=\"ERI\",$C$7=\"Title 24 - Dwelling Unit Models\"),Table6b[[#This Row],[Fixed or Operable?\n(ERI & Prescriptive Only)]]=\"Fixed\"),2,\nIF(AND(OR($C$7=\"Prescriptive\",$C$7=\"ERI\",$C$7=\"Title 24 - Dwelling Unit Models\"),Table6b[[#This Row],[Fixed or Operable?\n(ERI & Prescriptive Only)]]=\"Operable\"),3,\n\nIF(AND(OR($C$7=\"ASHRAE\",$C$7=\"Title 24 - Whole Building Models\"),Table6b[[#This Row],[Window Frame\n(ASHRAE only)]]=\"Non-Metal\"),2,\nIF(AND(OR($C$7=\"ASHRAE\",$C$7=\"Title 24 - Whole Building Models\"),Table6b[[#This Row],[Window Frame\n(ASHRAE only)]]=\"Metal - Curtainwall/storefront\"),3,\nIF(AND(OR($C$7=\"ASHRAE\",$C$7=\"Title 24 - Whole Building Models\"),Table6b[[#This Row],[Window Frame\n(ASHRAE only)]]=\"Metal - Entrance door\"),4,\nIF(AND(OR($C$7=\"ASHRAE\",$C$7=\"Title 24 - Whole Building Models\"),Table6b[[#This Row],[Window Frame\n(ASHRAE only)]]=\"Metal - Other\"),5,\n\n\"\"))))))","v":""},"","",null,null,{"$f":"IF(Table6b[[#This Row],[Total Area]]=\"\",\"\",Table6b[[#This Row],[Total Area]]*Table6b[[#This Row],[ASSEMBLY\nU-FACTOR]])","v":""}]
[null,null,null,null,null,null,{"$f":"IF(Table6b[[#This Row],[Qty]]=\"\",\"\",Table6b[[#This Row],[Qty]]*Table6b[[#This Row],[Area]])","v":""},null,{"$f":"IFERROR(IF(AND($C$9=\"Version 1.2 OR+WA\",OR($C$8=\"CZ 1\",$C$8=\"CZ 2\",$C$8=\"CZ 3\",$C$8=\"CZ 4\",$C$8=\"CZ 7\",$C$8=\"CZ 8\")),\"N/A - Update CZ\",\n\nIF(AND($C$9=\"Version 1\",OR($C$7=\"ERI\",$C$7=\"Title 24 - Dwelling Unit Models\",$C$7=\"Prescriptive\")),INDEX(ESRefDesign_FenestrationAW_V1[#All],Table6b[[#This Row],[WindowFrame_UIndex]],Table6b[[#This Row],[CZ_Index]]),\nIF(AND($C$9=\"Version 1.1\",OR($C$7=\"ERI\",$C$7=\"Title 24 - Dwelling Unit Models\",$C$7=\"Prescriptive\")),INDEX(ESRefDesign_FenestrationAW_V11[#All],Table6b[[#This Row],[WindowFrame_UIndex]],Table6b[[#This Row],[CZ_Index]]),\nIF(AND($C$9=\"Version 1.2 OR+WA\",OR($C$7=\"ERI\",$C$7=\"Title 24 - Dwelling Unit Models\",$C$7=\"Prescriptive\")),INDEX(ESRefDesign_FenestrationAW_V12[#All],Table6b[[#This Row],[WindowFrame_UIndex]],Table6b[[#This Row],[CZ_Index]]),\n\nIF(OR($C$7=\"ASHRAE\",$C$7=\"Title 24 - Whole Building Models\"),INDEX(IECC2009_Fenestration_AW_Windows[#All],Table6b[[#This Row],[WindowFrame_UIndex]],Table6b[[#This Row],[CZ_Index]]),\n\"\"))))),\"\")","v":""},{"$f":"IF(Table6b[[#This Row],[Total Area]]=\"\",\"\",Table6b[[#This Row],[Total Area]]*Table6b[[#This Row],[ENERGY STAR Requirement\nU-FACTOR]])","v":""},{"$f":"IFERROR(IF(Table6b[[#This Row],[ID]]=\"\",\"\",\n\nIF(AND(Table6b[[#This Row],[PROJECTION FACTOR (PF)\n(ASHRAE only)]]=\"\",Table6b[[#This Row],[ID]]<>\"\",OR($C$7=\"ASHRAE\",$C$7=\"Title 24 - Whole Building Models\")),\"Enter PF\",\n\nIF(AND($C$9=\"Version 1.2 OR+WA\",OR($C$8=\"CZ 1\",$C$8=\"CZ 2\",$C$8=\"CZ 3\",$C$8=\"CZ 4\",$C$8=\"CZ 7\",$C$8=\"CZ 8\")),\"N/A - Update CZ\",\n\nIF(AND($C$9=\"Version 1\",OR($C$7=\"ERI\",$C$7=\"Title 24 - Dwelling Unit Models\",$C$7=\"Prescriptive\")),INDEX(ESRefDesign_FenestrationAW_V1[#All],Table6b[[#This Row],[WindowFrame_SHGCIndex]],Table6b[[#This Row],[CZ_Index]]),\nIF(AND($C$9=\"Version 1.1\",OR($C$7=\"ERI\",$C$7=\"Title 24 - Dwelling Unit Models\",$C$7=\"Prescriptive\")),INDEX(ESRefDesign_FenestrationAW_V11[#All],Table6b[[#This Row],[WindowFrame_SHGCIndex]],Table6b[[#This Row],[CZ_Index]]),\nIF(AND($C$9=\"Version 1.2 OR+WA\",OR($C$7=\"ERI\",$C$7=\"Title 24 - Dwelling Unit Models\",$C$7=\"Prescriptive\")),INDEX(ESRefDesign_FenestrationAW_V12[#All],Table6b[[#This Row],[WindowFrame_SHGCIndex]],Table6b[[#This Row],[CZ_Index]]),\n\nIF(OR($C$7=\"ASHRAE\",$C$7=\"Title 24 - Whole Building Models\"),INDEX(IECC2009_Fenestration_AW_Windows[#All],Table6b[[#This Row],[WindowFrame_SHGCIndex]],Table6b[[#This Row],[CZ_Index]]),\n\"\"))))))),\"\")","v":""},{"$f":"IF(AND(OR($C$7=\"Prescriptive\",$C$7=\"ERI\",$C$7=\"Title 24 - Dwelling Unit Models\"),Table6b[[#This Row],[Fixed or Operable?\n(ERI & Prescriptive Only)]]=\"Fixed\"),2,\nIF(AND(OR($C$7=\"Prescriptive\",$C$7=\"ERI\",$C$7=\"Title 24 - Dwelling Unit Models\"),Table6b[[#This Row],[Fixed or Operable?\n(ERI & Prescriptive Only)]]=\"Operable\"),3,\n\nIF(AND(OR($C$7=\"ASHRAE\",$C$7=\"Title 24 - Whole Building Models\"),Table6b[[#This Row],[Window Frame\n(ASHRAE only)]]=\"Non-Metal\"),2,\nIF(AND(OR($C$7=\"ASHRAE\",$C$7=\"Title 24 - Whole Building Models\"),Table6b[[#This Row],[Window Frame\n(ASHRAE only)]]=\"Metal - Curtainwall/storefront\"),3,\nIF(AND(OR($C$7=\"ASHRAE\",$C$7=\"Title 24 - Whole Building Models\"),Table6b[[#This Row],[Window Frame\n(ASHRAE only)]]=\"Metal - Entrance door\"),4,\nIF(AND(OR($C$7=\"ASHRAE\",$C$7=\"Title 24 - Whole Building Models\"),Table6b[[#This Row],[Window Frame\n(ASHRAE only)]]=\"Metal - Other\"),5,\n\n\"\"))))))","v":""},"","",null,null,{"$f":"IF(Table6b[[#This Row],[Total Area]]=\"\",\"\",Table6b[[#This Row],[Total Area]]*Table6b[[#This Row],[ASSEMBLY\nU-FACTOR]])","v":""}]
[null,null,null,null,null,null,{"$f":"IF(Table6b[[#This Row],[Qty]]=\"\",\"\",Table6b[[#This Row],[Qty]]*Table6b[[#This Row],[Area]])","v":""},null,{"$f":"IFERROR(IF(AND($C$9=\"Version 1.2 OR+WA\",OR($C$8=\"CZ 1\",$C$8=\"CZ 2\",$C$8=\"CZ 3\",$C$8=\"CZ 4\",$C$8=\"CZ 7\",$C$8=\"CZ 8\")),\"N/A - Update CZ\",\n\nIF(AND($C$9=\"Version 1\",OR($C$7=\"ERI\",$C$7=\"Title 24 - Dwelling Unit Models\",$C$7=\"Prescriptive\")),INDEX(ESRefDesign_FenestrationAW_V1[#All],Table6b[[#This Row],[WindowFrame_UIndex]],Table6b[[#This Row],[CZ_Index]]),\nIF(AND($C$9=\"Version 1.1\",OR($C$7=\"ERI\",$C$7=\"Title 24 - Dwelling Unit Models\",$C$7=\"Prescriptive\")),INDEX(ESRefDesign_FenestrationAW_V11[#All],Table6b[[#This Row],[WindowFrame_UIndex]],Table6b[[#This Row],[CZ_Index]]),\nIF(AND($C$9=\"Version 1.2 OR+WA\",OR($C$7=\"ERI\",$C$7=\"Title 24 - Dwelling Unit Models\",$C$7=\"Prescriptive\")),INDEX(ESRefDesign_FenestrationAW_V12[#All],Table6b[[#This Row],[WindowFrame_UIndex]],Table6b[[#This Row],[CZ_Index]]),\n\nIF(OR($C$7=\"ASHRAE\",$C$7=\"Title 24 - Whole Building Models\"),INDEX(IECC2009_Fenestration_AW_Windows[#All],Table6b[[#This Row],[WindowFrame_UIndex]],Table6b[[#This Row],[CZ_Index]]),\n\"\"))))),\"\")","v":""},{"$f":"IF(Table6b[[#This Row],[Total Area]]=\"\",\"\",Table6b[[#This Row],[Total Area]]*Table6b[[#This Row],[ENERGY STAR Requirement\nU-FACTOR]])","v":""},{"$f":"IFERROR(IF(Table6b[[#This Row],[ID]]=\"\",\"\",\n\nIF(AND(Table6b[[#This Row],[PROJECTION FACTOR (PF)\n(ASHRAE only)]]=\"\",Table6b[[#This Row],[ID]]<>\"\",OR($C$7=\"ASHRAE\",$C$7=\"Title 24 - Whole Building Models\")),\"Enter PF\",\n\nIF(AND($C$9=\"Version 1.2 OR+WA\",OR($C$8=\"CZ 1\",$C$8=\"CZ 2\",$C$8=\"CZ 3\",$C$8=\"CZ 4\",$C$8=\"CZ 7\",$C$8=\"CZ 8\")),\"N/A - Update CZ\",\n\nIF(AND($C$9=\"Version 1\",OR($C$7=\"ERI\",$C$7=\"Title 24 - Dwelling Unit Models\",$C$7=\"Prescriptive\")),INDEX(ESRefDesign_FenestrationAW_V1[#All],Table6b[[#This Row],[WindowFrame_SHGCIndex]],Table6b[[#This Row],[CZ_Index]]),\nIF(AND($C$9=\"Version 1.1\",OR($C$7=\"ERI\",$C$7=\"Title 24 - Dwelling Unit Models\",$C$7=\"Prescriptive\")),INDEX(ESRefDesign_FenestrationAW_V11[#All],Table6b[[#This Row],[WindowFrame_SHGCIndex]],Table6b[[#This Row],[CZ_Index]]),\nIF(AND($C$9=\"Version 1.2 OR+WA\",OR($C$7=\"ERI\",$C$7=\"Title 24 - Dwelling Unit Models\",$C$7=\"Prescriptive\")),INDEX(ESRefDesign_FenestrationAW_V12[#All],Table6b[[#This Row],[WindowFrame_SHGCIndex]],Table6b[[#This Row],[CZ_Index]]),\n\nIF(OR($C$7=\"ASHRAE\",$C$7=\"Title 24 - Whole Building Models\"),INDEX(IECC2009_Fenestration_AW_Windows[#All],Table6b[[#This Row],[WindowFrame_SHGCIndex]],Table6b[[#This Row],[CZ_Index]]),\n\"\"))))))),\"\")","v":""},{"$f":"IF(AND(OR($C$7=\"Prescriptive\",$C$7=\"ERI\",$C$7=\"Title 24 - Dwelling Unit Models\"),Table6b[[#This Row],[Fixed or Operable?\n(ERI & Prescriptive Only)]]=\"Fixed\"),2,\nIF(AND(OR($C$7=\"Prescriptive\",$C$7=\"ERI\",$C$7=\"Title 24 - Dwelling Unit Models\"),Table6b[[#This Row],[Fixed or Operable?\n(ERI & Prescriptive Only)]]=\"Operable\"),3,\n\nIF(AND(OR($C$7=\"ASHRAE\",$C$7=\"Title 24 - Whole Building Models\"),Table6b[[#This Row],[Window Frame\n(ASHRAE only)]]=\"Non-Metal\"),2,\nIF(AND(OR($C$7=\"ASHRAE\",$C$7=\"Title 24 - Whole Building Models\"),Table6b[[#This Row],[Window Frame\n(ASHRAE only)]]=\"Metal - Curtainwall/storefront\"),3,\nIF(AND(OR($C$7=\"ASHRAE\",$C$7=\"Title 24 - Whole Building Models\"),Table6b[[#This Row],[Window Frame\n(ASHRAE only)]]=\"Metal - Entrance door\"),4,\nIF(AND(OR($C$7=\"ASHRAE\",$C$7=\"Title 24 - Whole Building Models\"),Table6b[[#This Row],[Window Frame\n(ASHRAE only)]]=\"Metal - Other\"),5,\n\n\"\"))))))","v":""},"","",null,null,{"$f":"IF(Table6b[[#This Row],[Total Area]]=\"\",\"\",Table6b[[#This Row],[Total Area]]*Table6b[[#This Row],[ASSEMBLY\nU-FACTOR]])","v":""}]
[null,null,null,null,null,null,{"$f":"IF(Table6b[[#This Row],[Qty]]=\"\",\"\",Table6b[[#This Row],[Qty]]*Table6b[[#This Row],[Area]])","v":""},null,{"$f":"IFERROR(IF(AND($C$9=\"Version 1.2 OR+WA\",OR($C$8=\"CZ 1\",$C$8=\"CZ 2\",$C$8=\"CZ 3\",$C$8=\"CZ 4\",$C$8=\"CZ 7\",$C$8=\"CZ 8\")),\"N/A - Update CZ\",\n\nIF(AND($C$9=\"Version 1\",OR($C$7=\"ERI\",$C$7=\"Title 24 - Dwelling Unit Models\",$C$7=\"Prescriptive\")),INDEX(ESRefDesign_FenestrationAW_V1[#All],Table6b[[#This Row],[WindowFrame_UIndex]],Table6b[[#This Row],[CZ_Index]]),\nIF(AND($C$9=\"Version 1.1\",OR($C$7=\"ERI\",$C$7=\"Title 24 - Dwelling Unit Models\",$C$7=\"Prescriptive\")),INDEX(ESRefDesign_FenestrationAW_V11[#All],Table6b[[#This Row],[WindowFrame_UIndex]],Table6b[[#This Row],[CZ_Index]]),\nIF(AND($C$9=\"Version 1.2 OR+WA\",OR($C$7=\"ERI\",$C$7=\"Title 24 - Dwelling Unit Models\",$C$7=\"Prescriptive\")),INDEX(ESRefDesign_FenestrationAW_V12[#All],Table6b[[#This Row],[WindowFrame_UIndex]],Table6b[[#This Row],[CZ_Index]]),\n\nIF(OR($C$7=\"ASHRAE\",$C$7=\"Title 24 - Whole Building Models\"),INDEX(IECC2009_Fenestration_AW_Windows[#All],Table6b[[#This Row],[WindowFrame_UIndex]],Table6b[[#This Row],[CZ_Index]]),\n\"\"))))),\"\")","v":""},{"$f":"IF(Table6b[[#This Row],[Total Area]]=\"\",\"\",Table6b[[#This Row],[Total Area]]*Table6b[[#This Row],[ENERGY STAR Requirement\nU-FACTOR]])","v":""},{"$f":"IFERROR(IF(Table6b[[#This Row],[ID]]=\"\",\"\",\n\nIF(AND(Table6b[[#This Row],[PROJECTION FACTOR (PF)\n(ASHRAE only)]]=\"\",Table6b[[#This Row],[ID]]<>\"\",OR($C$7=\"ASHRAE\",$C$7=\"Title 24 - Whole Building Models\")),\"Enter PF\",\n\nIF(AND($C$9=\"Version 1.2 OR+WA\",OR($C$8=\"CZ 1\",$C$8=\"CZ 2\",$C$8=\"CZ 3\",$C$8=\"CZ 4\",$C$8=\"CZ 7\",$C$8=\"CZ 8\")),\"N/A - Update CZ\",\n\nIF(AND($C$9=\"Version 1\",OR($C$7=\"ERI\",$C$7=\"Title 24 - Dwelling Unit Models\",$C$7=\"Prescriptive\")),INDEX(ESRefDesign_FenestrationAW_V1[#All],Table6b[[#This Row],[WindowFrame_SHGCIndex]],Table6b[[#This Row],[CZ_Index]]),\nIF(AND($C$9=\"Version 1.1\",OR($C$7=\"ERI\",$C$7=\"Title 24 - Dwelling Unit Models\",$C$7=\"Prescriptive\")),INDEX(ESRefDesign_FenestrationAW_V11[#All],Table6b[[#This Row],[WindowFrame_SHGCIndex]],Table6b[[#This Row],[CZ_Index]]),\nIF(AND($C$9=\"Version 1.2 OR+WA\",OR($C$7=\"ERI\",$C$7=\"Title 24 - Dwelling Unit Models\",$C$7=\"Prescriptive\")),INDEX(ESRefDesign_FenestrationAW_V12[#All],Table6b[[#This Row],[WindowFrame_SHGCIndex]],Table6b[[#This Row],[CZ_Index]]),\n\nIF(OR($C$7=\"ASHRAE\",$C$7=\"Title 24 - Whole Building Models\"),INDEX(IECC2009_Fenestration_AW_Windows[#All],Table6b[[#This Row],[WindowFrame_SHGCIndex]],Table6b[[#This Row],[CZ_Index]]),\n\"\"))))))),\"\")","v":""},{"$f":"IF(AND(OR($C$7=\"Prescriptive\",$C$7=\"ERI\",$C$7=\"Title 24 - Dwelling Unit Models\"),Table6b[[#This Row],[Fixed or Operable?\n(ERI & Prescriptive Only)]]=\"Fixed\"),2,\nIF(AND(OR($C$7=\"Prescriptive\",$C$7=\"ERI\",$C$7=\"Title 24 - Dwelling Unit Models\"),Table6b[[#This Row],[Fixed or Operable?\n(ERI & Prescriptive Only)]]=\"Operable\"),3,\n\nIF(AND(OR($C$7=\"ASHRAE\",$C$7=\"Title 24 - Whole Building Models\"),Table6b[[#This Row],[Window Frame\n(ASHRAE only)]]=\"Non-Metal\"),2,\nIF(AND(OR($C$7=\"ASHRAE\",$C$7=\"Title 24 - Whole Building Models\"),Table6b[[#This Row],[Window Frame\n(ASHRAE only)]]=\"Metal - Curtainwall/storefront\"),3,\nIF(AND(OR($C$7=\"ASHRAE\",$C$7=\"Title 24 - Whole Building Models\"),Table6b[[#This Row],[Window Frame\n(ASHRAE only)]]=\"Metal - Entrance door\"),4,\nIF(AND(OR($C$7=\"ASHRAE\",$C$7=\"Title 24 - Whole Building Models\"),Table6b[[#This Row],[Window Frame\n(ASHRAE only)]]=\"Metal - Other\"),5,\n\n\"\"))))))","v":""},"","",null,null,{"$f":"IF(Table6b[[#This Row],[Total Area]]=\"\",\"\",Table6b[[#This Row],[Total Area]]*Table6b[[#This Row],[ASSEMBLY\nU-FACTOR]])","v":""}]
[null,null,null,null,null,{"$f":"SUM(Table6b[Area])","v":0},{"$f":"SUM(Table6b[Total Area])","v":0},null,null,{"$f":"SUM(Table6b[ENERGY STAR Requirement UA])","v":0},null,null,null,null,null,null,{"$f":"SUM(Table6b[Total UA])","v":0}]
[null,null,null,"Weighted U-factor:",{"$f":"IFERROR(SUM(Table6b[Total UA])/SUM(Table6b[Total Area]),\"\")","v":""}]
[null,null,null,null,null,null,null,null,null,null,null,null,null,null,null,null,null,null,null,null,null,null,null,"NOTES"]
[null,"All Exterior Doors (Opaque, Glazed, Partially Glazed)",null,null,null,null,null,null,null,null,null,"hide","hide","hide"]
[null,"ID","Door Type","Dwelling/ Common?","Qty","Area","Total Area","Space Served\n(optional)","ENERGY STAR Requirement\nU-FACTOR","ENERGY STAR Requirement UA","ENERGY STAR Requirement\nSHGC","Door Type_Uindex","Door Type_SHGCIndex","CZ_Index","PROJECTION FACTOR (PF)\n(ASHRAE only)","ASSEMBLY\nU-FACTOR","Total UA","SHGC ","LOCATION\n(dwg/spec)","PLAN REVIEW","INSPECTION?","INSPECTION COMMENTS "]
[null,null,null,null,null,null,{"$f":"IF(Table6c[[#This Row],[Qty]]=\"\",\"\",Table6c[[#This Row],[Qty]]*Table6c[[#This Row],[Area]])","v":""},null,{"$f":"IFERROR(IF(AND($C$9=\"Version 1.2 OR+WA\",OR($C$8=\"CZ 1\",$C$8=\"CZ 2\",$C$8=\"CZ 3\",$C$8=\"CZ 4\",$C$8=\"CZ 7\",$C$8=\"CZ 8\")),\"N/A - Update CZ\",\n\nIF(AND(Table6c[[#This Row],[Dwelling/ Common?]]=\"Common\",Table6c[[#This Row],[Door Type]]=\"Opaque Door\",OR($C$8=\"CZ 1\",$C$8=\"CZ 2\",$C$8=\"CZ 3\",$C$8=\"CZ 4\",$C$8=\"CZ 4 C\",$C$8=\"CZ 5\",$C$8=\"CZ 6\")),0.7,\nIF(AND(Table6c[[#This Row],[Dwelling/ Common?]]=\"Common\",Table6c[[#This Row],[Door Type]]=\"Opaque Door\",OR($C$8=\"CZ 7\",$C$8=\"CZ 8\")),0.5,\n\nIF(AND(Table6c[[#This Row],[Dwelling/ Common?]]=\"Common\",$C$9=\"Version 1\",OR($C$7=\"Prescriptive\",$C$7=\"ERI\",$C$7=\"Title 24 - Dwelling Unit Models\")),INDEX(ESRefDesign_FenestrationAW_V1[#All],Table6c[[#This Row],[Door Type_Uindex]],Table6c[[#This Row],[CZ_Index]]),\nIF(AND(Table6c[[#This Row],[Dwelling/ Common?]]=\"Common\",$C$9=\"Version 1.1\",OR($C$7=\"Prescriptive\",$C$7=\"ERI\",$C$7=\"Title 24 - Dwelling Unit Models\")),INDEX(ESRefDesign_FenestrationAW_V11[#All],Table6c[[#This Row],[Door Type_Uindex]],Table6c[[#This Row],[CZ_Index]]),\nIF(AND(Table6c[[#This Row],[Dwelling/ Common?]]=\"Common\",$C$9=\"Version 1.2 OR+WA\",OR($C$7=\"Prescriptive\",$C$7=\"ERI\",$C$7=\"Title 24 - Dwelling Unit Models\")),INDEX(ESRefDesign_FenestrationAW_V12[#All],Table6c[[#This Row],[Door Type_Uindex]],Table6c[[#This Row],[CZ_Index]]),\n\nIF(AND(Table6c[[#This Row],[Dwelling/ Common?]]=\"Common\",OR($C$7=\"ASHRAE\",$C$7=\"Title 24 - Whole Building Models\")),INDEX(IECC2009_Fenestration_AW_Windows[#All],Table6c[[#This Row],[Door Type_Uindex]],Table6c[[#This Row],[CZ_Index]]),\n\nIF(AND(Table6c[[#This Row],[Dwelling/ Common?]]=\"Dwelling\",$C$7=\"Prescriptive\",$C$9=\"Version 1\"),INDEX(ESRefDesign_Fenestration_V1[#All],Table6c[[#This Row],[Door Type_Uindex]],Table6c[[#This Row],[CZ_Index]]),\nIF(AND(Table6c[[#This Row],[Dwelling/ Common?]]=\"Dwelling\",$C$7=\"Prescriptive\",$C$9=\"Version 1.1\"),INDEX(ESRefDesign_Fenestration_V11[#All],Table6c[[#This Row],[Door Type_Uindex]],Table6c[[#This Row],[CZ_Index]]),\nIF(AND(Table6c[[#This Row],[Dwelling/ Common?]]=\"Dwelling\",$C$7=\"Prescriptive\",$C$9=\"Version 1.2 OR+WA\"),INDEX(ESRefDesign_Fenestration_V12[#All],Table6c[[#This Row],[Door Type_Uindex]],Table6c[[#This Row],[CZ_Index]]),\n\nIF(Table6c[[#This Row],[Dwelling/ Common?]]=\"Dwelling\",INDEX(IECC2009_Fenestration_NotAW_Windows[#All],Table6c[[#This Row],[Door Type_Uindex]],Table6c[[#This Row],[CZ_Index]]),\n\n\"\"))))))))))),\"\")","v":""},{"$f":"IF(Table6c[[#This Row],[Total Area]]=\"\",\"\",Table6c[[#This Row],[Total Area]]*Table6c[[#This Row],[ENERGY STAR Requirement\nU-FACTOR]])","v":""},{"$f":"IFERROR(IF(AND($C$9=\"Version 1.2 OR+WA\",OR($C$8=\"CZ 1\",$C$8=\"CZ 2\",$C$8=\"CZ 3\",$C$8=\"CZ 4\",$C$8=\"CZ 7\",$C$8=\"CZ 8\")),\"N/A - Update CZ\",\n\nIF(Table6c[[#This Row],[Door Type]]=\"Opaque Door\",\"Any\",\n\nIF(AND(Table6c[[#This Row],[PROJECTION FACTOR (PF)\n(ASHRAE only)]]=\"\",OR($C$7=\"ASHRAE\",$C$7=\"Title 24 - Whole Building Models\"),Table6c[[#This Row],[Dwelling/ Common?]]=\"Common\"),\"Enter PF\",\n\nIF(AND(Table6c[[#This Row],[Dwelling/ Common?]]=\"Common\",$C$9=\"Version 1\",OR($C$7=\"Prescriptive\",$C$7=\"ERI\",$C$7=\"Title 24 - Dwelling Unit Models\")),INDEX(ESRefDesign_FenestrationAW_V1[#All],Table6c[[#This Row],[Door Type_SHGCIndex]],Table6c[[#This Row],[CZ_Index]]),\nIF(AND(Table6c[[#This Row],[Dwelling/ Common?]]=\"Common\",$C$9=\"Version 1.1\",OR($C$7=\"Prescriptive\",$C$7=\"ERI\",$C$7=\"Title 24 - Dwelling Unit Models\")),INDEX(ESRefDesign_FenestrationAW_V11[#All],Table6c[[#This Row],[Door Type_SHGCIndex]],Table6c[[#This Row],[CZ_Index]]),\nIF(AND(Table6c[[#This Row],[Dwelling/ Common?]]=\"Common\",$C$9=\"Version 1.2 OR+WA\",OR($C$7=\"Prescriptive\",$C$7=\"ERI\",$C$7=\"Title 24 - Dwelling Unit Models\")),INDEX(ESRefDesign_FenestrationAW_V12[#All],Table6c[[#This Row],[Door Type_SHGCIndex]],Table6c[[#This Row],[CZ_Index]]),\n\nIF(AND(Table6c[[#This Row],[Dwelling/ Common?]]=\"Common\",OR($C$7=\"ASHRAE\",$C$7=\"Title 24 - Whole Building Models\")),INDEX(IECC2009_Fenestration_AW_Windows[#All],Table6c[[#This Row],[Door Type_SHGCIndex]],Table6c[[#This Row],[CZ_Index]]),\n\nIF(AND(Table6c[[#This Row],[Dwelling/ Common?]]=\"Dwelling\",$C$7=\"Prescriptive\",$C$9=\"Version 1\"),INDEX(ESRefDesign_Fenestration_V1[#All],Table6c[[#This Row],[Door Type_SHGCIndex]],Table6c[[#This Row],[CZ_Index]]),\nIF(AND(Table6c[[#This Row],[Dwelling/ Common?]]=\"Dwelling\",$C$7=\"Prescriptive\",$C$9=\"Version 1.1\"),INDEX(ESRefDesign_Fenestration_V11[#All],Table6c[[#This Row],[Door Type_SHGCIndex]],Table6c[[#This Row],[CZ_Index]]),\nIF(AND(Table6c[[#This Row],[Dwelling/ Common?]]=\"Dwelling\",$C$7=\"Prescriptive\",$C$9=\"Version 1.2 OR+WA\"),INDEX(ESRefDesign_Fenestration_V12[#All],Table6c[[#This Row],[Door Type_SHGCIndex]],Table6c[[#This Row],[CZ_Index]]),\n\nIF(Table6c[[#This Row],[Dwelling/ Common?]]=\"Dwelling\",INDEX(IECC2009_Fenestration_NotAW_Windows[#All],Table6c[[#This Row],[Door Type_SHGCIndex]],Table6c[[#This Row],[CZ_Index]]),\n\n\"\"))))))))))),\"\")","v":""},{"$f":"IF(AND(Table6c[[#This Row],[Door Type]]=\"Opaque Door\",Table6c[[#This Row],[Dwelling/ Common?]]=\"Common\"),\"N/A\",\n\nIF(AND(Table6c[[#This Row],[Dwelling/ Common?]]=\"Common\",OR($C$7=\"Prescriptive\",$C$7=\"ERI\",$C$7=\"Title 24 - Dwelling Unit Models\")),3,\nIF(AND(Table6c[[#This Row],[Dwelling/ Common?]]=\"Common\",OR($C$7=\"ASHRAE\",$C$7=\"Title 24 - Whole Building Models\")),4,\n\nIF(AND(Table6c[[#This Row],[Dwelling/ Common?]]=\"Dwelling\",OR($C$7=\"ASHRAE\",$C$7=\"Title 24 - Whole Building Models\",$C$7=\"ERI\",$C$7=\"Title 24 - Dwelling Unit Models\")),2,\n\nIF(Table6c[[#This Row],[Door Type]]=\"≤½ Lite Door\",5,\nIF(Table6c[[#This Row],[Door Type]]=\">½ Lite Door\",6,\nIF(AND(Table6c[[#This Row],[Door Type]]=\"Glazed Entrance Door\",$C$7=\"Prescriptive\"),6,\n\nIF(Table6c[[#This Row],[Door Type]]=\"Glazed Entrance Door\",4,\n\nIF(AND(Table6c[[#This Row],[Door Type]]=\"Opaque Door\",Table6c[[#This Row],[Dwelling/ Common?]]=\"Dwelling\"),4,\n\n\"\")))))))))","v":""},{"$f":"IF(Table6c[[#This Row],[Door Type]]=\"Opaque Door\",\"N/A\",\n\nIF(AND(Table6c[[#This Row],[Dwelling/ Common?]]=\"Common\",OR($C$7=\"Prescriptive\",$C$7=\"ERI\",$C$7=\"Title 24 - Dwelling Unit Models\")),4,\n\nIF(AND(Table6c[[#This Row],[Dwelling/ Common?]]=\"Common\",OR($C$7=\"ASHRAE\",$C$7=\"Title 24 - Whole Building Models\"),Table6c[[#This Row],[PROJECTION FACTOR (PF)\n(ASHRAE only)]]=\"< 0.25\"),7,\nIF(AND(Table6c[[#This Row],[Dwelling/ Common?]]=\"Common\",OR($C$7=\"ASHRAE\",$C$7=\"Title 24 - Whole Building Models\"),Table6c[[#This Row],[PROJECTION FACTOR (PF)\n(ASHRAE only)]]=\"0.25 < PF < 0.5\"),8,\nIF(AND(Table6c[[#This Row],[Dwelling/ Common?]]=\"Common\",OR($C$7=\"ASHRAE\",$C$7=\"Title 24 - Whole Building Models\"),Table6c[[#This Row],[PROJECTION FACTOR (PF)\n(ASHRAE only)]]=\">= 0.5\"),9,\n\nIF(AND(Table6c[[#This Row],[Dwelling/ Common?]]=\"Dwelling\",OR($C$7=\"ASHRAE\",$C$7=\"Title 24 - Whole Building Models\",$C$7=\"ERI\",$C$7=\"Title 24 - Dwelling Unit Models\")),4,\n\nIF(Table6c[[#This Row],[Door Type]]=\"≤½ Lite Door\",8,\nIF(Table6c[[#This Row],[Door Type]]=\">½ Lite Door\",9,\nIF(AND(Table6c[[#This Row],[Door Type]]=\"Glazed Entrance Door\",$C$7=\"Prescriptive\"),9,\n\nIF(Table6c[[#This Row],[Door Type]]=\"Glazed Entrance Door\",7,\n\nIF(AND(Table6c[[#This Row],[Door Type]]=\"Opaque Door\",Table6c[[#This Row],[Dwelling/ Common?]]=\"Dwelling\"),7,\n\n\"\")))))))))))","v":""},{"$f":"IF(AND($C$9=\"Version 1.2 OR+WA\",$C$7=\"Prescriptive\",$C$8=\"CZ 4 C\"),2,\nIF(AND($C$9=\"Version 1.2 OR+WA\",$C$7=\"Prescriptive\",$C$8=\"CZ 5\"),3,\nIF(AND($C$9=\"Version 1.2 OR+WA\",$C$7=\"Prescriptive\",$C$8=\"CZ 6\"),4,\n\nIF(AND($C$9=\"Version 1.2 OR+WA\",Table6c[[#This Row],[Dwelling/ Common?]]=\"Common\",OR($C$7=\"ERI\",$C$7=\"Title 24 - Dwelling Unit Models\"),$C$8=\"CZ 4 C\"),2,\nIF(AND($C$9=\"Version 1.2 OR+WA\",Table6c[[#This Row],[Dwelling/ Common?]]=\"Common\",OR($C$7=\"ERI\",$C$7=\"Title 24 - Dwelling Unit Models\"),$C$8=\"CZ 5\"),3,\nIF(AND($C$9=\"Version 1.2 OR+WA\",Table6c[[#This Row],[Dwelling/ Common?]]=\"Common\",OR($C$7=\"ERI\",$C$7=\"Title 24 - Dwelling Unit Models\"),$C$8=\"CZ 6\"),4,\n\nIF($C$8=\"CZ 1\",2,\nIF($C$8=\"CZ 2\",3,\nIF($C$8=\"CZ 3\",4,\nIF($C$8=\"CZ 4\",5,\nIF($C$8=\"CZ 4 C\",6,\nIF($C$8=\"CZ 5\",7,\nIF($C$8=\"CZ 6\",8,\nIF($C$8=\"CZ 7\",9,\nIF($C$8=\"CZ 8\",10,\"\")))))))))))))))","v":""},null,null,{"$f":"IF(Table6c[[#This Row],[Total Area]]=\"\",\"\",Table6c[[#This Row],[Total Area]]*Table6c[[#This Row],[ASSEMBLY\nU-FACTOR]])","v":""}]
[null,null,null,null,null,null,{"$f":"IF(Table6c[[#This Row],[Qty]]=\"\",\"\",Table6c[[#This Row],[Qty]]*Table6c[[#This Row],[Area]])","v":""},null,{"$f":"IFERROR(IF(AND($C$9=\"Version 1.2 OR+WA\",OR($C$8=\"CZ 1\",$C$8=\"CZ 2\",$C$8=\"CZ 3\",$C$8=\"CZ 4\",$C$8=\"CZ 7\",$C$8=\"CZ 8\")),\"N/A - Update CZ\",\n\nIF(AND(Table6c[[#This Row],[Dwelling/ Common?]]=\"Common\",Table6c[[#This Row],[Door Type]]=\"Opaque Door\",OR($C$8=\"CZ 1\",$C$8=\"CZ 2\",$C$8=\"CZ 3\",$C$8=\"CZ 4\",$C$8=\"CZ 4 C\",$C$8=\"CZ 5\",$C$8=\"CZ 6\")),0.7,\nIF(AND(Table6c[[#This Row],[Dwelling/ Common?]]=\"Common\",Table6c[[#This Row],[Door Type]]=\"Opaque Door\",OR($C$8=\"CZ 7\",$C$8=\"CZ 8\")),0.5,\n\nIF(AND(Table6c[[#This Row],[Dwelling/ Common?]]=\"Common\",$C$9=\"Version 1\",OR($C$7=\"Prescriptive\",$C$7=\"ERI\",$C$7=\"Title 24 - Dwelling Unit Models\")),INDEX(ESRefDesign_FenestrationAW_V1[#All],Table6c[[#This Row],[Door Type_Uindex]],Table6c[[#This Row],[CZ_Index]]),\nIF(AND(Table6c[[#This Row],[Dwelling/ Common?]]=\"Common\",$C$9=\"Version 1.1\",OR($C$7=\"Prescriptive\",$C$7=\"ERI\",$C$7=\"Title 24 - Dwelling Unit Models\")),INDEX(ESRefDesign_FenestrationAW_V11[#All],Table6c[[#This Row],[Door Type_Uindex]],Table6c[[#This Row],[CZ_Index]]),\nIF(AND(Table6c[[#This Row],[Dwelling/ Common?]]=\"Common\",$C$9=\"Version 1.2 OR+WA\",OR($C$7=\"Prescriptive\",$C$7=\"ERI\",$C$7=\"Title 24 - Dwelling Unit Models\")),INDEX(ESRefDesign_FenestrationAW_V12[#All],Table6c[[#This Row],[Door Type_Uindex]],Table6c[[#This Row],[CZ_Index]]),\n\nIF(AND(Table6c[[#This Row],[Dwelling/ Common?]]=\"Common\",OR($C$7=\"ASHRAE\",$C$7=\"Title 24 - Whole Building Models\")),INDEX(IECC2009_Fenestration_AW_Windows[#All],Table6c[[#This Row],[Door Type_Uindex]],Table6c[[#This Row],[CZ_Index]]),\n\nIF(AND(Table6c[[#This Row],[Dwelling/ Common?]]=\"Dwelling\",$C$7=\"Prescriptive\",$C$9=\"Version 1\"),INDEX(ESRefDesign_Fenestration_V1[#All],Table6c[[#This Row],[Door Type_Uindex]],Table6c[[#This Row],[CZ_Index]]),\nIF(AND(Table6c[[#This Row],[Dwelling/ Common?]]=\"Dwelling\",$C$7=\"Prescriptive\",$C$9=\"Version 1.1\"),INDEX(ESRefDesign_Fenestration_V11[#All],Table6c[[#This Row],[Door Type_Uindex]],Table6c[[#This Row],[CZ_Index]]),\nIF(AND(Table6c[[#This Row],[Dwelling/ Common?]]=\"Dwelling\",$C$7=\"Prescriptive\",$C$9=\"Version 1.2 OR+WA\"),INDEX(ESRefDesign_Fenestration_V12[#All],Table6c[[#This Row],[Door Type_Uindex]],Table6c[[#This Row],[CZ_Index]]),\n\nIF(Table6c[[#This Row],[Dwelling/ Common?]]=\"Dwelling\",INDEX(IECC2009_Fenestration_NotAW_Windows[#All],Table6c[[#This Row],[Door Type_Uindex]],Table6c[[#This Row],[CZ_Index]]),\n\n\"\"))))))))))),\"\")","v":""},{"$f":"IF(Table6c[[#This Row],[Total Area]]=\"\",\"\",Table6c[[#This Row],[Total Area]]*Table6c[[#This Row],[ENERGY STAR Requirement\nU-FACTOR]])","v":""},{"$f":"IFERROR(IF(AND($C$9=\"Version 1.2 OR+WA\",OR($C$8=\"CZ 1\",$C$8=\"CZ 2\",$C$8=\"CZ 3\",$C$8=\"CZ 4\",$C$8=\"CZ 7\",$C$8=\"CZ 8\")),\"N/A - Update CZ\",\n\nIF(Table6c[[#This Row],[Door Type]]=\"Opaque Door\",\"Any\",\n\nIF(AND(Table6c[[#This Row],[PROJECTION FACTOR (PF)\n(ASHRAE only)]]=\"\",OR($C$7=\"ASHRAE\",$C$7=\"Title 24 - Whole Building Models\"),Table6c[[#This Row],[Dwelling/ Common?]]=\"Common\"),\"Enter PF\",\n\nIF(AND(Table6c[[#This Row],[Dwelling/ Common?]]=\"Common\",$C$9=\"Version 1\",OR($C$7=\"Prescriptive\",$C$7=\"ERI\",$C$7=\"Title 24 - Dwelling Unit Models\")),INDEX(ESRefDesign_FenestrationAW_V1[#All],Table6c[[#This Row],[Door Type_SHGCIndex]],Table6c[[#This Row],[CZ_Index]]),\nIF(AND(Table6c[[#This Row],[Dwelling/ Common?]]=\"Common\",$C$9=\"Version 1.1\",OR($C$7=\"Prescriptive\",$C$7=\"ERI\",$C$7=\"Title 24 - Dwelling Unit Models\")),INDEX(ESRefDesign_FenestrationAW_V11[#All],Table6c[[#This Row],[Door Type_SHGCIndex]],Table6c[[#This Row],[CZ_Index]]),\nIF(AND(Table6c[[#This Row],[Dwelling/ Common?]]=\"Common\",$C$9=\"Version 1.2 OR+WA\",OR($C$7=\"Prescriptive\",$C$7=\"ERI\",$C$7=\"Title 24 - Dwelling Unit Models\")),INDEX(ESRefDesign_FenestrationAW_V12[#All],Table6c[[#This Row],[Door Type_SHGCIndex]],Table6c[[#This Row],[CZ_Index]]),\n\nIF(AND(Table6c[[#This Row],[Dwelling/ Common?]]=\"Common\",OR($C$7=\"ASHRAE\",$C$7=\"Title 24 - Whole Building Models\")),INDEX(IECC2009_Fenestration_AW_Windows[#All],Table6c[[#This Row],[Door Type_SHGCIndex]],Table6c[[#This Row],[CZ_Index]]),\n\nIF(AND(Table6c[[#This Row],[Dwelling/ Common?]]=\"Dwelling\",$C$7=\"Prescriptive\",$C$9=\"Version 1\"),INDEX(ESRefDesign_Fenestration_V1[#All],Table6c[[#This Row],[Door Type_SHGCIndex]],Table6c[[#This Row],[CZ_Index]]),\nIF(AND(Table6c[[#This Row],[Dwelling/ Common?]]=\"Dwelling\",$C$7=\"Prescriptive\",$C$9=\"Version 1.1\"),INDEX(ESRefDesign_Fenestration_V11[#All],Table6c[[#This Row],[Door Type_SHGCIndex]],Table6c[[#This Row],[CZ_Index]]),\nIF(AND(Table6c[[#This Row],[Dwelling/ Common?]]=\"Dwelling\",$C$7=\"Prescriptive\",$C$9=\"Version 1.2 OR+WA\"),INDEX(ESRefDesign_Fenestration_V12[#All],Table6c[[#This Row],[Door Type_SHGCIndex]],Table6c[[#This Row],[CZ_Index]]),\n\nIF(Table6c[[#This Row],[Dwelling/ Common?]]=\"Dwelling\",INDEX(IECC2009_Fenestration_NotAW_Windows[#All],Table6c[[#This Row],[Door Type_SHGCIndex]],Table6c[[#This Row],[CZ_Index]]),\n\n\"\"))))))))))),\"\")","v":""},{"$f":"IF(AND(Table6c[[#This Row],[Door Type]]=\"Opaque Door\",Table6c[[#This Row],[Dwelling/ Common?]]=\"Common\"),\"N/A\",\n\nIF(AND(Table6c[[#This Row],[Dwelling/ Common?]]=\"Common\",OR($C$7=\"Prescriptive\",$C$7=\"ERI\",$C$7=\"Title 24 - Dwelling Unit Models\")),3,\nIF(AND(Table6c[[#This Row],[Dwelling/ Common?]]=\"Common\",OR($C$7=\"ASHRAE\",$C$7=\"Title 24 - Whole Building Models\")),4,\n\nIF(AND(Table6c[[#This Row],[Dwelling/ Common?]]=\"Dwelling\",OR($C$7=\"ASHRAE\",$C$7=\"Title 24 - Whole Building Models\",$C$7=\"ERI\",$C$7=\"Title 24 - Dwelling Unit Models\")),2,\n\nIF(Table6c[[#This Row],[Door Type]]=\"≤½ Lite Door\",5,\nIF(Table6c[[#This Row],[Door Type]]=\">½ Lite Door\",6,\nIF(AND(Table6c[[#This Row],[Door Type]]=\"Glazed Entrance Door\",$C$7=\"Prescriptive\"),6,\n\nIF(Table6c[[#This Row],[Door Type]]=\"Glazed Entrance Door\",4,\n\nIF(AND(Table6c[[#This Row],[Door Type]]=\"Opaque Door\",Table6c[[#This Row],[Dwelling/ Common?]]=\"Dwelling\"),4,\n\n\"\")))))))))","v":""},{"$f":"IF(Table6c[[#This Row],[Door Type]]=\"Opaque Door\",\"N/A\",\n\nIF(AND(Table6c[[#This Row],[Dwelling/ Common?]]=\"Common\",OR($C$7=\"Prescriptive\",$C$7=\"ERI\",$C$7=\"Title 24 - Dwelling Unit Models\")),4,\n\nIF(AND(Table6c[[#This Row],[Dwelling/ Common?]]=\"Common\",OR($C$7=\"ASHRAE\",$C$7=\"Title 24 - Whole Building Models\"),Table6c[[#This Row],[PROJECTION FACTOR (PF)\n(ASHRAE only)]]=\"< 0.25\"),7,\nIF(AND(Table6c[[#This Row],[Dwelling/ Common?]]=\"Common\",OR($C$7=\"ASHRAE\",$C$7=\"Title 24 - Whole Building Models\"),Table6c[[#This Row],[PROJECTION FACTOR (PF)\n(ASHRAE only)]]=\"0.25 < PF < 0.5\"),8,\nIF(AND(Table6c[[#This Row],[Dwelling/ Common?]]=\"Common\",OR($C$7=\"ASHRAE\",$C$7=\"Title 24 - Whole Building Models\"),Table6c[[#This Row],[PROJECTION FACTOR (PF)\n(ASHRAE only)]]=\">= 0.5\"),9,\n\nIF(AND(Table6c[[#This Row],[Dwelling/ Common?]]=\"Dwelling\",OR($C$7=\"ASHRAE\",$C$7=\"Title 24 - Whole Building Models\",$C$7=\"ERI\",$C$7=\"Title 24 - Dwelling Unit Models\")),4,\n\nIF(Table6c[[#This Row],[Door Type]]=\"≤½ Lite Door\",8,\nIF(Table6c[[#This Row],[Door Type]]=\">½ Lite Door\",9,\nIF(AND(Table6c[[#This Row],[Door Type]]=\"Glazed Entrance Door\",$C$7=\"Prescriptive\"),9,\n\nIF(Table6c[[#This Row],[Door Type]]=\"Glazed Entrance Door\",7,\n\nIF(AND(Table6c[[#This Row],[Door Type]]=\"Opaque Door\",Table6c[[#This Row],[Dwelling/ Common?]]=\"Dwelling\"),7,\n\n\"\")))))))))))","v":""},{"$f":"IF(AND($C$9=\"Version 1.2 OR+WA\",$C$7=\"Prescriptive\",$C$8=\"CZ 4 C\"),2,\nIF(AND($C$9=\"Version 1.2 OR+WA\",$C$7=\"Prescriptive\",$C$8=\"CZ 5\"),3,\nIF(AND($C$9=\"Version 1.2 OR+WA\",$C$7=\"Prescriptive\",$C$8=\"CZ 6\"),4,\n\nIF(AND($C$9=\"Version 1.2 OR+WA\",Table6c[[#This Row],[Dwelling/ Common?]]=\"Common\",OR($C$7=\"ERI\",$C$7=\"Title 24 - Dwelling Unit Models\"),$C$8=\"CZ 4 C\"),2,\nIF(AND($C$9=\"Version 1.2 OR+WA\",Table6c[[#This Row],[Dwelling/ Common?]]=\"Common\",OR($C$7=\"ERI\",$C$7=\"Title 24 - Dwelling Unit Models\"),$C$8=\"CZ 5\"),3,\nIF(AND($C$9=\"Version 1.2 OR+WA\",Table6c[[#This Row],[Dwelling/ Common?]]=\"Common\",OR($C$7=\"ERI\",$C$7=\"Title 24 - Dwelling Unit Models\"),$C$8=\"CZ 6\"),4,\n\nIF($C$8=\"CZ 1\",2,\nIF($C$8=\"CZ 2\",3,\nIF($C$8=\"CZ 3\",4,\nIF($C$8=\"CZ 4\",5,\nIF($C$8=\"CZ 4 C\",6,\nIF($C$8=\"CZ 5\",7,\nIF($C$8=\"CZ 6\",8,\nIF($C$8=\"CZ 7\",9,\nIF($C$8=\"CZ 8\",10,\"\")))))))))))))))","v":""},null,null,{"$f":"IF(Table6c[[#This Row],[Total Area]]=\"\",\"\",Table6c[[#This Row],[Total Area]]*Table6c[[#This Row],[ASSEMBLY\nU-FACTOR]])","v":""}]
[null,null,null,null,null,null,{"$f":"IF(Table6c[[#This Row],[Qty]]=\"\",\"\",Table6c[[#This Row],[Qty]]*Table6c[[#This Row],[Area]])","v":""},null,{"$f":"IFERROR(IF(AND($C$9=\"Version 1.2 OR+WA\",OR($C$8=\"CZ 1\",$C$8=\"CZ 2\",$C$8=\"CZ 3\",$C$8=\"CZ 4\",$C$8=\"CZ 7\",$C$8=\"CZ 8\")),\"N/A - Update CZ\",\n\nIF(AND(Table6c[[#This Row],[Dwelling/ Common?]]=\"Common\",Table6c[[#This Row],[Door Type]]=\"Opaque Door\",OR($C$8=\"CZ 1\",$C$8=\"CZ 2\",$C$8=\"CZ 3\",$C$8=\"CZ 4\",$C$8=\"CZ 4 C\",$C$8=\"CZ 5\",$C$8=\"CZ 6\")),0.7,\nIF(AND(Table6c[[#This Row],[Dwelling/ Common?]]=\"Common\",Table6c[[#This Row],[Door Type]]=\"Opaque Door\",OR($C$8=\"CZ 7\",$C$8=\"CZ 8\")),0.5,\n\nIF(AND(Table6c[[#This Row],[Dwelling/ Common?]]=\"Common\",$C$9=\"Version 1\",OR($C$7=\"Prescriptive\",$C$7=\"ERI\",$C$7=\"Title 24 - Dwelling Unit Models\")),INDEX(ESRefDesign_FenestrationAW_V1[#All],Table6c[[#This Row],[Door Type_Uindex]],Table6c[[#This Row],[CZ_Index]]),\nIF(AND(Table6c[[#This Row],[Dwelling/ Common?]]=\"Common\",$C$9=\"Version 1.1\",OR($C$7=\"Prescriptive\",$C$7=\"ERI\",$C$7=\"Title 24 - Dwelling Unit Models\")),INDEX(ESRefDesign_FenestrationAW_V11[#All],Table6c[[#This Row],[Door Type_Uindex]],Table6c[[#This Row],[CZ_Index]]),\nIF(AND(Table6c[[#This Row],[Dwelling/ Common?]]=\"Common\",$C$9=\"Version 1.2 OR+WA\",OR($C$7=\"Prescriptive\",$C$7=\"ERI\",$C$7=\"Title 24 - Dwelling Unit Models\")),INDEX(ESRefDesign_FenestrationAW_V12[#All],Table6c[[#This Row],[Door Type_Uindex]],Table6c[[#This Row],[CZ_Index]]),\n\nIF(AND(Table6c[[#This Row],[Dwelling/ Common?]]=\"Common\",OR($C$7=\"ASHRAE\",$C$7=\"Title 24 - Whole Building Models\")),INDEX(IECC2009_Fenestration_AW_Windows[#All],Table6c[[#This Row],[Door Type_Uindex]],Table6c[[#This Row],[CZ_Index]]),\n\nIF(AND(Table6c[[#This Row],[Dwelling/ Common?]]=\"Dwelling\",$C$7=\"Prescriptive\",$C$9=\"Version 1\"),INDEX(ESRefDesign_Fenestration_V1[#All],Table6c[[#This Row],[Door Type_Uindex]],Table6c[[#This Row],[CZ_Index]]),\nIF(AND(Table6c[[#This Row],[Dwelling/ Common?]]=\"Dwelling\",$C$7=\"Prescriptive\",$C$9=\"Version 1.1\"),INDEX(ESRefDesign_Fenestration_V11[#All],Table6c[[#This Row],[Door Type_Uindex]],Table6c[[#This Row],[CZ_Index]]),\nIF(AND(Table6c[[#This Row],[Dwelling/ Common?]]=\"Dwelling\",$C$7=\"Prescriptive\",$C$9=\"Version 1.2 OR+WA\"),INDEX(ESRefDesign_Fenestration_V12[#All],Table6c[[#This Row],[Door Type_Uindex]],Table6c[[#This Row],[CZ_Index]]),\n\nIF(Table6c[[#This Row],[Dwelling/ Common?]]=\"Dwelling\",INDEX(IECC2009_Fenestration_NotAW_Windows[#All],Table6c[[#This Row],[Door Type_Uindex]],Table6c[[#This Row],[CZ_Index]]),\n\n\"\"))))))))))),\"\")","v":""},{"$f":"IF(Table6c[[#This Row],[Total Area]]=\"\",\"\",Table6c[[#This Row],[Total Area]]*Table6c[[#This Row],[ENERGY STAR Requirement\nU-FACTOR]])","v":""},{"$f":"IFERROR(IF(AND($C$9=\"Version 1.2 OR+WA\",OR($C$8=\"CZ 1\",$C$8=\"CZ 2\",$C$8=\"CZ 3\",$C$8=\"CZ 4\",$C$8=\"CZ 7\",$C$8=\"CZ 8\")),\"N/A - Update CZ\",\n\nIF(Table6c[[#This Row],[Door Type]]=\"Opaque Door\",\"Any\",\n\nIF(AND(Table6c[[#This Row],[PROJECTION FACTOR (PF)\n(ASHRAE only)]]=\"\",OR($C$7=\"ASHRAE\",$C$7=\"Title 24 - Whole Building Models\"),Table6c[[#This Row],[Dwelling/ Common?]]=\"Common\"),\"Enter PF\",\n\nIF(AND(Table6c[[#This Row],[Dwelling/ Common?]]=\"Common\",$C$9=\"Version 1\",OR($C$7=\"Prescriptive\",$C$7=\"ERI\",$C$7=\"Title 24 - Dwelling Unit Models\")),INDEX(ESRefDesign_FenestrationAW_V1[#All],Table6c[[#This Row],[Door Type_SHGCIndex]],Table6c[[#This Row],[CZ_Index]]),\nIF(AND(Table6c[[#This Row],[Dwelling/ Common?]]=\"Common\",$C$9=\"Version 1.1\",OR($C$7=\"Prescriptive\",$C$7=\"ERI\",$C$7=\"Title 24 - Dwelling Unit Models\")),INDEX(ESRefDesign_FenestrationAW_V11[#All],Table6c[[#This Row],[Door Type_SHGCIndex]],Table6c[[#This Row],[CZ_Index]]),\nIF(AND(Table6c[[#This Row],[Dwelling/ Common?]]=\"Common\",$C$9=\"Version 1.2 OR+WA\",OR($C$7=\"Prescriptive\",$C$7=\"ERI\",$C$7=\"Title 24 - Dwelling Unit Models\")),INDEX(ESRefDesign_FenestrationAW_V12[#All],Table6c[[#This Row],[Door Type_SHGCIndex]],Table6c[[#This Row],[CZ_Index]]),\n\nIF(AND(Table6c[[#This Row],[Dwelling/ Common?]]=\"Common\",OR($C$7=\"ASHRAE\",$C$7=\"Title 24 - Whole Building Models\")),INDEX(IECC2009_Fenestration_AW_Windows[#All],Table6c[[#This Row],[Door Type_SHGCIndex]],Table6c[[#This Row],[CZ_Index]]),\n\nIF(AND(Table6c[[#This Row],[Dwelling/ Common?]]=\"Dwelling\",$C$7=\"Prescriptive\",$C$9=\"Version 1\"),INDEX(ESRefDesign_Fenestration_V1[#All],Table6c[[#This Row],[Door Type_SHGCIndex]],Table6c[[#This Row],[CZ_Index]]),\nIF(AND(Table6c[[#This Row],[Dwelling/ Common?]]=\"Dwelling\",$C$7=\"Prescriptive\",$C$9=\"Version 1.1\"),INDEX(ESRefDesign_Fenestration_V11[#All],Table6c[[#This Row],[Door Type_SHGCIndex]],Table6c[[#This Row],[CZ_Index]]),\nIF(AND(Table6c[[#This Row],[Dwelling/ Common?]]=\"Dwelling\",$C$7=\"Prescriptive\",$C$9=\"Version 1.2 OR+WA\"),INDEX(ESRefDesign_Fenestration_V12[#All],Table6c[[#This Row],[Door Type_SHGCIndex]],Table6c[[#This Row],[CZ_Index]]),\n\nIF(Table6c[[#This Row],[Dwelling/ Common?]]=\"Dwelling\",INDEX(IECC2009_Fenestration_NotAW_Windows[#All],Table6c[[#This Row],[Door Type_SHGCIndex]],Table6c[[#This Row],[CZ_Index]]),\n\n\"\"))))))))))),\"\")","v":""},{"$f":"IF(AND(Table6c[[#This Row],[Door Type]]=\"Opaque Door\",Table6c[[#This Row],[Dwelling/ Common?]]=\"Common\"),\"N/A\",\n\nIF(AND(Table6c[[#This Row],[Dwelling/ Common?]]=\"Common\",OR($C$7=\"Prescriptive\",$C$7=\"ERI\",$C$7=\"Title 24 - Dwelling Unit Models\")),3,\nIF(AND(Table6c[[#This Row],[Dwelling/ Common?]]=\"Common\",OR($C$7=\"ASHRAE\",$C$7=\"Title 24 - Whole Building Models\")),4,\n\nIF(AND(Table6c[[#This Row],[Dwelling/ Common?]]=\"Dwelling\",OR($C$7=\"ASHRAE\",$C$7=\"Title 24 - Whole Building Models\",$C$7=\"ERI\",$C$7=\"Title 24 - Dwelling Unit Models\")),2,\n\nIF(Table6c[[#This Row],[Door Type]]=\"≤½ Lite Door\",5,\nIF(Table6c[[#This Row],[Door Type]]=\">½ Lite Door\",6,\nIF(AND(Table6c[[#This Row],[Door Type]]=\"Glazed Entrance Door\",$C$7=\"Prescriptive\"),6,\n\nIF(Table6c[[#This Row],[Door Type]]=\"Glazed Entrance Door\",4,\n\nIF(AND(Table6c[[#This Row],[Door Type]]=\"Opaque Door\",Table6c[[#This Row],[Dwelling/ Common?]]=\"Dwelling\"),4,\n\n\"\")))))))))","v":""},{"$f":"IF(Table6c[[#This Row],[Door Type]]=\"Opaque Door\",\"N/A\",\n\nIF(AND(Table6c[[#This Row],[Dwelling/ Common?]]=\"Common\",OR($C$7=\"Prescriptive\",$C$7=\"ERI\",$C$7=\"Title 24 - Dwelling Unit Models\")),4,\n\nIF(AND(Table6c[[#This Row],[Dwelling/ Common?]]=\"Common\",OR($C$7=\"ASHRAE\",$C$7=\"Title 24 - Whole Building Models\"),Table6c[[#This Row],[PROJECTION FACTOR (PF)\n(ASHRAE only)]]=\"< 0.25\"),7,\nIF(AND(Table6c[[#This Row],[Dwelling/ Common?]]=\"Common\",OR($C$7=\"ASHRAE\",$C$7=\"Title 24 - Whole Building Models\"),Table6c[[#This Row],[PROJECTION FACTOR (PF)\n(ASHRAE only)]]=\"0.25 < PF < 0.5\"),8,\nIF(AND(Table6c[[#This Row],[Dwelling/ Common?]]=\"Common\",OR($C$7=\"ASHRAE\",$C$7=\"Title 24 - Whole Building Models\"),Table6c[[#This Row],[PROJECTION FACTOR (PF)\n(ASHRAE only)]]=\">= 0.5\"),9,\n\nIF(AND(Table6c[[#This Row],[Dwelling/ Common?]]=\"Dwelling\",OR($C$7=\"ASHRAE\",$C$7=\"Title 24 - Whole Building Models\",$C$7=\"ERI\",$C$7=\"Title 24 - Dwelling Unit Models\")),4,\n\nIF(Table6c[[#This Row],[Door Type]]=\"≤½ Lite Door\",8,\nIF(Table6c[[#This Row],[Door Type]]=\">½ Lite Door\",9,\nIF(AND(Table6c[[#This Row],[Door Type]]=\"Glazed Entrance Door\",$C$7=\"Prescriptive\"),9,\n\nIF(Table6c[[#This Row],[Door Type]]=\"Glazed Entrance Door\",7,\n\nIF(AND(Table6c[[#This Row],[Door Type]]=\"Opaque Door\",Table6c[[#This Row],[Dwelling/ Common?]]=\"Dwelling\"),7,\n\n\"\")))))))))))","v":""},{"$f":"IF(AND($C$9=\"Version 1.2 OR+WA\",$C$7=\"Prescriptive\",$C$8=\"CZ 4 C\"),2,\nIF(AND($C$9=\"Version 1.2 OR+WA\",$C$7=\"Prescriptive\",$C$8=\"CZ 5\"),3,\nIF(AND($C$9=\"Version 1.2 OR+WA\",$C$7=\"Prescriptive\",$C$8=\"CZ 6\"),4,\n\nIF(AND($C$9=\"Version 1.2 OR+WA\",Table6c[[#This Row],[Dwelling/ Common?]]=\"Common\",OR($C$7=\"ERI\",$C$7=\"Title 24 - Dwelling Unit Models\"),$C$8=\"CZ 4 C\"),2,\nIF(AND($C$9=\"Version 1.2 OR+WA\",Table6c[[#This Row],[Dwelling/ Common?]]=\"Common\",OR($C$7=\"ERI\",$C$7=\"Title 24 - Dwelling Unit Models\"),$C$8=\"CZ 5\"),3,\nIF(AND($C$9=\"Version 1.2 OR+WA\",Table6c[[#This Row],[Dwelling/ Common?]]=\"Common\",OR($C$7=\"ERI\",$C$7=\"Title 24 - Dwelling Unit Models\"),$C$8=\"CZ 6\"),4,\n\nIF($C$8=\"CZ 1\",2,\nIF($C$8=\"CZ 2\",3,\nIF($C$8=\"CZ 3\",4,\nIF($C$8=\"CZ 4\",5,\nIF($C$8=\"CZ 4 C\",6,\nIF($C$8=\"CZ 5\",7,\nIF($C$8=\"CZ 6\",8,\nIF($C$8=\"CZ 7\",9,\nIF($C$8=\"CZ 8\",10,\"\")))))))))))))))","v":""},null,null,{"$f":"IF(Table6c[[#This Row],[Total Area]]=\"\",\"\",Table6c[[#This Row],[Total Area]]*Table6c[[#This Row],[ASSEMBLY\nU-FACTOR]])","v":""}]
[null,null,null,null,null,null,{"$f":"IF(Table6c[[#This Row],[Qty]]=\"\",\"\",Table6c[[#This Row],[Qty]]*Table6c[[#This Row],[Area]])","v":""},null,{"$f":"IFERROR(IF(AND($C$9=\"Version 1.2 OR+WA\",OR($C$8=\"CZ 1\",$C$8=\"CZ 2\",$C$8=\"CZ 3\",$C$8=\"CZ 4\",$C$8=\"CZ 7\",$C$8=\"CZ 8\")),\"N/A - Update CZ\",\n\nIF(AND(Table6c[[#This Row],[Dwelling/ Common?]]=\"Common\",Table6c[[#This Row],[Door Type]]=\"Opaque Door\",OR($C$8=\"CZ 1\",$C$8=\"CZ 2\",$C$8=\"CZ 3\",$C$8=\"CZ 4\",$C$8=\"CZ 4 C\",$C$8=\"CZ 5\",$C$8=\"CZ 6\")),0.7,\nIF(AND(Table6c[[#This Row],[Dwelling/ Common?]]=\"Common\",Table6c[[#This Row],[Door Type]]=\"Opaque Door\",OR($C$8=\"CZ 7\",$C$8=\"CZ 8\")),0.5,\n\nIF(AND(Table6c[[#This Row],[Dwelling/ Common?]]=\"Common\",$C$9=\"Version 1\",OR($C$7=\"Prescriptive\",$C$7=\"ERI\",$C$7=\"Title 24 - Dwelling Unit Models\")),INDEX(ESRefDesign_FenestrationAW_V1[#All],Table6c[[#This Row],[Door Type_Uindex]],Table6c[[#This Row],[CZ_Index]]),\nIF(AND(Table6c[[#This Row],[Dwelling/ Common?]]=\"Common\",$C$9=\"Version 1.1\",OR($C$7=\"Prescriptive\",$C$7=\"ERI\",$C$7=\"Title 24 - Dwelling Unit Models\")),INDEX(ESRefDesign_FenestrationAW_V11[#All],Table6c[[#This Row],[Door Type_Uindex]],Table6c[[#This Row],[CZ_Index]]),\nIF(AND(Table6c[[#This Row],[Dwelling/ Common?]]=\"Common\",$C$9=\"Version 1.2 OR+WA\",OR($C$7=\"Prescriptive\",$C$7=\"ERI\",$C$7=\"Title 24 - Dwelling Unit Models\")),INDEX(ESRefDesign_FenestrationAW_V12[#All],Table6c[[#This Row],[Door Type_Uindex]],Table6c[[#This Row],[CZ_Index]]),\n\nIF(AND(Table6c[[#This Row],[Dwelling/ Common?]]=\"Common\",OR($C$7=\"ASHRAE\",$C$7=\"Title 24 - Whole Building Models\")),INDEX(IECC2009_Fenestration_AW_Windows[#All],Table6c[[#This Row],[Door Type_Uindex]],Table6c[[#This Row],[CZ_Index]]),\n\nIF(AND(Table6c[[#This Row],[Dwelling/ Common?]]=\"Dwelling\",$C$7=\"Prescriptive\",$C$9=\"Version 1\"),INDEX(ESRefDesign_Fenestration_V1[#All],Table6c[[#This Row],[Door Type_Uindex]],Table6c[[#This Row],[CZ_Index]]),\nIF(AND(Table6c[[#This Row],[Dwelling/ Common?]]=\"Dwelling\",$C$7=\"Prescriptive\",$C$9=\"Version 1.1\"),INDEX(ESRefDesign_Fenestration_V11[#All],Table6c[[#This Row],[Door Type_Uindex]],Table6c[[#This Row],[CZ_Index]]),\nIF(AND(Table6c[[#This Row],[Dwelling/ Common?]]=\"Dwelling\",$C$7=\"Prescriptive\",$C$9=\"Version 1.2 OR+WA\"),INDEX(ESRefDesign_Fenestration_V12[#All],Table6c[[#This Row],[Door Type_Uindex]],Table6c[[#This Row],[CZ_Index]]),\n\nIF(Table6c[[#This Row],[Dwelling/ Common?]]=\"Dwelling\",INDEX(IECC2009_Fenestration_NotAW_Windows[#All],Table6c[[#This Row],[Door Type_Uindex]],Table6c[[#This Row],[CZ_Index]]),\n\n\"\"))))))))))),\"\")","v":""},{"$f":"IF(Table6c[[#This Row],[Total Area]]=\"\",\"\",Table6c[[#This Row],[Total Area]]*Table6c[[#This Row],[ENERGY STAR Requirement\nU-FACTOR]])","v":""},{"$f":"IFERROR(IF(AND($C$9=\"Version 1.2 OR+WA\",OR($C$8=\"CZ 1\",$C$8=\"CZ 2\",$C$8=\"CZ 3\",$C$8=\"CZ 4\",$C$8=\"CZ 7\",$C$8=\"CZ 8\")),\"N/A - Update CZ\",\n\nIF(Table6c[[#This Row],[Door Type]]=\"Opaque Door\",\"Any\",\n\nIF(AND(Table6c[[#This Row],[PROJECTION FACTOR (PF)\n(ASHRAE only)]]=\"\",OR($C$7=\"ASHRAE\",$C$7=\"Title 24 - Whole Building Models\"),Table6c[[#This Row],[Dwelling/ Common?]]=\"Common\"),\"Enter PF\",\n\nIF(AND(Table6c[[#This Row],[Dwelling/ Common?]]=\"Common\",$C$9=\"Version 1\",OR($C$7=\"Prescriptive\",$C$7=\"ERI\",$C$7=\"Title 24 - Dwelling Unit Models\")),INDEX(ESRefDesign_FenestrationAW_V1[#All],Table6c[[#This Row],[Door Type_SHGCIndex]],Table6c[[#This Row],[CZ_Index]]),\nIF(AND(Table6c[[#This Row],[Dwelling/ Common?]]=\"Common\",$C$9=\"Version 1.1\",OR($C$7=\"Prescriptive\",$C$7=\"ERI\",$C$7=\"Title 24 - Dwelling Unit Models\")),INDEX(ESRefDesign_FenestrationAW_V11[#All],Table6c[[#This Row],[Door Type_SHGCIndex]],Table6c[[#This Row],[CZ_Index]]),\nIF(AND(Table6c[[#This Row],[Dwelling/ Common?]]=\"Common\",$C$9=\"Version 1.2 OR+WA\",OR($C$7=\"Prescriptive\",$C$7=\"ERI\",$C$7=\"Title 24 - Dwelling Unit Models\")),INDEX(ESRefDesign_FenestrationAW_V12[#All],Table6c[[#This Row],[Door Type_SHGCIndex]],Table6c[[#This Row],[CZ_Index]]),\n\nIF(AND(Table6c[[#This Row],[Dwelling/ Common?]]=\"Common\",OR($C$7=\"ASHRAE\",$C$7=\"Title 24 - Whole Building Models\")),INDEX(IECC2009_Fenestration_AW_Windows[#All],Table6c[[#This Row],[Door Type_SHGCIndex]],Table6c[[#This Row],[CZ_Index]]),\n\nIF(AND(Table6c[[#This Row],[Dwelling/ Common?]]=\"Dwelling\",$C$7=\"Prescriptive\",$C$9=\"Version 1\"),INDEX(ESRefDesign_Fenestration_V1[#All],Table6c[[#This Row],[Door Type_SHGCIndex]],Table6c[[#This Row],[CZ_Index]]),\nIF(AND(Table6c[[#This Row],[Dwelling/ Common?]]=\"Dwelling\",$C$7=\"Prescriptive\",$C$9=\"Version 1.1\"),INDEX(ESRefDesign_Fenestration_V11[#All],Table6c[[#This Row],[Door Type_SHGCIndex]],Table6c[[#This Row],[CZ_Index]]),\nIF(AND(Table6c[[#This Row],[Dwelling/ Common?]]=\"Dwelling\",$C$7=\"Prescriptive\",$C$9=\"Version 1.2 OR+WA\"),INDEX(ESRefDesign_Fenestration_V12[#All],Table6c[[#This Row],[Door Type_SHGCIndex]],Table6c[[#This Row],[CZ_Index]]),\n\nIF(Table6c[[#This Row],[Dwelling/ Common?]]=\"Dwelling\",INDEX(IECC2009_Fenestration_NotAW_Windows[#All],Table6c[[#This Row],[Door Type_SHGCIndex]],Table6c[[#This Row],[CZ_Index]]),\n\n\"\"))))))))))),\"\")","v":""},{"$f":"IF(AND(Table6c[[#This Row],[Door Type]]=\"Opaque Door\",Table6c[[#This Row],[Dwelling/ Common?]]=\"Common\"),\"N/A\",\n\nIF(AND(Table6c[[#This Row],[Dwelling/ Common?]]=\"Common\",OR($C$7=\"Prescriptive\",$C$7=\"ERI\",$C$7=\"Title 24 - Dwelling Unit Models\")),3,\nIF(AND(Table6c[[#This Row],[Dwelling/ Common?]]=\"Common\",OR($C$7=\"ASHRAE\",$C$7=\"Title 24 - Whole Building Models\")),4,\n\nIF(AND(Table6c[[#This Row],[Dwelling/ Common?]]=\"Dwelling\",OR($C$7=\"ASHRAE\",$C$7=\"Title 24 - Whole Building Models\",$C$7=\"ERI\",$C$7=\"Title 24 - Dwelling Unit Models\")),2,\n\nIF(Table6c[[#This Row],[Door Type]]=\"≤½ Lite Door\",5,\nIF(Table6c[[#This Row],[Door Type]]=\">½ Lite Door\",6,\nIF(AND(Table6c[[#This Row],[Door Type]]=\"Glazed Entrance Door\",$C$7=\"Prescriptive\"),6,\n\nIF(Table6c[[#This Row],[Door Type]]=\"Glazed Entrance Door\",4,\n\nIF(AND(Table6c[[#This Row],[Door Type]]=\"Opaque Door\",Table6c[[#This Row],[Dwelling/ Common?]]=\"Dwelling\"),4,\n\n\"\")))))))))","v":""},{"$f":"IF(Table6c[[#This Row],[Door Type]]=\"Opaque Door\",\"N/A\",\n\nIF(AND(Table6c[[#This Row],[Dwelling/ Common?]]=\"Common\",OR($C$7=\"Prescriptive\",$C$7=\"ERI\",$C$7=\"Title 24 - Dwelling Unit Models\")),4,\n\nIF(AND(Table6c[[#This Row],[Dwelling/ Common?]]=\"Common\",OR($C$7=\"ASHRAE\",$C$7=\"Title 24 - Whole Building Models\"),Table6c[[#This Row],[PROJECTION FACTOR (PF)\n(ASHRAE only)]]=\"< 0.25\"),7,\nIF(AND(Table6c[[#This Row],[Dwelling/ Common?]]=\"Common\",OR($C$7=\"ASHRAE\",$C$7=\"Title 24 - Whole Building Models\"),Table6c[[#This Row],[PROJECTION FACTOR (PF)\n(ASHRAE only)]]=\"0.25 < PF < 0.5\"),8,\nIF(AND(Table6c[[#This Row],[Dwelling/ Common?]]=\"Common\",OR($C$7=\"ASHRAE\",$C$7=\"Title 24 - Whole Building Models\"),Table6c[[#This Row],[PROJECTION FACTOR (PF)\n(ASHRAE only)]]=\">= 0.5\"),9,\n\nIF(AND(Table6c[[#This Row],[Dwelling/ Common?]]=\"Dwelling\",OR($C$7=\"ASHRAE\",$C$7=\"Title 24 - Whole Building Models\",$C$7=\"ERI\",$C$7=\"Title 24 - Dwelling Unit Models\")),4,\n\nIF(Table6c[[#This Row],[Door Type]]=\"≤½ Lite Door\",8,\nIF(Table6c[[#This Row],[Door Type]]=\">½ Lite Door\",9,\nIF(AND(Table6c[[#This Row],[Door Type]]=\"Glazed Entrance Door\",$C$7=\"Prescriptive\"),9,\n\nIF(Table6c[[#This Row],[Door Type]]=\"Glazed Entrance Door\",7,\n\nIF(AND(Table6c[[#This Row],[Door Type]]=\"Opaque Door\",Table6c[[#This Row],[Dwelling/ Common?]]=\"Dwelling\"),7,\n\n\"\")))))))))))","v":""},{"$f":"IF(AND($C$9=\"Version 1.2 OR+WA\",$C$7=\"Prescriptive\",$C$8=\"CZ 4 C\"),2,\nIF(AND($C$9=\"Version 1.2 OR+WA\",$C$7=\"Prescriptive\",$C$8=\"CZ 5\"),3,\nIF(AND($C$9=\"Version 1.2 OR+WA\",$C$7=\"Prescriptive\",$C$8=\"CZ 6\"),4,\n\nIF(AND($C$9=\"Version 1.2 OR+WA\",Table6c[[#This Row],[Dwelling/ Common?]]=\"Common\",OR($C$7=\"ERI\",$C$7=\"Title 24 - Dwelling Unit Models\"),$C$8=\"CZ 4 C\"),2,\nIF(AND($C$9=\"Version 1.2 OR+WA\",Table6c[[#This Row],[Dwelling/ Common?]]=\"Common\",OR($C$7=\"ERI\",$C$7=\"Title 24 - Dwelling Unit Models\"),$C$8=\"CZ 5\"),3,\nIF(AND($C$9=\"Version 1.2 OR+WA\",Table6c[[#This Row],[Dwelling/ Common?]]=\"Common\",OR($C$7=\"ERI\",$C$7=\"Title 24 - Dwelling Unit Models\"),$C$8=\"CZ 6\"),4,\n\nIF($C$8=\"CZ 1\",2,\nIF($C$8=\"CZ 2\",3,\nIF($C$8=\"CZ 3\",4,\nIF($C$8=\"CZ 4\",5,\nIF($C$8=\"CZ 4 C\",6,\nIF($C$8=\"CZ 5\",7,\nIF($C$8=\"CZ 6\",8,\nIF($C$8=\"CZ 7\",9,\nIF($C$8=\"CZ 8\",10,\"\")))))))))))))))","v":""},null,null,{"$f":"IF(Table6c[[#This Row],[Total Area]]=\"\",\"\",Table6c[[#This Row],[Total Area]]*Table6c[[#This Row],[ASSEMBLY\nU-FACTOR]])","v":""}]
[null,null,null,null,null,null,{"$f":"IF(Table6c[[#This Row],[Qty]]=\"\",\"\",Table6c[[#This Row],[Qty]]*Table6c[[#This Row],[Area]])","v":""},null,{"$f":"IFERROR(IF(AND($C$9=\"Version 1.2 OR+WA\",OR($C$8=\"CZ 1\",$C$8=\"CZ 2\",$C$8=\"CZ 3\",$C$8=\"CZ 4\",$C$8=\"CZ 7\",$C$8=\"CZ 8\")),\"N/A - Update CZ\",\n\nIF(AND(Table6c[[#This Row],[Dwelling/ Common?]]=\"Common\",Table6c[[#This Row],[Door Type]]=\"Opaque Door\",OR($C$8=\"CZ 1\",$C$8=\"CZ 2\",$C$8=\"CZ 3\",$C$8=\"CZ 4\",$C$8=\"CZ 4 C\",$C$8=\"CZ 5\",$C$8=\"CZ 6\")),0.7,\nIF(AND(Table6c[[#This Row],[Dwelling/ Common?]]=\"Common\",Table6c[[#This Row],[Door Type]]=\"Opaque Door\",OR($C$8=\"CZ 7\",$C$8=\"CZ 8\")),0.5,\n\nIF(AND(Table6c[[#This Row],[Dwelling/ Common?]]=\"Common\",$C$9=\"Version 1\",OR($C$7=\"Prescriptive\",$C$7=\"ERI\",$C$7=\"Title 24 - Dwelling Unit Models\")),INDEX(ESRefDesign_FenestrationAW_V1[#All],Table6c[[#This Row],[Door Type_Uindex]],Table6c[[#This Row],[CZ_Index]]),\nIF(AND(Table6c[[#This Row],[Dwelling/ Common?]]=\"Common\",$C$9=\"Version 1.1\",OR($C$7=\"Prescriptive\",$C$7=\"ERI\",$C$7=\"Title 24 - Dwelling Unit Models\")),INDEX(ESRefDesign_FenestrationAW_V11[#All],Table6c[[#This Row],[Door Type_Uindex]],Table6c[[#This Row],[CZ_Index]]),\nIF(AND(Table6c[[#This Row],[Dwelling/ Common?]]=\"Common\",$C$9=\"Version 1.2 OR+WA\",OR($C$7=\"Prescriptive\",$C$7=\"ERI\",$C$7=\"Title 24 - Dwelling Unit Models\")),INDEX(ESRefDesign_FenestrationAW_V12[#All],Table6c[[#This Row],[Door Type_Uindex]],Table6c[[#This Row],[CZ_Index]]),\n\nIF(AND(Table6c[[#This Row],[Dwelling/ Common?]]=\"Common\",OR($C$7=\"ASHRAE\",$C$7=\"Title 24 - Whole Building Models\")),INDEX(IECC2009_Fenestration_AW_Windows[#All],Table6c[[#This Row],[Door Type_Uindex]],Table6c[[#This Row],[CZ_Index]]),\n\nIF(AND(Table6c[[#This Row],[Dwelling/ Common?]]=\"Dwelling\",$C$7=\"Prescriptive\",$C$9=\"Version 1\"),INDEX(ESRefDesign_Fenestration_V1[#All],Table6c[[#This Row],[Door Type_Uindex]],Table6c[[#This Row],[CZ_Index]]),\nIF(AND(Table6c[[#This Row],[Dwelling/ Common?]]=\"Dwelling\",$C$7=\"Prescriptive\",$C$9=\"Version 1.1\"),INDEX(ESRefDesign_Fenestration_V11[#All],Table6c[[#This Row],[Door Type_Uindex]],Table6c[[#This Row],[CZ_Index]]),\nIF(AND(Table6c[[#This Row],[Dwelling/ Common?]]=\"Dwelling\",$C$7=\"Prescriptive\",$C$9=\"Version 1.2 OR+WA\"),INDEX(ESRefDesign_Fenestration_V12[#All],Table6c[[#This Row],[Door Type_Uindex]],Table6c[[#This Row],[CZ_Index]]),\n\nIF(Table6c[[#This Row],[Dwelling/ Common?]]=\"Dwelling\",INDEX(IECC2009_Fenestration_NotAW_Windows[#All],Table6c[[#This Row],[Door Type_Uindex]],Table6c[[#This Row],[CZ_Index]]),\n\n\"\"))))))))))),\"\")","v":""},{"$f":"IF(Table6c[[#This Row],[Total Area]]=\"\",\"\",Table6c[[#This Row],[Total Area]]*Table6c[[#This Row],[ENERGY STAR Requirement\nU-FACTOR]])","v":""},{"$f":"IFERROR(IF(AND($C$9=\"Version 1.2 OR+WA\",OR($C$8=\"CZ 1\",$C$8=\"CZ 2\",$C$8=\"CZ 3\",$C$8=\"CZ 4\",$C$8=\"CZ 7\",$C$8=\"CZ 8\")),\"N/A - Update CZ\",\n\nIF(Table6c[[#This Row],[Door Type]]=\"Opaque Door\",\"Any\",\n\nIF(AND(Table6c[[#This Row],[PROJECTION FACTOR (PF)\n(ASHRAE only)]]=\"\",OR($C$7=\"ASHRAE\",$C$7=\"Title 24 - Whole Building Models\"),Table6c[[#This Row],[Dwelling/ Common?]]=\"Common\"),\"Enter PF\",\n\nIF(AND(Table6c[[#This Row],[Dwelling/ Common?]]=\"Common\",$C$9=\"Version 1\",OR($C$7=\"Prescriptive\",$C$7=\"ERI\",$C$7=\"Title 24 - Dwelling Unit Models\")),INDEX(ESRefDesign_FenestrationAW_V1[#All],Table6c[[#This Row],[Door Type_SHGCIndex]],Table6c[[#This Row],[CZ_Index]]),\nIF(AND(Table6c[[#This Row],[Dwelling/ Common?]]=\"Common\",$C$9=\"Version 1.1\",OR($C$7=\"Prescriptive\",$C$7=\"ERI\",$C$7=\"Title 24 - Dwelling Unit Models\")),INDEX(ESRefDesign_FenestrationAW_V11[#All],Table6c[[#This Row],[Door Type_SHGCIndex]],Table6c[[#This Row],[CZ_Index]]),\nIF(AND(Table6c[[#This Row],[Dwelling/ Common?]]=\"Common\",$C$9=\"Version 1.2 OR+WA\",OR($C$7=\"Prescriptive\",$C$7=\"ERI\",$C$7=\"Title 24 - Dwelling Unit Models\")),INDEX(ESRefDesign_FenestrationAW_V12[#All],Table6c[[#This Row],[Door Type_SHGCIndex]],Table6c[[#This Row],[CZ_Index]]),\n\nIF(AND(Table6c[[#This Row],[Dwelling/ Common?]]=\"Common\",OR($C$7=\"ASHRAE\",$C$7=\"Title 24 - Whole Building Models\")),INDEX(IECC2009_Fenestration_AW_Windows[#All],Table6c[[#This Row],[Door Type_SHGCIndex]],Table6c[[#This Row],[CZ_Index]]),\n\nIF(AND(Table6c[[#This Row],[Dwelling/ Common?]]=\"Dwelling\",$C$7=\"Prescriptive\",$C$9=\"Version 1\"),INDEX(ESRefDesign_Fenestration_V1[#All],Table6c[[#This Row],[Door Type_SHGCIndex]],Table6c[[#This Row],[CZ_Index]]),\nIF(AND(Table6c[[#This Row],[Dwelling/ Common?]]=\"Dwelling\",$C$7=\"Prescriptive\",$C$9=\"Version 1.1\"),INDEX(ESRefDesign_Fenestration_V11[#All],Table6c[[#This Row],[Door Type_SHGCIndex]],Table6c[[#This Row],[CZ_Index]]),\nIF(AND(Table6c[[#This Row],[Dwelling/ Common?]]=\"Dwelling\",$C$7=\"Prescriptive\",$C$9=\"Version 1.2 OR+WA\"),INDEX(ESRefDesign_Fenestration_V12[#All],Table6c[[#This Row],[Door Type_SHGCIndex]],Table6c[[#This Row],[CZ_Index]]),\n\nIF(Table6c[[#This Row],[Dwelling/ Common?]]=\"Dwelling\",INDEX(IECC2009_Fenestration_NotAW_Windows[#All],Table6c[[#This Row],[Door Type_SHGCIndex]],Table6c[[#This Row],[CZ_Index]]),\n\n\"\"))))))))))),\"\")","v":""},{"$f":"IF(AND(Table6c[[#This Row],[Door Type]]=\"Opaque Door\",Table6c[[#This Row],[Dwelling/ Common?]]=\"Common\"),\"N/A\",\n\nIF(AND(Table6c[[#This Row],[Dwelling/ Common?]]=\"Common\",OR($C$7=\"Prescriptive\",$C$7=\"ERI\",$C$7=\"Title 24 - Dwelling Unit Models\")),3,\nIF(AND(Table6c[[#This Row],[Dwelling/ Common?]]=\"Common\",OR($C$7=\"ASHRAE\",$C$7=\"Title 24 - Whole Building Models\")),4,\n\nIF(AND(Table6c[[#This Row],[Dwelling/ Common?]]=\"Dwelling\",OR($C$7=\"ASHRAE\",$C$7=\"Title 24 - Whole Building Models\",$C$7=\"ERI\",$C$7=\"Title 24 - Dwelling Unit Models\")),2,\n\nIF(Table6c[[#This Row],[Door Type]]=\"≤½ Lite Door\",5,\nIF(Table6c[[#This Row],[Door Type]]=\">½ Lite Door\",6,\nIF(AND(Table6c[[#This Row],[Door Type]]=\"Glazed Entrance Door\",$C$7=\"Prescriptive\"),6,\n\nIF(Table6c[[#This Row],[Door Type]]=\"Glazed Entrance Door\",4,\n\nIF(AND(Table6c[[#This Row],[Door Type]]=\"Opaque Door\",Table6c[[#This Row],[Dwelling/ Common?]]=\"Dwelling\"),4,\n\n\"\")))))))))","v":""},{"$f":"IF(Table6c[[#This Row],[Door Type]]=\"Opaque Door\",\"N/A\",\n\nIF(AND(Table6c[[#This Row],[Dwelling/ Common?]]=\"Common\",OR($C$7=\"Prescriptive\",$C$7=\"ERI\",$C$7=\"Title 24 - Dwelling Unit Models\")),4,\n\nIF(AND(Table6c[[#This Row],[Dwelling/ Common?]]=\"Common\",OR($C$7=\"ASHRAE\",$C$7=\"Title 24 - Whole Building Models\"),Table6c[[#This Row],[PROJECTION FACTOR (PF)\n(ASHRAE only)]]=\"< 0.25\"),7,\nIF(AND(Table6c[[#This Row],[Dwelling/ Common?]]=\"Common\",OR($C$7=\"ASHRAE\",$C$7=\"Title 24 - Whole Building Models\"),Table6c[[#This Row],[PROJECTION FACTOR (PF)\n(ASHRAE only)]]=\"0.25 < PF < 0.5\"),8,\nIF(AND(Table6c[[#This Row],[Dwelling/ Common?]]=\"Common\",OR($C$7=\"ASHRAE\",$C$7=\"Title 24 - Whole Building Models\"),Table6c[[#This Row],[PROJECTION FACTOR (PF)\n(ASHRAE only)]]=\">= 0.5\"),9,\n\nIF(AND(Table6c[[#This Row],[Dwelling/ Common?]]=\"Dwelling\",OR($C$7=\"ASHRAE\",$C$7=\"Title 24 - Whole Building Models\",$C$7=\"ERI\",$C$7=\"Title 24 - Dwelling Unit Models\")),4,\n\nIF(Table6c[[#This Row],[Door Type]]=\"≤½ Lite Door\",8,\nIF(Table6c[[#This Row],[Door Type]]=\">½ Lite Door\",9,\nIF(AND(Table6c[[#This Row],[Door Type]]=\"Glazed Entrance Door\",$C$7=\"Prescriptive\"),9,\n\nIF(Table6c[[#This Row],[Door Type]]=\"Glazed Entrance Door\",7,\n\nIF(AND(Table6c[[#This Row],[Door Type]]=\"Opaque Door\",Table6c[[#This Row],[Dwelling/ Common?]]=\"Dwelling\"),7,\n\n\"\")))))))))))","v":""},{"$f":"IF(AND($C$9=\"Version 1.2 OR+WA\",$C$7=\"Prescriptive\",$C$8=\"CZ 4 C\"),2,\nIF(AND($C$9=\"Version 1.2 OR+WA\",$C$7=\"Prescriptive\",$C$8=\"CZ 5\"),3,\nIF(AND($C$9=\"Version 1.2 OR+WA\",$C$7=\"Prescriptive\",$C$8=\"CZ 6\"),4,\n\nIF(AND($C$9=\"Version 1.2 OR+WA\",Table6c[[#This Row],[Dwelling/ Common?]]=\"Common\",OR($C$7=\"ERI\",$C$7=\"Title 24 - Dwelling Unit Models\"),$C$8=\"CZ 4 C\"),2,\nIF(AND($C$9=\"Version 1.2 OR+WA\",Table6c[[#This Row],[Dwelling/ Common?]]=\"Common\",OR($C$7=\"ERI\",$C$7=\"Title 24 - Dwelling Unit Models\"),$C$8=\"CZ 5\"),3,\nIF(AND($C$9=\"Version 1.2 OR+WA\",Table6c[[#This Row],[Dwelling/ Common?]]=\"Common\",OR($C$7=\"ERI\",$C$7=\"Title 24 - Dwelling Unit Models\"),$C$8=\"CZ 6\"),4,\n\nIF($C$8=\"CZ 1\",2,\nIF($C$8=\"CZ 2\",3,\nIF($C$8=\"CZ 3\",4,\nIF($C$8=\"CZ 4\",5,\nIF($C$8=\"CZ 4 C\",6,\nIF($C$8=\"CZ 5\",7,\nIF($C$8=\"CZ 6\",8,\nIF($C$8=\"CZ 7\",9,\nIF($C$8=\"CZ 8\",10,\"\")))))))))))))))","v":""},null,null,{"$f":"IF(Table6c[[#This Row],[Total Area]]=\"\",\"\",Table6c[[#This Row],[Total Area]]*Table6c[[#This Row],[ASSEMBLY\nU-FACTOR]])","v":""}]
[null,null,null,null,null,{"$f":"SUM(Table6c[Area])","v":0},{"$f":"SUM(Table6c[Total Area])","v":0},null,null,{"$f":"SUM(Table6c[ENERGY STAR Requirement UA])","v":0},null,null,null,null,null,null,{"$f":"SUM(Table6c[Total UA])","v":0}]
[null,null,null,"Weighted U-factor:",{"$f":"IFERROR(SUM(Table6c[Total UA])/SUM(Table6c[Total Area]),\"\")","v":""}]
[]
[null,"Footnote 4. All windows, doors and skylights must meet or exceed the U-factor and SHGC requirements specified in the table below. If no NFRC rating is noted on the window or in product literature (e.g., for site-built fenestration), select the U-factor and SHGC value from Tables 4 and 10, respectively, in 2013 ASHRAE Handbook of Fundamentals, Chapter 15. Select the highest U-factor and SHGC value among the values listed for the known window characteristics (e.g., frame type, number of panes, glass color, and presence of low-e coating). Note that the U-factor requirement applies to all fenestration while the SHGC only applies to the glazed portion."]
[null,null,"Dwelling unit doors and windows that are not classified “Class AW”*",null,null,null,null,"Dwelling unit windows that are classified as “Class AW”*",null,null,null,null,null,"Common Space†"]
[null,"ERI","2009 IECC Table 402.1.1",null,null,null,null,"2009 IECC Table 502.3",null,null,null,null,null,"ENERGY STAR MF Reference Design – for Class AW"]
[null,"ASHRAE","2009 IECC Table 402.1.1",null,null,null,null,"2009 IECC Table 502.3",null,null,null,null,null,"2009 IECC Table 502.3"]
[null,"Prescriptive","ENERGY STAR MF Reference Design",null,null,null,null,"ENERGY STAR MF Reference Design – for Class AW",null,null,null,null,null,"ENERGY STAR MF Reference Design – for Class AW"]
[null,"* Classified as “Class AW” under the North American Fenestration Standard (AAMA / WDMA / CSA 101 / I.S.2 / A440)."]
[null,"† Opaque doors in common spaces in CZ1-6 shall not exceed U-0.70, and in CZ 7-8, shall not exceed U-0.5."]
[]
[null,"The following exemptions apply:"]
[null,"           i.        An area-weighted average of fenestration products shall be permitted to satisfy the U-factor requirements;"]
[null,"          ii.        An area-weighted average of fenestration products ≥ 50% glazed shall be permitted to satisfy the SHGC requirements; and"]
[null,"         iii.        5% of all combined fenestration area (glazed and opaque) shall be exempt from the U-factor and SHGC requirements, and shall be excluded from area-weighted averages calculated using i) and ii), above. "]
[null,"In PHIUS+ or PHI certified buildings, where triple-glazed window assemblies with thermal breaks / spacers between the panes are used, such windows meet the intent of Items 2.1 and 2.2 and shall be excluded when assessing compliance of a) through d), above."]

{"sheet":"7. Heated Plenum or Garage","index":14,"n_rows":17,"n_cols":9,"rows_kept":17,"cut":false,"hidden":false,"merged":[[3,3,3,4],[5,5,6,10],[1,2,1,10]]}
[]
[null,"Instructions: ","Using Tables: Providing data in yellow cells on this tab prior to the Proposed Design submittal is optional, but recommended. \n\nPrior to As-Built submittal, where heated plenum or heated garages are present, list the installed R-value, if not clearly shown in photo documentation. \n\nException: Per Rater Field Checklist, footnote 9, compliance with Items 1.5 and 1.6 is not required for ASHRAE projects, but the energy used by the heating systems must be modeled following the requirements in the Simulation Guidelines, available at www.energystar.gov/mfnc.\n\nPrinting: Optimized for Portait view."]
[]
[null,"Select ENERGY STAR Version",{"$f":"IF('Project Information'!$F$8=\"\",\"Complete Project Information Tab\",'Project Information'!$F$8)","v":"Complete Project Information Tab"},"Select ENERGY STAR Climate Zone",null,{"$f":"IF('Project Information'!$F$9=\"\",\"Complete Project Information Tab\",'Project Information'!$F$9)","v":"Complete Project Information Tab"},null,{"$f":"IF($F$4=\"CZ 1\",2,\nIF($F$4=\"CZ 2\",3,\nIF($F$4=\"CZ 3\",4,\nIF($F$4=\"CZ 4\",5,\nIF($F$4=\"CZ 4 C\",6,\nIF($F$4=\"CZ 5\",7,\nIF($F$4=\"CZ 6\",8,\nIF($F$4=\"CZ 7\",9,\nIF($F$4=\"CZ 8\",10,\"\")))))))))","v":""},"<< CZ Reference Table Index"]
[null,null,null,null,null,null,null,2,"<< Mass Floors Index in the IECC2009_O_Floors Table"]
[null,null,null,null,null,"NOTES"]
[null,"Heated Plenum Insulation Verification"]
[null,null,"ENERGY STAR Requirement","Specified/Installed R-value"]
[null,"Plenum Wall Insulation",{"$f":"IF($F$4=\"CZ 1\",\"R-3ci\",\nIF($F$4=\"CZ 2\",\"R-3ci\",\nIF($F$4=\"CZ 3\",\"R-3ci\",\nIF($F$4=\"CZ 4\",\"R-3ci\",\nIF($F$4=\"CZ 4 C\",\"R-3ci\",\nIF($F$4=\"CZ 5\",\"R-5ci\",\nIF($F$4=\"CZ 6\",\"R-5ci\",\nIF($F$4=\"CZ 7\",\"R-7.5ci\",\nIF($F$4=\"CZ 8\",\"R-9.5ci\",\"\")))))))))","v":""}]
[null,"Top of Plenum Insulation",{"$f":"IF(OR($F$4=\"\",$F$4=\"Complete Project Information Tab\"),\"\",INDEX(IECC2009_O_Floors[#All],'7. Heated Plenum or Garage'!$H$5,'7. Heated Plenum or Garage'!$H$4))","v":""}]
[null,"Bottom of Plenum Insulation",{"$f":"IF(OR($F$4=\"\",$F$4=\"Complete Project Information Tab\"),\"\",\"R-13\")","v":""}]
[]
[]
[null,"Heated Garage Insulation Verification"]
[null,null,"ENERGY STAR Requirement","Specified/Installed R-value"]
[null,"Garage Above Grade or First Floor Below Grade Wall Insulation",{"$f":"IF(OR($F$4=\"CZ 1\",$F$4=\"CZ 2\",$F$4=\"CZ 3\",$F$4=\"CZ 4\",$F$4=\"CZ 4 C\"),\"No ENERGY STAR Requirement\",\nIF(OR($F$4=\"CZ 5\",$F$4=\"CZ 6\"),\"R-5ci\",IF($F$4=\"CZ 7\",\"R-7.5ci\",\nIF($F$4=\"CZ 8\",\"R-9.5ci\",\"\"))))","v":""}]
[null,"Garage Ceiling Insulation",{"$f":"IF(OR($F$4=\"\",$F$4=\"Complete Project Information Tab\"),\"\",INDEX(IECC2009_O_Floors[#All],'7. Heated Plenum or Garage'!$H$5,'7. Heated Plenum or Garage'!$H$4))","v":""}]

{"sheet":"8. DHW Schedule","index":15,"n_rows":24,"n_cols":15,"rows_kept":24,"cut":false,"hidden":false,"merged":[[5,14,6,19],[21,14,22,19],[22,5,22,7],[17,2,17,12],[1,2,1,12],[5,2,5,12],[20,2,20,3],[19,1,19,3],[20,5,20,11]]}
[]
[null,"Instructions: ","Using Tables: Providing data in yellow and orange cells on this tab prior to the Proposed Design submittal is optional, but recommended. \n\nPrior to As-Built submittal, complete all orange and yellow cells. See below for specific instructions on using the Domestic Hot Water System Verification and the Low-Flow Fixture Verification tables.\n\nPrinting: Optimized for printing in Landscape view."]
[]
[null,"Domestic Hot Water System Verification"]
[]
[null,"Instructions: ","Complete entire table OR complete columns B, C, D and provide AHRI Certificate for each DHW system.",null,null,null,null,null,null,null,null,null,null,null,"NOTES"]
[]
[null,"ID -DHW System ","DESCRIPTION","LOCATION","MFR","MODEL #","AHRI CERT #",null,null,"LOCATION\n(dwg/spec)","PLAN REVIEW","INSPECTION?","INSPECTION COMMENTS"]
[]
[]
[]
[]
[]
[]
[]
[null,"Low-Flow Fixture Verification"]
[]
[null,"Instructions: ","Prescriptive Path: Complete table and provide cut sheet/WaterSense documentation for each bath faucet, aerator, and showerhead.\n\nASHRAE Path: (if taking credit for low-flow fixture) Complete table and provide cut sheet/WaterSense documentation for each faucet and showerhead, where credit is taken, that clearly identifies flow rate."]
[]
[null,"For shower compartments with multiple fixtures:"]
[null,null,"Operated simultaneously (Y/N)?",null,null,{"$f":"IF(E21=\"Yes\",\"If yes, list all showerheads in table such that the total per compartment can be verified\",\"\")","v":""}]
[null,null,null,null,null,null,null,null,null,null,null,null,null,null,"NOTES"]
[null,null,null,null,"ASHRAE PATH ONLY","PRESCRIPTIVE PATH ONLY"]
[null,"ID - Low-Flow Fixtures","DESCRIPTION","Quantity","GPM","MFR","MODEL #","WaterSense?",null,"LOCATION\n(dwg/spec)","PLAN REVIEW","INSPECTION?","INSPECTION COMMENTS"]

{"sheet":"9. Heating and Cooling Schedule","index":16,"n_rows":21,"n_cols":15,"rows_kept":21,"cut":false,"hidden":false,"merged":[[1,2,1,12],[18,2,18,12],[5,2,5,12],[5,14,6,19],[18,14,19,19]]}
[]
[null,"Instructions: ","Using Tables: Providing data in yellow and orange cells on this tab prior to the Proposed Design submittal is optional, but recommended. \n\nPrior to As-Built submittal, complete all orange and yellow cells. See below for specific instructions on using the Heating & Cooling System Verification and the Circulating Pump Motor Verification (non-DHW) tables.\n\nPrinting: Optimized for printing in Landscape view."]
[]
[null,"Heating & Cooling System Verification"]
[]
[null,"Instructions: ","Complete table OR provide schedule with AHRI certificate for each system in schedule.",null,null,null,null,null,null,null,null,null,null,null,"NOTES"]
[]
[null,"ID","DESCRIPTION","HEATING/ COOLING","LOCATION/ SERVES","QUANTITY","MFR","AHRI CERT#",null,"LOCATION\n(dwg/spec)","PLAN REVIEW","INSPECTION?","INSPECTION COMMENTS"]
[]
[]
[]
[]
[]
[]
[]
[]
[null,"Circulating Pump Motor Verification (non-DHW)"]
[]
[null,"Instructions: ","Record manufacturer and model number of 3-phase pump motors over 1 HP, to confirm NEMA. If over 5 HP, confirm presence of VFD and provide photo of VFD.",null,null,null,null,null,null,null,null,null,null,null,"NOTES"]
[]
[null,"ID","DESCRIPTION","LOCATION","MFR","MODEL #","HORSE\nPOWER (HP)","NEMA PREMIUM?","VFD?","LOCATION\n(dwg/spec)","PLAN REVIEW","INSPECTION?","INSPECTION COMMENTS"]

{"sheet":"10. Lighting","index":17,"n_rows":73,"n_cols":23,"rows_kept":73,"cut":false,"hidden":false,"merged":[[62,1,62,14],[5,1,7,18],[1,2,1,18],[53,1,53,14],[51,1,51,14],[28,1,28,10],[10,22,11,27],[30,22,31,27],[49,1,49,3],[35,11,35,12],[37,1,37,3],[37,4,37,6],[30,1,30,14],[10,1,10,14]]}
[]
[null,"Instructions: ","Using Tables: Providing data in yellow and orange cells on this tab prior to the Proposed Design submittal is optional, but recommended. \n\nPrior to As-Built submittal, use the As-Built lighting schedule and floor plans to complete all orange and yellow cells. Pass/Fail values will calculate automatically. \n\nPrinting: Optimized for printing in Portrait view."]
[]
[null,"Lighting Verification (Lighting Power Density Calculation and 90% Efficient Fixtures)"]
[]
[null,"Qualifying Tier I Light Fixture – A light fixture located in a Qualifying Light Fixture Location that contains fluorescent lamps.\n\nQualifying Tier II Light Fixture – A light fixture located in a Qualifying Light Fixture Location that contains LED lamps; an integrated LED fixture; an outdoor light fixture that is controlled by a photocell; or an indoor fixture controlled by a motion sensor."]
[]
[]
[]
[]
[null,"Dwelling Unit\n(Prescriptive Path only; ASHRAE Path can enter into APC)",null,null,null,null,null,null,null,null,null,null,null,null,null,null,null,null,null,null,null,null,"NOTES"]
[]
[null,"Count All Fixtures",{"$f":"IF(OR(L$27=\"\",L$27=0),\"\",L$27)","v":""},null,null,"Fixture Label","A","B","C","D","E"]
[null,"Are 90% Tier I/II or ES?",{"$f":"IF(L$27=0,\"\",\nIF((M$27/L$27)>0.9,\"PASS\",\"FAIL\"))","v":""},null,null,"Fixture Watts"]
[null,"Prescriptive Only: < 0.75?",{"$f":"IF($N$27=\"\",\"\",\nIF($N$27<=0.75,\"PASS\",\"FAIL\"))","v":""},null,null,"Efficacy"]
[null,null,null,null,null,null,null,null,null,null,null,"hide","hide",null,null,"hide","hide"]
[null,"Multiplier","Unit Plan","Room Type","Lit Area (SF)","Unlit Area (SF)",{"$f":"Table10a[[#Headers],[A]]","v":"A"},{"$f":"Table10a[[#Headers],[B]]","v":"B"},{"$f":"Table10a[[#Headers],[C]]","v":"C"},{"$f":"Table10a[[#Headers],[D]]","v":"D"},{"$f":"Table10a[[#Headers],[E]]","v":"E"},"Total Fixtures","TierI/TierII/ES Fixtures","Watts/SF"]
[null,"Multiplier","Unit Plan","Room Type","Lit Area (SF)","Unlit Area (SF)","A","B","C","D","E","Total Fixtures","TierI/TierII/ES Fixtures","Watts/SF","Column1","Watts (Lit Area) 3x","Warning?"]
[null,null,null,null,null,null,null,null,null,null,null,{"$f":"SUM(Table10b[[#This Row],[A]:[E]])*Table10b[[#This Row],[Multiplier]]","v":0},{"$f":"SUM(IF($G$15=\"Tier I\",(Table10b[[#This Row],[A]]*Table10b[[#This Row],[Multiplier]]),\nIF($G$15=\"Tier II\",(Table10b[[#This Row],[A]]*Table10b[[#This Row],[Multiplier]]),\nIF($G$15=\"ES\",(Table10b[[#This Row],[A]]*Table10b[[#This Row],[Multiplier]]),0))),\n\nIF($H$15=\"Tier I\",(Table10b[[#This Row],[B]]*Table10b[[#This Row],[Multiplier]]),\nIF($H$15=\"Tier II\",(Table10b[[#This Row],[B]]*Table10b[[#This Row],[Multiplier]]),\nIF($H$15=\"ES\",(Table10b[[#This Row],[B]]*Table10b[[#This Row],[Multiplier]]),0))),\n\nIF($I$15=\"Tier I\",(Table10b[[#This Row],[C]]*Table10b[[#This Row],[Multiplier]]),\nIF($I$15=\"Tier II\",(Table10b[[#This Row],[C]]*Table10b[[#This Row],[Multiplier]]),\nIF($I$15=\"ES\",(Table10b[[#This Row],[C]]*Table10b[[#This Row],[Multiplier]]),0))),\n\nIF($J$15=\"Tier I\",(Table10b[[#This Row],[D]]*Table10b[[#This Row],[Multiplier]]),\nIF($J$15=\"Tier II\",(Table10b[[#This Row],[D]]*Table10b[[#This Row],[Multiplier]]),\nIF($J$15=\"ES\",(Table10b[[#This Row],[D]]*Table10b[[#This Row],[Multiplier]]),0))),\n\nIF($K$15=\"Tier I\",(Table10b[[#This Row],[E]]*Table10b[[#This Row],[Multiplier]]),\nIF($K$15=\"Tier II\",(Table10b[[#This Row],[E]]*Table10b[[#This Row],[Multiplier]]),\nIF($K$15=\"ES\",(Table10b[[#This Row],[E]]*Table10b[[#This Row],[Multiplier]]),0)))\n)","v":0},{"$f":"IFERROR((((Table10b[[#This Row],[Unlit Area (SF)]]*1.07)+(Table10b[[#This Row],[A]]*$G$14)+(Table10b[[#This Row],[B]]*$H$14)+(Table10b[[#This Row],[C]]*$I$14)+(Table10b[[#This Row],[D]]*$J$14)+(Table10b[[#This Row],[E]]*$K$14))/Table10b[[#This Row],[Lit Area (SF)]]),\"\")","v":""},null,{"$f":"((Table10b[[#This Row],[A]]*$G$14)+(Table10b[[#This Row],[B]]*$H$14)+(Table10b[[#This Row],[C]]*$I$14)+(Table10b[[#This Row],[D]]*$J$14)+(Table10b[[#This Row],[E]]*$K$14))*3","v":0},{"$f":"IF(AND(OR(Table10b[[#This Row],[Room Type]]=\"Bedroom\",Table10b[[#This Row],[Room Type]]=\"Living Room\",Table10b[[#This Row],[Room Type]]=\"Dining Room\"),Table10b[[#This Row],[Lit Area (SF)]]>Table10b[[#This Row],[Watts (Lit Area) 3x]]),\"Display Lit Area Warning\",\"\")","v":""}]
[null,null,null,null,null,null,null,null,null,null,null,{"$f":"SUM(Table10b[[#This Row],[A]:[E]])*Table10b[[#This Row],[Multiplier]]","v":0},{"$f":"SUM(IF($G$15=\"Tier I\",(Table10b[[#This Row],[A]]*Table10b[[#This Row],[Multiplier]]),\nIF($G$15=\"Tier II\",(Table10b[[#This Row],[A]]*Table10b[[#This Row],[Multiplier]]),\nIF($G$15=\"ES\",(Table10b[[#This Row],[A]]*Table10b[[#This Row],[Multiplier]]),0))),\n\nIF($H$15=\"Tier I\",(Table10b[[#This Row],[B]]*Table10b[[#This Row],[Multiplier]]),\nIF($H$15=\"Tier II\",(Table10b[[#This Row],[B]]*Table10b[[#This Row],[Multiplier]]),\nIF($H$15=\"ES\",(Table10b[[#This Row],[B]]*Table10b[[#This Row],[Multiplier]]),0))),\n\nIF($I$15=\"Tier I\",(Table10b[[#This Row],[C]]*Table10b[[#This Row],[Multiplier]]),\nIF($I$15=\"Tier II\",(Table10b[[#This Row],[C]]*Table10b[[#This Row],[Multiplier]]),\nIF($I$15=\"ES\",(Table10b[[#This Row],[C]]*Table10b[[#This Row],[Multiplier]]),0))),\n\nIF($J$15=\"Tier I\",(Table10b[[#This Row],[D]]*Table10b[[#This Row],[Multiplier]]),\nIF($J$15=\"Tier II\",(Table10b[[#This Row],[D]]*Table10b[[#This Row],[Multiplier]]),\nIF($J$15=\"ES\",(Table10b[[#This Row],[D]]*Table10b[[#This Row],[Multiplier]]),0))),\n\nIF($K$15=\"Tier I\",(Table10b[[#This Row],[E]]*Table10b[[#This Row],[Multiplier]]),\nIF($K$15=\"Tier II\",(Table10b[[#This Row],[E]]*Table10b[[#This Row],[Multiplier]]),\nIF($K$15=\"ES\",(Table10b[[#This Row],[E]]*Table10b[[#This Row],[Multiplier]]),0)))\n)","v":0},{"$f":"IFERROR((((Table10b[[#This Row],[Unlit Area (SF)]]*1.07)+(Table10b[[#This Row],[A]]*$G$14)+(Table10b[[#This Row],[B]]*$H$14)+(Table10b[[#This Row],[C]]*$I$14)+(Table10b[[#This Row],[D]]*$J$14)+(Table10b[[#This Row],[E]]*$K$14))/Table10b[[#This Row],[Lit Area (SF)]]),\"\")","v":""},null,{"$f":"((Table10b[[#This Row],[A]]*$G$14)+(Table10b[[#This Row],[B]]*$H$14)+(Table10b[[#This Row],[C]]*$I$14)+(Table10b[[#This Row],[D]]*$J$14)+(Table10b[[#This Row],[E]]*$K$14))*3","v":0},{"$f":"IF(AND(OR(Table10b[[#This Row],[Room Type]]=\"Bedroom\",Table10b[[#This Row],[Room Type]]=\"Living Room\",Table10b[[#This Row],[Room Type]]=\"Dining Room\"),Table10b[[#This Row],[Lit Area (SF)]]>Table10b[[#This Row],[Watts (Lit Area) 3x]]),\"Display Lit Area Warning\",\"\")","v":""}]
[null,null,null,null,null,null,null,null,null,null,null,{"$f":"SUM(Table10b[[#This Row],[A]:[E]])*Table10b[[#This Row],[Multiplier]]","v":0},{"$f":"SUM(IF($G$15=\"Tier I\",(Table10b[[#This Row],[A]]*Table10b[[#This Row],[Multiplier]]),\nIF($G$15=\"Tier II\",(Table10b[[#This Row],[A]]*Table10b[[#This Row],[Multiplier]]),\nIF($G$15=\"ES\",(Table10b[[#This Row],[A]]*Table10b[[#This Row],[Multiplier]]),0))),\n\nIF($H$15=\"Tier I\",(Table10b[[#This Row],[B]]*Table10b[[#This Row],[Multiplier]]),\nIF($H$15=\"Tier II\",(Table10b[[#This Row],[B]]*Table10b[[#This Row],[Multiplier]]),\nIF($H$15=\"ES\",(Table10b[[#This Row],[B]]*Table10b[[#This Row],[Multiplier]]),0))),\n\nIF($I$15=\"Tier I\",(Table10b[[#This Row],[C]]*Table10b[[#This Row],[Multiplier]]),\nIF($I$15=\"Tier II\",(Table10b[[#This Row],[C]]*Table10b[[#This Row],[Multiplier]]),\nIF($I$15=\"ES\",(Table10b[[#This Row],[C]]*Table10b[[#This Row],[Multiplier]]),0))),\n\nIF($J$15=\"Tier I\",(Table10b[[#This Row],[D]]*Table10b[[#This Row],[Multiplier]]),\nIF($J$15=\"Tier II\",(Table10b[[#This Row],[D]]*Table10b[[#This Row],[Multiplier]]),\nIF($J$15=\"ES\",(Table10b[[#This Row],[D]]*Table10b[[#This Row],[Multiplier]]),0))),\n\nIF($K$15=\"Tier I\",(Table10b[[#This Row],[E]]*Table10b[[#This Row],[Multiplier]]),\nIF($K$15=\"Tier II\",(Table10b[[#This Row],[E]]*Table10b[[#This Row],[Multiplier]]),\nIF($K$15=\"ES\",(Table10b[[#This Row],[E]]*Table10b[[#This Row],[Multiplier]]),0)))\n)","v":0},{"$f":"IFERROR((((Table10b[[#This Row],[Unlit Area (SF)]]*1.07)+(Table10b[[#This Row],[A]]*$G$14)+(Table10b[[#This Row],[B]]*$H$14)+(Table10b[[#This Row],[C]]*$I$14)+(Table10b[[#This Row],[D]]*$J$14)+(Table10b[[#This Row],[E]]*$K$14))/Table10b[[#This Row],[Lit Area (SF)]]),\"\")","v":""},null,{"$f":"((Table10b[[#This Row],[A]]*$G$14)+(Table10b[[#This Row],[B]]*$H$14)+(Table10b[[#This Row],[C]]*$I$14)+(Table10b[[#This Row],[D]]*$J$14)+(Table10b[[#This Row],[E]]*$K$14))*3","v":0},{"$f":"IF(AND(OR(Table10b[[#This Row],[Room Type]]=\"Bedroom\",Table10b[[#This Row],[Room Type]]=\"Living Room\",Table10b[[#This Row],[Room Type]]=\"Dining Room\"),Table10b[[#This Row],[Lit Area (SF)]]>Table10b[[#This Row],[Watts (Lit Area) 3x]]),\"Display Lit Area Warning\",\"\")","v":""}]
[null,null,null,null,null,null,null,null,null,null,null,{"$f":"SUM(Table10b[[#This Row],[A]:[E]])*Table10b[[#This Row],[Multiplier]]","v":0},{"$f":"SUM(IF($G$15=\"Tier I\",(Table10b[[#This Row],[A]]*Table10b[[#This Row],[Multiplier]]),\nIF($G$15=\"Tier II\",(Table10b[[#This Row],[A]]*Table10b[[#This Row],[Multiplier]]),\nIF($G$15=\"ES\",(Table10b[[#This Row],[A]]*Table10b[[#This Row],[Multiplier]]),0))),\n\nIF($H$15=\"Tier I\",(Table10b[[#This Row],[B]]*Table10b[[#This Row],[Multiplier]]),\nIF($H$15=\"Tier II\",(Table10b[[#This Row],[B]]*Table10b[[#This Row],[Multiplier]]),\nIF($H$15=\"ES\",(Table10b[[#This Row],[B]]*Table10b[[#This Row],[Multiplier]]),0))),\n\nIF($I$15=\"Tier I\",(Table10b[[#This Row],[C]]*Table10b[[#This Row],[Multiplier]]),\nIF($I$15=\"Tier II\",(Table10b[[#This Row],[C]]*Table10b[[#This Row],[Multiplier]]),\nIF($I$15=\"ES\",(Table10b[[#This Row],[C]]*Table10b[[#This Row],[Multiplier]]),0))),\n\nIF($J$15=\"Tier I\",(Table10b[[#This Row],[D]]*Table10b[[#This Row],[Multiplier]]),\nIF($J$15=\"Tier II\",(Table10b[[#This Row],[D]]*Table10b[[#This Row],[Multiplier]]),\nIF($J$15=\"ES\",(Table10b[[#This Row],[D]]*Table10b[[#This Row],[Multiplier]]),0))),\n\nIF($K$15=\"Tier I\",(Table10b[[#This Row],[E]]*Table10b[[#This Row],[Multiplier]]),\nIF($K$15=\"Tier II\",(Table10b[[#This Row],[E]]*Table10b[[#This Row],[Multiplier]]),\nIF($K$15=\"ES\",(Table10b[[#This Row],[E]]*Table10b[[#This Row],[Multiplier]]),0)))\n)","v":0},{"$f":"IFERROR((((Table10b[[#This Row],[Unlit Area (SF)]]*1.07)+(Table10b[[#This Row],[A]]*$G$14)+(Table10b[[#This Row],[B]]*$H$14)+(Table10b[[#This Row],[C]]*$I$14)+(Table10b[[#This Row],[D]]*$J$14)+(Table10b[[#This Row],[E]]*$K$14))/Table10b[[#This Row],[Lit Area (SF)]]),\"\")","v":""},null,{"$f":"((Table10b[[#This Row],[A]]*$G$14)+(Table10b[[#This Row],[B]]*$H$14)+(Table10b[[#This Row],[C]]*$I$14)+(Table10b[[#This Row],[D]]*$J$14)+(Table10b[[#This Row],[E]]*$K$14))*3","v":0},{"$f":"IF(AND(OR(Table10b[[#This Row],[Room Type]]=\"Bedroom\",Table10b[[#This Row],[Room Type]]=\"Living Room\",Table10b[[#This Row],[Room Type]]=\"Dining Room\"),Table10b[[#This Row],[Lit Area (SF)]]>Table10b[[#This Row],[Watts (Lit Area) 3x]]),\"Display Lit Area Warning\",\"\")","v":""}]
[null,null,null,null,null,null,null,null,null,null,null,{"$f":"SUM(Table10b[[#This Row],[A]:[E]])*Table10b[[#This Row],[Multiplier]]","v":0},{"$f":"SUM(IF($G$15=\"Tier I\",(Table10b[[#This Row],[A]]*Table10b[[#This Row],[Multiplier]]),\nIF($G$15=\"Tier II\",(Table10b[[#This Row],[A]]*Table10b[[#This Row],[Multiplier]]),\nIF($G$15=\"ES\",(Table10b[[#This Row],[A]]*Table10b[[#This Row],[Multiplier]]),0))),\n\nIF($H$15=\"Tier I\",(Table10b[[#This Row],[B]]*Table10b[[#This Row],[Multiplier]]),\nIF($H$15=\"Tier II\",(Table10b[[#This Row],[B]]*Table10b[[#This Row],[Multiplier]]),\nIF($H$15=\"ES\",(Table10b[[#This Row],[B]]*Table10b[[#This Row],[Multiplier]]),0))),\n\nIF($I$15=\"Tier I\",(Table10b[[#This Row],[C]]*Table10b[[#This Row],[Multiplier]]),\nIF($I$15=\"Tier II\",(Table10b[[#This Row],[C]]*Table10b[[#This Row],[Multiplier]]),\nIF($I$15=\"ES\",(Table10b[[#This Row],[C]]*Table10b[[#This Row],[Multiplier]]),0))),\n\nIF($J$15=\"Tier I\",(Table10b[[#This Row],[D]]*Table10b[[#This Row],[Multiplier]]),\nIF($J$15=\"Tier II\",(Table10b[[#This Row],[D]]*Table10b[[#This Row],[Multiplier]]),\nIF($J$15=\"ES\",(Table10b[[#This Row],[D]]*Table10b[[#This Row],[Multiplier]]),0))),\n\nIF($K$15=\"Tier I\",(Table10b[[#This Row],[E]]*Table10b[[#This Row],[Multiplier]]),\nIF($K$15=\"Tier II\",(Table10b[[#This Row],[E]]*Table10b[[#This Row],[Multiplier]]),\nIF($K$15=\"ES\",(Table10b[[#This Row],[E]]*Table10b[[#This Row],[Multiplier]]),0)))\n)","v":0},{"$f":"IFERROR((((Table10b[[#This Row],[Unlit Area (SF)]]*1.07)+(Table10b[[#This Row],[A]]*$G$14)+(Table10b[[#This Row],[B]]*$H$14)+(Table10b[[#This Row],[C]]*$I$14)+(Table10b[[#This Row],[D]]*$J$14)+(Table10b[[#This Row],[E]]*$K$14))/Table10b[[#This Row],[Lit Area (SF)]]),\"\")","v":""},null,{"$f":"((Table10b[[#This Row],[A]]*$G$14)+(Table10b[[#This Row],[B]]*$H$14)+(Table10b[[#This Row],[C]]*$I$14)+(Table10b[[#This Row],[D]]*$J$14)+(Table10b[[#This Row],[E]]*$K$14))*3","v":0},{"$f":"IF(AND(OR(Table10b[[#This Row],[Room Type]]=\"Bedroom\",Table10b[[#This Row],[Room Type]]=\"Living Room\",Table10b[[#This Row],[Room Type]]=\"Dining Room\"),Table10b[[#This Row],[Lit Area (SF)]]>Table10b[[#This Row],[Watts (Lit Area) 3x]]),\"Display Lit Area Warning\",\"\")","v":""}]
[null,null,null,null,null,null,null,null,null,null,null,{"$f":"SUM(Table10b[[#This Row],[A]:[E]])*Table10b[[#This Row],[Multiplier]]","v":0},{"$f":"SUM(IF($G$15=\"Tier I\",(Table10b[[#This Row],[A]]*Table10b[[#This Row],[Multiplier]]),\nIF($G$15=\"Tier II\",(Table10b[[#This Row],[A]]*Table10b[[#This Row],[Multiplier]]),\nIF($G$15=\"ES\",(Table10b[[#This Row],[A]]*Table10b[[#This Row],[Multiplier]]),0))),\n\nIF($H$15=\"Tier I\",(Table10b[[#This Row],[B]]*Table10b[[#This Row],[Multiplier]]),\nIF($H$15=\"Tier II\",(Table10b[[#This Row],[B]]*Table10b[[#This Row],[Multiplier]]),\nIF($H$15=\"ES\",(Table10b[[#This Row],[B]]*Table10b[[#This Row],[Multiplier]]),0))),\n\nIF($I$15=\"Tier I\",(Table10b[[#This Row],[C]]*Table10b[[#This Row],[Multiplier]]),\nIF($I$15=\"Tier II\",(Table10b[[#This Row],[C]]*Table10b[[#This Row],[Multiplier]]),\nIF($I$15=\"ES\",(Table10b[[#This Row],[C]]*Table10b[[#This Row],[Multiplier]]),0))),\n\nIF($J$15=\"Tier I\",(Table10b[[#This Row],[D]]*Table10b[[#This Row],[Multiplier]]),\nIF($J$15=\"Tier II\",(Table10b[[#This Row],[D]]*Table10b[[#This Row],[Multiplier]]),\nIF($J$15=\"ES\",(Table10b[[#This Row],[D]]*Table10b[[#This Row],[Multiplier]]),0))),\n\nIF($K$15=\"Tier I\",(Table10b[[#This Row],[E]]*Table10b[[#This Row],[Multiplier]]),\nIF($K$15=\"Tier II\",(Table10b[[#This Row],[E]]*Table10b[[#This Row],[Multiplier]]),\nIF($K$15=\"ES\",(Table10b[[#This Row],[E]]*Table10b[[#This Row],[Multiplier]]),0)))\n)","v":0},{"$f":"IFERROR((((Table10b[[#This Row],[Unlit Area (SF)]]*1.07)+(Table10b[[#This Row],[A]]*$G$14)+(Table10b[[#This Row],[B]]*$H$14)+(Table10b[[#This Row],[C]]*$I$14)+(Table10b[[#This Row],[D]]*$J$14)+(Table10b[[#This Row],[E]]*$K$14))/Table10b[[#This Row],[Lit Area (SF)]]),\"\")","v":""},null,{"$f":"((Table10b[[#This Row],[A]]*$G$14)+(Table10b[[#This Row],[B]]*$H$14)+(Table10b[[#This Row],[C]]*$I$14)+(Table10b[[#This Row],[D]]*$J$14)+(Table10b[[#This Row],[E]]*$K$14))*3","v":0},{"$f":"IF(AND(OR(Table10b[[#This Row],[Room Type]]=\"Bedroom\",Table10b[[#This Row],[Room Type]]=\"Living Room\",Table10b[[#This Row],[Room Type]]=\"Dining Room\"),Table10b[[#This Row],[Lit Area (SF)]]>Table10b[[#This Row],[Watts (Lit Area) 3x]]),\"Display Lit Area Warning\",\"\")","v":""}]
[null,null,null,null,null,null,null,null,null,null,null,{"$f":"SUM(Table10b[[#This Row],[A]:[E]])*Table10b[[#This Row],[Multiplier]]","v":0},{"$f":"SUM(IF($G$15=\"Tier I\",(Table10b[[#This Row],[A]]*Table10b[[#This Row],[Multiplier]]),\nIF($G$15=\"Tier II\",(Table10b[[#This Row],[A]]*Table10b[[#This Row],[Multiplier]]),\nIF($G$15=\"ES\",(Table10b[[#This Row],[A]]*Table10b[[#This Row],[Multiplier]]),0))),\n\nIF($H$15=\"Tier I\",(Table10b[[#This Row],[B]]*Table10b[[#This Row],[Multiplier]]),\nIF($H$15=\"Tier II\",(Table10b[[#This Row],[B]]*Table10b[[#This Row],[Multiplier]]),\nIF($H$15=\"ES\",(Table10b[[#This Row],[B]]*Table10b[[#This Row],[Multiplier]]),0))),\n\nIF($I$15=\"Tier I\",(Table10b[[#This Row],[C]]*Table10b[[#This Row],[Multiplier]]),\nIF($I$15=\"Tier II\",(Table10b[[#This Row],[C]]*Table10b[[#This Row],[Multiplier]]),\nIF($I$15=\"ES\",(Table10b[[#This Row],[C]]*Table10b[[#This Row],[Multiplier]]),0))),\n\nIF($J$15=\"Tier I\",(Table10b[[#This Row],[D]]*Table10b[[#This Row],[Multiplier]]),\nIF($J$15=\"Tier II\",(Table10b[[#This Row],[D]]*Table10b[[#This Row],[Multiplier]]),\nIF($J$15=\"ES\",(Table10b[[#This Row],[D]]*Table10b[[#This Row],[Multiplier]]),0))),\n\nIF($K$15=\"Tier I\",(Table10b[[#This Row],[E]]*Table10b[[#This Row],[Multiplier]]),\nIF($K$15=\"Tier II\",(Table10b[[#This Row],[E]]*Table10b[[#This Row],[Multiplier]]),\nIF($K$15=\"ES\",(Table10b[[#This Row],[E]]*Table10b[[#This Row],[Multiplier]]),0)))\n)","v":0},{"$f":"IFERROR((((Table10b[[#This Row],[Unlit Area (SF)]]*1.07)+(Table10b[[#This Row],[A]]*$G$14)+(Table10b[[#This Row],[B]]*$H$14)+(Table10b[[#This Row],[C]]*$I$14)+(Table10b[[#This Row],[D]]*$J$14)+(Table10b[[#This Row],[E]]*$K$14))/Table10b[[#This Row],[Lit Area (SF)]]),\"\")","v":""},null,{"$f":"((Table10b[[#This Row],[A]]*$G$14)+(Table10b[[#This Row],[B]]*$H$14)+(Table10b[[#This Row],[C]]*$I$14)+(Table10b[[#This Row],[D]]*$J$14)+(Table10b[[#This Row],[E]]*$K$14))*3","v":0},{"$f":"IF(AND(OR(Table10b[[#This Row],[Room Type]]=\"Bedroom\",Table10b[[#This Row],[Room Type]]=\"Living Room\",Table10b[[#This Row],[Room Type]]=\"Dining Room\"),Table10b[[#This Row],[Lit Area (SF)]]>Table10b[[#This Row],[Watts (Lit Area) 3x]]),\"Display Lit Area Warning\",\"\")","v":""}]
[null,null,null,null,null,null,null,null,null,null,null,{"$f":"SUM(Table10b[[#This Row],[A]:[E]])*Table10b[[#This Row],[Multiplier]]","v":0},{"$f":"SUM(IF($G$15=\"Tier I\",(Table10b[[#This Row],[A]]*Table10b[[#This Row],[Multiplier]]),\nIF($G$15=\"Tier II\",(Table10b[[#This Row],[A]]*Table10b[[#This Row],[Multiplier]]),\nIF($G$15=\"ES\",(Table10b[[#This Row],[A]]*Table10b[[#This Row],[Multiplier]]),0))),\n\nIF($H$15=\"Tier I\",(Table10b[[#This Row],[B]]*Table10b[[#This Row],[Multiplier]]),\nIF($H$15=\"Tier II\",(Table10b[[#This Row],[B]]*Table10b[[#This Row],[Multiplier]]),\nIF($H$15=\"ES\",(Table10b[[#This Row],[B]]*Table10b[[#This Row],[Multiplier]]),0))),\n\nIF($I$15=\"Tier I\",(Table10b[[#This Row],[C]]*Table10b[[#This Row],[Multiplier]]),\nIF($I$15=\"Tier II\",(Table10b[[#This Row],[C]]*Table10b[[#This Row],[Multiplier]]),\nIF($I$15=\"ES\",(Table10b[[#This Row],[C]]*Table10b[[#This Row],[Multiplier]]),0))),\n\nIF($J$15=\"Tier I\",(Table10b[[#This Row],[D]]*Table10b[[#This Row],[Multiplier]]),\nIF($J$15=\"Tier II\",(Table10b[[#This Row],[D]]*Table10b[[#This Row],[Multiplier]]),\nIF($J$15=\"ES\",(Table10b[[#This Row],[D]]*Table10b[[#This Row],[Multiplier]]),0))),\n\nIF($K$15=\"Tier I\",(Table10b[[#This Row],[E]]*Table10b[[#This Row],[Multiplier]]),\nIF($K$15=\"Tier II\",(Table10b[[#This Row],[E]]*Table10b[[#This Row],[Multiplier]]),\nIF($K$15=\"ES\",(Table10b[[#This Row],[E]]*Table10b[[#This Row],[Multiplier]]),0)))\n)","v":0},{"$f":"IFERROR((((Table10b[[#This Row],[Unlit Area (SF)]]*1.07)+(Table10b[[#This Row],[A]]*$G$14)+(Table10b[[#This Row],[B]]*$H$14)+(Table10b[[#This Row],[C]]*$I$14)+(Table10b[[#This Row],[D]]*$J$14)+(Table10b[[#This Row],[E]]*$K$14))/Table10b[[#This Row],[Lit Area (SF)]]),\"\")","v":""},null,{"$f":"((Table10b[[#This Row],[A]]*$G$14)+(Table10b[[#This Row],[B]]*$H$14)+(Table10b[[#This Row],[C]]*$I$14)+(Table10b[[#This Row],[D]]*$J$14)+(Table10b[[#This Row],[E]]*$K$14))*3","v":0},{"$f":"IF(AND(OR(Table10b[[#This Row],[Room Type]]=\"Bedroom\",Table10b[[#This Row],[Room Type]]=\"Living Room\",Table10b[[#This Row],[Room Type]]=\"Dining Room\"),Table10b[[#This Row],[Lit Area (SF)]]>Table10b[[#This Row],[Watts (Lit Area) 3x]]),\"Display Lit Area Warning\",\"\")","v":""}]
[null,"TOTALS",{"$f":"IF(COUNTA(C19:C$26)=0,\"\",COUNTA(C19:C$26))","v":""},null,{"$f":"IF(SUM(E19:E$26)=0,\"\",SUMPRODUCT(E19:E$26,B19:B$26))","v":""},{"$f":"IF(SUM(F19:F$26)=0,\"\",SUMPRODUCT(F19:F$26,$B19:$B$26))","v":""},{"$f":"IF(SUM(G19:G$26)=0,\"\",SUMPRODUCT(G19:G$26,$B19:$B$26))","v":""},{"$f":"IF(SUM(H19:H$26)=0,\"\",SUMPRODUCT(H19:H$26,$B19:$B$26))","v":""},{"$f":"IF(SUM(I19:I$26)=0,\"\",SUMPRODUCT(I19:I$26,$B19:$B$26))","v":""},{"$f":"IF(SUM(J19:J$26)=0,\"\",SUMPRODUCT(J19:J$26,$B19:$B$26))","v":""},{"$f":"IF(SUM(K19:K$26)=0,\"\",SUMPRODUCT(K19:K$26,$B19:$B$26))","v":""},{"$f":"SUM(Table10b[Total Fixtures])","v":0},{"$f":"SUM(Table10b[TierI/TierII/ES Fixtures])","v":0},{"$f":"IFERROR(((($F$27*1.07)+($G$27*$G$14)+($H$27*$H$14)+($I$27*$I$14)+($J$27*$J$14)+($K$27*$K$14))/$E$27),\"\")","v":""}]
[]
[null,{"$f":"IF(COUNTIF(Table10b[Warning?],\"Display Lit Area Warning\")<>0,\"In one or more highlighted spaces above, the Lit Area exceeds the 3 ft2/W permitted. Please reduce the Lit Area until the requirement has been met.\",\"\")","v":""}]
[]
[null,"Common Space\n(Prescriptive and ERI Path only; ASHRAE Path can enter into APC)",null,null,null,null,null,null,null,null,null,null,null,null,null,null,null,null,null,null,null,null,"NOTES"]
[]
[null,"Count All Fixtures",{"$f":"IF(SUM(Table10d[Total Fixtures],Table10e[Total Fixtures])=0,\"\",SUM(Table10d[Total Fixtures],Table10e[Total Fixtures]))","v":""},null,null,"Fixture Label","A","B","C","D","E"]
[null,"Are 90% Tier I/II or ES?",{"$f":"IF(L$50=0,\"\",\nIF((M$50/L$50)>0.9,\"PASS\",\"FAIL\"))","v":""},null,null,"Fixture Watts"]
[null,"Is it less than 90.1-2007?",{"$f":"IF($R50=\"\",\"\",\nIF($R50<=$Q50,\"PASS\",\"FAIL\"))","v":""},null,null,"Efficacy"]
[]
[]
[null,"Are you using Space-by-Space Method or Building Area Method?"]
[null,null,null,null,null,null,null,null,null,null,null,"hide","hide",null,null,"hide","hide","hide","delete column","hide","hide"]
[null,"Multiplier","Space","ASHRAE Space Type","Lit Area (SF)","Automatic Controls?",{"$f":"Table10c[[#Headers],[A]]","v":"A"},{"$f":"Table10c[[#Headers],[B]]","v":"B"},{"$f":"Table10c[[#Headers],[C]]","v":"C"},{"$f":"Table10c[[#Headers],[D]]","v":"D"},{"$f":"Table10c[[#Headers],[E]]","v":"E"},"Total Fixtures","Tier1/ES Fixtures","Watts/SF","ASHRAE LPD (W/SF)","Lit Area * Multiplier","ASHRAE W","Installed Watts","PASS/FAIL"]
[null,"Multiplier","Space","ASHRAE Space Type","Lit Area (SF)","Automatic Controls?","A","B","C","D","E","Total Fixtures","Tier1/ES Fixtures","Watts/SF","ASHRAE LPD (W/SF)","Lit Area * Multiplier","ASHRAE W","Installed Watts","PASS/FAIL","30%ASHRAE calc","ASHRAE LPD P/F"]
[null,null,null,null,null,null,null,null,null,null,null,{"$f":"SUM(Table10e[[#This Row],[A]:[E]])*Table10e[[#This Row],[Multiplier]]","v":0},{"$f":"SUM(IF($G$35=\"Tier I\",(Table10e[[#This Row],[A]]*Table10e[[#This Row],[Multiplier]]),\nIF($G$35=\"Tier II\",(Table10e[[#This Row],[A]]*Table10e[[#This Row],[Multiplier]]),\nIF($G$35=\"ES\",(Table10e[[#This Row],[A]]*Table10e[[#This Row],[Multiplier]]),0))),\n\nIF($H$35=\"Tier I\",(Table10e[[#This Row],[B]]*Table10e[[#This Row],[Multiplier]]),\nIF($H$35=\"Tier II\",(Table10e[[#This Row],[B]]*Table10e[[#This Row],[Multiplier]]),\nIF($H$35=\"ES\",(Table10e[[#This Row],[B]]*Table10e[[#This Row],[Multiplier]]),0))),\n\nIF($I$35=\"Tier I\",(Table10e[[#This Row],[C]]*Table10e[[#This Row],[Multiplier]]),\nIF($I$35=\"Tier II\",(Table10e[[#This Row],[C]]*Table10e[[#This Row],[Multiplier]]),\nIF($I$35=\"ES\",(Table10e[[#This Row],[C]]*Table10e[[#This Row],[Multiplier]]),0))),\n\nIF($J$35=\"Tier I\",(Table10e[[#This Row],[D]]*Table10e[[#This Row],[Multiplier]]),\nIF($J$35=\"Tier II\",(Table10e[[#This Row],[D]]*Table10e[[#This Row],[Multiplier]]),\nIF($J$35=\"ES\",(Table10e[[#This Row],[D]]*Table10e[[#This Row],[Multiplier]]),0))),\n\nIF($K$35=\"Tier I\",(Table10e[[#This Row],[E]]*Table10e[[#This Row],[Multiplier]]),\nIF($K$35=\"Tier II\",(Table10e[[#This Row],[E]]*Table10e[[#This Row],[Multiplier]]),\nIF($K$35=\"ES\",(Table10e[[#This Row],[E]]*Table10e[[#This Row],[Multiplier]]),0)))\n)","v":0},{"$f":"IFERROR((((Table10e[[#This Row],[A]]*$G$34)+(Table10e[[#This Row],[B]]*$H$34)+(Table10e[[#This Row],[C]]*$I$34)+(Table10e[[#This Row],[D]]*$J$34)+(Table10e[[#This Row],[E]]*$K$34))/Table10e[[#This Row],[Lit Area (SF)]]),\"\")","v":""},{"$f":"IF(AND($E$38=\"Building Area Method\",Table10e[[#This Row],[ASHRAE Space Type]]<>\"\"),0.7,\nIFERROR(VLOOKUP(Table10e[[#This Row],[ASHRAE Space Type]],TableRaterFF68[],2,FALSE),\n\"\"))","v":""},{"$f":"IF((Table10e[[#This Row],[Multiplier]]*Table10e[[#This Row],[Lit Area (SF)]])=0,\"\",(Table10e[[#This Row],[Multiplier]]*Table10e[[#This Row],[Lit Area (SF)]]))","v":""},{"$f":"IFERROR((Table10e[[#This Row],[ASHRAE LPD (W/SF)]]*Table10e[[#This Row],[Lit Area (SF)]]*Table10e[[#This Row],[Multiplier]]),\"\")","v":""},{"$f":"IFERROR((Table10e[[#This Row],[Watts/SF]]*Table10e[[#This Row],[Lit Area (SF)]]*Table10e[[#This Row],[Multiplier]]),\"\")","v":""},{"$f":"IF(Table10e[[#This Row],[Installed Watts]]=\"\",\"\",\nIF(Table10e[[#This Row],[Installed Watts]]<=Table10e[[#This Row],[ASHRAE W]],\"PASS\",\"FAIL\"))","v":""},{"$f":"IF(Table10e[[#This Row],[ASHRAE LPD (W/SF)]]=\"\",\"\",0.7*Table10e[[#This Row],[ASHRAE LPD (W/SF)]])","v":""},{"$f":"IF(Table10e[[#This Row],[Watts/SF]]<(0.7*Table10e[[#This Row],[ASHRAE LPD (W/SF)]]),\"FAIL\",\"PASS\")","v":{"$error":"#VALUE!"}}]
[null,null,null,null,null,null,null,null,null,null,null,{"$f":"SUM(Table10e[[#This Row],[A]:[E]])*Table10e[[#This Row],[Multiplier]]","v":0},{"$f":"SUM(IF($G$35=\"Tier I\",(Table10e[[#This Row],[A]]*Table10e[[#This Row],[Multiplier]]),\nIF($G$35=\"Tier II\",(Table10e[[#This Row],[A]]*Table10e[[#This Row],[Multiplier]]),\nIF($G$35=\"ES\",(Table10e[[#This Row],[A]]*Table10e[[#This Row],[Multiplier]]),0))),\n\nIF($H$35=\"Tier I\",(Table10e[[#This Row],[B]]*Table10e[[#This Row],[Multiplier]]),\nIF($H$35=\"Tier II\",(Table10e[[#This Row],[B]]*Table10e[[#This Row],[Multiplier]]),\nIF($H$35=\"ES\",(Table10e[[#This Row],[B]]*Table10e[[#This Row],[Multiplier]]),0))),\n\nIF($I$35=\"Tier I\",(Table10e[[#This Row],[C]]*Table10e[[#This Row],[Multiplier]]),\nIF($I$35=\"Tier II\",(Table10e[[#This Row],[C]]*Table10e[[#This Row],[Multiplier]]),\nIF($I$35=\"ES\",(Table10e[[#This Row],[C]]*Table10e[[#This Row],[Multiplier]]),0))),\n\nIF($J$35=\"Tier I\",(Table10e[[#This Row],[D]]*Table10e[[#This Row],[Multiplier]]),\nIF($J$35=\"Tier II\",(Table10e[[#This Row],[D]]*Table10e[[#This Row],[Multiplier]]),\nIF($J$35=\"ES\",(Table10e[[#This Row],[D]]*Table10e[[#This Row],[Multiplier]]),0))),\n\nIF($K$35=\"Tier I\",(Table10e[[#This Row],[E]]*Table10e[[#This Row],[Multiplier]]),\nIF($K$35=\"Tier II\",(Table10e[[#This Row],[E]]*Table10e[[#This Row],[Multiplier]]),\nIF($K$35=\"ES\",(Table10e[[#This Row],[E]]*Table10e[[#This Row],[Multiplier]]),0)))\n)","v":0},{"$f":"IFERROR((((Table10e[[#This Row],[A]]*$G$34)+(Table10e[[#This Row],[B]]*$H$34)+(Table10e[[#This Row],[C]]*$I$34)+(Table10e[[#This Row],[D]]*$J$34)+(Table10e[[#This Row],[E]]*$K$34))/Table10e[[#This Row],[Lit Area (SF)]]),\"\")","v":""},{"$f":"IF(AND($E$38=\"Building Area Method\",Table10e[[#This Row],[ASHRAE Space Type]]<>\"\"),0.7,\nIFERROR(VLOOKUP(Table10e[[#This Row],[ASHRAE Space Type]],TableRaterFF68[],2,FALSE),\n\"\"))","v":""},{"$f":"IF((Table10e[[#This Row],[Multiplier]]*Table10e[[#This Row],[Lit Area (SF)]])=0,\"\",(Table10e[[#This Row],[Multiplier]]*Table10e[[#This Row],[Lit Area (SF)]]))","v":""},{"$f":"IFERROR((Table10e[[#This Row],[ASHRAE LPD (W/SF)]]*Table10e[[#This Row],[Lit Area (SF)]]*Table10e[[#This Row],[Multiplier]]),\"\")","v":""},{"$f":"IFERROR((Table10e[[#This Row],[Watts/SF]]*Table10e[[#This Row],[Lit Area (SF)]]*Table10e[[#This Row],[Multiplier]]),\"\")","v":""},{"$f":"IF(Table10e[[#This Row],[Installed Watts]]=\"\",\"\",\nIF(Table10e[[#This Row],[Installed Watts]]<=Table10e[[#This Row],[ASHRAE W]],\"PASS\",\"FAIL\"))","v":""},{"$f":"IF(Table10e[[#This Row],[ASHRAE LPD (W/SF)]]=\"\",\"\",0.7*Table10e[[#This Row],[ASHRAE LPD (W/SF)]])","v":""},{"$f":"IF(Table10e[[#This Row],[Watts/SF]]<(0.7*Table10e[[#This Row],[ASHRAE LPD (W/SF)]]),\"FAIL\",\"PASS\")","v":{"$error":"#VALUE!"}}]
[null,null,null,null,null,null,null,null,null,null,null,{"$f":"SUM(Table10e[[#This Row],[A]:[E]])*Table10e[[#This Row],[Multiplier]]","v":0},{"$f":"SUM(IF($G$35=\"Tier I\",(Table10e[[#This Row],[A]]*Table10e[[#This Row],[Multiplier]]),\nIF($G$35=\"Tier II\",(Table10e[[#This Row],[A]]*Table10e[[#This Row],[Multiplier]]),\nIF($G$35=\"ES\",(Table10e[[#This Row],[A]]*Table10e[[#This Row],[Multiplier]]),0))),\n\nIF($H$35=\"Tier I\",(Table10e[[#This Row],[B]]*Table10e[[#This Row],[Multiplier]]),\nIF($H$35=\"Tier II\",(Table10e[[#This Row],[B]]*Table10e[[#This Row],[Multiplier]]),\nIF($H$35=\"ES\",(Table10e[[#This Row],[B]]*Table10e[[#This Row],[Multiplier]]),0))),\n\nIF($I$35=\"Tier I\",(Table10e[[#This Row],[C]]*Table10e[[#This Row],[Multiplier]]),\nIF($I$35=\"Tier II\",(Table10e[[#This Row],[C]]*Table10e[[#This Row],[Multiplier]]),\nIF($I$35=\"ES\",(Table10e[[#This Row],[C]]*Table10e[[#This Row],[Multiplier]]),0))),\n\nIF($J$35=\"Tier I\",(Table10e[[#This Row],[D]]*Table10e[[#This Row],[Multiplier]]),\nIF($J$35=\"Tier II\",(Table10e[[#This Row],[D]]*Table10e[[#This Row],[Multiplier]]),\nIF($J$35=\"ES\",(Table10e[[#This Row],[D]]*Table10e[[#This Row],[Multiplier]]),0))),\n\nIF($K$35=\"Tier I\",(Table10e[[#This Row],[E]]*Table10e[[#This Row],[Multiplier]]),\nIF($K$35=\"Tier II\",(Table10e[[#This Row],[E]]*Table10e[[#This Row],[Multiplier]]),\nIF($K$35=\"ES\",(Table10e[[#This Row],[E]]*Table10e[[#This Row],[Multiplier]]),0)))\n)","v":0},{"$f":"IFERROR((((Table10e[[#This Row],[A]]*$G$34)+(Table10e[[#This Row],[B]]*$H$34)+(Table10e[[#This Row],[C]]*$I$34)+(Table10e[[#This Row],[D]]*$J$34)+(Table10e[[#This Row],[E]]*$K$34))/Table10e[[#This Row],[Lit Area (SF)]]),\"\")","v":""},{"$f":"IF(AND($E$38=\"Building Area Method\",Table10e[[#This Row],[ASHRAE Space Type]]<>\"\"),0.7,\nIFERROR(VLOOKUP(Table10e[[#This Row],[ASHRAE Space Type]],TableRaterFF68[],2,FALSE),\n\"\"))","v":""},{"$f":"IF((Table10e[[#This Row],[Multiplier]]*Table10e[[#This Row],[Lit Area (SF)]])=0,\"\",(Table10e[[#This Row],[Multiplier]]*Table10e[[#This Row],[Lit Area (SF)]]))","v":""},{"$f":"IFERROR((Table10e[[#This Row],[ASHRAE LPD (W/SF)]]*Table10e[[#This Row],[Lit Area (SF)]]*Table10e[[#This Row],[Multiplier]]),\"\")","v":""},{"$f":"IFERROR((Table10e[[#This Row],[Watts/SF]]*Table10e[[#This Row],[Lit Area (SF)]]*Table10e[[#This Row],[Multiplier]]),\"\")","v":""},{"$f":"IF(Table10e[[#This Row],[Installed Watts]]=\"\",\"\",\nIF(Table10e[[#This Row],[Installed Watts]]<=Table10e[[#This Row],[ASHRAE W]],\"PASS\",\"FAIL\"))","v":""},{"$f":"IF(Table10e[[#This Row],[ASHRAE LPD (W/SF)]]=\"\",\"\",0.7*Table10e[[#This Row],[ASHRAE LPD (W/SF)]])","v":""},{"$f":"IF(Table10e[[#This Row],[Watts/SF]]<(0.7*Table10e[[#This Row],[ASHRAE LPD (W/SF)]]),\"FAIL\",\"PASS\")","v":{"$error":"#VALUE!"}}]
[null,null,null,null,null,null,null,null,null,null,null,{"$f":"SUM(Table10e[[#This Row],[A]:[E]])*Table10e[[#This Row],[Multiplier]]","v":0},{"$f":"SUM(IF($G$35=\"Tier I\",(Table10e[[#This Row],[A]]*Table10e[[#This Row],[Multiplier]]),\nIF($G$35=\"Tier II\",(Table10e[[#This Row],[A]]*Table10e[[#This Row],[Multiplier]]),\nIF($G$35=\"ES\",(Table10e[[#This Row],[A]]*Table10e[[#This Row],[Multiplier]]),0))),\n\nIF($H$35=\"Tier I\",(Table10e[[#This Row],[B]]*Table10e[[#This Row],[Multiplier]]),\nIF($H$35=\"Tier II\",(Table10e[[#This Row],[B]]*Table10e[[#This Row],[Multiplier]]),\nIF($H$35=\"ES\",(Table10e[[#This Row],[B]]*Table10e[[#This Row],[Multiplier]]),0))),\n\nIF($I$35=\"Tier I\",(Table10e[[#This Row],[C]]*Table10e[[#This Row],[Multiplier]]),\nIF($I$35=\"Tier II\",(Table10e[[#This Row],[C]]*Table10e[[#This Row],[Multiplier]]),\nIF($I$35=\"ES\",(Table10e[[#This Row],[C]]*Table10e[[#This Row],[Multiplier]]),0))),\n\nIF($J$35=\"Tier I\",(Table10e[[#This Row],[D]]*Table10e[[#This Row],[Multiplier]]),\nIF($J$35=\"Tier II\",(Table10e[[#This Row],[D]]*Table10e[[#This Row],[Multiplier]]),\nIF($J$35=\"ES\",(Table10e[[#This Row],[D]]*Table10e[[#This Row],[Multiplier]]),0))),\n\nIF($K$35=\"Tier I\",(Table10e[[#This Row],[E]]*Table10e[[#This Row],[Multiplier]]),\nIF($K$35=\"Tier II\",(Table10e[[#This Row],[E]]*Table10e[[#This Row],[Multiplier]]),\nIF($K$35=\"ES\",(Table10e[[#This Row],[E]]*Table10e[[#This Row],[Multiplier]]),0)))\n)","v":0},{"$f":"IFERROR((((Table10e[[#This Row],[A]]*$G$34)+(Table10e[[#This Row],[B]]*$H$34)+(Table10e[[#This Row],[C]]*$I$34)+(Table10e[[#This Row],[D]]*$J$34)+(Table10e[[#This Row],[E]]*$K$34))/Table10e[[#This Row],[Lit Area (SF)]]),\"\")","v":""},{"$f":"IF(AND($E$38=\"Building Area Method\",Table10e[[#This Row],[ASHRAE Space Type]]<>\"\"),0.7,\nIFERROR(VLOOKUP(Table10e[[#This Row],[ASHRAE Space Type]],TableRaterFF68[],2,FALSE),\n\"\"))","v":""},{"$f":"IF((Table10e[[#This Row],[Multiplier]]*Table10e[[#This Row],[Lit Area (SF)]])=0,\"\",(Table10e[[#This Row],[Multiplier]]*Table10e[[#This Row],[Lit Area (SF)]]))","v":""},{"$f":"IFERROR((Table10e[[#This Row],[ASHRAE LPD (W/SF)]]*Table10e[[#This Row],[Lit Area (SF)]]*Table10e[[#This Row],[Multiplier]]),\"\")","v":""},{"$f":"IFERROR((Table10e[[#This Row],[Watts/SF]]*Table10e[[#This Row],[Lit Area (SF)]]*Table10e[[#This Row],[Multiplier]]),\"\")","v":""},{"$f":"IF(Table10e[[#This Row],[Installed Watts]]=\"\",\"\",\nIF(Table10e[[#This Row],[Installed Watts]]<=Table10e[[#This Row],[ASHRAE W]],\"PASS\",\"FAIL\"))","v":""},{"$f":"IF(Table10e[[#This Row],[ASHRAE LPD (W/SF)]]=\"\",\"\",0.7*Table10e[[#This Row],[ASHRAE LPD (W/SF)]])","v":""},{"$f":"IF(Table10e[[#This Row],[Watts/SF]]<(0.7*Table10e[[#This Row],[ASHRAE LPD (W/SF)]]),\"FAIL\",\"PASS\")","v":{"$error":"#VALUE!"}}]
[null,null,null,null,null,null,null,null,null,null,null,{"$f":"SUM(Table10e[[#This Row],[A]:[E]])*Table10e[[#This Row],[Multiplier]]","v":0},{"$f":"SUM(IF($G$35=\"Tier I\",(Table10e[[#This Row],[A]]*Table10e[[#This Row],[Multiplier]]),\nIF($G$35=\"Tier II\",(Table10e[[#This Row],[A]]*Table10e[[#This Row],[Multiplier]]),\nIF($G$35=\"ES\",(Table10e[[#This Row],[A]]*Table10e[[#This Row],[Multiplier]]),0))),\n\nIF($H$35=\"Tier I\",(Table10e[[#This Row],[B]]*Table10e[[#This Row],[Multiplier]]),\nIF($H$35=\"Tier II\",(Table10e[[#This Row],[B]]*Table10e[[#This Row],[Multiplier]]),\nIF($H$35=\"ES\",(Table10e[[#This Row],[B]]*Table10e[[#This Row],[Multiplier]]),0))),\n\nIF($I$35=\"Tier I\",(Table10e[[#This Row],[C]]*Table10e[[#This Row],[Multiplier]]),\nIF($I$35=\"Tier II\",(Table10e[[#This Row],[C]]*Table10e[[#This Row],[Multiplier]]),\nIF($I$35=\"ES\",(Table10e[[#This Row],[C]]*Table10e[[#This Row],[Multiplier]]),0))),\n\nIF($J$35=\"Tier I\",(Table10e[[#This Row],[D]]*Table10e[[#This Row],[Multiplier]]),\nIF($J$35=\"Tier II\",(Table10e[[#This Row],[D]]*Table10e[[#This Row],[Multiplier]]),\nIF($J$35=\"ES\",(Table10e[[#This Row],[D]]*Table10e[[#This Row],[Multiplier]]),0))),\n\nIF($K$35=\"Tier I\",(Table10e[[#This Row],[E]]*Table10e[[#This Row],[Multiplier]]),\nIF($K$35=\"Tier II\",(Table10e[[#This Row],[E]]*Table10e[[#This Row],[Multiplier]]),\nIF($K$35=\"ES\",(Table10e[[#This Row],[E]]*Table10e[[#This Row],[Multiplier]]),0)))\n)","v":0},{"$f":"IFERROR((((Table10e[[#This Row],[A]]*$G$34)+(Table10e[[#This Row],[B]]*$H$34)+(Table10e[[#This Row],[C]]*$I$34)+(Table10e[[#This Row],[D]]*$J$34)+(Table10e[[#This Row],[E]]*$K$34))/Table10e[[#This Row],[Lit Area (SF)]]),\"\")","v":""},{"$f":"IF(AND($E$38=\"Building Area Method\",Table10e[[#This Row],[ASHRAE Space Type]]<>\"\"),0.7,\nIFERROR(VLOOKUP(Table10e[[#This Row],[ASHRAE Space Type]],TableRaterFF68[],2,FALSE),\n\"\"))","v":""},{"$f":"IF((Table10e[[#This Row],[Multiplier]]*Table10e[[#This Row],[Lit Area (SF)]])=0,\"\",(Table10e[[#This Row],[Multiplier]]*Table10e[[#This Row],[Lit Area (SF)]]))","v":""},{"$f":"IFERROR((Table10e[[#This Row],[ASHRAE LPD (W/SF)]]*Table10e[[#This Row],[Lit Area (SF)]]*Table10e[[#This Row],[Multiplier]]),\"\")","v":""},{"$f":"IFERROR((Table10e[[#This Row],[Watts/SF]]*Table10e[[#This Row],[Lit Area (SF)]]*Table10e[[#This Row],[Multiplier]]),\"\")","v":""},{"$f":"IF(Table10e[[#This Row],[Installed Watts]]=\"\",\"\",\nIF(Table10e[[#This Row],[Installed Watts]]<=Table10e[[#This Row],[ASHRAE W]],\"PASS\",\"FAIL\"))","v":""},{"$f":"IF(Table10e[[#This Row],[ASHRAE LPD (W/SF)]]=\"\",\"\",0.7*Table10e[[#This Row],[ASHRAE LPD (W/SF)]])","v":""},{"$f":"IF(Table10e[[#This Row],[Watts/SF]]<(0.7*Table10e[[#This Row],[ASHRAE LPD (W/SF)]]),\"FAIL\",\"PASS\")","v":{"$error":"#VALUE!"}}]
[null,null,null,null,null,null,null,null,null,null,null,{"$f":"SUM(Table10e[[#This Row],[A]:[E]])*Table10e[[#This Row],[Multiplier]]","v":0},{"$f":"SUM(IF($G$35=\"Tier I\",(Table10e[[#This Row],[A]]*Table10e[[#This Row],[Multiplier]]),\nIF($G$35=\"Tier II\",(Table10e[[#This Row],[A]]*Table10e[[#This Row],[Multiplier]]),\nIF($G$35=\"ES\",(Table10e[[#This Row],[A]]*Table10e[[#This Row],[Multiplier]]),0))),\n\nIF($H$35=\"Tier I\",(Table10e[[#This Row],[B]]*Table10e[[#This Row],[Multiplier]]),\nIF($H$35=\"Tier II\",(Table10e[[#This Row],[B]]*Table10e[[#This Row],[Multiplier]]),\nIF($H$35=\"ES\",(Table10e[[#This Row],[B]]*Table10e[[#This Row],[Multiplier]]),0))),\n\nIF($I$35=\"Tier I\",(Table10e[[#This Row],[C]]*Table10e[[#This Row],[Multiplier]]),\nIF($I$35=\"Tier II\",(Table10e[[#This Row],[C]]*Table10e[[#This Row],[Multiplier]]),\nIF($I$35=\"ES\",(Table10e[[#This Row],[C]]*Table10e[[#This Row],[Multiplier]]),0))),\n\nIF($J$35=\"Tier I\",(Table10e[[#This Row],[D]]*Table10e[[#This Row],[Multiplier]]),\nIF($J$35=\"Tier II\",(Table10e[[#This Row],[D]]*Table10e[[#This Row],[Multiplier]]),\nIF($J$35=\"ES\",(Table10e[[#This Row],[D]]*Table10e[[#This Row],[Multiplier]]),0))),\n\nIF($K$35=\"Tier I\",(Table10e[[#This Row],[E]]*Table10e[[#This Row],[Multiplier]]),\nIF($K$35=\"Tier II\",(Table10e[[#This Row],[E]]*Table10e[[#This Row],[Multiplier]]),\nIF($K$35=\"ES\",(Table10e[[#This Row],[E]]*Table10e[[#This Row],[Multiplier]]),0)))\n)","v":0},{"$f":"IFERROR((((Table10e[[#This Row],[A]]*$G$34)+(Table10e[[#This Row],[B]]*$H$34)+(Table10e[[#This Row],[C]]*$I$34)+(Table10e[[#This Row],[D]]*$J$34)+(Table10e[[#This Row],[E]]*$K$34))/Table10e[[#This Row],[Lit Area (SF)]]),\"\")","v":""},{"$f":"IF(AND($E$38=\"Building Area Method\",Table10e[[#This Row],[ASHRAE Space Type]]<>\"\"),0.7,\nIFERROR(VLOOKUP(Table10e[[#This Row],[ASHRAE Space Type]],TableRaterFF68[],2,FALSE),\n\"\"))","v":""},{"$f":"IF((Table10e[[#This Row],[Multiplier]]*Table10e[[#This Row],[Lit Area (SF)]])=0,\"\",(Table10e[[#This Row],[Multiplier]]*Table10e[[#This Row],[Lit Area (SF)]]))","v":""},{"$f":"IFERROR((Table10e[[#This Row],[ASHRAE LPD (W/SF)]]*Table10e[[#This Row],[Lit Area (SF)]]*Table10e[[#This Row],[Multiplier]]),\"\")","v":""},{"$f":"IFERROR((Table10e[[#This Row],[Watts/SF]]*Table10e[[#This Row],[Lit Area (SF)]]*Table10e[[#This Row],[Multiplier]]),\"\")","v":""},{"$f":"IF(Table10e[[#This Row],[Installed Watts]]=\"\",\"\",\nIF(Table10e[[#This Row],[Installed Watts]]<=Table10e[[#This Row],[ASHRAE W]],\"PASS\",\"FAIL\"))","v":""},{"$f":"IF(Table10e[[#This Row],[ASHRAE LPD (W/SF)]]=\"\",\"\",0.7*Table10e[[#This Row],[ASHRAE LPD (W/SF)]])","v":""},{"$f":"IF(Table10e[[#This Row],[Watts/SF]]<(0.7*Table10e[[#This Row],[ASHRAE LPD (W/SF)]]),\"FAIL\",\"PASS\")","v":{"$error":"#VALUE!"}}]
[null,null,null,null,null,null,null,null,null,null,null,{"$f":"SUM(Table10e[[#This Row],[A]:[E]])*Table10e[[#This Row],[Multiplier]]","v":0},{"$f":"SUM(IF($G$35=\"Tier I\",(Table10e[[#This Row],[A]]*Table10e[[#This Row],[Multiplier]]),\nIF($G$35=\"Tier II\",(Table10e[[#This Row],[A]]*Table10e[[#This Row],[Multiplier]]),\nIF($G$35=\"ES\",(Table10e[[#This Row],[A]]*Table10e[[#This Row],[Multiplier]]),0))),\n\nIF($H$35=\"Tier I\",(Table10e[[#This Row],[B]]*Table10e[[#This Row],[Multiplier]]),\nIF($H$35=\"Tier II\",(Table10e[[#This Row],[B]]*Table10e[[#This Row],[Multiplier]]),\nIF($H$35=\"ES\",(Table10e[[#This Row],[B]]*Table10e[[#This Row],[Multiplier]]),0))),\n\nIF($I$35=\"Tier I\",(Table10e[[#This Row],[C]]*Table10e[[#This Row],[Multiplier]]),\nIF($I$35=\"Tier II\",(Table10e[[#This Row],[C]]*Table10e[[#This Row],[Multiplier]]),\nIF($I$35=\"ES\",(Table10e[[#This Row],[C]]*Table10e[[#This Row],[Multiplier]]),0))),\n\nIF($J$35=\"Tier I\",(Table10e[[#This Row],[D]]*Table10e[[#This Row],[Multiplier]]),\nIF($J$35=\"Tier II\",(Table10e[[#This Row],[D]]*Table10e[[#This Row],[Multiplier]]),\nIF($J$35=\"ES\",(Table10e[[#This Row],[D]]*Table10e[[#This Row],[Multiplier]]),0))),\n\nIF($K$35=\"Tier I\",(Table10e[[#This Row],[E]]*Table10e[[#This Row],[Multiplier]]),\nIF($K$35=\"Tier II\",(Table10e[[#This Row],[E]]*Table10e[[#This Row],[Multiplier]]),\nIF($K$35=\"ES\",(Table10e[[#This Row],[E]]*Table10e[[#This Row],[Multiplier]]),0)))\n)","v":0},{"$f":"IFERROR((((Table10e[[#This Row],[A]]*$G$34)+(Table10e[[#This Row],[B]]*$H$34)+(Table10e[[#This Row],[C]]*$I$34)+(Table10e[[#This Row],[D]]*$J$34)+(Table10e[[#This Row],[E]]*$K$34))/Table10e[[#This Row],[Lit Area (SF)]]),\"\")","v":""},{"$f":"IF(AND($E$38=\"Building Area Method\",Table10e[[#This Row],[ASHRAE Space Type]]<>\"\"),0.7,\nIFERROR(VLOOKUP(Table10e[[#This Row],[ASHRAE Space Type]],TableRaterFF68[],2,FALSE),\n\"\"))","v":""},{"$f":"IF((Table10e[[#This Row],[Multiplier]]*Table10e[[#This Row],[Lit Area (SF)]])=0,\"\",(Table10e[[#This Row],[Multiplier]]*Table10e[[#This Row],[Lit Area (SF)]]))","v":""},{"$f":"IFERROR((Table10e[[#This Row],[ASHRAE LPD (W/SF)]]*Table10e[[#This Row],[Lit Area (SF)]]*Table10e[[#This Row],[Multiplier]]),\"\")","v":""},{"$f":"IFERROR((Table10e[[#This Row],[Watts/SF]]*Table10e[[#This Row],[Lit Area (SF)]]*Table10e[[#This Row],[Multiplier]]),\"\")","v":""},{"$f":"IF(Table10e[[#This Row],[Installed Watts]]=\"\",\"\",\nIF(Table10e[[#This Row],[Installed Watts]]<=Table10e[[#This Row],[ASHRAE W]],\"PASS\",\"FAIL\"))","v":""},{"$f":"IF(Table10e[[#This Row],[ASHRAE LPD (W/SF)]]=\"\",\"\",0.7*Table10e[[#This Row],[ASHRAE LPD (W/SF)]])","v":""},{"$f":"IF(Table10e[[#This Row],[Watts/SF]]<(0.7*Table10e[[#This Row],[ASHRAE LPD (W/SF)]]),\"FAIL\",\"PASS\")","v":{"$error":"#VALUE!"}}]
[null,null,null,null,null,null,null,null,null,null,null,{"$f":"SUM(Table10e[[#This Row],[A]:[E]])*Table10e[[#This Row],[Multiplier]]","v":0},{"$f":"SUM(IF($G$35=\"Tier I\",(Table10e[[#This Row],[A]]*Table10e[[#This Row],[Multiplier]]),\nIF($G$35=\"Tier II\",(Table10e[[#This Row],[A]]*Table10e[[#This Row],[Multiplier]]),\nIF($G$35=\"ES\",(Table10e[[#This Row],[A]]*Table10e[[#This Row],[Multiplier]]),0))),\n\nIF($H$35=\"Tier I\",(Table10e[[#This Row],[B]]*Table10e[[#This Row],[Multiplier]]),\nIF($H$35=\"Tier II\",(Table10e[[#This Row],[B]]*Table10e[[#This Row],[Multiplier]]),\nIF($H$35=\"ES\",(Table10e[[#This Row],[B]]*Table10e[[#This Row],[Multiplier]]),0))),\n\nIF($I$35=\"Tier I\",(Table10e[[#This Row],[C]]*Table10e[[#This Row],[Multiplier]]),\nIF($I$35=\"Tier II\",(Table10e[[#This Row],[C]]*Table10e[[#This Row],[Multiplier]]),\nIF($I$35=\"ES\",(Table10e[[#This Row],[C]]*Table10e[[#This Row],[Multiplier]]),0))),\n\nIF($J$35=\"Tier I\",(Table10e[[#This Row],[D]]*Table10e[[#This Row],[Multiplier]]),\nIF($J$35=\"Tier II\",(Table10e[[#This Row],[D]]*Table10e[[#This Row],[Multiplier]]),\nIF($J$35=\"ES\",(Table10e[[#This Row],[D]]*Table10e[[#This Row],[Multiplier]]),0))),\n\nIF($K$35=\"Tier I\",(Table10e[[#This Row],[E]]*Table10e[[#This Row],[Multiplier]]),\nIF($K$35=\"Tier II\",(Table10e[[#This Row],[E]]*Table10e[[#This Row],[Multiplier]]),\nIF($K$35=\"ES\",(Table10e[[#This Row],[E]]*Table10e[[#This Row],[Multiplier]]),0)))\n)","v":0},{"$f":"IFERROR((((Table10e[[#This Row],[A]]*$G$34)+(Table10e[[#This Row],[B]]*$H$34)+(Table10e[[#This Row],[C]]*$I$34)+(Table10e[[#This Row],[D]]*$J$34)+(Table10e[[#This Row],[E]]*$K$34))/Table10e[[#This Row],[Lit Area (SF)]]),\"\")","v":""},{"$f":"IF(AND($E$38=\"Building Area Method\",Table10e[[#This Row],[ASHRAE Space Type]]<>\"\"),0.7,\nIFERROR(VLOOKUP(Table10e[[#This Row],[ASHRAE Space Type]],TableRaterFF68[],2,FALSE),\n\"\"))","v":""},{"$f":"IF((Table10e[[#This Row],[Multiplier]]*Table10e[[#This Row],[Lit Area (SF)]])=0,\"\",(Table10e[[#This Row],[Multiplier]]*Table10e[[#This Row],[Lit Area (SF)]]))","v":""},{"$f":"IFERROR((Table10e[[#This Row],[ASHRAE LPD (W/SF)]]*Table10e[[#This Row],[Lit Area (SF)]]*Table10e[[#This Row],[Multiplier]]),\"\")","v":""},{"$f":"IFERROR((Table10e[[#This Row],[Watts/SF]]*Table10e[[#This Row],[Lit Area (SF)]]*Table10e[[#This Row],[Multiplier]]),\"\")","v":""},{"$f":"IF(Table10e[[#This Row],[Installed Watts]]=\"\",\"\",\nIF(Table10e[[#This Row],[Installed Watts]]<=Table10e[[#This Row],[ASHRAE W]],\"PASS\",\"FAIL\"))","v":""},{"$f":"IF(Table10e[[#This Row],[ASHRAE LPD (W/SF)]]=\"\",\"\",0.7*Table10e[[#This Row],[ASHRAE LPD (W/SF)]])","v":""},{"$f":"IF(Table10e[[#This Row],[Watts/SF]]<(0.7*Table10e[[#This Row],[ASHRAE LPD (W/SF)]]),\"FAIL\",\"PASS\")","v":{"$error":"#VALUE!"}}]
[null,"TOTALS",null,null,{"$f":"IF(SUM(Table10e[Lit Area (SF)])=0,\"\",SUMPRODUCT(Table10e[Lit Area (SF)],Table10e[Multiplier]))","v":""},null,{"$f":"IF(SUM(Table10e[A])=0,\"\",SUMPRODUCT(Table10e[A],Table10e[Multiplier]))","v":""},{"$f":"IF(SUM(Table10e[B])=0,\"\",SUMPRODUCT(Table10e[B],Table10e[Multiplier]))","v":""},{"$f":"IF(SUM(Table10e[C])=0,\"\",SUMPRODUCT(Table10e[C],Table10e[Multiplier]))","v":""},{"$f":"IF(SUM(Table10e[D])=0,\"\",SUMPRODUCT(Table10e[D],Table10e[Multiplier]))","v":""},{"$f":"IF(SUM(Table10e[E])=0,\"\",SUMPRODUCT(Table10e[E],Table10e[Multiplier]))","v":""},{"$f":"SUM(Table10e[Total Fixtures])","v":0},{"$f":"SUM(Table10e[Tier1/ES Fixtures])","v":0},null,{"$f":"IF(SUM(Table10e[ASHRAE LPD (W/SF)])=0,\"\",SUM(Table10e[ASHRAE LPD (W/SF)]))","v":""},{"$f":"IF(SUM(Table10e[Lit Area * Multiplier])=0,\"\",SUM(Table10e[Lit Area * Multiplier]))","v":""},{"$f":"IF(SUM(Table10e[ASHRAE W])=0,\"\",SUM(Table10e[ASHRAE W]))","v":""},{"$f":"IF(SUM(Table10e[Installed Watts])=0,\"\",SUM(Table10e[Installed Watts]))","v":""},{"$f":"IF($R50=\"\",\"\",\nIF($R50<=$Q50,\"PASS\",\"FAIL\"))","v":""}]
[]
[null,{"$f":"IF(COUNTIF(Table10e[ASHRAE LPD P/F],\"FAIL\")<>0,\"Installed Watts/SF in one or more spaces reflects savings of 30% or greater compared to ASHRAE. Please provide supporting calculations or footcandle measurements to demonstrate that the space is illuminated to the minimum levels required by IESNA.\",\"\")","v":""}]
[]
[null,"Common Space Garage\n(Prescriptive and ERI Path only; ASHRAE Path can enter into APC)"]
[null,null,null,null,null,null,null,null,null,null,null,"hide","hide"]
[null,"Less than 0.24 W/sf?",{"$f":"IF(Table10d[Installed Watts]<=Table10d[ASHRAE W],\"PASS\",IF(Table10d[Installed Watts]=\"\",\"\",\"FAIL\"))","v":""}]
[null,null,null,null,null,null,null,null,null,null,null,null,null,null,null,"hide","hide","hide","hide"]
[null,"Multiplier","Space","ASHRAE Space Type","Lit Area (SF)","Automatic Controls?",{"$f":"Table10c[[#Headers],[A]]","v":"A"},{"$f":"Table10c[[#Headers],[B]]","v":"B"},{"$f":"Table10c[[#Headers],[C]]","v":"C"},{"$f":"Table10c[[#Headers],[D]]","v":"D"},{"$f":"Table10c[[#Headers],[E]]","v":"E"},"Total Fixtures","Tier1/ES Fixtures","Watts/SF","MFNC LPD (W/SF)","ASHRAE W","Installed Watts","Column1","PASS/FAIL"]
[null,"Multiplier","Space","ASHRAE Space Type","Lit Area (SF)","Automatic Controls?","A","B","C","D","E","Total Fixtures","Tier1/ES Fixtures","Watts/SF","MFNC LPD (W/SF)","ASHRAE W","Installed Watts","Column1","PASS/FAIL"]
[null,null,"Garage","Garage",null,null,null,null,null,null,null,{"$f":"SUM(Table10d[[#This Row],[A]:[E]])*Table10d[[#This Row],[Multiplier]]","v":0},{"$f":"SUM(IF($G$35=\"Tier I\",(Table10d[[#This Row],[A]]*Table10d[[#This Row],[Multiplier]]),\nIF($G$35=\"Tier II\",(Table10d[[#This Row],[A]]*Table10d[[#This Row],[Multiplier]]),\nIF($G$35=\"ES\",(Table10d[[#This Row],[A]]*Table10d[[#This Row],[Multiplier]]),0))),\n\nIF($H$35=\"Tier I\",(Table10d[[#This Row],[B]]*Table10d[[#This Row],[Multiplier]]),\nIF($H$35=\"Tier II\",(Table10d[[#This Row],[B]]*Table10d[[#This Row],[Multiplier]]),\nIF($H$35=\"ES\",(Table10d[[#This Row],[B]]*Table10d[[#This Row],[Multiplier]]),0))),\n\nIF($I$35=\"Tier I\",(Table10d[[#This Row],[C]]*Table10d[[#This Row],[Multiplier]]),\nIF($I$35=\"Tier II\",(Table10d[[#This Row],[C]]*Table10d[[#This Row],[Multiplier]]),\nIF($I$35=\"ES\",(Table10d[[#This Row],[C]]*Table10d[[#This Row],[Multiplier]]),0))),\n\nIF($J$35=\"Tier I\",(Table10d[[#This Row],[D]]*Table10d[[#This Row],[Multiplier]]),\nIF($J$35=\"Tier II\",(Table10d[[#This Row],[D]]*Table10d[[#This Row],[Multiplier]]),\nIF($J$35=\"ES\",(Table10d[[#This Row],[D]]*Table10d[[#This Row],[Multiplier]]),0))),\n\nIF($K$35=\"Tier I\",(Table10d[[#This Row],[E]]*Table10d[[#This Row],[Multiplier]]),\nIF($K$35=\"Tier II\",(Table10d[[#This Row],[E]]*Table10d[[#This Row],[Multiplier]]),\nIF($K$35=\"ES\",(Table10d[[#This Row],[E]]*Table10d[[#This Row],[Multiplier]]),0)))\n)","v":0},{"$f":"IFERROR((((Table10d[[#This Row],[A]]*$G$34)+(Table10d[[#This Row],[B]]*$H$34)+(Table10d[[#This Row],[C]]*$I$34)+(Table10d[[#This Row],[D]]*$J$34)+(Table10d[[#This Row],[E]]*$K$34))/Table10d[Lit Area (SF)]),\"\")","v":""},0.24,{"$f":"IFERROR(Table10d[[#This Row],[MFNC LPD (W/SF)]]*Table10d[[#This Row],[Lit Area (SF)]]*Table10d[[#This Row],[Multiplier]],\"\")","v":0},{"$f":"IFERROR(Table10d[[#This Row],[Watts/SF]]*Table10d[[#This Row],[Lit Area (SF)]]*Table10d[[#This Row],[Multiplier]],\"\")","v":""},{"$f":"IF($P60<=$O60,\"PASS\",IF($P60=\"\",\"\",\"FAIL\"))","v":"PASS"},{"$f":"IF(Table10d[[#This Row],[Installed Watts]]<=Table10d[[#This Row],[ASHRAE W]],\"PASS\",IF(Table10d[[#This Row],[Installed Watts]]=\"\",\"\",\"FAIL\"))","v":""}]
[null,null,null,null,null,null,null,null,null,null,null,{"$f":"SUM(Table10d[[#This Row],[A]:[E]])*Table10d[[#This Row],[Multiplier]]","v":{"$error":"#VALUE!"}},{"$f":"SUM(IF($G$35=\"Tier I\",(Table10d[[#This Row],[A]]*Table10d[[#This Row],[Multiplier]]),\nIF($G$35=\"Tier II\",(Table10d[[#This Row],[A]]*Table10d[[#This Row],[Multiplier]]),\nIF($G$35=\"ES\",(Table10d[[#This Row],[A]]*Table10d[[#This Row],[Multiplier]]),0))),\n\nIF($H$35=\"Tier I\",(Table10d[[#This Row],[B]]*Table10d[[#This Row],[Multiplier]]),\nIF($H$35=\"Tier II\",(Table10d[[#This Row],[B]]*Table10d[[#This Row],[Multiplier]]),\nIF($H$35=\"ES\",(Table10d[[#This Row],[B]]*Table10d[[#This Row],[Multiplier]]),0))),\n\nIF($I$35=\"Tier I\",(Table10d[[#This Row],[C]]*Table10d[[#This Row],[Multiplier]]),\nIF($I$35=\"Tier II\",(Table10d[[#This Row],[C]]*Table10d[[#This Row],[Multiplier]]),\nIF($I$35=\"ES\",(Table10d[[#This Row],[C]]*Table10d[[#This Row],[Multiplier]]),0))),\n\nIF($J$35=\"Tier I\",(Table10d[[#This Row],[D]]*Table10d[[#This Row],[Multiplier]]),\nIF($J$35=\"Tier II\",(Table10d[[#This Row],[D]]*Table10d[[#This Row],[Multiplier]]),\nIF($J$35=\"ES\",(Table10d[[#This Row],[D]]*Table10d[[#This Row],[Multiplier]]),0))),\n\nIF($K$35=\"Tier I\",(Table10d[[#This Row],[E]]*Table10d[[#This Row],[Multiplier]]),\nIF($K$35=\"Tier II\",(Table10d[[#This Row],[E]]*Table10d[[#This Row],[Multiplier]]),\nIF($K$35=\"ES\",(Table10d[[#This Row],[E]]*Table10d[[#This Row],[Multiplier]]),0)))\n)","v":0},{"$f":"IFERROR((((Table10d[[#This Row],[A]]*$G$34)+(Table10d[[#This Row],[B]]*$H$34)+(Table10d[[#This Row],[C]]*$I$34)+(Table10d[[#This Row],[D]]*$J$34)+(Table10d[[#This Row],[E]]*$K$34))/Table10d[Lit Area (SF)]),\"\")","v":""},null,{"$f":"IFERROR(Table10d[[#This Row],[MFNC LPD (W/SF)]]*Table10d[[#This Row],[Lit Area (SF)]]*Table10d[[#This Row],[Multiplier]],\"\")","v":""},{"$f":"IFERROR(Table10d[[#This Row],[Watts/SF]]*Table10d[[#This Row],[Lit Area (SF)]]*Table10d[[#This Row],[Multiplier]],\"\")","v":""}]
[]
[null,"Exterior Lighting Fixtures\n(Prescriptive and ERI Path only; ASHRAE Path can enter into APC)"]
[]
[null,"Count All Fixtures",{"$f":"IF(OR(L$73=\"\",L$73=0),\"\",L$73)","v":""},null,null,"Fixture Label","A","B","C","D","E"]
[null,"Are 90% Tier I/II or ES?",{"$f":"IF(L$73=0,\"\",\nIF((M$73/L$73)>0.9,\"PASS\",\"FAIL\"))","v":""},null,null,"Efficacy"]
[null,null,null,null,null,null,null,null,null,null,null,"hide","hide"]
[null,null,null,null,"Space","Automatic Controls?",{"$f":"Table10aCommonEx[[#Headers],[A]]","v":"A"},{"$f":"Table10aCommonEx[[#Headers],[B]]","v":"B"},{"$f":"Table10aCommonEx[[#Headers],[C]]","v":"C"},{"$f":"Table10aCommonEx[[#Headers],[D]]","v":"D"},{"$f":"Table10aCommonEx[[#Headers],[E]]","v":"E"},"Total Fixtures","TierI/TierII/ES Fixtures"]
[null,null,null,null,"Space","Automatic Controls?","A","B","C","D","E","Total Fixtures","TierI/TierII/ES Fixtures"]
[null,null,null,null,null,null,null,null,null,null,null,{"$f":"SUM(Table10bCommonEx[[#This Row],[A]:[E]])","v":0},{"$f":"SUM(IF($G$66=\"Tier I\",(Table10bCommonEx[[#This Row],[A]]),\nIF($G$66=\"Tier II\",(Table10bCommonEx[[#This Row],[A]]),\nIF($G$66=\"ES\",(Table10bCommonEx[[#This Row],[A]]),0))),\n\nIF($H$66=\"Tier I\",(Table10bCommonEx[[#This Row],[B]]),\nIF($H$66=\"Tier II\",(Table10bCommonEx[[#This Row],[B]]),\nIF($H$66=\"ES\",(Table10bCommonEx[[#This Row],[B]]),0))),\n\nIF($I$66=\"Tier I\",(Table10bCommonEx[[#This Row],[C]]),\nIF($I$66=\"Tier II\",(Table10bCommonEx[[#This Row],[C]]),\nIF($I$66=\"ES\",(Table10bCommonEx[[#This Row],[C]]),0))),\n\nIF($J$66=\"Tier I\",(Table10bCommonEx[[#This Row],[D]]),\nIF($J$66=\"Tier II\",(Table10bCommonEx[[#This Row],[D]]),\nIF($J$66=\"ES\",(Table10bCommonEx[[#This Row],[D]]),0))),\n\nIF($K$66=\"Tier I\",(Table10bCommonEx[[#This Row],[E]]),\nIF($K$66=\"Tier II\",(Table10bCommonEx[[#This Row],[E]]),\nIF($K$66=\"ES\",(Table10bCommonEx[[#This Row],[E]]),0)))\n)","v":0}]
[null,null,null,null,null,null,null,null,null,null,null,{"$f":"SUM(Table10bCommonEx[[#This Row],[A]:[E]])","v":0},{"$f":"SUM(IF($G$66=\"Tier I\",(Table10bCommonEx[[#This Row],[A]]),\nIF($G$66=\"Tier II\",(Table10bCommonEx[[#This Row],[A]]),\nIF($G$66=\"ES\",(Table10bCommonEx[[#This Row],[A]]),0))),\n\nIF($H$66=\"Tier I\",(Table10bCommonEx[[#This Row],[B]]),\nIF($H$66=\"Tier II\",(Table10bCommonEx[[#This Row],[B]]),\nIF($H$66=\"ES\",(Table10bCommonEx[[#This Row],[B]]),0))),\n\nIF($I$66=\"Tier I\",(Table10bCommonEx[[#This Row],[C]]),\nIF($I$66=\"Tier II\",(Table10bCommonEx[[#This Row],[C]]),\nIF($I$66=\"ES\",(Table10bCommonEx[[#This Row],[C]]),0))),\n\nIF($J$66=\"Tier I\",(Table10bCommonEx[[#This Row],[D]]),\nIF($J$66=\"Tier II\",(Table10bCommonEx[[#This Row],[D]]),\nIF($J$66=\"ES\",(Table10bCommonEx[[#This Row],[D]]),0))),\n\nIF($K$66=\"Tier I\",(Table10bCommonEx[[#This Row],[E]]),\nIF($K$66=\"Tier II\",(Table10bCommonEx[[#This Row],[E]]),\nIF($K$66=\"ES\",(Table10bCommonEx[[#This Row],[E]]),0)))\n)","v":0}]
[null,null,null,null,null,null,null,null,null,null,null,{"$f":"SUM(Table10bCommonEx[[#This Row],[A]:[E]])","v":0},{"$f":"SUM(IF($G$66=\"Tier I\",(Table10bCommonEx[[#This Row],[A]]),\nIF($G$66=\"Tier II\",(Table10bCommonEx[[#This Row],[A]]),\nIF($G$66=\"ES\",(Table10bCommonEx[[#This Row],[A]]),0))),\n\nIF($H$66=\"Tier I\",(Table10bCommonEx[[#This Row],[B]]),\nIF($H$66=\"Tier II\",(Table10bCommonEx[[#This Row],[B]]),\nIF($H$66=\"ES\",(Table10bCommonEx[[#This Row],[B]]),0))),\n\nIF($I$66=\"Tier I\",(Table10bCommonEx[[#This Row],[C]]),\nIF($I$66=\"Tier II\",(Table10bCommonEx[[#This Row],[C]]),\nIF($I$66=\"ES\",(Table10bCommonEx[[#This Row],[C]]),0))),\n\nIF($J$66=\"Tier I\",(Table10bCommonEx[[#This Row],[D]]),\nIF($J$66=\"Tier II\",(Table10bCommonEx[[#This Row],[D]]),\nIF($J$66=\"ES\",(Table10bCommonEx[[#This Row],[D]]),0))),\n\nIF($K$66=\"Tier I\",(Table10bCommonEx[[#This Row],[E]]),\nIF($K$66=\"Tier II\",(Table10bCommonEx[[#This Row],[E]]),\nIF($K$66=\"ES\",(Table10bCommonEx[[#This Row],[E]]),0)))\n)","v":0}]
[null,null,null,null,null,null,null,null,null,null,null,{"$f":"SUM(Table10bCommonEx[Total Fixtures])","v":0},{"$f":"SUM(Table10bCommonEx[TierI/TierII/ES Fixtures])","v":0},"<- hide"]

{"sheet":"11. Ventilation Schedule","index":18,"n_rows":18,"n_cols":17,"rows_kept":18,"cut":false,"hidden":false,"merged":[[15,2,15,14],[5,2,5,14],[1,2,1,14],[5,16,6,21],[15,16,16,21]]}
[]
[null,"Instructions: ","Using Tables: Providing data in yellow and orange cells on this tab prior to the Proposed Design submittal is optional, but recommended. \n\nPrior to As-Built submittal, complete all orange and yellow cells. See specific instructions below for completing the \"In-Unit Dwelling Unit Ventilation and Local Exhaust Fans\" and the \"Central/Shared Dwelling Unit Ventilation and Local Exhaust Fans\" tables.\n\nPrinting: Optimized for printing in Landscape view."]
[]
[null,"In-Unit Dwelling Unit Ventilation and Local Exhaust Fans"]
[]
[null,"Instructions: ","Complete table. In lieu of entering MFR/model, provide photo with model number, that lists ID in the file name of the photo, AND where applicable, submit evidence of listing in the ENERGY STAR Product Search at time of purchase.\n\nNote: In-unit bathroom fans or in-line fans are ENERGY STAR certified if used as part of the dwelling-unit mechanical ventilation system.",null,null,null,null,null,null,null,null,null,null,null,null,null,"NOTES"]
[]
[null,"ID","DESCRIPTION\n(bath exhaust, range hood, inline fan, balanced, other)","PURPOSE","CONTINUOUS/ INTERMITTENT","MFR","MODEL #","Sones (7.5, 8.2)","ENERGY STAR?",null,null,"LOCATION\n(dwg / spec)","PLAN REVIEW","INSPECTION","INSPECTION COMMENTS \n(Problems, sample details/apt #s, etc.)"]
[]
[]
[]
[]
[]
[null,"Central/Shared Dwelling Unit Ventilation and Local Exhaust Fans"]
[]
[null,"Instructions: ","Complete table or provide cut sheet with photo of fan nameplate that clearly identifies features meet requirements.\n\nNote: If central exhaust fans, ≤ 1 HP, are specified as part of the dwelling-unit mechanical ventilation system, then they are direct-drive, ECM, with variable speed controllers. If greater than 1 HP, they are specified with NEMA Premium Motors.",null,null,null,null,null,null,null,null,null,null,null,null,null,"NOTES"]
[]
[null,"ID","DESCRIPTION","PURPOSE","MFR","MODEL #","Greater than 1 HP?","NEMA PREMIUM?","ECM?","DIRECT-DRIVE?","VARIABLE SPEED CONTROLLERS","LOCATION\n(dwg / spec)","PLAN REVIEW","INSPECTION","INSPECTION COMMENTS \n(Problems, sample details/apt #s, etc.)"]

{"sheet":"Reference Tables","index":19,"n_rows":107,"n_cols":93,"rows_kept":107,"cut":false,"hidden":false,"merged":[[2,38,2,47],[1,38,1,47],[13,38,13,47],[14,38,14,47],[81,24,81,33],[50,24,50,33],[51,24,51,33],[52,24,52,33],[53,24,53,33],[54,24,54,33],[33,24,33,33],[38,24,38,33],[39,24,39,33],[44,24,44,33],[45,24,45,33],[19,24,19,33],[47,38,47,47],[48,38,48,47],[20,38,20,47],[21,38,21,47],[34,38,34,47],[35,38,35,47],[2,35,2,36],[1,35,1,36],[87,24,87,33],[92,24,92,33],[32,13,32,22],[53,13,53,22],[54,13,54,22],[33,13,33,22],[38,13,38,22],[39,13,39,22],[93,24,93,33],[67,24,67,33],[68,24,68,33],[75,24,75,33],[76,24,76,33],[80,24,80,33],[86,24,86,33],[55,24,55,33],[56,24,56,33],[57,24,57,33],[60,24,60,33],[61,24,61,33],[93,13,93,22],[76,13,76,22],[80,13,80,22],[81,13,81,22],[86,13,86,22],[87,13,87,22],[28,2,28,3],[64,2,64,3],[65,2,65,3],[92,13,92,22],[60,13,60,22],[61,13,61,22],[67,13,67,22],[68,13,68,22],[75,13,75,22],[55,13,55,22],[56,13,56,22],[57,13,57,22],[50,13,50,22],[51,13,51,22],[52,13,52,22],[0,0,0,8],[8,1,8,4],[9,1,9,4],[2,1,2,4],[3,7,3,11],[2,6,2,11],[1,6,1,11],[1,1,1,4],[10,2,10,3],[27,2,27,3],[11,2,11,3],[55,61,55,70],[56,61,56,70],[57,61,57,70],[44,61,44,70],[45,61,45,70],[50,61,50,70],[51,61,51,70],[52,61,52,70],[28,61,28,70],[32,61,32,70],[33,61,33,70],[38,61,38,70],[39,61,39,70],[44,13,44,22],[45,13,45,22],[20,24,20,33],[27,24,27,33],[28,24,28,33],[32,24,32,33],[92,61,92,70],[93,61,93,70],[12,72,12,81],[13,72,13,81],[19,72,19,81],[20,72,20,81],[27,72,27,81],[28,72,28,81],[32,72,32,81],[33,72,33,81],[38,72,38,81],[39,72,39,81],[76,61,76,70],[80,61,80,70],[81,61,81,70],[86,61,86,70],[87,61,87,70],[60,61,60,70],[61,61,61,70],[67,61,67,70],[68,61,68,70],[75,61,75,70],[53,61,53,70],[54,61,54,70],[28,83,28,92],[32,83,32,92],[33,83,33,92],[2,61,2,64],[1,61,1,64],[38,83,38,92],[39,83,39,92],[12,83,12,92],[13,83,13,92],[19,83,19,92],[20,83,20,92],[27,83,27,92],[12,61,12,70],[13,61,13,70],[19,61,19,70],[20,61,20,70],[27,61,27,70],[98,13,98,22],[98,24,98,33],[98,35,98,36],[99,13,99,22],[99,24,99,33],[99,35,99,36],[20,49,20,52],[21,49,21,52],[1,49,1,58],[2,49,2,58],[13,49,13,58],[14,49,14,58],[13,13,13,22],[12,13,12,22],[2,13,2,22],[2,24,2,33],[1,24,1,33],[1,13,1,22],[12,24,12,33],[13,24,13,33],[19,13,19,22],[20,13,20,22],[27,13,27,22],[28,13,28,22]]}
["This tab contains tables related to the ENERGY STAR Multifamily New Construction Program"]
[null,"TableRaterDF4",null,null,null,null,"TableRaterDF11",null,null,null,null,null,null,"ESRefDesign_Insulation_V1",null,null,null,null,null,null,null,null,null,null,"ESRefDesign_Insulation_V11",null,null,null,null,null,null,null,null,null,null,"ESRefDesign_Insulation_V12",null,null,"ESRefDesign_Fenestration_V1",null,null,null,null,null,null,null,null,null,null,"ESRefDesign_Fenestration_V11",null,null,null,null,null,null,null,null,null,null,null,"ESRefDesign_Fenestration_V12"]
[null,"ENERGY STAR Multifamily New Construction Rater Design Review Checklist - Footnote 4",null,null,null,null,"ENERGY STAR Multifamily New Construction Rater Design Review Checklist - Footnote 11",null,null,null,null,null,null,"ENERGY STAR Multifamily New Construction Reference Design, Version 1\nInsulation Levels modeled to 2009 IECC levels (Commercial, wood frame) and Grade I installation per ANSI / RESNET / ICC Standard",null,null,null,null,null,null,null,null,null,null,"ENERGY STAR Multifamily New Construction Reference Design, Version 1.1\nInsulation Levels modeled to 2012 IECC levels (Commercial, wood frame) and Grade I installation per ANSI / RESNET / ICC Standard",null,null,null,null,null,null,null,null,null,null,"ENERGY STAR Multifamily New Construction Reference Design, Version 1.2\nInsulation Levels modeled at the levels below and Grade I installation per ANSI / RESNET / ICC Standard",null,null,"ENERGY STAR Multifamily New Construction Reference Design, Version 1\nDwelling Unit Windows\nInfiltration rates modeled as follows: <0.30 CFM50/ft2 of enclosure. Windows and doors modeled, as illustrated below:",null,null,null,null,null,null,null,null,null,null,"ENERGY STAR Multifamily New Construction Reference Design, Version 1.1\nDwelling Unit Windows\nInfiltration rates modeled as follows: <0.30 CFM50/ft2 of enclosure. Windows and doors modeled, as illustrated below:",null,null,null,null,null,null,null,null,null,null,null,"ENERGY STAR Multifamily New Construction Reference Design, Version 1.2\nDwelling Unit Windows\nInfiltration rates modeled as follows: <0.30 CFM50/ft2 of enclosure. Windows and doors modeled, as illustrated below:"]
[null,"Pathway","Dwelling unit doors and windows that are not classified “Class AW”*","Dwelling unit windows that are classified as “Class AW”*","Common Space†",null,null,"Number of Bedrooms",null,null,null,null,null,"Climate Zone:","CZ 1","CZ 2","CZ 3","CZ 4","CZ 4 C","CZ 5","CZ 6","CZ 7","CZ 8",null,"Climate Zone:","CZ 1","CZ 2","CZ 3","CZ 4","CZ 4 C","CZ 5","CZ 6","CZ 7","CZ 8",null,"Climate Zone:","Insulation Level",null,"Climate Zone:","CZ 1","CZ 2","CZ 3","CZ 4","CZ 4 C","CZ 5","CZ 6","CZ 7","CZ 8",null,"Climate Zone:","CZ 1","CZ 2","CZ 3","CZ 4","CZ 4 C","CZ 5","CZ 6","CZ 7","CZ 8",null,null,"Climate Zone:","CZ 4 C","CZ 5","CZ 6"]
[null,"ERI","2009 IECC Table 402.1.1","2009 IECC Table 502.3","ENERGY STAR MF Reference Design – for Class AW",null,"Floor area","1","2","3","4","5",null,"Slab Insulation R-Value:","NR","NR","NR","R-10","R-10","R-10","R-15","R-15","R-20",null,"Slab Insulation R-Value:","NR","NR","NR","R-10","R-10","R-10","R-15","R-15","R-20",null,"Above-Grade Wall","R-21",null,"Window U-Factor: ",0.6,0.6,0.35,0.32,0.3,0.3,0.3,0.3,0.3,null,"Window U-Factor: ",0.4,0.4,0.3,0.3,0.27,0.27,0.27,0.27,0.27,null,null,"Window U-Factor: ",0.27,0.27,0.27]
[null,"ASHRAE","2009 IECC Table 402.1.1","2009 IECC Table 502.3","2009 IECC Table 502.3",null,"<500",45,57,67.5,79.5,90,null,"Slab Insulation Depth (ft):",0,0,0,2,2,2,2,2,2,null,"Slab Insulation Depth (ft):",0,0,0,2,2,2,2,2,2,null,"Ceiling","R-49",null,"Window SHGC:",0.27,0.27,0.3,0.4,"Any","Any","Any","Any","Any",null,"Window SHGC:",0.25,0.25,0.25,0.4,"Any","Any","Any","Any","Any",null,null,"Window SHGC:",0.3,0.3,0.3]
[null,"Prescriptive","ENERGY STAR MF Reference Design","ENERGY STAR MF Reference Design – for Class AW","ENERGY STAR MF Reference Design – for Class AW",null,"501-1000",67.5,79.5,90,102,112.5,null,"Basement Wall Continuous Insulation R-Value:",0,0,0,7.5,7.5,7.5,7.5,10,12.5,null,"Basement Wall Continuous Insulation R-Value:",0,0,0,7.5,7.5,7.5,7.5,10,12.5,null,"Floor","R-38",null,"Opaque Door U-Factor",0.21,0.21,0.21,0.21,0.21,0.21,0.21,0.21,0.21,null,"Opaque Door U-Factor",0.17,0.17,0.17,0.17,0.17,0.17,0.17,0.17,0.17,null,null,"Opaque Door U-Factor",0.17,0.17,0.17]
[null,"* Classified as “Class AW” under the North American Fenestration Standard (AAMA / WDMA / CSA 101 / I.S.2 / A440).",null,null,null,null,"1001-1500",90,102,112.5,124.5,135,null,"Floor Assembly U-Factor:",0.28199999999999997,5.1999999999999998E-2,3.3000000000000002E-2,3.3000000000000002E-2,3.3000000000000002E-2,3.3000000000000002E-2,3.3000000000000002E-2,3.3000000000000002E-2,3.3000000000000002E-2,null,"Floor Assembly U-Factor:",6.6000000000000003E-2,3.3000000000000002E-2,3.3000000000000002E-2,3.3000000000000002E-2,3.3000000000000002E-2,3.3000000000000002E-2,3.3000000000000002E-2,3.3000000000000002E-2,3.3000000000000002E-2,null,"Basement Wall","R-15 continuous or R-21 cavity",null,"≤½ lite Door U-Factor",0.27,0.27,0.27,0.27,0.27,0.27,0.27,0.27,0.27,null,"≤½ lite Door U-Factor",0.25,0.25,0.25,0.25,0.25,0.25,0.25,0.25,0.25,null,null,"≤½ lite Door U-Factor",0.25,0.25,0.25]
[null,"† Opaque doors in common spaces in CZ1-6 shall not exceed U-0.70, and in CZ 7-8, shall not exceed U-0.5.",null,null,null,null,"1501-2000",112.5,124.5,135,147,157.5,null,"Wall Assembly U-Factor:",8.8999999999999996E-2,8.8999999999999996E-2,8.8999999999999996E-2,6.4000000000000001E-2,5.0999999999999997E-2,5.0999999999999997E-2,5.0999999999999997E-2,5.0999999999999997E-2,3.5999999999999997E-2,null,"Wall Assembly U-Factor:",6.4000000000000001E-2,6.4000000000000001E-2,6.4000000000000001E-2,6.4000000000000001E-2,6.4000000000000001E-2,6.4000000000000001E-2,5.0999999999999997E-2,5.0999999999999997E-2,3.5999999999999997E-2,null,"On-Grade & Below Grade Slab","R-10 at perimeter for entire depth of slab and under entire slab area",null,">½ lite Door U-Factor:",0.32,0.32,0.32,0.32,0.32,0.32,0.32,0.32,0.32,null,">½ lite Door U-Factor:",0.3,0.3,0.3,0.3,0.3,0.3,0.3,0.3,0.3,null,null,">½ lite Door U-Factor:",0.3,0.3,0.3]
[null,null,null,null,null,null,"2001-2500",135,147,157.5,169.5,180,null,"Ceiling Assembly U-Factor:",2.7E-2,2.7E-2,2.7E-2,2.7E-2,2.7E-2,2.7E-2,2.7E-2,2.7E-2,2.7E-2,null,"Ceiling Assembly U-Factor:",2.7E-2,2.7E-2,2.7E-2,2.7E-2,2.1000000000000001E-2,2.1000000000000001E-2,2.1000000000000001E-2,2.1000000000000001E-2,2.1000000000000001E-2,null,null,null,null,"Opaque Door SHGC","Any","Any","Any","Any","Any","Any","Any","Any","Any",null,"Opaque Door SHGC","Any","Any","Any","Any","Any","Any","Any","Any","Any",null,null,"Opaque Door SHGC","Any","Any","Any"]
[null,null,"TableRaterFF68",null,null,null,"2501-3000",157.5,169.5,180,192,202.5,null,null,null,null,null,null,null,null,null,null,null,null,null,null,null,null,null,null,null,null,null,null,null,null,null,null,"≤½ lite Door SHGC",0.3,0.3,0.3,0.3,0.3,0.3,0.3,0.3,0.3,null,"≤½ lite Door SHGC",0.25,0.25,0.25,0.25,0.25,0.25,0.25,0.25,0.25,null,null,"≤½ lite Door SHGC",0.25,0.25,0.25]
[null,null,"ENERGY STAR Multifamily New Construction Rater Field Checklist - Footnote 68",null,null,null,"3001-3500",180,192,202.5,214.5,225,null,null,null,null,null,null,null,null,null,null,null,null,null,null,null,null,null,null,null,null,null,null,null,null,null,null,">½ lite Door SHGC",0.3,0.3,0.3,0.3,0.3,0.3,0.3,0.3,0.3,null,">½ lite Door SHGC",0.25,0.25,0.25,0.4,0.4,0.4,0.4,0.4,0.4,null,null,">½ lite Door SHGC",0.3,0.3,0.3]
[null,null,"ASHRAE Space Type ","Lighting Power Densities (W/ft2)",null,null,"3501-4000",202.5,214.5,225,237,247.5,null,"IECC2009_R_Roofs",null,null,null,null,null,null,null,null,null,null,"IECC2012_R_Roofs",null,null,null,null,null,null,null,null,null,null,null,null,null,null,null,null,null,null,null,null,null,null,null,null,null,null,null,null,null,null,null,null,null,null,null,null,"IECC2009_RU_Roof",null,null,null,null,null,null,null,null,null,null,"IECC2009_OU_Roof",null,null,null,null,null,null,null,null,null,null,"IECC2012_OU_Roof"]
[null,null,"Lobby / Elevator",1.3,null,null,"4001-4500",225,237,247.5,259.5,270,null,"2009 IECC Table 502.2(1) - Building Envelope Requirements - Opaque Assemblies - Group R - Roofs",null,null,null,null,null,null,null,null,null,null,"2012 IECC Table C402.2 - Building Envelope Requirements - Opaque Assemblies - Group R - Roofs",null,null,null,null,null,null,null,null,null,null,null,null,null,"ESRefDesign_FenestrationAW_V1",null,null,null,null,null,null,null,null,null,null,"ESRefDesign_FenestrationAW_V11",null,null,null,null,null,null,null,null,null,null,null,"2009 IECC Table 502.1.2 - Building Envelope Requirements - Opaque Element - Maximum U-Factors - Group R - Roofs",null,null,null,null,null,null,null,null,null,null,"2009 IECC Table 502.1.2 - Building Envelope Requirements - Opaque Element - Maximum U-Factors - All Other - Roofs",null,null,null,null,null,null,null,null,null,null,"2012 IECC Table C402.1.2 - Building Envelope Requirements - Opaque Element - Maximum U-Factors - All Other - Roofs"]
[null,null,"Active Storage (e.g., trash chute / room, janitor closet)",0.8,null,null,"4501-5000",247.5,259.5,270,282,292.5,null,"Climate Zone:","CZ 1","CZ 2","CZ 3","CZ 4","CZ 4 C","CZ 5","CZ 6","CZ 7","CZ 8",null,"Climate Zone:","CZ 1","CZ 2","CZ 3","CZ 4","CZ 4 C","CZ 5","CZ 6","CZ 7","CZ 8",null,null,null,null,"ENERGY STAR Multifamily New Construction Reference Design, Version 1, Class AW\nCommon Area - Class AW Windows in Dwelling Units\nException: Class AW windows modeled to 2012 IECC levels (Commercial window U-Factor requirements)",null,null,null,null,null,null,null,null,null,null,"ENERGY STAR Multifamily New Construction Reference Design, Version 1.1, Class AW\nCommon Area - Class AW Windows in Dwelling Units\nException: Class AW windows modeled to 2012 IECC levels (Commercial window U-Factor requirements)",null,null,null,null,null,null,null,null,null,null,null,"Climate Zone:","CZ 1","CZ 2","CZ 3","CZ 4","CZ 4 C","CZ 5","CZ 6","CZ 7","CZ 8",null,"Climate Zone:","CZ 1","CZ 2","CZ 3","CZ 4","CZ 4 C","CZ 5","CZ 6","CZ 7","CZ 8",null,"Climate Zone:","CZ 1","CZ 2","CZ 3","CZ 4","CZ 4 C","CZ 5","CZ 6","CZ 7","CZ 8"]
[null,null,"Inactive Storage (e.g., tenant storage)",0.3,null,null,null,null,null,null,null,null,null,"Insulation entirely above deck","R-20ci","R-20ci","R-20ci","R-20ci","R-20ci","R-20ci","R-20ci","R-25ci","R-25ci",null,"Insulation entirely above deck","R-20ci","R-20ci","R-20ci","R-25ci","R-25ci","R-25ci","R-30ci","R-35ci","R-35ci",null,null,null,null,"Climate Zone:","CZ 1","CZ 2","CZ 3","CZ 4","CZ 4 C","CZ 5","CZ 6","CZ 7","CZ 8",null,"Climate Zone:","CZ 1","CZ 2","CZ 3","CZ 4","CZ 4 C","CZ 5","CZ 6","CZ 7","CZ 8",null,null,"Insulation entirely above deck","U-0.048","U-0.048","U-0.048","U-0.048","U-0.048","U-0.048","U-0.048","U-0.039","U-0.039",null,"Insulation entirely above deck","U-0.063","U-0.048","U-0.048","U-0.048","U-0.048","U-0.048","U-0.048","U-0.039","U-0.039",null,"Insulation entirely above deck","U-0.048","U-0.048","U-0.048","U-0.039","U-0.039","U-0.039","U-0.032","U-0.028","U-0.028"]
[null,null,"Exercise Area / Room",0.9,null,null,null,null,null,null,null,null,null,"Metal buildings (with R-5 thermal blocksa,b)","R-19","R-13 + R-13","R-19","R-19",{"$f":"IECC2009_R_Roofs[[#This Row],[CZ 5]]","v":"R-19"},"R-19","R-19","R-19 + R-10","R-19 + R-10",null,"Metal buildings (with R-5 thermal blocksa,b)","R-19 + R-11 LS","R-19 + R-11 LS","R-19 + R-11 LS","R-19 + R-11 LS","R-19 + R-11 LS","R-19 + R-11 LS","R-25 + R-11 LS","R-30 + R-11 LS","R-30 + R-11 LS",null,null,null,null,"Fixed Window U-Factor",0.5,0.5,0.46,0.38,0.38,0.38,0.36,0.28999999999999998,0.28999999999999998,null,"Fixed Window U-Factor",0.48,0.48,0.44,0.36,0.36,0.36,0.34,0.28000000000000003,0.28000000000000003,null,null,"Metal buildings","U-0.065","U-0.055","U-0.055","U-0.055","U-0.055","U-0.055","U-0.049","U-0.049","U-0.035",null,"Metal buildings","U-0.065","U-0.055","U-0.055","U-0.055","U-0.055","U-0.055","U-0.049","U-0.049","U-0.035",null,"Metal buildings","U-0.044","U-0.035","U-0.035","U-0.035","U-0.035","U-0.035","U-0.031","U-0.029","U-0.029"]
[null,null,"Corridor / Transition",0.5,null,null,null,null,null,null,null,null,null,"Attic and other","R-38","R-38","R-38","R-38",{"$f":"IECC2009_R_Roofs[[#This Row],[CZ 5]]","v":"R-38"},"R-38","R-38","R-38","R-49",null,"Attic and other","R-38","R-38","R-38","R-38","R-49","R-49","R-49","R-49","R-49",null,null,null,null,"Operable Window U-Factor",0.65,0.65,0.6,0.45,0.45,0.45,0.43,0.37,0.37,null,"Operable Window U-Factor",0.62,0.62,0.56999999999999995,0.43,0.43,0.43,0.41,0.35,0.35,null,null,"Attic and other","U-0.027","U-0.027","U-0.027","U-0.027","U-0.027","U-0.027","U-0.027","U-0.027","U-0.027",null,"Attic and other","U-0.034","U-0.027","U-0.027","U-0.027","U-0.027","U-0.027","U-0.027","U-0.027","U-0.027",null,"Attic and other","U-0.027","U-0.027","U-0.027","U-0.027","U-0.027","U-0.027","U-0.021","U-0.021","U-0.021"]
[null,null,"Stairs - Active",0.6,null,null,null,null,null,null,null,null,null,null,null,null,null,null,null,null,null,null,null,null,null,null,null,null,null,null,null,null,null,null,null,null,null,null,"SHGC",0.27,0.27,0.3,0.4,0.4,0.4,0.4,"Any","Any",null,"SHGC",0.25,0.25,0.25,0.4,0.4,0.4,0.4,"Any","Any"]
[null,null,"Restroom",0.9,null,null,null,null,null,null,null,null,null,"IECC2009_R_WallsAboveGrade",null,null,null,null,null,null,null,null,null,null,"IECC2012_R_WallsAboveGrade",null,null,null,null,null,null,null,null,null,null,null,null,null,null,null,null,null,null,null,null,null,null,null,null,null,null,null,null,null,null,null,null,null,null,null,null,"IECC2009_RU_WallAboveGrade",null,null,null,null,null,null,null,null,null,null,"IECC2009_OU_WallAboveGrade",null,null,null,null,null,null,null,null,null,null,"IECC2012_OU_WallAboveGrade"]
[null,null,"Laundry Room",1.3,null,null,null,null,null,null,null,null,null,"2009 IECC Table 502.2(1) - Building Envelope Requirements - Opaque Assemblies - Group R - Walls, Above Grade",null,null,null,null,null,null,null,null,null,null,"2012 IECC Table C402.2 - Building Envelope Requirements - Opaque Assemblies - Group R - Walls, Above Grade",null,null,null,null,null,null,null,null,null,null,null,null,null,"IECC2009_Fenestration_NotAW_Windows",null,null,null,null,null,null,null,null,null,null,"ESRefDesign_FenestrationAW_V12",null,null,null,null,null,null,null,null,null,null,null,"2009 IECC Table 502.1.2 - Building Envelope Requirements - Opaque Element - Maximum U-Factors - Group R - Walls, Above Grade",null,null,null,null,null,null,null,null,null,null,"2009 IECC Table 502.1.2 - Building Envelope Requirements - Opaque Element - Maximum U-Factors - All Other - Walls, Above Grade",null,null,null,null,null,null,null,null,null,null,"2012 IECC Table C402.1.2 - Building Envelope Requirements - Opaque Element - Maximum U-Factors - All Other - Walls, Above Grade"]
[null,null,"Office",1.1000000000000001,null,null,null,null,null,null,null,null,null,"Climate Zone:","CZ 1","CZ 2","CZ 3","CZ 4","CZ 4 C","CZ 5","CZ 6","CZ 7","CZ 8",null,"Climate Zone:","CZ 1","CZ 2","CZ 3","CZ 4","CZ 4 C","CZ 5","CZ 6","CZ 7","CZ 8",null,null,null,null,"2009 IECC Table 402.1.1 - Insulation and Fenestration Requirements by Component\nDwelling unit doors and windows that are not classified “Class AW”*",null,null,null,null,null,null,null,null,null,null,"ENERGY STAR Multifamily New Construction Reference Design, Version 1.2, Class AW\nCommon Area - Class AW Windows in Dwelling Units\nException: Class AW windows modeled to 2012 IECC levels (Commercial window U-Factor requirements)",null,null,null,null,null,null,null,null,null,null,null,"Climate Zone:","CZ 1","CZ 2","CZ 3","CZ 4","CZ 4 C","CZ 5","CZ 6","CZ 7","CZ 8",null,"Climate Zone:","CZ 1","CZ 2","CZ 3","CZ 4","CZ 4 C","CZ 5","CZ 6","CZ 7","CZ 8",null,"Climate Zone:","CZ 1","CZ 2","CZ 3","CZ 4","CZ 4 C","CZ 5","CZ 6","CZ 7","CZ 8"]
[null,null,"Lounge / Recreation / Community Room / Computer Room",1.2,null,null,null,null,null,null,null,null,null,"Mass","R-5.7ci","R-7.6ci","R-9.5ci","R-11.4ci",{"$f":"IECC2009_R_WallsAboveGrade[[#This Row],[CZ 5]]","v":"R-13.3ci"},"R-13.3ci","R-15.2ci","R-15.2ci","R-25ci",null,"Mass","R-5.7ci","R-7.6ci","R-9.5ci","R-11.4ci","R-13.3ci","R-13.3ci","R-15.2ci","R-15.2ci","R-25ci",null,null,null,null,"Climate Zone:","CZ 1","CZ 2","CZ 3","CZ 4","CZ 4 C","CZ 5","CZ 6","CZ 7","CZ 8",null,"Climate Zone:","CZ 4 C","CZ 5","CZ 6",null,null,null,null,null,null,null,null,"Mass","U-0.151","U-0.123","U-0.104","U-0.090","U-0.080","U-0.080","U-0.071","U-0.071","U-0.052",null,"Mass","U-0.58","U-0.151","U-0.123","U-0.104","U-0.090","U-0.090","U-0.080","U-0.071","U-0.071",null,"Mass","U-0.142","U-0.142","U-0.110","U-0.104","U-0.078","U-0.078","U-0.078","U-0.061","U-0.061"]
[null,null,"Electrical / Mechanical",1.5,null,null,null,null,null,null,null,null,null,"Metal buildingb","R-16","R-16","R-19","R-19",{"$f":"IECC2009_R_WallsAboveGrade[[#This Row],[CZ 5]]","v":"R-13 + R-5.6ci"},"R-13 + R-5.6ci","R-13 + R-5.6ci","R-19 + R-5.6ci","R-19 + R-5.6ci",null,"Metal building","R-13 + R-6.5ci","R-13 + R-13ci","R-13 + R-13ci","R-13 + R-13ci","R-13 + R-13ci","R-13 + R-13ci","R-13 + R-13ci","R-13 + R-19.5ci","R-13 + R-19.5ci",null,null,null,null,"Fenestration U-Factor",1.2,0.65,0.5,0.35,0.35,0.35,0.35,0.35,0.35,null,"Fixed Window U-Factor",0.36,0.36,0.34,null,null,null,null,null,null,null,null,"Metal building","U-0.093","U-0.093","U-0.084","U-0.084","U-0.069","U-0.069","U-0.069","U-0.057","U-0.057",null,"Metal building","U-0.093","U-0.093","U-0.084","U-0.084","U-0.069","U-0.069","U-0.069","U-0.057","U-0.057",null,"Metal building","U-0.079","U-0.079","U-0.079","U-0.052","U-0.052","U-0.052","U-0.052","U-0.052","U-0.052"]
[null,null,"Workshop",1.9,null,null,null,null,null,null,null,null,null,"Metal framed","R-13","R-13 + R-7.5ci","R-13 + R-7.5ci","R-13 + R-7.5ci",{"$f":"IECC2009_R_WallsAboveGrade[[#This Row],[CZ 5]]","v":"R-13 + R-7.5ci"},"R-13 + R-7.5ci","R-13 + R-7.5ci","R-13 + R-15.6ci","R-13 + R-18.8ci",null,"Metal framed","R-13 + R-5ci","R-13 + R-7.5ci","R-13 + R-7.5ci","R-13 + R-7.5ci","R-13 + R-7.5ci","R-13 + R-7.5ci","R-13 + R-7.5ci","R-13 + R-15.6ci","R-13 + R-7.5ci",null,null,null,null,"Skylight U-Factor",0.75,0.75,0.65,0.6,0.6,0.6,0.6,0.6,0.6,null,"Operable Window U-Factor",0.43,0.43,0.41,null,null,null,null,null,null,null,null,"Metal framed","U-0.124","U-0.064","U-0.064","U-0.064","U-0.064","U-0.064","U-0.057","U-0.052","U-0.037",null,"Metal framed","U-0.124","U-0.124","U-0.084","U-0.064","U-0.064","U-0.064","U-0.064","U-0.064","U-0.064",null,"Metal framed","U-0.077","U-0.077","U-0.064","U-0.064","U-0.064","U-0.064","U-0.064","U-0.064","U-0.045"]
[null,null,"Garage",0.24,null,null,null,null,null,null,null,null,null,"Wood framed and other","R-13","R-13","R-13","R-13 + R-3.8ci",{"$f":"IECC2009_R_WallsAboveGrade[[#This Row],[CZ 5]]","v":"R-13 + R-3.8ci"},"R-13 + R-3.8ci","R-13 + R-7.5ci","R-13 + R-7.5ci","R-13 + R-15.6ci",null,"Wood framed and other","R-13 + R-3.8ci or R-20","R-13 + R-3.8ci or R-20","R-13 + R-3.8ci or R-20","R-13 + R-3.8ci or R-20","R-13 + R-7.5ci or R-20 + R-3.8ci","R-13 + R-7.5ci or R-20 + R-3.8ci","R-13 + R-7.5ci or R-20 + R-3.8ci","R-13 + R-7.5ci or R-20 + R-3.8ci","R-13 + R-15.6ci or R-20 + R-10ci",null,null,null,null,"Glazed Fenestration SHGC",0.3,0.3,0.3,"NR","NR","NR","NR","NR","NR",null,"SHGC",0.3,0.3,0.3,null,null,null,null,null,null,null,null,"Wood framed and other","U-0.089","U-0.089","U-0.089","U-0.064","U-0.051","U-0.051","U-0.051","U-0.051","U-0.036",null,"Wood framed and other","U-0.089","U-0.089","U-0.089","U-0.089","U-0.064","U-0.064","U-0.051","U-0.051","U-0.036",null,"Wood framed and other","U-0.064","U-0.064","U-0.064","U-0.064","U-0.064","U-0.064","U-0.051","U-0.051","U-0.036"]
[null,null,null,null,null,null,null,null,null,null,null,null,null,null,null,null,null,null,null,null,null,null,null,null,null,null,null,null,null,null,null,null,null,null,null,null,null,null,"Ceiling R-Value",30,30,30,38,38,38,49,49,49]
[null,null,"ExhibitX",null,null,null,null,null,null,null,null,null,null,"IECC2009_R_WallsBelowGrade",null,null,null,null,null,null,null,null,null,null,"IECC2012_R_WallsBelowGrade",null,null,null,null,null,null,null,null,null,null,null,null,null,"Wood Frame Wall R-Value",13,13,13,13,"20 or 13+5h","20 or 13+5h","20 or 13+5h",21,21,null,null,null,null,null,null,null,null,null,null,null,null,null,"IECC2009_RU_WallBelowGrade",null,null,null,null,null,null,null,null,null,null,"IECC2009_OU_WallBelowGrade",null,null,null,null,null,null,null,null,null,null,"IECC2012_OU_WallBelowGrade"]
[null,null,"ENERGY STAR Multifamily New Construction Rater Field Checklist - Exhibit X",null,null,null,null,null,null,null,null,null,null,"2009 IECC Table 502.2(1) - Building Envelope Requirements - Opaque Assemblies - Group R - Walls, Below Grade",null,null,null,null,null,null,null,null,null,null,"2012 IECC Table C402.2 - Building Envelope Requirements - Opaque Assemblies - Group R - Walls, Below Grade",null,null,null,null,null,null,null,null,null,null,null,null,null,"Mass Wall R-Value","3/4","4/6","5/8","5/10","13/17","13/17","13/17","15/19","19/21",null,null,null,null,null,null,null,null,null,null,null,null,null,"2009 IECC Table 502.1.2 - Building Envelope Requirements - Opaque Element - Maximum U-Factors - Group R - Walls, Below Grade",null,null,null,null,null,null,null,null,null,null,"2009 IECC Table 502.1.2 - Building Envelope Requirements - Opaque Element - Maximum U-Factors - All Other - Walls, Below Grade",null,null,null,null,null,null,null,null,null,null,"2012 IECC Table C402.1.2 - Building Envelope Requirements - Opaque Element - Maximum U-Factors - All Other - Walls, Below Grade"]
[null,null,"Equipment Type","Minimum Efficiency",null,null,null,null,null,null,null,null,null,"Climate Zone:","CZ 1","CZ 2","CZ 3","CZ 4","CZ 4 C","CZ 5","CZ 6","CZ 7","CZ 8",null,"Climate Zone:","CZ 1","CZ 2","CZ 3","CZ 4","CZ 4 C","CZ 5","CZ 6","CZ 7","CZ 8",null,null,null,null,"Floor R-Value",13,13,19,19,"30g","30g","30g","38g","38g",null,null,null,null,null,null,null,null,null,null,null,null,null,"Climate Zone:","CZ 1","CZ 2","CZ 3","CZ 4","CZ 4 C","CZ 5","CZ 6","CZ 7","CZ 8",null,"Climate Zone:","CZ 1","CZ 2","CZ 3","CZ 4","CZ 4 C","CZ 5","CZ 6","CZ 7","CZ 8",null,"Climate Zone:","CZ 1","CZ 2","CZ 3","CZ 4","CZ 4 C","CZ 5","CZ 6","CZ 7","CZ 8"]
[null,null,"Room AC ( window, through-wall, ductless mini-splits)","ENERGY STAR certified",null,null,null,null,null,null,null,null,null,"Below grade walld","NR","NR","NR","R-7.5ci",{"$f":"IECC2009_R_WallsBelowGrade[CZ 5]","v":"R-7.5ci"},"R-7.5ci","R-7.5ci","R-10ci","R-12.5ci",null,"Below grade walld","NR","NR","NR","R-7.5ci",{"$f":"IECC2012_R_WallsBelowGrade[CZ 5]","v":"R-7.5ci"},"R-7.5ci","R-7.5ci","R-10ci","R-12.5ci",null,null,null,null,"Basement Wall R-Value",0,0,"5/13f","10/13","10/13","10/13","15/19","15/19","15/19",null,null,null,null,null,null,null,null,null,null,null,null,null,"Below grade wall","C-1.140","C-1.140","C-1.140","C-0.119","C-0.119","C-0.119","C-0.119","C-0.092","C-0.075",null,"Below grade wall","C-1.140","C-1.140","C-1.140","C-1.140","C-0.119","C-0.119","C-0.119","C-0.119","C-0.119",null,"Below grade wall","C-1.140","C-1.140","C-1.140","C-0.119","C-0.119","C-0.119","C-0.119","C-0.092","C-0.092"]
[null,null,"Air conditioners, air cooled (<13 KBtu/h)","13 SEER",null,null,null,null,null,null,null,null,null,null,null,null,null,null,null,null,null,null,null,null,null,null,null,null,null,null,null,null,null,null,null,null,null,null,"Slab R-Value & Depth","NR","NR","NR","R-10, 2 ft","R-10, 2 ft","R-10, 2 ft","R-10, 4 ft","R-10, 4 ft","R-10, 4 ft"]
[null,null,"Air conditioners, air cooled (≥13 and <65 KBtu/h)","See Reference Design",null,null,null,null,null,null,null,null,null,"IECC2009_R_Floors",null,null,null,null,null,null,null,null,null,null,"IECC2012_R_Floors",null,null,null,null,null,null,null,null,null,null,null,null,null,"Crawl Space Wall R-Value",0,0,"5/13","10/13","10/13","10/13","10/13","10/13","10/13",null,null,null,null,null,null,null,null,null,null,null,null,null,"IECC2009_RU_Floor",null,null,null,null,null,null,null,null,null,null,"IECC2009_OU_Floor",null,null,null,null,null,null,null,null,null,null,"IECC2012_OU_Floor"]
[null,null,"Air conditioners, air cooled (≥65 and <240 KBtu/h)","11.5 EER/12.0 IEER",null,null,null,null,null,null,null,null,null,"2009 IECC Table 502.2(1) - Building Envelope Requirements - Opaque Assemblies - Group R - Floors",null,null,null,null,null,null,null,null,null,null,"2012 IECC Table C402.2 - Building Envelope Requirements - Opaque Assemblies - Group R - Floors",null,null,null,null,null,null,null,null,null,null,null,null,null,null,null,null,null,null,null,null,null,null,null,null,null,null,null,null,null,null,null,null,null,null,null,null,"2009 IECC Table 502.1.2 - Building Envelope Requirements - Opaque Element - Maximum U-Factors - Group R - Floors",null,null,null,null,null,null,null,null,null,null,"2009 IECC Table 502.1.2 - Building Envelope Requirements - Opaque Element - Maximum U-Factors - All Other - Floors",null,null,null,null,null,null,null,null,null,null,"2012 IECC Table C402.1.2 - Building Envelope Requirements - Opaque Element - Maximum U-Factors - All Other - Floors"]
[null,null,"Air conditioners, air cooled (≥240 and < 760 KBtu/h)","10.0 EER/10.5 IEER",null,null,null,null,null,null,null,null,null,"Climate Zone:","CZ 1","CZ 2","CZ 3","CZ 4","CZ 4 C","CZ 5","CZ 6","CZ 7","CZ 8",null,"Climate Zone:","CZ 1","CZ 2","CZ 3","CZ 4","CZ 4 C","CZ 5","CZ 6","CZ 7","CZ 8",null,null,null,null,"IECC2009_Fenestration_AW_Windows",null,null,null,null,null,null,null,null,null,null,null,null,null,null,null,null,null,null,null,null,null,null,"Climate Zone:","CZ 1","CZ 2","CZ 3","CZ 4","CZ 4 C","CZ 5","CZ 6","CZ 7","CZ 8",null,"Climate Zone:","CZ 1","CZ 2","CZ 3","CZ 4","CZ 4 C","CZ 5","CZ 6","CZ 7","CZ 8",null,"Climate Zone:","CZ 1","CZ 2","CZ 3","CZ 4","CZ 4 C","CZ 5","CZ 6","CZ 7","CZ 8"]
[null,null,"Electric resistance space heating","·         Not permitted in any dwelling unit using the Prescriptive Path\n·         Electric resistance heating specified in common spaces has a total heating capacity ≤ 12 kBtu/h (3.5 kW) per enclosed space and has automatic thermostatic controls",null,null,null,null,null,null,null,null,null,"Mass","NR","R-8.3ci","R-8.3ci","R-10.4ci",{"$f":"IECC2009_R_Floors[[#This Row],[CZ 5]]","v":"R-12.5ci"},"R-12.5ci","R-14.6ci","R-16.7ci","R-16.7ci",null,"Mass","NR","R-8.3ci","R-10ci","R-10.4ci",{"$f":"IECC2012_R_Floors[[#This Row],[CZ 5]]","v":"R-12.5ci"},"R-12.5ci","R-12.5ci","R-16.7ci","R-16.7ci",null,null,null,null,"2009 IECC Table 502.3 - Building Envelope Requirements: Fenestration",null,null,null,null,null,null,null,null,null,null,null,null,null,null,null,null,null,null,null,null,null,null,"Mass","U-0.322","U-0.087","U-0.087","U-0.074","U-0.064","U-0.064","U-0.057","U-0.051","U-0.051",null,"Mass","U-0.322","U-0.107","U-0.107","U-0.087","U-0.074","U-0.074","U-0.064","U-0.064","U-0.057",null,"Mass","U-0.322","U-0.107","U-0.076","U-0.076","U-0.074","U-0.074","U-0.064","U-0.055","U-0.055"]
[null,null,"Warm-Air Furnace (<225 KBtu/h, common spaces)","78% AFUE or 80% Et",null,null,null,null,null,null,null,null,null,"Joist/framing\nSteel/(wood)","NR","R-30","R-30","R-30",{"$f":"IECC2009_R_Floors[[#This Row],[CZ 5]]","v":"R-30"},"R-30","R-30e","R-30e","R-30e",null,"Joist/framing\nSteel/(wood)","NR","R-30","R-30","R-30",{"$f":"IECC2012_R_Floors[[#This Row],[CZ 5]]","v":"R-30"},"R-30","R-30e","R-30e","R-30e",null,null,null,null,"Climate Zone:","CZ 1","CZ 2","CZ 3","CZ 4","CZ 4 C","CZ 5","CZ 6","CZ 7","CZ 8",null,null,null,null,null,null,null,null,null,null,null,null,null,"Joist/framing","U-0.282","U-0.052","U-0.033","U-0.033","U-0.033","U-0.033","U-0.033","U-0.033","U-0.033",null,"Joist/framing","U-0.282","U-0.052","U-0.052","U-0.033","U-0.033","U-0.033","U-0.033","U-0.033","U-0.033",null,"Joist/framing","U-0.066","U-0.033","U-0.033","U-0.033","U-0.033","U-0.033","U-0.033","U-0.033","U-0.033"]
[null,null,"Warm-Air Furnace (<225 KBtu/h, dwelling units)","See Reference Design",null,null,null,null,null,null,null,null,null,null,null,null,null,null,null,null,null,null,null,null,null,null,null,null,null,null,null,null,null,null,null,null,null,null,"Non-Metal",1.2,0.75,0.65,0.4,0.35,0.35,0.35,0.35,0.35]
[null,null,"Warm-Air Furnace (≥225 KBtu/h)","80% Et (gas)    or     81% Et (oil)",null,null,null,null,null,null,null,null,null,"IECC2009_R_SlabOnGradeFloors",null,null,null,null,null,null,null,null,null,null,"IECC2012_R_SlabOnGradeFloors",null,null,null,null,null,null,null,null,null,null,null,null,null,"Metal - Curtainwall/storefront",1.2,0.7,0.6,0.5,0.45,0.45,0.45,0.4,0.4,null,null,null,null,null,null,null,null,null,null,null,null,null,"IECC2009_RU_SlabOnGradeFloor",null,null,null,null,null,null,null,null,null,null,"IECC2009_OU_SlabOnGradeFloor",null,null,null,null,null,null,null,null,null,null,"IECC2012_OU_SlabOnGradeFloor"]
[null,null,"Packaged Terminal Air Conditioner (PTAC)","13.8 – (0.300 X Cap/1000) EER",null,null,null,null,null,null,null,null,null,"2009 IECC Table 502.2(1) - Building Envelope Requirements - Opaque Assemblies - Group R - Slab-on-Grade Floors",null,null,null,null,null,null,null,null,null,null,"2012 IECC Table C402.2 - Building Envelope Requirements - Opaque Assemblies - Group R - Slab-on-Grade Floors",null,null,null,null,null,null,null,null,null,null,null,null,null,"Metal - Entrance door",1.2,1.1000000000000001,0.9,0.85,0.8,0.8,0.8,0.8,0.8,null,null,null,null,null,null,null,null,null,null,null,null,null,"2009 IECC Table 502.1.2 - Building Envelope Requirements - Opaque Element - Maximum U-Factors - Group R - Slab-on-Grade Floors",null,null,null,null,null,null,null,null,null,null,"2009 IECC Table 502.1.2 - Building Envelope Requirements - Opaque Element - Maximum U-Factors - All Other - Slab-on-Grade Floors",null,null,null,null,null,null,null,null,null,null,"2012 IECC Table C402.1.2 - Building Envelope Requirements - Opaque Element - Maximum U-Factors - All Other - Slab-on-Grade Floors"]
[null,null,"Packaged Terminal Heat Pump (PTHP) ","Cooling: 14.0– (0.3 X Cap/1000) EER       Heating: 3.7– (0.052 X Cap/1000) COP",null,null,null,null,null,null,null,null,null,"Climate Zone:","CZ 1","CZ 2","CZ 3","CZ 4","CZ 4 C","CZ 5","CZ 6","CZ 7","CZ 8",null,"Climate Zone:","CZ 1","CZ 2","CZ 3","CZ 4","CZ 4 C","CZ 5","CZ 6","CZ 7","CZ 8",null,null,null,null,"Metal - Other",1.2,0.75,0.65,0.55000000000000004,0.55000000000000004,0.55000000000000004,0.55000000000000004,0.45,0.45,null,null,null,null,null,null,null,null,null,null,null,null,null,"Climate Zone:","CZ 1","CZ 2","CZ 3","CZ 4","CZ 4 C","CZ 5","CZ 6","CZ 7","CZ 8",null,"Climate Zone:","CZ 1","CZ 2","CZ 3","CZ 4","CZ 4 C","CZ 5","CZ 6","CZ 7","CZ 8",null,"Climate Zone:","CZ 1","CZ 2","CZ 3","CZ 4","CZ 4 C","CZ 5","CZ 6","CZ 7","CZ 8"]
[null,null,"Air cooled heat pump (≥13 and <65 KBtu/h)","See Reference Design",null,null,null,null,null,null,null,null,null,"Unheated slabs","NR","NR","NR","R-10 for 24 in. below",{"$f":"IECC2009_R_SlabOnGradeFloors[[#This Row],[CZ 5]]","v":"R-10 for 24 in. below"},"R-10 for 24 in. below","R-15 for 24 in. below","R-15 for 24 in. below","R-20 for 24 in. below",null,"Unheated slabs","NR","NR","NR","R-10 for 24 in. below","R-10 for 24 in. below","R-10 for 24 in. below","R-15 for 24 in. below","R-15 for 24 in. below","R-20 for 24 in. below",null,null,null,null,"Skylights",0.75,0.75,0.65,0.6,0.6,0.6,0.6,0.6,0.6,null,null,null,null,null,null,null,null,null,null,null,null,null,"Unheated slabs","F-0.730","F-0.730","F-0.730","F-0.540","F-0.540","F-0.540","F-0.520","F-0.520","F-0.510",null,"Unheated slabs","F-0.730","F-0.730","F-0.730","F-0.730","F-0.730","F-0.730","F-0.540","F-0.520","F-0.520",null,"Unheated slabs","F-0.73","F-0.73","F-0.73","F-0.54","F-0.54","F-0.54","F-0.54","F-0.40","F-0.40"]
[null,null,"Air cooled heat pump (≥65 and <240 KBtu/h)","Cooling: 11.1 EER/11.6 IEER                    Heating: 3.3 COP (@47°F DB)",null,null,null,null,null,null,null,null,null,"Heated slabs","R-7.5 for 12 in. below","R-7.5 for 12 in. below","R-10 for 24 in. below","R-15 for 24 in. below",{"$f":"IECC2009_R_SlabOnGradeFloors[[#This Row],[CZ 5]]","v":"R-15 for 24 in. below"},"R-15 for 24 in. below","R-20 for 48 in. below","R-20 for 48 in. below","R-20 for 48 in. below",null,"Heated slabs","R-7.5 for 12 in. below","R-7.5 for 12 in. below","R-10 for 24 in. below","R-15 for 24 in. below","R-15 for 36 in. below","R-15 for 36 in. below","R-20 for 48 in. below","R-20 for 48 in. below","R-20 for 48 in. below",null,null,null,null,"SHGC PF < 0.25",0.25,0.25,0.25,0.4,0.4,0.4,0.4,0.45,0.45,null,null,null,null,null,null,null,null,null,null,null,null,null,"Heated slabs","F-1.020","F-1.020","F-0.900","F-0.860","F-0.860","F-0.860","F-0.688","F-0.688","F-0.688",null,"Heated slabs","F-1.020","F-1.020","F-0.900","F-0.860","F-0.860","F-0.860","F-0.860","F-0.830","F-0.688",null,"Heated slabs","F-0.70","F-0.70","F-0.70","F-0.65","F-0.58","F-0.58","F-0.58","F-0.55","F-0.55"]
[null,null,"Air cooled heat pump (≥240 KBtu/h)","Cooling: 9.6 EER/9.6 IEER                      Heating: 3.2 COP (@47°F DB)",null,null,null,null,null,null,null,null,null,null,null,null,null,null,null,null,null,null,null,null,null,null,null,null,null,null,null,null,null,null,null,null,null,null,"SHGC 0.25 < PF < 0.5",0.33,0.33,0.33,"NR","NR","NR","NR","NR","NR"]
[null,null,"Water-source heat pump (<135 KBtu/h)","Cooling: 14.0 EER(86°F entering water) Heating: 4.2 COP(68°F entering water)",null,null,null,null,null,null,null,null,null,"IECC2009_R_OpaqueDoors",null,null,null,null,null,null,null,null,null,null,"IECC2012_R_OpaqueDoors",null,null,null,null,null,null,null,null,null,null,null,null,null,"SHGC PF >= 0.5",0.4,0.4,0.4,"NR","NR","NR","NR","NR","NR"]
[null,null,"Boilers, hot water (<300,000 Btu/h)","See Reference Design",null,null,null,null,null,null,null,null,null,"2009 IECC Table 502.2(1) - Building Envelope Requirements - Opaque Assemblies - Group R - Opaque Doors",null,null,null,null,null,null,null,null,null,null,"2012 IECC Table C402.2 - Building Envelope Requirements - Opaque Assemblies - Group R - Opaque Doors",null,null,null,null,null,null,null,null,null,null,null,null,null,"SHGC Skylights",0.35,0.35,0.35,0.4,0.4,0.4,0.4,"NR","NR"]
[null,null,"Boilers, hot water (≥300,000 Btu/h)","86% Et  (89% Et if using heat pumps)",null,null,null,null,null,null,null,null,null,"Climate Zone:","CZ 1","CZ 2","CZ 3","CZ 4","CZ 4 C","CZ 5","CZ 6","CZ 7","CZ 8",null,"Climate Zone:","CZ 1","CZ 2","CZ 3","CZ 4","CZ 4 C","CZ 5","CZ 6","CZ 7","CZ 8"]
[null,null,"VRF Air Conditioners and Heat Pumps","See Tables 6.8.1I and 6.8.1J of ASHRAE 90.1-2010",null,null,null,null,null,null,null,null,null,"Swinging","U-0.70","U-0.70","U-0.70","U-0.70",{"$f":"IECC2009_R_OpaqueDoors[[#This Row],[CZ 5]]","v":"U-0.70"},"U-0.70","U-0.50","U-0.50","U-0.50",null,"Swinging","U-0.61","U-0.61","U-0.61","U-0.61","U-0.37","U-0.37","U-0.37","U-0.37","U-0.37",null,null,null,null,"IECC2009_Equivalent_Ufactors"]
[null,null,"Air-cooled chillers with or without condenser ","10.0 EER / 12.5 IPLV",null,null,null,null,null,null,null,null,null,"Roll-up or sliding","U-1.45","U-1.45","U-1.45","U-0.50",{"$f":"IECC2009_R_OpaqueDoors[[#This Row],[CZ 5]]","v":"U-0.50"},"U-0.50","U-0.50","U-0.50","U-0.50",null,"Roll-up or sliding","R-4.75","R-4.75","R-4.75","R-4.75","R-4.75","R-4.75","R-4.75","R-4.75","R-4.75",null,null,null,null,"2009 IECC Table 402.1.3 - Equivalent U-Factors"]
[null,null,"Water-cooled chiller, positive displacement (<75 tons)","0.780 kW/ton (Full load) /  0.630 kW/ton (IPLV)",null,null,null,null,null,null,null,null,null,null,null,null,null,null,null,null,null,null,null,null,null,null,null,null,null,null,null,null,null,null,null,null,null,null,"Climate Zone:","CZ 1","CZ 2","CZ 3","CZ 4","CZ 4 C","CZ 5","CZ 6","CZ 7","CZ 8"]
[null,null,"Water-cooled chiller, positive displacement (75-150 tons)","0.775 kW/ton (Full load) /  0.615 kW/ton (IPLV)",null,null,null,null,null,null,null,null,null,"For SI: 1 inch = 25.4 mm.",null,null,null,null,null,null,null,null,null,null,"For SI: 1 inch = 25.4 mm.",null,null,null,null,null,null,null,null,null,null,null,null,null,"Fenestration U-Factor",1.2,0.65,0.5,0.35,0.35,0.35,0.35,0.35,0.35]
[null,null,"Water-cooled chiller, positive displacement (150-300tons)","0.680 kW/ton (Full load) /  0.580 kW/ton (IPLV)",null,null,null,null,null,null,null,null,null,"ci = Continuous insulation",null,null,null,null,null,null,null,null,null,null,"ci = Continuous insulation",null,null,null,null,null,null,null,null,null,null,null,null,null,"Skylight U-Factor",0.75,0.75,0.65,0.6,0.6,0.6,0.6,0.6,0.6]
[null,null,"Water-cooled chiller, positive displacement (>300 tons)","0.620 kW/ton (Full load) /  0.540 kW/ton (IPLV)",null,null,null,null,null,null,null,null,null,"NR = No requirement",null,null,null,null,null,null,null,null,null,null,"NR = No requirement",null,null,null,null,null,null,null,null,null,null,null,null,null,"Ceiling U-Factor",3.5000000000000003E-2,3.5000000000000003E-2,3.5000000000000003E-2,0.03,0.03,0.03,2.5999999999999999E-2,2.5999999999999999E-2,2.5999999999999999E-2]
[null,null,"Water-cooled, centrifugal (<300 tons)","0.634 kW/ton (Full load) /  0.596 kW/ton (IPLV)",null,null,null,null,null,null,null,null,null,"a. When using R-value compliance method, a thermal spacer block is required, otherwise use the U-factor complaince method. [see Tables 502.1.2 and 502.2(2)].",null,null,null,null,null,null,null,null,null,null,"a. Assembly descriptions can be found in ANSI/ASHRAE/IESNA Appendix A.",null,null,null,null,null,null,null,null,null,null,null,null,null,"Frame Wall U-Factor",8.2000000000000003E-2,8.2000000000000003E-2,8.2000000000000003E-2,8.2000000000000003E-2,5.7000000000000002E-2,5.7000000000000002E-2,5.7000000000000002E-2,5.7000000000000002E-2,5.7000000000000002E-2]
[null,null,"Water-cooled, centrifugal (≥300 and <600 tons)","0.576 kW/ton (Full load) /  0.549 kW/ton (IPLV)",null,null,null,null,null,null,null,null,null,"b. Assembly descriptions can be found in Table 502.2(2).",null,null,null,null,null,null,null,null,null,null,"b. Where using R-vale compliance method, a thermal spacer block shall be provided, otherwise use the U-factor compliance method in Table C402.1.2.",null,null,null,null,null,null,null,null,null,null,null,null,null,"Mass Wall U-Factor","0.197","0.165","0.141","0.141","0.082","0.082","0.060","0.057","0.057"]
[null,null,"Water-cooled, centrifugal (≥600 tons)","0.570 kW/ton (Full load) /  0.539 kW/ton (IPLV)",null,null,null,null,null,null,null,null,null,"c. R-5.7 ci is allowed to be substituted with concrete block walls complying with ASTM C 90, ungrouted or partially grouted at 32 inches or less on vertically and 48 inches or less on center horizontally, with ungrouted cores filled with materials having a maximum thermal coductivity of 0.44 Btu-in./h-f2 F",null,null,null,null,null,null,null,null,null,null,"c. R-5.7 ci is allowed to be substituted with concrete block walls complying with ASTM C 90, ungrouted or partially grouted at 32 inches or less on vertically and 48 inches or less on center horizontally, with ungrouted cores filled with materials having a maximum thermal coductivity of 0.44 Btu-in./h-f2 F",null,null,null,null,null,null,null,null,null,null,null,null,null,"Floor U-Factor",6.4000000000000001E-2,6.4000000000000001E-2,4.7E-2,4.7E-2,3.3000000000000002E-2,3.3000000000000002E-2,3.3000000000000002E-2,2.8000000000000001E-2,2.8000000000000001E-2]
[null,null,"Air-cooled absorption single effect chiller","0.6 COP",null,null,null,null,null,null,null,null,null,"d. When heated slabs are placed below grade, below-grade walls must meet the exterior insulation requirements for permimeter insulation according to heated slab-on-grade construction.",null,null,null,null,null,null,null,null,null,null,"d. Where heated slabs are placed below grade, below-grade walls shall comply with the exterior insulation requirements for heated slabs.",null,null,null,null,null,null,null,null,null,null,null,null,null,"Basement Wall U-Factor",0.36,0.36,"0.091c","0.059","0.059","0.059","0.050","0.050","0.050"]
[null,null,"Water-cooled absorption single effect chiller","0.7 COP",null,null,null,null,null,null,null,null,null,"e. Steel floor joist systems shall be R-38.",null,null,null,null,null,null,null,null,null,null,"e. Steel floor joist systems shall be insulated to R-38.",null,null,null,null,null,null,null,null,null,null,null,null,null,"Crawl Space Wall U-Factor",0.47699999999999998,0.47699999999999998,0.13600000000000001,6.5000000000000002E-2,6.5000000000000002E-2,6.5000000000000002E-2,6.5000000000000002E-2,6.5000000000000002E-2,6.5000000000000002E-2]
[null,null,"Absorption double effect indirect-fired chiller","1.0 COP (Full load) / 1.05 COP (IPLV)"]
[null,null,"Absorption double effect direct-fired chiller","1.0 COP (Full load) / 1.00 COP (IPLV)"]
[null,null,"Open-loop propeller or axial fan cooling towers*",">40 gpm/hp (@95°F entering water, 85°F leaving water, 75°F wb entering air)",null,null,null,null,null,null,null,null,null,"IECC2009_O_Roofs",null,null,null,null,null,null,null,null,null,null,"IECC2012_O_Roofs"]
[null,null,"Closed-loop propeller or axial fan cooling towers*",">15 gpm/hp (@102°F entering water, 90°F leaving water, 75°F wb entering air)",null,null,null,null,null,null,null,null,null,"2009 IECC Table 502.2(1) - Building Envelope Requirements - Opaque Assemblies - All Other - Roofs",null,null,null,null,null,null,null,null,null,null,"2012 IECC Table C402.2 - Building Envelope Requirements - Opaque Assemblies - All Other - Roofs"]
[null,null,"Open-loop centrifugal fan cooling towers*",">22 gpm/hp (@95°F entering water, 85°F leaving water, 75°F wb entering air)",null,null,null,null,null,null,null,null,null,"Climate Zone:","CZ 1","CZ 2","CZ 3","CZ 4","CZ 4 C","CZ 5","CZ 6","CZ 7","CZ 8",null,"Climate Zone:","CZ 1","CZ 2","CZ 3","CZ 4","CZ 4 C","CZ 5","CZ 6","CZ 7","CZ 8"]
[null,null,"Closed-loop centrifugal fan cooling towers*",">8 gpm/hp (@102°F entering water, 90°F leaving water, 75°F wb entering air)",null,null,null,null,null,null,null,null,null,"Insulation entirely above deck","R-15ci","R-20ci","R-20ci","R-20ci","R-20ci","R-20ci","R-20ci","R-25ci","R-25ci",null,"Insulation entirely above deck","R-20ci","R-20ci","R-20ci","R-25ci","R-25ci","R-25ci","R-30ci","R-35ci","R-35ci"]
[null,null,"Cap means the rated capacity of the product in Btu/h. If < 7,000 Btu/h, use 7,000; if > 15,000, use 15,000 in calculation.",null,null,null,null,null,null,null,null,null,null,"Metal buildings (with R-5 thermal blocksa,b)","R-19","R-13 + R-13","R-13 + R-13","R-13 + R-13","R-13 + R-13","R-13 + R-13","R-13 + R-19","R-13 + R-19","R-11 + R-19",null,"Metal buildings (with R-5 thermal blocksa,b)","R-19 + R-11 LS","R-19 + R-11 LS","R-19 + R-11 LS","R-19 + R-11 LS","R-19 + R-11 LS","R-19 + R-11 LS","R-25 + R-11 LS","R-30 + R-11 LS","R-30 + R-11 LS"]
[null,null,"*Cooling tower fan motors must be equipped with VFD controlled by a temperature sensor on the condenser water supply pipe.",null,null,null,null,null,null,null,null,null,null,"Attic and other","R-30","R-38","R-38","R-38",{"$f":"IECC2009_O_Roofs[[#This Row],[CZ 5]]","v":"R-38"},"R-38","R-38","R-38","R-49",null,"Attic and other","R-38","R-38","R-38","R-38",{"$f":"IECC2012_O_Roofs[[#This Row],[CZ 5]]","v":"R-38"},"R-38","R-49","R-49","R-49"]
[]
[null,null,null,null,null,null,null,null,null,null,null,null,null,"IECC2009_O_WallsAboveGrade",null,null,null,null,null,null,null,null,null,null,"IECC2012_O_WallsAboveGrade"]
[null,null,null,null,null,null,null,null,null,null,null,null,null,"2009 IECC Table 502.2(1) - Building Envelope Requirements - Opaque Assemblies - All Other - Walls, Above Grade",null,null,null,null,null,null,null,null,null,null,"2012 IECC Table C402.2 - Building Envelope Requirements - Opaque Assemblies - All Other - Walls, Above Grade"]
[null,null,null,null,null,null,null,null,null,null,null,null,null,"Climate Zone:","CZ 1","CZ 2","CZ 3","CZ 4","CZ 4 C","CZ 5","CZ 6","CZ 7","CZ 8",null,"Climate Zone:","CZ 1","CZ 2","CZ 3","CZ 4","CZ 4 C","CZ 5","CZ 6","CZ 7","CZ 8"]
[null,null,null,null,null,null,null,null,null,null,null,null,null,"Mass","NR","R-5.7ci","R-7.6ci","R-9.5ci","R-11.4ci","R-11.4ci","R-13.3ci","R-15.2ci","R-25ci",null,"Mass","R-5.7ci","R-5.7ci","R-7.6ci","R-9.5ci","R-11.4ci","R-11.4ci","R-13.3ci","R-15.2ci","R-25ci"]
[null,null,null,null,null,null,null,null,null,null,null,null,null,"Metal buildingb","R-16","R-16","R-19","R-19","R-13 + R-5.6ci","R-13 + R-5.6ci","R-13 + R-5.6ci","R-19 + R-5.6ci","R-19 + R-5.6ci",null,"Metal building","R-13 + R-6.5ci","R-13 + R-6.5ci","R-13 + R-6.5ci","R-13 + R-13ci","R-13 + R-13ci","R-13 + R-13ci","R-13 + R-13ci","R-13 + R-13ci","R-13 + R-13ci"]
[null,null,null,null,null,null,null,null,null,null,null,null,null,"Metal framed","R-13","R-13","R-13 + R-3.8ci","R-13 + R-7.5ci","R-13 + R-7.5ci","R-13 + R-7.5ci","R-13 + R-7.5ci","R-13 + R-7.5ci","R-13 + R-7.5ci",null,"Metal framed","R-13 + R-5ci","R-13 + R-5ci","R-13 + R-7.5ci","R-13 + R-7.5ci","R-13 + R-7.5ci","R-13 + R-7.5ci","R-13 + R-7.5ci","R-13 + R-7.5ci","R-13 + R-7.5ci"]
[null,null,null,null,null,null,null,null,null,null,null,null,null,"Wood framed and other","R-13","R-13","R-13","R-13","R-13 + R-3.8ci","R-13 + R-3.8ci","R-13 + R-7.5ci","R-13 + R-7.5ci","R-13 + R-15.6ci",null,"Wood framed and other","R-13 + R-3.8ci or R-20","R-13 + R-3.8ci or R-20","R-13 + R-3.8ci or R-20","R-13 + R-3.8ci or R-20","R-13 + R-3.8ci or R-20","R-13 + R-3.8ci or R-20","R-13 + R-7.5ci or R-20 +R-3.8ci","R-13 + R-7.5ci or R-20 +R-3.8ci","R-13 + R-15.6ci or R-20 +R-10ci"]
[]
[null,null,null,null,null,null,null,null,null,null,null,null,null,"IECC2009_O_WallsBelowGrade",null,null,null,null,null,null,null,null,null,null,"IECC2012_O_WallsBelowGrade"]
[null,null,null,null,null,null,null,null,null,null,null,null,null,"2009 IECC Table 502.2(1) - Building Envelope Requirements - Opaque Assemblies - All Other - Walls, Below Grade",null,null,null,null,null,null,null,null,null,null,"2012 IECC Table C402.2 - Building Envelope Requirements - Opaque Assemblies - All Other - Walls, Below Grade"]
[null,null,null,null,null,null,null,null,null,null,null,null,null,"Climate Zone:","CZ 1","CZ 2","CZ 3","CZ 4","CZ 4 C","CZ 5","CZ 6","CZ 7","CZ 8",null,"Climate Zone:","CZ 1","CZ 2","CZ 3","CZ 4","CZ 4 C","CZ 5","CZ 6","CZ 7","CZ 8"]
[null,null,null,null,null,null,null,null,null,null,null,null,null,"Below grade walld","NR","NR","NR","NR","R-7.5ci","R-7.5ci","R-7.5ci","R-7.5ci","R-7.5ci",null,"Below grade walld","NR","NR","NR","R-7.5ci","R-7.5ci","R-7.5ci","R-7.5ci","R-10ci","R-10ci"]
[]
[null,null,null,null,null,null,null,null,null,null,null,null,null,"IECC2009_O_Floors",null,null,null,null,null,null,null,null,null,null,"IECC2012_O_Floors"]
[null,null,null,null,null,null,null,null,null,null,null,null,null,"2009 IECC Table 502.2(1) - Building Envelope Requirements - Opaque Assemblies - All Other - Floors",null,null,null,null,null,null,null,null,null,null,"2012 IECC TTable C402.2 - Building Envelope Requirements - Opaque Assemblies - All Other - Floors"]
[null,null,null,null,null,null,null,null,null,null,null,null,null,"Climate Zone:","CZ 1","CZ 2","CZ 3","CZ 4","CZ 4 C","CZ 5","CZ 6","CZ 7","CZ 8",null,"Climate Zone:","CZ 1","CZ 2","CZ 3","CZ 4","CZ 4 C","CZ 5","CZ 6","CZ 7","CZ 8"]
[null,null,null,null,null,null,null,null,null,null,null,null,null,"Mass","NR","R-6.3ci","R-6.3ci","R-10ci","R-10ci","R-10ci","R-12.5ci","R-15ci","R-15ci",null,"Mass","NR","R-6.3ci","R-10ci","R-10ci","R-10ci","R-10ci","R-12.5ci","R-15ci","R-15ci"]
[null,null,null,null,null,null,null,null,null,null,null,null,null,"Joist/framing\nSteel/(wood)","NR","R-19","R-19","R-30","R-30","R-30","R-30","R-30","R-30e",null,"Joist/framing\nSteel/(wood)","NR","R-30","R-30","R-30","R-30","R-30","R-30","R-30e","R-30e"]
[]
[null,null,null,null,null,null,null,null,null,null,null,null,null,"IECC2009_O_SlabOnGradeFloors",null,null,null,null,null,null,null,null,null,null,"IECC2012_O_SlabOnGradeFloors"]
[null,null,null,null,null,null,null,null,null,null,null,null,null,"2009 IECC Table 502.2(1) - Building Envelope Requirements - Opaque Assemblies - All Other - Slab-on-Grade Floors",null,null,null,null,null,null,null,null,null,null,"2012 IECC Table C402.2 - Building Envelope Requirements - Opaque Assemblies - All Other - Slab-on-Grade Floors"]
[null,null,null,null,null,null,null,null,null,null,null,null,null,"Climate Zone:","CZ 1","CZ 2","CZ 3","CZ 4","CZ 4 C","CZ 5","CZ 6","CZ 7","CZ 8",null,"Climate Zone:","CZ 1","CZ 2","CZ 3","CZ 4","CZ 4 C","CZ 5","CZ 6","CZ 7","CZ 8"]
[null,null,null,null,null,null,null,null,null,null,null,null,null,"Unheated slabs","NR","NR","NR","NR","NR","NR","R-10 for 24 in. below","R-15 for 24 in. below","R-15 for 24 in. below",null,"Unheated slabs","NR","NR","NR","R-10 for 24 in. below","R-10 for 24 in. below","R-10 for 24 in. below","R-10 for 24 in. below","R-15 for 24 in. below","R-15 for 24 in. below"]
[null,null,null,null,null,null,null,null,null,null,null,null,null,"Heated slabs","R-7.5 for 12 in. below","R-7.5 for 12 in. below","R-10 for 24 in. below","R-15 for 24 in. below","R-15 for 24 in. below","R-15 for 24 in. below","R-15 for 24 in. below","R-20 for 24 in. below","R-20 for 48 in. below",null,"Heated slabs","R-7.5 for 12 in. below","R-7.5 for 12 in. below","R-10 for 24 in. below","R-15 for 24 in. below","R-15 for 36 in. below","R-15 for 36 in. below","R-15 for 36 in. below","R-20 for 24 in. below","R-20 for 48 in. below"]
[]
[null,null,null,null,null,null,null,null,null,null,null,null,null,"IECC2009_O_OpaqueDoors",null,null,null,null,null,null,null,null,null,null,"IECC2012_O_OpaqueDoors"]
[null,null,null,null,null,null,null,null,null,null,null,null,null,"2009 IECC Table 502.2(1) - Building Envelope Requirements - Opaque Assemblies - All Other - Opaque Doors",null,null,null,null,null,null,null,null,null,null,"2012 IECC Table C402.2 - Building Envelope Requirements - Opaque Assemblies - All Other - Opaque Doors"]
[null,null,null,null,null,null,null,null,null,null,null,null,null,"Climate Zone:","CZ 1","CZ 2","CZ 3","CZ 4","CZ 4 C","CZ 5","CZ 6","CZ 7","CZ 8",null,"Climate Zone:","CZ 1","CZ 2","CZ 3","CZ 4","CZ 4 C","CZ 5","CZ 6","CZ 7","CZ 8"]
[null,null,null,null,null,null,null,null,null,null,null,null,null,"Swinging","U-0.70","U-0.70","U-0.70","U-0.70",{"$f":"IECC2009_O_OpaqueDoors[[#This Row],[CZ 5]]","v":"U-0.70"},"U-0.70","U-0.70","U-0.50","U-0.50",null,"Swinging","U-0.61","U-0.61","U-0.61","U-0.61","U-0.37","U-0.37","U-0.37","U-0.37","U-0.37"]
[null,null,null,null,null,null,null,null,null,null,null,null,null,"Roll-up or sliding","U-1.45","U-1.45","U-1.45","U-0.50",{"$f":"IECC2009_O_OpaqueDoors[[#This Row],[CZ 5]]","v":"U-0.50"},"U-0.50","U-0.50","U-0.50","U-0.50",null,"Roll-up or sliding","R-4.75","R-4.75","R-4.75","R-4.75","R-4.75","R-4.75","R-4.75","R-4.75","R-4.75"]
[]
[null,null,null,null,null,null,null,null,null,null,null,null,null,"ESRefDesign_InsulationU_V1",null,null,null,null,null,null,null,null,null,null,"ESRefDesign_InsulationU_V11",null,null,null,null,null,null,null,null,null,null,"ESRefDesign_InsulationU_V12"]
[null,null,null,null,null,null,null,null,null,null,null,null,null,"ENERGY STAR Multifamily New Construction Reference Design, Version 1\nInsulation Levels modeled to 2009 IECC levels (Commercial, wood frame) and Grade I installation per ANSI / RESNET / ICC Standard",null,null,null,null,null,null,null,null,null,null,"ENERGY STAR Multifamily New Construction Reference Design, Version 1.1\nInsulation Levels modeled to 2012 IECC levels (Commercial, wood frame) and Grade I installation per ANSI / RESNET / ICC Standard",null,null,null,null,null,null,null,null,null,null,"ENERGY STAR Multifamily New Construction Reference Design, Version 1.2\nInsulation Levels modeled at the levels below and Grade I installation per ANSI / RESNET / ICC Standard"]
[null,null,null,null,null,null,null,null,null,null,null,null,null,"Climate Zone:","CZ 1","CZ 2","CZ 3","CZ 4","CZ 4 C","CZ 5","CZ 6","CZ 7","CZ 8",null,"Climate Zone:","CZ 1","CZ 2","CZ 3","CZ 4","CZ 4 C","CZ 5","CZ 6","CZ 7","CZ 8",null,"Climate Zone:","Insulation Level"]
[null,null,null,null,null,null,null,null,null,null,null,null,null,"Slab Insulation R-Value:","NR","NR","NR","R-10","R-10","R-10","R-15","R-15","R-20",null,"Slab Insulation R-Value:","NR","NR","NR","R-10","R-10","R-10","R-15","R-15","R-20",null,"Above-Grade Wall","R-21"]
[null,null,null,null,null,null,null,null,null,null,null,null,null,"Slab Insulation Depth (ft):",0,0,0,2,2,2,2,2,2,null,"Slab Insulation Depth (ft):",0,0,0,2,2,2,2,2,2,null,"Ceiling","R-49"]
[null,null,null,null,null,null,null,null,null,null,null,null,null,"Basement Wall Continuous Insulation R-Value:",0,0,0,7.5,7.5,7.5,7.5,10,12.5,null,"Basement Wall Continuous Insulation R-Value:",0,0,0,7.5,7.5,7.5,7.5,10,12.5,null,"Floor","R-38"]
[null,null,null,null,null,null,null,null,null,null,null,null,null,"Floor Assembly U-Factor:",0.28199999999999997,5.1999999999999998E-2,3.3000000000000002E-2,3.3000000000000002E-2,3.3000000000000002E-2,3.3000000000000002E-2,3.3000000000000002E-2,3.3000000000000002E-2,3.3000000000000002E-2,null,"Floor Assembly U-Factor:",6.6000000000000003E-2,3.3000000000000002E-2,3.3000000000000002E-2,3.3000000000000002E-2,3.3000000000000002E-2,3.3000000000000002E-2,3.3000000000000002E-2,3.3000000000000002E-2,3.3000000000000002E-2,null,"Basement Wall","R-15 continuous or R-21 cavity"]
[null,null,null,null,null,null,null,null,null,null,null,null,null,"Wall Assembly U-Factor:",8.8999999999999996E-2,8.8999999999999996E-2,8.8999999999999996E-2,6.4000000000000001E-2,5.0999999999999997E-2,5.0999999999999997E-2,5.0999999999999997E-2,5.0999999999999997E-2,3.5999999999999997E-2,null,"Wall Assembly U-Factor:",6.4000000000000001E-2,6.4000000000000001E-2,6.4000000000000001E-2,6.4000000000000001E-2,6.4000000000000001E-2,6.4000000000000001E-2,5.0999999999999997E-2,5.0999999999999997E-2,3.5999999999999997E-2,null,"On-Grade & Below Grade Slab","R-10 at perimeter for entire depth of slab and under entire slab area"]
[null,null,null,null,null,null,null,null,null,null,null,null,null,"Ceiling Assembly U-Factor:",2.7E-2,2.7E-2,2.7E-2,2.7E-2,2.7E-2,2.7E-2,2.7E-2,2.7E-2,2.7E-2,null,"Ceiling Assembly U-Factor:",2.7E-2,2.7E-2,2.7E-2,2.7E-2,2.1000000000000001E-2,2.1000000000000001E-2,2.1000000000000001E-2,2.1000000000000001E-2,2.1000000000000001E-2]

{"sheet":"Dropdowns","index":20,"n_rows":35,"n_cols":30,"rows_kept":35,"cut":false,"hidden":true,"merged":[[0,5,0,7],[0,9,0,10],[0,12,0,22],[11,13,11,19]]}
["Dropdown menus",null,null,null,"1a. Rater Design Checklist","2. Unit Testing Results",null,null,"9. Heating and Cooling Schedule","12. Ventilation Schedule",null,"10. Lighting","5a. Envelope R-Values",null,null,null,null,null,null,null,null,null,null,"6. Fenestration"]
[null,null,null,null,"Rater-D 3.2.2",null,null,"AC Tons","Heating/Cooling","Purpose","Continuous/Intermittent","Bulb Type",null,null,null,null,null,null,null,null,"ES MFNC Version",null,null,"ESRefClassAW","ClassAW?","502.3 Table","Door","ESRefNotClassAW",null,"BuildingComponents_ESRefListV12_UABuildingComponents"]
["SELECT PATH",null,"Yes",null,"SELECT PATH","SELECT","SELECT","SELECT","SELECT","Local-Bath","Continuous","Tier I",null,"Building Components_IECCList","Roofs","Walls, Above Grade","Walls, Below Grade","Floors","Slab-on-Grade Floors","Opaque Doors","Version 1","BuildingComponents_ESRefList","ESRefNoCom","Fixed","Class AW","Non-Metal","Glazed Entrance Door","Window","BuildingComponents_ESRefListv12","Above-Grade Wall"]
[null,null,"No",null,"R","Rough-In","Intermittent",1,"Heating","Local-Kitchen","Intermittent","Tier II","Dwelling","Roofs","Insulation entirely above deck","Mass","Below grade wall","Mass","Unheated slabs","Swinging","Version 1.1","Slab Insulation","N/A","Operable","Not Class AW","Metal - Curtainwall/storefront","Opaque Door","Opaque Door","Above-Grade Wall","Ceiling"]
["ERI","ERI","NA",null,"U","Final","Continuous",1.5,"Cooling","Dwelling",null,"ES","Common","Walls, Above Grade","Metal buildings (with R-5 thermal blocks)","Metal building",null,"Joist/framing\nSteel/(wood)","Heated slabs","Roll-up or sliding","Version 1.2 OR+WA","Basement Wall Continuous Insulation",null,null,null,"Metal - Entrance door","≤½ Lite Door","≤½ lite Door","Ceiling","Basement Wall"]
["ASHRAE","ASHRAE",null,null,"UA",null,null,2,"Both","Multiple",null,"Other",null,"Walls, Below Grade","Attic and other","Metal framed",null,null,null,null,null,"Floor Assembly",null,null,null,"Metal - Other",">½ Lite Door",">½ lite Door","Floor","On-Grade & Below Grade Slab"]
["Title 24","Prescriptive",null,null,null,null,null,2.5,null,"Both",null,null,null,"Floors",null,"Wood framed and other",null,null,null,null,null,"Wall Assembly",null,null,null,null,null,null,"Basement Wall","Fenestration"]
["Prescriptive","Title 24 - Dwelling Unit Models",null,null,null,null,null,3,null,null,null,null,null,"Slab-on-Grade Floors",null,null,null,null,null,null,null,"Ceiling Assembly",null,null,null,null,null,null,"On-Grade & Below Grade Slab","Balcony"]
[null,"Title 24 - Whole Building Models",null,null,null,null,null,3.5,null,null,null,null,"removed Opaque Doors >>",null,null,null,null,null,null,null,null,null,null,null,null,null,null,null,null,"Floor Assembly"]
[null,null,null,null,null,null,null,4,null,null,null,null,null,null,null,null,null,null,null,null,null,null,null,null,null,null,null,null,null,"Floor Above Garage"]
[null,null,null,null,null,null,null,null,null,null,null,null,null,null,null,null,null,null,null,null,null,null,null,null,null,null,null,null,null,"Floor Above Garage Columns"]
["Space-by-Space Method",null,null,null,null,null,null,null,null,null,null,null,null,"5c. Total UA Compliance",null,null,null,null,null,null,null,null,"Table 502.3"]
["Whole Building Area Method",null,null,null,null,null,null,null,null,null,null,null,null,"Building Components","Roof","Wall, Above Grade","Wall, Below Grade","Floor","Slab-on-Grade Floor","Opaque Door","Floor Above Garage","Balcony","Fenestration"]
[null,null,null,null,null,null,null,null,null,null,null,null,null,"Roof","Insulation entirely above deck","Mass","Below grade wall","Mass","Unheated slabs","Swinging","Floor Above Garage","Balcony","Non-Metal"]
[null,null,"Projection Factors",null,null,null,null,null,null,null,null,null,null,"Wall, Above Grade","Metal buildings","Metal building",null,"Joist/framing","Heated slabs","Roll-up or sliding",null,null,"Metal - Curtainwall/storefront"]
["MANUALLY COMPARE VALUES",null,"< 0.25",null,null,null,null,null,null,null,null,null,null,"Wall, Below Grade","Attic and other","Metal framed",null,null,null,null,null,null,"Metal - Entrance door"]
["PASS",null,"0.25 < PF < 0.5",null,null,null,null,null,null,null,null,null,null,"Floor",null,"Wood framed and other",null,null,null,null,null,null,"Metal - Other"]
["FAIL",null,">= 0.5",null,null,null,null,null,null,null,null,null,null,"Floor above Garage"]
[null,null,null,null,null,null,null,null,null,null,null,null,null,"Slab-on-Grade Floor"]
[null,null,null,null,null,null,null,null,null,null,null,null,null,"Balcony"]
[null,null,null,null,null,null,null,null,null,null,null,null,null,"Fenestration"]
[]
[]
[]
[]
[null,null,null,null,null,null,null,null,null,null,null,null,null,"PrescriptivePath_UABuildingComponents","ERI_AHSRAE_UABuildingComponents","FloorAssembly","WallAssembly","CeilingAssembly","NotApplicable",null,"PrescriptivePath_UBuildingComponents","ERI_AHSRAE_UBuildingComponents"]
[null,null,null,null,null,null,null,null,null,null,null,null,null,"Wall Assembly","Roofs","N/A","N/A","N/A","N/A",null,"Floor Assembly","Roofs"]
[null,null,null,null,null,null,null,null,null,null,null,null,null,"Slab Insulation","Walls, Above Grade",null,null,null,null,null,"Wall Assembly","Walls, Above Grade"]
[null,null,null,null,null,null,null,null,null,null,"Floor Assembly",null,null,"Basement Wall Continuous Insulation","Walls, Below Grade",null,null,null,null,null,"Ceiling Assembly","Walls, Below Grade"]
[null,null,null,null,null,null,null,null,null,null,"Floor Above Garage",null,null,"Ceiling Assembly","Slab-on-Grade Floors",null,null,null,null,null,null,"Floors"]
[null,null,null,null,null,null,null,null,null,null,"Floor Above Garage Columns",null,null,"Fenestration","Fenestration",null,null,null,null,null,null,"Slab-on-Grade Floors"]
[null,null,null,null,null,null,null,null,null,null,null,null,null,"Balcony","Balcony",null,null,null,null,null,null,"Floors above Garage"]
[null,null,null,null,null,null,null,null,null,null,null,null,null,"Floor Assembly","Floor Assembly"]
[null,null,null,null,null,null,null,null,null,null,null,null,null,"Floor Above Garage","Floor Above Garage"]
[null,null,null,null,null,null,null,null,null,null,null,null,null,"Floor Above Garage Columns","Floor Above Garage Columns"]